Workbook

Sheet útok
D1: 43. mistrovství České republiky v požárním sportu družstev HZS ČR
D2: České Budějovice 27. - 29. června 2014
D3: Požární útok
E5: 1. pokus | H5: 2. pokus
A6: pořadí | B6: st.č. | C6: družstvo | D6: levý | E6: pravý | F6: výsledný | G6: levý | H6: pravý | I6: výsledný | J6: celkem | L6: min | M6: max | N6: koef | O6: koefH
A7: =IF(J7=99.99,15,RANK(O7,$O$7:$O$21,1)) -> 1 | B7: 7 | C7: HZS Moravskoslezského kraje | D7: 21.37 | E7: 24.21 | F7: =IF(MAX(D7:E7)=0,99.99,MAX(D7:E7)) -> 24.21 | G7: 21.28 | H7: 21.8 | I7: =IF(MAX(G7:H7)=0,99.99,MAX(G7:H7)) -> 21.8 | J7: =MIN(F7,I7) -> 21.8 | L7: =MIN(F7,I7) -> 21.8 | M7: =MAX(F7,I7) -> 24.21 | N7: =L7+M7*0.0001 -> 21.802421 | O7: =N7 -> 21.802421
A8: =IF(J8=99.99,15,RANK(O8,$O$7:$O$21,1)) -> 2 | B8: 2 | C8: HZS Zlínského kraje | D8: 21.68 | E8: 25.58 | F8: =IF(MAX(D8:E8)=0,99.99,MAX(D8:E8)) -> 25.58 | G8: 21.26 | H8: 22.06 | I8: =IF(MAX(G8:H8)=0,99.99,MAX(G8:H8)) -> 22.06 | J8: =MIN(F8,I8) -> 22.06 | L8: =MIN(F8,I8) -> 22.06 | M8: =MAX(F8,I8) -> 25.58 | N8: =L8+M8*0.0001 -> 22.062558 | O8: =N8 -> 22.062558
A9: =IF(J9=99.99,15,RANK(O9,$O$7:$O$21,1)) -> 3 | B9: 14 | C9: HZS Plzeňského kraje | D9: 22.27 | E9: 21.76 | F9: =IF(MAX(D9:E9)=0,99.99,MAX(D9:E9)) -> 22.27 | G9: 22.21 | H9: 21.06 | I9: =IF(MAX(G9:H9)=0,99.99,MAX(G9:H9)) -> 22.21 | J9: =MIN(F9,I9) -> 22.21 | L9: =MIN(F9,I9) -> 22.21 | M9: =MAX(F9,I9) -> 22.27 | N9: =L9+M9*0.0001 -> 22.212227 | O9: =N9 -> 22.212227
A10: =IF(J10=99.99,15,RANK(O10,$O$7:$O$21,1)) -> 4 | B10: 12 | C10: HZS Královéhradeckého kraje | D10: 99.99 | E10: 99.99 | F10: =IF(MAX(D10:E10)=0,99.99,MAX(D10:E10)) -> 99.99 | G10: 22.54 | H10: 21.93 | I10: =IF(MAX(G10:H10)=0,99.99,MAX(G10:H10)) -> 22.54 | J10: =MIN(F10,I10) -> 22.54 | L10: =MIN(F10,I10) -> 22.54 | M10: =MAX(F10,I10) -> 99.99 | N10: =L10+M10*0.0001 -> 22.549999 | O10: =N10 -> 22.549999
A11: =IF(J11=99.99,15,RANK(O11,$O$7:$O$21,1)) -> 5 | B11: 13 | C11: HZS Středočeského kraje | D11: 23.18 | E11: 23.1 | F11: =IF(MAX(D11:E11)=0,99.99,MAX(D11:E11)) -> 23.18 | G11: 27.67 | H11: 21.21 | I11: =IF(MAX(G11:H11)=0,99.99,MAX(G11:H11)) -> 27.67 | J11: =MIN(F11,I11) -> 23.18 | L11: =MIN(F11,I11) -> 23.18 | M11: =MAX(F11,I11) -> 27.67 | N11: =L11+M11*0.0001 -> 23.182767 | O11: =N11 -> 23.182767
A12: =IF(J12=99.99,15,RANK(O12,$O$7:$O$21,1)) -> 6 | B12: 10 | C12: HZS Olomouckého kraje | D12: 24.29 | E12: 23.84 | F12: =IF(MAX(D12:E12)=0,99.99,MAX(D12:E12)) -> 24.29 | G12: 34.75 | H12: 34.57 | I12: =IF(MAX(G12:H12)=0,99.99,MAX(G12:H12)) -> 34.75 | J12: =MIN(F12,I12) -> 24.29 | L12: =MIN(F12,I12) -> 24.29 | M12: =MAX(F12,I12) -> 34.75 | N12: =L12+M12*0.0001 -> 24.293475 | O12: =N12 -> 24.293475
A13: =IF(J13=99.99,15,RANK(O13,$O$7:$O$21,1)) -> 7 | B13: 15 | C13: HZS Jihočeského kraje | D13: 23.9 | E13: 24.46 | F13: =IF(MAX(D13:E13)=0,99.99,MAX(D13:E13)) -> 24.46 | G13: 23.61 | H13: 25.99 | I13: =IF(MAX(G13:H13)=0,99.99,MAX(G13:H13)) -> 25.99 | J13: =MIN(F13,I13) -> 24.46 | L13: =MIN(F13,I13) -> 24.46 | M13: =MAX(F13,I13) -> 25.99 | N13: =L13+M13*0.0001 -> 24.462599 | O13: =N13 -> 24.462599
A14: =IF(J14=99.99,15,RANK(O14,$O$7:$O$21,1)) -> 8 | B14: 6 | C14: HZS kraje Vysočina | D14: 21.58 | E14: 24.66 | F14: =IF(MAX(D14:E14)=0,99.99,MAX(D14:E14)) -> 24.66 | G14: 99.99 | H14: 99.99 | I14: =IF(MAX(G14:H14)=0,99.99,MAX(G14:H14)) -> 99.99 | J14: =MIN(F14,I14) -> 24.66 | L14: =MIN(F14,I14) -> 24.66 | M14: =MAX(F14,I14) -> 99.99 | N14: =L14+M14*0.0001 -> 24.669999 | O14: =N14 -> 24.669999
A15: =IF(J15=99.99,15,RANK(O15,$O$7:$O$21,1)) -> 9 | B15: 11 | C15: HZS podniku DEZA, a.s. | D15: 25.47 | E15: 24.58 | F15: =IF(MAX(D15:E15)=0,99.99,MAX(D15:E15)) -> 25.47 | G15: 46.37 | H15: 48.17 | I15: =IF(MAX(G15:H15)=0,99.99,MAX(G15:H15)) -> 48.17 | J15: =MIN(F15,I15) -> 25.47 | L15: =MIN(F15,I15) -> 25.47 | M15: =MAX(F15,I15) -> 48.17 | N15: =L15+M15*0.0001 -> 25.474817 | O15: =N15 -> 25.474817
A16: =IF(J16=99.99,15,RANK(O16,$O$7:$O$21,1)) -> 10 | B16: 8 | C16: HZS Ústeckého kraje | D16: 23.35 | E16: 26.08 | F16: =IF(MAX(D16:E16)=0,99.99,MAX(D16:E16)) -> 26.08 | G16: 99.99 | H16: 99.99 | I16: =IF(MAX(G16:H16)=0,99.99,MAX(G16:H16)) -> 99.99 | J16: =MIN(F16,I16) -> 26.08 | L16: =MIN(F16,I16) -> 26.08 | M16: =MAX(F16,I16) -> 99.99 | N16: =L16+M16*0.0001 -> 26.089999 | O16: =N16 -> 26.089999
A17: =IF(J17=99.99,15,RANK(O17,$O$7:$O$21,1)) -> 11 | B17: 5 | C17: HZS Pardubického kraje | D17: 26.51 | E17: 26.95 | F17: =IF(MAX(D17:E17)=0,99.99,MAX(D17:E17)) -> 26.95 | G17: 25.33 | H17: 26.47 | I17: =IF(MAX(G17:H17)=0,99.99,MAX(G17:H17)) -> 26.47 | J17: =MIN(F17,I17) -> 26.47 | L17: =MIN(F17,I17) -> 26.47 | M17: =MAX(F17,I17) -> 26.95 | N17: =L17+M17*0.0001 -> 26.472695 | O17: =N17 -> 26.472695
A18: =IF(J18=99.99,15,RANK(O18,$O$7:$O$21,1)) -> 12 | B18: 3 | C18: HZS Libereckého kraje | D18: 24.33 | E18: 26.73 | F18: =IF(MAX(D18:E18)=0,99.99,MAX(D18:E18)) -> 26.73 | G18: 24.67 | H18: 26.77 | I18: =IF(MAX(G18:H18)=0,99.99,MAX(G18:H18)) -> 26.77 | J18: =MIN(F18,I18) -> 26.73 | L18: =MIN(F18,I18) -> 26.73 | M18: =MAX(F18,I18) -> 26.77 | N18: =L18+M18*0.0001 -> 26.732677 | O18: =N18 -> 26.732677
... A21: =IF(J21=99.99,15,RANK(O21,$O$7:$O$21,1)) -> 15 | B21: 9 | C21: HZS Karlovarského kraje | D21: 99.99 | E21: 99.99 | F21: =IF(MAX(D21:E21)=0,99.99,MAX(D21:E21)) -> 99.99 | G21: 31.23 | H21: 28.29 | I21: =IF(MAX(G21:H21)=0,99.99,MAX(G21:H21)) -> 31.23 | J21: =MIN(F21,I21) -> 31.23 | L21: =MIN(F21,I21) -> 31.23 | M21: =MAX(F21,I21) -> 99.99 | N21: =L21+M21*0.0001 -> 31.239999 | O21: =N21 -> 31.239999

Sheet celkem
E1: 43. mistrovství České republiky v požárním sportu družstev HZS ČR
E2: České Budějovice 27. - 29. června 2014
E3: Celkové pořadí družstev
D5: 100m | F5: věž | H5: štafeta | J5: útok | L5: celkem
A6: pořadí | B6: st.č | C6: družstvo | D6: čas | E6: body | F6: čas | G6: body | H6: čas | I6: body | J6: čas | K6: body | L6: bodů | N6: koef
A7: =RANK(N7,$N$7:$N$21,1) -> 1 | B7: 7 | C7: HZS Moravskoslezského kraje | D7: =IF(D$22=1,0,'[1]100m-d'!P12) -> 98.41 | E7: =IF(E$22=1,0,'[1]100m-d'!O12) -> 1 | F7: =IF(F$22=1,0,'[1]věž-d'!P12) -> 85.87 | G7: =IF(G$22=1,0,'[1]věž-d'!O12) -> 1 | H7: =IF($H$22=1,0,[1]štafetaD!F10) -> 56.38 | I7: =IF($H$22=1,0,[1]štafetaD!M10) -> 4 | J7: =IF($J$22=1,0,[1]útok!J13) -> 21.8 | K7: =IF($K$22=1,0,[1]útok!A13) -> 1 | L7: =E7+G7+I7+K7 -> 7 | N7: =L7+K7*0.01 -> 7.01
A8: =RANK(N8,$N$7:$N$21,1) -> 2 | B8: 14 | C8: HZS Plzeňského kraje | D8: =IF(D$22=1,0,'[1]100m-d'!P19) -> 99.96 | E8: =IF(E$22=1,0,'[1]100m-d'!O19) -> 3 | F8: =IF(F$22=1,0,'[1]věž-d'!P19) -> 89.64 | G8: =IF(G$22=1,0,'[1]věž-d'!O19) -> 2 | H8: =IF($H$22=1,0,[1]štafetaD!F17) -> 55.1 | I8: =IF($H$22=1,0,[1]štafetaD!M17) -> 3 | J8: =IF($J$22=1,0,[1]útok!J20) -> 22.21 | K8: =IF($K$22=1,0,[1]útok!A20) -> 3 | L8: =E8+G8+I8+K8 -> 11 | N8: =L8+K8*0.01 -> 11.03
A9: =RANK(N9,$N$7:$N$21,1) -> 3 | B9: 2 | C9: HZS Zlínského kraje | D9: =IF(D$22=1,0,'[1]100m-d'!P7) -> 101.19 | E9: =IF(E$22=1,0,'[1]100m-d'!O7) -> 4 | F9: =IF(F$22=1,0,'[1]věž-d'!P7) -> 91.52 | G9: =IF(G$22=1,0,'[1]věž-d'!O7) -> 4 | H9: =IF($H$22=1,0,[1]štafetaD!F5) -> 54.61 | I9: =IF($H$22=1,0,[1]štafetaD!M5) -> 2 | J9: =IF($J$22=1,0,[1]útok!J8) -> 22.06 | K9: =IF($K$22=1,0,[1]útok!A8) -> 2 | L9: =E9+G9+I9+K9 -> 12 | N9: =L9+K9*0.01 -> 12.02
A10: =RANK(N10,$N$7:$N$21,1) -> 4 | B10: 12 | C10: HZS Královéhradeckého kraje | D10: =IF(D$22=1,0,'[1]100m-d'!P17) -> 99.11 | E10: =IF(E$22=1,0,'[1]100m-d'!O17) -> 2 | F10: =IF(F$22=1,0,'[1]věž-d'!P17) -> 92.06 | G10: =IF(G$22=1,0,'[1]věž-d'!O17) -> 5 | H10: =IF($H$22=1,0,[1]štafetaD!F15) -> 53.43 | I10: =IF($H$22=1,0,[1]štafetaD!M15) -> 1 | J10: =IF($J$22=1,0,[1]útok!J18) -> 22.54 | K10: =IF($K$22=1,0,[1]útok!A18) -> 4 | L10: =E10+G10+I10+K10 -> 12 | N10: =L10+K10*0.01 -> 12.04
A11: =RANK(N11,$N$7:$N$21,1) -> 5 | B11: 6 | C11: HZS kraje Vysočina | D11: =IF(D$22=1,0,'[1]100m-d'!P11) -> 101.2 | E11: =IF(E$22=1,0,'[1]100m-d'!O11) -> 5 | F11: =IF(F$22=1,0,'[1]věž-d'!P11) -> 89.78 | G11: =IF(G$22=1,0,'[1]věž-d'!O11) -> 3 | H11: =IF($H$22=1,0,[1]štafetaD!F9) -> 57.46 | I11: =IF($H$22=1,0,[1]štafetaD!M9) -> 5 | J11: =IF($J$22=1,0,[1]útok!J12) -> 24.66 | K11: =IF($K$22=1,0,[1]útok!A12) -> 8 | L11: =E11+G11+I11+K11 -> 21 | N11: =L11+K11*0.01 -> 21.08
A12: =RANK(N12,$N$7:$N$21,1) -> 6 | B12: 10 | C12: HZS Olomouckého kraje | D12: =IF(D$22=1,0,'[1]100m-d'!P15) -> 106.86 | E12: =IF(E$22=1,0,'[1]100m-d'!O15) -> 8 | F12: =IF(F$22=1,0,'[1]věž-d'!P15) -> 96.51 | G12: =IF(G$22=1,0,'[1]věž-d'!O15) -> 9 | H12: =IF($H$22=1,0,[1]štafetaD!F13) -> 57.7 | I12: =IF($H$22=1,0,[1]štafetaD!M13) -> 6 | J12: =IF($J$22=1,0,[1]útok!J16) -> 24.29 | K12: =IF($K$22=1,0,[1]útok!A16) -> 6 | L12: =E12+G12+I12+K12 -> 29 | N12: =L12+K12*0.01 -> 29.06
A13: =RANK(N13,$N$7:$N$21,1) -> 7 | B13: 13 | C13: HZS Středočeského kraje | D13: =IF(D$22=1,0,'[1]100m-d'!P18) -> 105.57 | E13: =IF(E$22=1,0,'[1]100m-d'!O18) -> 6 | F13: =IF(F$22=1,0,'[1]věž-d'!P18) -> 95.14 | G13: =IF(G$22=1,0,'[1]věž-d'!O18) -> 7 | H13: =IF($H$22=1,0,[1]štafetaD!F16) -> 63.11 | I13: =IF($H$22=1,0,[1]štafetaD!M16) -> 12 | J13: =IF($J$22=1,0,[1]útok!J19) -> 23.18 | K13: =IF($K$22=1,0,[1]útok!A19) -> 5 | L13: =E13+G13+I13+K13 -> 30 | N13: =L13+K13*0.01 -> 30.05
A14: =RANK(N14,$N$7:$N$21,1) -> 8 | B14: 15 | C14: HZS Jihočeského kraje | D14: =IF(D$22=1,0,'[1]100m-d'!P20) -> 106.05 | E14: =IF(E$22=1,0,'[1]100m-d'!O20) -> 7 | F14: =IF(F$22=1,0,'[1]věž-d'!P20) -> 93.78 | G14: =IF(G$22=1,0,'[1]věž-d'!O20) -> 6 | H14: =IF($H$22=1,0,[1]štafetaD!F18) -> 58.93 | I14: =IF($H$22=1,0,[1]štafetaD!M18) -> 11 | J14: =IF($J$22=1,0,[1]útok!J21) -> 24.46 | K14: =IF($K$22=1,0,[1]útok!A21) -> 7 | L14: =E14+G14+I14+K14 -> 31 | N14: =L14+K14*0.01 -> 31.07
A15: =RANK(N15,$N$7:$N$21,1) -> 9 | B15: 8 | C15: HZS Ústeckého kraje | D15: =IF(D$22=1,0,'[1]100m-d'!P13) -> 107.67 | E15: =IF(E$22=1,0,'[1]100m-d'!O13) -> 10 | F15: =IF(F$22=1,0,'[1]věž-d'!P13) -> 97.82 | G15: =IF(G$22=1,0,'[1]věž-d'!O13) -> 10 | H15: =IF($H$22=1,0,[1]štafetaD!F11) -> 57.74 | I15: =IF($H$22=1,0,[1]štafetaD!M11) -> 7 | J15: =IF($J$22=1,0,[1]útok!J14) -> 26.08 | K15: =IF($K$22=1,0,[1]útok!A14) -> 10 | L15: =E15+G15+I15+K15 -> 37 | N15: =L15+K15*0.01 -> 37.1
A16: =RANK(N16,$N$7:$N$21,1) -> 10 | B16: 1 | C16: HZS hlavního města Prahy | D16: =IF(D$22=1,0,'[1]100m-d'!P6) -> 107.37 | E16: =IF(E$22=1,0,'[1]100m-d'!O6) -> 9 | F16: =IF(F$22=1,0,'[1]věž-d'!P6) -> 95.66 | G16: =IF(G$22=1,0,'[1]věž-d'!O6) -> 8 | H16: =IF($H$22=1,0,[1]štafetaD!F4) -> 58.53 | I16: =IF($H$22=1,0,[1]štafetaD!M4) -> 9 | J16: =IF($J$22=1,0,[1]útok!J7) -> 28.86 | K16: =IF($K$22=1,0,[1]útok!A7) -> 14 | L16: =E16+G16+I16+K16 -> 40 | N16: =L16+K16*0.01 -> 40.14
A17: =RANK(N17,$N$7:$N$21,1) -> 11 | B17: 11 | C17: HZS podniku DEZA, a.s. | D17: =IF(D$22=1,0,'[1]100m-d'!P16) -> 112.7 | E17: =IF(E$22=1,0,'[1]100m-d'!O16) -> 12 | F17: =IF(F$22=1,0,'[1]věž-d'!P16) -> 113.97 | G17: =IF(G$22=1,0,'[1]věž-d'!O16) -> 13 | H17: =IF($H$22=1,0,[1]štafetaD!F14) -> 58.4 | I17: =IF($H$22=1,0,[1]štafetaD!M14) -> 8 | J17: =IF($J$22=1,0,[1]útok!J17) -> 25.47 | K17: =IF($K$22=1,0,[1]útok!A17) -> 9 | L17: =E17+G17+I17+K17 -> 42 | N17: =L17+K17*0.01 -> 42.09
A18: =RANK(N18,$N$7:$N$21,1) -> 12 | B18: 4 | C18: HZS Jihomoravského kraje | D18: =IF(D$22=1,0,'[1]100m-d'!P9) -> 108.09 | E18: =IF(E$22=1,0,'[1]100m-d'!O9) -> 11 | F18: =IF(F$22=1,0,'[1]věž-d'!P9) -> 98.44 | G18: =IF(G$22=1,0,'[1]věž-d'!O9) -> 11 | H18: =IF($H$22=1,0,[1]štafetaD!F7) -> 58.56 | I18: =IF($H$22=1,0,[1]štafetaD!M7) -> 10 | J18: =IF($J$22=1,0,[1]útok!J10) -> 27.48 | K18: =IF($K$22=1,0,[1]útok!A10) -> 13 | L18: =E18+G18+I18+K18 -> 45 | N18: =L18+K18*0.01 -> 45.13
A19: =RANK(N19,$N$7:$N$21,1) -> 13 | B19: 5 | C19: HZS Pardubického kraje | D19: =IF(D$22=1,0,'[1]100m-d'!P10) -> 113.46 | E19: =IF(E$22=1,0,'[1]100m-d'!O10) -> 13 | F19: =IF(F$22=1,0,'[1]věž-d'!P10) -> 107.66 | G19: =IF(G$22=1,0,'[1]věž-d'!O10) -> 12 | H19: =IF($H$22=1,0,[1]štafetaD!F8) -> 64.16 | I19: =IF($H$22=1,0,[1]štafetaD!M8) -> 14 | J19: =IF($J$22=1,0,[1]útok!J11) -> 26.47 | K19: =IF($K$22=1,0,[1]útok!A11) -> 11 | L19: =E19+G19+I19+K19 -> 50 | N19: =L19+K19*0.01 -> 50.11
A20: =RANK(N20,$N$7:$N$21,1) -> 14 | B20: 3 | C20: HZS Libereckého kraje | D20: =IF(D$22=1,0,'[1]100m-d'!P8) -> 115.91 | E20: =IF(E$22=1,0,'[1]100m-d'!O8) -> 14 | F20: =IF(F$22=1,0,'[1]věž-d'!P8) -> 999 | G20: =IF(G$22=1,0,'[1]věž-d'!O8) -> 15 | H20: =IF($H$22=1,0,[1]štafetaD!F6) -> 64.07 | I20: =IF($H$22=1,0,[1]štafetaD!M6) -> 13 | J20: =IF($J$22=1,0,[1]útok!J9) -> 26.73 | K20: =IF($K$22=1,0,[1]útok!A9) -> 12 | L20: =E20+G20+I20+K20 -> 54 | N20: =L20+K20*0.01 -> 54.12
A21: =RANK(N21,$N$7:$N$21,1) -> 15 | B21: 9 | C21: HZS Karlovarského kraje | D21: =IF(D$22=1,0,'[1]100m-d'!P14) -> 121.59 | E21: =IF(E$22=1,0,'[1]100m-d'!O14) -> 15 | F21: =IF(F$22=1,0,'[1]věž-d'!P14) -> 115.19 | G21: =IF(G$22=1,0,'[1]věž-d'!O14) -> 14 | H21: =IF($H$22=1,0,[1]štafetaD!F12) -> 70.18 | I21: =IF($H$22=1,0,[1]štafetaD!M12) -> 15 | J21: =IF($J$22=1,0,[1]útok!J15) -> 31.23 | K21: =IF($K$22=1,0,[1]útok!A15) -> 15 | L21: =E21+G21+I21+K21 -> 59 | N21: =L21+K21*0.01 -> 59.15

Sheet štafeta
E1: 43. mistrovství České republiky v požárním sportu družstev HZS ČR
E2: České Budějovice 27. - 29. června 2014
E3: Štafeta 4x100m s překážkami
B5: pořadí | C5: dráha | D5: st.č. | E5: družstvo | F5: štafeta | G5: čas
B6: =IF(I6=99.99,30,RANK(G6,($G$6:$G$35),1)) -> 1 | C6: 1 | D6: 27 | E6: HZS Královéhradeckého kraje | F6: B | G6: 53.43 | I6: =IF(OR(G6="dnf",G6="dns",G6="dq",G6=0),99.99,G6) -> 53.43
B7: =IF(I7=99.99,30,RANK(G7,($G$6:$G$35),1)) -> 2 | C7: 1 | D7: 17 | E7: HZS Zlínského kraje | F7: B | G7: 54.61 | I7: =IF(OR(G7="dnf",G7="dns",G7="dq",G7=0),99.99,G7) -> 54.61
B8: =IF(I8=99.99,30,RANK(G8,($G$6:$G$35),1)) -> 3 | C8: 1 | D8: 29 | E8: HZS Plzeňského kraje | F8: B | G8: 55.1 | I8: =IF(OR(G8="dnf",G8="dns",G8="dq",G8=0),99.99,G8) -> 55.1
B9: =IF(I9=99.99,30,RANK(G9,($G$6:$G$35),1)) -> 4 | C9: 2 | D9: 2 | E9: HZS Zlínského kraje | F9: A | G9: 55.52 | I9: =IF(OR(G9="dnf",G9="dns",G9="dq",G9=0),99.99,G9) -> 55.52
B10: =IF(I10=99.99,30,RANK(G10,($G$6:$G$35),1)) -> 5 | C10: 1 | D10: 7 | E10: HZS Moravskoslezského kraje | F10: A | G10: 56.38 | I10: =IF(OR(G10="dnf",G10="dns",G10="dq",G10=0),99.99,G10) -> 56.38
B11: =IF(I11=99.99,30,RANK(G11,($G$6:$G$35),1)) -> 6 | C11: 2 | D11: 12 | E11: HZS Královéhradeckého kraje | F11: A | G11: 57.11 | I11: =IF(OR(G11="dnf",G11="dns",G11="dq",G11=0),99.99,G11) -> 57.11
B12: =IF(I12=99.99,30,RANK(G12,($G$6:$G$35),1)) -> 7 | C12: 2 | D12: 6 | E12: HZS kraje Vysočina | F12: A | G12: 57.46 | I12: =IF(OR(G12="dnf",G12="dns",G12="dq",G12=0),99.99,G12) -> 57.46
B13: =IF(I13=99.99,30,RANK(G13,($G$6:$G$35),1)) -> 8 | C13: 1 | D13: 25 | E13: HZS Olomouckého kraje | F13: B | G13: 57.7 | I13: =IF(OR(G13="dnf",G13="dns",G13="dq",G13=0),99.99,G13) -> 57.7
B14: =IF(I14=99.99,30,RANK(G14,($G$6:$G$35),1)) -> 9 | C14: 1 | D14: 23 | E14: HZS Ústeckého kraje | F14: B | G14: 57.74 | I14: =IF(OR(G14="dnf",G14="dns",G14="dq",G14=0),99.99,G14) -> 57.74
B15: =IF(I15=99.99,30,RANK(G15,($G$6:$G$35),1)) -> 10 | C15: 1 | D15: 21 | E15: HZS kraje Vysočina | F15: B | G15: 58.08 | I15: =IF(OR(G15="dnf",G15="dns",G15="dq",G15=0),99.99,G15) -> 58.08
B16: =IF(I16=99.99,30,RANK(G16,($G$6:$G$35),1)) -> 11 | C16: 2 | D16: 26 | E16: HZS podniku DEZA, a.s. | F16: B | G16: 58.4 | I16: =IF(OR(G16="dnf",G16="dns",G16="dq",G16=0),99.99,G16) -> 58.4
B17: =IF(I17=99.99,30,RANK(G17,($G$6:$G$35),1)) -> 12 | C17: 2 | D17: 16 | E17: HZS hlavního města Prahy | F17: B | G17: 58.53 | I17: =IF(OR(G17="dnf",G17="dns",G17="dq",G17=0),99.99,G17) -> 58.53
... B35: =IF(I35=99.99,30,RANK(G35,($G$6:$G$35),1)) -> 30 | C35: 2 | D35: 22 | E35: HZS Moravskoslezského kraje | F35: B | G35: 99.99 | I35: =IF(OR(G35="dnf",G35="dns",G35="dq",G35=0),99.99,G35) -> 99.99

Sheet 100mSF
E1: 61. mistrovství Sdružení hasičů Čech, Moravy a Slezska v požárním sportu
E2: 43. mistrovství České republiky v požárním sportu družstev HZS ČR
E3: České Budějovice 27. - 29. června 2014
E4: Běh jednotlivců na 100m překážek
E5: muži
E6: semifinále a finále o absolutního mistra ČR
B8: I. semifinálový běh
B9: pořadí | C9: dráha | D9: závodník | E9: družstvo | F9: základní kolo | G9: semifinále
A10: 5 | B10: =RANK(I10,$I$10:$I$21,1) -> 7 | C10: 1 | D10: =VLOOKUP(A10,'[1]100mproSF'!$A$3:$M$22,3,FALSE) -> Martin LIDMILA | E10: =VLOOKUP(A10,'[1]100mproSF'!$A$3:$M$22,4,FALSE) -> Zbožnov | F10: =VLOOKUP(A10,'[1]100mproSF'!$A$3:$M$22,13,FALSE) -> 15.970164 | G10: 99.99 | I10: =G10+F10*0.0001 -> 99.991597
A11: 1 | B11: =RANK(I11,$I$10:$I$21,1) -> 5 | C11: 2 | D11: =VLOOKUP(A11,'[1]100mproSF'!$A$3:$M$22,3,FALSE) -> Pavel KRPEC | E11: =VLOOKUP(A11,'[1]100mproSF'!$A$3:$M$22,4,FALSE) -> HZS Moravskoslezského kraje | F11: =VLOOKUP(A11,'[1]100mproSF'!$A$3:$M$22,13,FALSE) -> 15.700195 | G11: 99.99 | I11: =G11+F11*0.0001 -> 99.99157
A12: 4 | B12: =RANK(I12,$I$10:$I$21,1) -> 1 | C12: 3 | D12: =VLOOKUP(A12,'[1]100mproSF'!$A$3:$M$22,3,FALSE) -> Radek ŠUBA | E12: =VLOOKUP(A12,'[1]100mproSF'!$A$3:$M$22,4,FALSE) -> HZS Zlínského kraje | F12: =VLOOKUP(A12,'[1]100mproSF'!$A$3:$M$22,13,FALSE) -> 15.960162 | G12: 16.02 | I12: =G12+F12*0.0001 -> 16.021596
A13: 8 | B13: =RANK(I13,$I$10:$I$21,1) -> 2 | C13: 4 | D13: =VLOOKUP(A13,'[1]100mproSF'!$A$3:$M$22,3,FALSE) -> Tomáš VLČEK | E13: =VLOOKUP(A13,'[1]100mproSF'!$A$3:$M$22,4,FALSE) -> Lhenice | F13: =VLOOKUP(A13,'[1]100mproSF'!$A$3:$M$22,13,FALSE) -> 16.260175 | G13: 16.02 | I13: =G13+F13*0.0001 -> 16.021626
B16: II. semifinálový běh
B17: pořadí | C17: dráha | D17: závodník | E17: družstvo | F17: základní kolo | G17: semifinále
A18: 6 | B18: =RANK(I18,$I$10:$I$21,1) -> 8 | C18: 1 | D18: =VLOOKUP(A18,'[1]100mproSF'!$A$3:$M$22,3,FALSE) -> David DOPIRÁK | E18: =VLOOKUP(A18,'[1]100mproSF'!$A$3:$M$22,4,FALSE) -> HZS Moravskoslezského kraje | F18: =VLOOKUP(A18,'[1]100mproSF'!$A$3:$M$22,13,FALSE) -> 15.990165 | G18: 99.99 | I18: =G18+F18*0.0001 -> 99.991599
A19: 2 | B19: =RANK(I19,$I$10:$I$21,1) -> 6 | C19: 2 | D19: =VLOOKUP(A19,'[1]100mproSF'!$A$3:$M$22,3,FALSE) -> Jan GÁŠEK | E19: =VLOOKUP(A19,'[1]100mproSF'!$A$3:$M$22,4,FALSE) -> Juřinka | F19: =VLOOKUP(A19,'[1]100mproSF'!$A$3:$M$22,13,FALSE) -> 15.760163 | G19: 99.99 | I19: =G19+F19*0.0001 -> 99.991576
A20: 3 | B20: =RANK(I20,$I$10:$I$21,1) -> 4 | C20: 3 | D20: =VLOOKUP(A20,'[1]100mproSF'!$A$3:$M$22,3,FALSE) -> Jakub PĚKNÝ | E20: =VLOOKUP(A20,'[1]100mproSF'!$A$3:$M$22,4,FALSE) -> HZS Ústeckého kraje | F20: =VLOOKUP(A20,'[1]100mproSF'!$A$3:$M$22,13,FALSE) -> 15.870164 | G20: 16.69 | I20: =G20+F20*0.0001 -> 16.691587
A21: 7 | B21: =RANK(I21,$I$10:$I$21,1) -> 3 | C21: 4 | D21: =VLOOKUP(A21,'[1]100mproSF'!$A$3:$M$22,3,FALSE) -> Petr MAŘAN | E21: =VLOOKUP(A21,'[1]100mproSF'!$A$3:$M$22,4,FALSE) -> HZS Královéhradeckého kraje | F21: =VLOOKUP(A21,'[1]100mproSF'!$A$3:$M$22,13,FALSE) -> 16.000164 | G21: 16.21 | I21: =G21+F21*0.0001 -> 16.2116
B24: Finálový běh
B25: pořadí | C25: dráha | D25: závodník | E25: družstvo | F25: semifinále | G25: finále
A26: 3 | B26: =RANK(I26,$I$26:$I$29,1) -> 1 | C26: 1 | D26: =VLOOKUP(A26,$B$10:$H$21,3,FALSE) -> Petr MAŘAN | E26: =VLOOKUP(A26,$B$10:$H$21,4,FALSE) -> HZS Královéhradeckého kraje | F26: =VLOOKUP(A26,$B$10:$G$21,6,FALSE) -> 16.21 | G26: 15.81 | I26: =G26+F26*0.0001 -> 15.811621
A27: 1 | B27: =RANK(I27,$I$26:$I$29,1) -> 2 | C27: 2 | D27: =VLOOKUP(A27,$B$10:$H$21,3,FALSE) -> Radek ŠUBA | E27: =VLOOKUP(A27,$B$10:$H$21,4,FALSE) -> HZS Zlínského kraje | F27: =VLOOKUP(A27,$B$10:$H$21,6,FALSE) -> 16.02 | G27: 21.23 | I27: =G27+F27*0.0001 -> 21.231602
A28: 2 | B28: =RANK(I28,$I$26:$I$29,1) -> 3 | C28: 3 | D28: =VLOOKUP(A28,$B$10:$H$21,3,FALSE) -> Tomáš VLČEK | E28: =VLOOKUP(A28,$B$10:$H$21,4,FALSE) -> Lhenice | F28: =VLOOKUP(A28,$B$10:$H$21,6,FALSE) -> 16.02 | G28: 30.09 | I28: =G28+F28*0.0001 -> 30.091602
A29: 4 | B29: =RANK(I29,$I$26:$I$29,1) -> 4 | C29: 4 | D29: =VLOOKUP(A29,$B$10:$H$21,3,FALSE) -> Jakub PĚKNÝ | E29: =VLOOKUP(A29,$B$10:$H$21,4,FALSE) -> HZS Ústeckého kraje | F29: =VLOOKUP(A29,$B$10:$H$21,6,FALSE) -> 16.69 | G29: 99.99 | I29: =G29+F29*0.0001 -> 99.991669

Sheet Vdvojboj
E1: 43. mistrovství České republiky v požárním sportu družstev HZS ČR
E2: České Budějovice 27. - 29. června 2014
E3: Dvojboj
A5: apoř | B5: pořadí | C5: st.č. | D5: závodník | E5: družstvo | F5: 100m | G5: věž | H5: celkem
A6: 1 | B6: =VLOOKUP(A6,[1]dvojboj!$A$6:$I$155,3,FALSE) -> 1 | C6: =VLOOKUP(A6,[1]dvojboj!$A$6:$I$155,4,FALSE) -> 75 | D6: =VLOOKUP(A6,[1]dvojboj!$A$6:$I$155,5,FALSE) -> Jakub PĚKNÝ | E6: =VLOOKUP(A6,[1]dvojboj!$A$6:$I$155,6,FALSE) -> HZS Ústeckého kraje | F6: =VLOOKUP(A6,[1]dvojboj!$A$6:$I$155,7,FALSE) -> 15.87 | G6: =VLOOKUP(A6,[1]dvojboj!$A$6:$I$155,8,FALSE) -> 13.67 | H6: =VLOOKUP(A6,[1]dvojboj!$A$6:$I$155,9,FALSE) -> 29.54
A7: 2 | B7: =VLOOKUP(A7,[1]dvojboj!$A$6:$I$155,3,FALSE) -> 2 | C7: =VLOOKUP(A7,[1]dvojboj!$A$6:$I$155,4,FALSE) -> 67 | D7: =VLOOKUP(A7,[1]dvojboj!$A$6:$I$155,5,FALSE) -> Pavel KRPEC | E7: =VLOOKUP(A7,[1]dvojboj!$A$6:$I$155,6,FALSE) -> HZS Moravskoslezského kraje | F7: =VLOOKUP(A7,[1]dvojboj!$A$6:$I$155,7,FALSE) -> 15.7 | G7: =VLOOKUP(A7,[1]dvojboj!$A$6:$I$155,8,FALSE) -> 14.63 | H7: =VLOOKUP(A7,[1]dvojboj!$A$6:$I$155,9,FALSE) -> 30.33
A8: 3 | B8: =VLOOKUP(A8,[1]dvojboj!$A$6:$I$155,3,FALSE) -> 3 | C8: =VLOOKUP(A8,[1]dvojboj!$A$6:$I$155,4,FALSE) -> 61 | D8: =VLOOKUP(A8,[1]dvojboj!$A$6:$I$155,5,FALSE) -> Kamil BEZRUČ | E8: =VLOOKUP(A8,[1]dvojboj!$A$6:$I$155,6,FALSE) -> HZS Moravskoslezského kraje | F8: =VLOOKUP(A8,[1]dvojboj!$A$6:$I$155,7,FALSE) -> 16.57 | G8: =VLOOKUP(A8,[1]dvojboj!$A$6:$I$155,8,FALSE) -> 14.09 | H8: =VLOOKUP(A8,[1]dvojboj!$A$6:$I$155,9,FALSE) -> 30.66
A9: 4 | B9: =VLOOKUP(A9,[1]dvojboj!$A$6:$I$155,3,FALSE) -> 4 | C9: =VLOOKUP(A9,[1]dvojboj!$A$6:$I$155,4,FALSE) -> 62 | D9: =VLOOKUP(A9,[1]dvojboj!$A$6:$I$155,5,FALSE) -> David DOPIRÁK | E9: =VLOOKUP(A9,[1]dvojboj!$A$6:$I$155,6,FALSE) -> HZS Moravskoslezského kraje | F9: =VLOOKUP(A9,[1]dvojboj!$A$6:$I$155,7,FALSE) -> 15.99 | G9: =VLOOKUP(A9,[1]dvojboj!$A$6:$I$155,8,FALSE) -> 14.68 | H9: =VLOOKUP(A9,[1]dvojboj!$A$6:$I$155,9,FALSE) -> 30.67
A10: 5 | B10: =VLOOKUP(A10,[1]dvojboj!$A$6:$I$155,3,FALSE) -> 5 | C10: =VLOOKUP(A10,[1]dvojboj!$A$6:$I$155,4,FALSE) -> 114 | D10: =VLOOKUP(A10,[1]dvojboj!$A$6:$I$155,5,FALSE) -> Petr MAŘAN | E10: =VLOOKUP(A10,[1]dvojboj!$A$6:$I$155,6,FALSE) -> HZS Královéhradeckého kraje | F10: =VLOOKUP(A10,[1]dvojboj!$A$6:$I$155,7,FALSE) -> 16 | G10: =VLOOKUP(A10,[1]dvojboj!$A$6:$I$155,8,FALSE) -> 14.84 | H10: =VLOOKUP(A10,[1]dvojboj!$A$6:$I$155,9,FALSE) -> 30.84
A11: 6 | B11: =VLOOKUP(A11,[1]dvojboj!$A$6:$I$155,3,FALSE) -> 6 | C11: =VLOOKUP(A11,[1]dvojboj!$A$6:$I$155,4,FALSE) -> 65 | D11: =VLOOKUP(A11,[1]dvojboj!$A$6:$I$155,5,FALSE) -> Karel RYL | E11: =VLOOKUP(A11,[1]dvojboj!$A$6:$I$155,6,FALSE) -> HZS Moravskoslezského kraje | F11: =VLOOKUP(A11,[1]dvojboj!$A$6:$I$155,7,FALSE) -> 17.21 | G11: =VLOOKUP(A11,[1]dvojboj!$A$6:$I$155,8,FALSE) -> 13.63 | H11: =VLOOKUP(A11,[1]dvojboj!$A$6:$I$155,9,FALSE) -> 30.84
A12: 7 | B12: =VLOOKUP(A12,[1]dvojboj!$A$6:$I$155,3,FALSE) -> 7 | C12: =VLOOKUP(A12,[1]dvojboj!$A$6:$I$155,4,FALSE) -> 57 | D12: =VLOOKUP(A12,[1]dvojboj!$A$6:$I$155,5,FALSE) -> Martin STUCHLÍK | E12: =VLOOKUP(A12,[1]dvojboj!$A$6:$I$155,6,FALSE) -> HZS kraje Vysočina | F12: =VLOOKUP(A12,[1]dvojboj!$A$6:$I$155,7,FALSE) -> 16.34 | G12: =VLOOKUP(A12,[1]dvojboj!$A$6:$I$155,8,FALSE) -> 14.67 | H12: =VLOOKUP(A12,[1]dvojboj!$A$6:$I$155,9,FALSE) -> 31.01
A13: 8 | B13: =VLOOKUP(A13,[1]dvojboj!$A$6:$I$155,3,FALSE) -> 7 | C13: =VLOOKUP(A13,[1]dvojboj!$A$6:$I$155,4,FALSE) -> 138 | D13: =VLOOKUP(A13,[1]dvojboj!$A$6:$I$155,5,FALSE) -> Milan NETRVAL | E13: =VLOOKUP(A13,[1]dvojboj!$A$6:$I$155,6,FALSE) -> HZS Plzeňského kraje | F13: =VLOOKUP(A13,[1]dvojboj!$A$6:$I$155,7,FALSE) -> 16.56 | G13: =VLOOKUP(A13,[1]dvojboj!$A$6:$I$155,8,FALSE) -> 14.45 | H13: =VLOOKUP(A13,[1]dvojboj!$A$6:$I$155,9,FALSE) -> 31.01
A14: 9 | B14: =VLOOKUP(A14,[1]dvojboj!$A$6:$I$155,3,FALSE) -> 9 | C14: =VLOOKUP(A14,[1]dvojboj!$A$6:$I$155,4,FALSE) -> 140 | D14: =VLOOKUP(A14,[1]dvojboj!$A$6:$I$155,5,FALSE) -> Jindřich HARASIMOVIČ | E14: =VLOOKUP(A14,[1]dvojboj!$A$6:$I$155,6,FALSE) -> HZS Plzeňského kraje | F14: =VLOOKUP(A14,[1]dvojboj!$A$6:$I$155,7,FALSE) -> 16.42 | G14: =VLOOKUP(A14,[1]dvojboj!$A$6:$I$155,8,FALSE) -> 14.74 | H14: =VLOOKUP(A14,[1]dvojboj!$A$6:$I$155,9,FALSE) -> 31.16
A15: 10 | B15: =VLOOKUP(A15,[1]dvojboj!$A$6:$I$155,3,FALSE) -> 10 | C15: =VLOOKUP(A15,[1]dvojboj!$A$6:$I$155,4,FALSE) -> 118 | D15: =VLOOKUP(A15,[1]dvojboj!$A$6:$I$155,5,FALSE) -> Václav NOVOTNÝ | E15: =VLOOKUP(A15,[1]dvojboj!$A$6:$I$155,6,FALSE) -> HZS Královéhradeckého kraje | F15: =VLOOKUP(A15,[1]dvojboj!$A$6:$I$155,7,FALSE) -> 16.52 | G15: =VLOOKUP(A15,[1]dvojboj!$A$6:$I$155,8,FALSE) -> 14.66 | H15: =VLOOKUP(A15,[1]dvojboj!$A$6:$I$155,9,FALSE) -> 31.18
A16: 11 | B16: =VLOOKUP(A16,[1]dvojboj!$A$6:$I$155,3,FALSE) -> 11 | C16: =VLOOKUP(A16,[1]dvojboj!$A$6:$I$155,4,FALSE) -> 66 | D16: =VLOOKUP(A16,[1]dvojboj!$A$6:$I$155,5,FALSE) -> Pavel MAŇAS | E16: =VLOOKUP(A16,[1]dvojboj!$A$6:$I$155,6,FALSE) -> HZS Moravskoslezského kraje | F16: =VLOOKUP(A16,[1]dvojboj!$A$6:$I$155,7,FALSE) -> 17.13 | G16: =VLOOKUP(A16,[1]dvojboj!$A$6:$I$155,8,FALSE) -> 14.26 | H16: =VLOOKUP(A16,[1]dvojboj!$A$6:$I$155,9,FALSE) -> 31.39
A17: 12 | B17: =VLOOKUP(A17,[1]dvojboj!$A$6:$I$155,3,FALSE) -> 12 | C17: =VLOOKUP(A17,[1]dvojboj!$A$6:$I$155,4,FALSE) -> 17 | D17: =VLOOKUP(A17,[1]dvojboj!$A$6:$I$155,5,FALSE) -> Radek ŠUBA | E17: =VLOOKUP(A17,[1]dvojboj!$A$6:$I$155,6,FALSE) -> HZS Zlínského kraje | F17: =VLOOKUP(A17,[1]dvojboj!$A$6:$I$155,7,FALSE) -> 15.96 | G17: =VLOOKUP(A17,[1]dvojboj!$A$6:$I$155,8,FALSE) -> 15.46 | H17: =VLOOKUP(A17,[1]dvojboj!$A$6:$I$155,9,FALSE) -> 31.42
... A94: 89 | B94: =VLOOKUP(A94,[1]dvojboj!$A$6:$I$155,3,FALSE) -> 89 | C94: =VLOOKUP(A94,[1]dvojboj!$A$6:$I$155,4,FALSE) -> 87 | D94: =VLOOKUP(A94,[1]dvojboj!$A$6:$I$155,5,FALSE) -> Ondřej KRBEC | E94: =VLOOKUP(A94,[1]dvojboj!$A$6:$I$155,6,FALSE) -> HZS Karlovarského kraje | F94: =VLOOKUP(A94,[1]dvojboj!$A$6:$I$155,7,FALSE) -> 19.17 | G94: =VLOOKUP(A94,[1]dvojboj!$A$6:$I$155,8,FALSE) -> 28.81 | H94: =VLOOKUP(A94,[1]dvojboj!$A$6:$I$155,9,FALSE) -> 47.98

Sheet V100m
E1: 43. mistrovství České republiky v požárním sportu družstev HZS ČR
E2: České Budějovice 27. - 29. června 2014
E3: Běh jednotlivců na 100m překážek
A5: apoř | B5: pořadí | C5: st.č. | D5: závodník | E5: družstvo | F5: 1. pokus | G5: 2. pokus | H5: výsledný
A6: 1 | B6: =VLOOKUP(A6,'[1]100m'!$A$7:$K$156,3,FALSE) -> 1 | C6: =VLOOKUP(A6,'[1]100m'!$A$7:$K$156,5,FALSE) -> 67 | D6: =VLOOKUP(A6,'[1]100m'!$A$7:$K$156,7,FALSE) -> Pavel KRPEC | E6: =VLOOKUP(A6,'[1]100m'!$A$7:$K$156,8,FALSE) -> HZS Moravskoslezského kraje | F6: =VLOOKUP(A6,'[1]100m'!$A$7:$K$156,9,FALSE) -> 19.5 | G6: =VLOOKUP(A6,'[1]100m'!$A$7:$K$156,10,FALSE) -> 15.7 | H6: =VLOOKUP(A6,'[1]100m'!$A$7:$K$156,11,FALSE) -> 15.7
A7: 2 | B7: =VLOOKUP(A7,'[1]100m'!$A$7:$K$156,3,FALSE) -> 2 | C7: =VLOOKUP(A7,'[1]100m'!$A$7:$K$156,5,FALSE) -> 75 | D7: =VLOOKUP(A7,'[1]100m'!$A$7:$K$156,7,FALSE) -> Jakub PĚKNÝ | E7: =VLOOKUP(A7,'[1]100m'!$A$7:$K$156,8,FALSE) -> HZS Ústeckého kraje | F7: =VLOOKUP(A7,'[1]100m'!$A$7:$K$156,9,FALSE) -> 16.41 | G7: =VLOOKUP(A7,'[1]100m'!$A$7:$K$156,10,FALSE) -> 15.87 | H7: =VLOOKUP(A7,'[1]100m'!$A$7:$K$156,11,FALSE) -> 15.87
A8: 3 | B8: =VLOOKUP(A8,'[1]100m'!$A$7:$K$156,3,FALSE) -> 3 | C8: =VLOOKUP(A8,'[1]100m'!$A$7:$K$156,5,FALSE) -> 17 | D8: =VLOOKUP(A8,'[1]100m'!$A$7:$K$156,7,FALSE) -> Radek ŠUBA | E8: =VLOOKUP(A8,'[1]100m'!$A$7:$K$156,8,FALSE) -> HZS Zlínského kraje | F8: =VLOOKUP(A8,'[1]100m'!$A$7:$K$156,9,FALSE) -> 16.19 | G8: =VLOOKUP(A8,'[1]100m'!$A$7:$K$156,10,FALSE) -> 15.96 | H8: =VLOOKUP(A8,'[1]100m'!$A$7:$K$156,11,FALSE) -> 15.96
A9: 4 | B9: =VLOOKUP(A9,'[1]100m'!$A$7:$K$156,3,FALSE) -> 4 | C9: =VLOOKUP(A9,'[1]100m'!$A$7:$K$156,5,FALSE) -> 62 | D9: =VLOOKUP(A9,'[1]100m'!$A$7:$K$156,7,FALSE) -> David DOPIRÁK | E9: =VLOOKUP(A9,'[1]100m'!$A$7:$K$156,8,FALSE) -> HZS Moravskoslezského kraje | F9: =VLOOKUP(A9,'[1]100m'!$A$7:$K$156,9,FALSE) -> 16.54 | G9: =VLOOKUP(A9,'[1]100m'!$A$7:$K$156,10,FALSE) -> 15.99 | H9: =VLOOKUP(A9,'[1]100m'!$A$7:$K$156,11,FALSE) -> 15.99
A10: 5 | B10: =VLOOKUP(A10,'[1]100m'!$A$7:$K$156,3,FALSE) -> 5 | C10: =VLOOKUP(A10,'[1]100m'!$A$7:$K$156,5,FALSE) -> 114 | D10: =VLOOKUP(A10,'[1]100m'!$A$7:$K$156,7,FALSE) -> Petr MAŘAN | E10: =VLOOKUP(A10,'[1]100m'!$A$7:$K$156,8,FALSE) -> HZS Královéhradeckého kraje | F10: =VLOOKUP(A10,'[1]100m'!$A$7:$K$156,9,FALSE) -> 16.38 | G10: =VLOOKUP(A10,'[1]100m'!$A$7:$K$156,10,FALSE) -> 16 | H10: =VLOOKUP(A10,'[1]100m'!$A$7:$K$156,11,FALSE) -> 16
A11: 6 | B11: =VLOOKUP(A11,'[1]100m'!$A$7:$K$156,3,FALSE) -> 6 | C11: =VLOOKUP(A11,'[1]100m'!$A$7:$K$156,5,FALSE) -> 57 | D11: =VLOOKUP(A11,'[1]100m'!$A$7:$K$156,7,FALSE) -> Martin STUCHLÍK | E11: =VLOOKUP(A11,'[1]100m'!$A$7:$K$156,8,FALSE) -> HZS kraje Vysočina | F11: =VLOOKUP(A11,'[1]100m'!$A$7:$K$156,9,FALSE) -> 16.34 | G11: =VLOOKUP(A11,'[1]100m'!$A$7:$K$156,10,FALSE) -> 99.99 | H11: =VLOOKUP(A11,'[1]100m'!$A$7:$K$156,11,FALSE) -> 16.34
A12: 7 | B12: =VLOOKUP(A12,'[1]100m'!$A$7:$K$156,3,FALSE) -> 7 | C12: =VLOOKUP(A12,'[1]100m'!$A$7:$K$156,5,FALSE) -> 140 | D12: =VLOOKUP(A12,'[1]100m'!$A$7:$K$156,7,FALSE) -> Jindřich HARASIMOVIČ | E12: =VLOOKUP(A12,'[1]100m'!$A$7:$K$156,8,FALSE) -> HZS Plzeňského kraje | F12: =VLOOKUP(A12,'[1]100m'!$A$7:$K$156,9,FALSE) -> 16.67 | G12: =VLOOKUP(A12,'[1]100m'!$A$7:$K$156,10,FALSE) -> 16.42 | H12: =VLOOKUP(A12,'[1]100m'!$A$7:$K$156,11,FALSE) -> 16.42
A13: 8 | B13: =VLOOKUP(A13,'[1]100m'!$A$7:$K$156,3,FALSE) -> 8 | C13: =VLOOKUP(A13,'[1]100m'!$A$7:$K$156,5,FALSE) -> 63 | D13: =VLOOKUP(A13,'[1]100m'!$A$7:$K$156,7,FALSE) -> Jakub ARVAI | E13: =VLOOKUP(A13,'[1]100m'!$A$7:$K$156,8,FALSE) -> HZS Moravskoslezského kraje | F13: =VLOOKUP(A13,'[1]100m'!$A$7:$K$156,9,FALSE) -> 16.44 | G13: =VLOOKUP(A13,'[1]100m'!$A$7:$K$156,10,FALSE) -> 99.99 | H13: =VLOOKUP(A13,'[1]100m'!$A$7:$K$156,11,FALSE) -> 16.44
A14: 9 | B14: =VLOOKUP(A14,'[1]100m'!$A$7:$K$156,3,FALSE) -> 9 | C14: =VLOOKUP(A14,'[1]100m'!$A$7:$K$156,5,FALSE) -> 119 | D14: =VLOOKUP(A14,'[1]100m'!$A$7:$K$156,7,FALSE) -> Jakub PAULÍČEK | E14: =VLOOKUP(A14,'[1]100m'!$A$7:$K$156,8,FALSE) -> HZS Královéhradeckého kraje | F14: =VLOOKUP(A14,'[1]100m'!$A$7:$K$156,9,FALSE) -> 16.48 | G14: =VLOOKUP(A14,'[1]100m'!$A$7:$K$156,10,FALSE) -> 34.98 | H14: =VLOOKUP(A14,'[1]100m'!$A$7:$K$156,11,FALSE) -> 16.48
A15: 10 | B15: =VLOOKUP(A15,'[1]100m'!$A$7:$K$156,3,FALSE) -> 10 | C15: =VLOOKUP(A15,'[1]100m'!$A$7:$K$156,5,FALSE) -> 118 | D15: =VLOOKUP(A15,'[1]100m'!$A$7:$K$156,7,FALSE) -> Václav NOVOTNÝ | E15: =VLOOKUP(A15,'[1]100m'!$A$7:$K$156,8,FALSE) -> HZS Královéhradeckého kraje | F15: =VLOOKUP(A15,'[1]100m'!$A$7:$K$156,9,FALSE) -> 16.52 | G15: =VLOOKUP(A15,'[1]100m'!$A$7:$K$156,10,FALSE) -> 99.99 | H15: =VLOOKUP(A15,'[1]100m'!$A$7:$K$156,11,FALSE) -> 16.52
A16: 11 | B16: =VLOOKUP(A16,'[1]100m'!$A$7:$K$156,3,FALSE) -> 11 | C16: =VLOOKUP(A16,'[1]100m'!$A$7:$K$156,5,FALSE) -> 52 | D16: =VLOOKUP(A16,'[1]100m'!$A$7:$K$156,7,FALSE) -> Pavel HNÍZDIL | E16: =VLOOKUP(A16,'[1]100m'!$A$7:$K$156,8,FALSE) -> HZS kraje Vysočina | F16: =VLOOKUP(A16,'[1]100m'!$A$7:$K$156,9,FALSE) -> 17.04 | G16: =VLOOKUP(A16,'[1]100m'!$A$7:$K$156,10,FALSE) -> 16.54 | H16: =VLOOKUP(A16,'[1]100m'!$A$7:$K$156,11,FALSE) -> 16.54
A17: 12 | B17: =VLOOKUP(A17,'[1]100m'!$A$7:$K$156,3,FALSE) -> 12 | C17: =VLOOKUP(A17,'[1]100m'!$A$7:$K$156,5,FALSE) -> 133 | D17: =VLOOKUP(A17,'[1]100m'!$A$7:$K$156,7,FALSE) -> Pavel PAVLÍČEK | E17: =VLOOKUP(A17,'[1]100m'!$A$7:$K$156,8,FALSE) -> HZS Plzeňského kraje | F17: =VLOOKUP(A17,'[1]100m'!$A$7:$K$156,9,FALSE) -> 16.93 | G17: =VLOOKUP(A17,'[1]100m'!$A$7:$K$156,10,FALSE) -> 16.56 | H17: =VLOOKUP(A17,'[1]100m'!$A$7:$K$156,11,FALSE) -> 16.56
... A123: 118 | B123: =VLOOKUP(A123,'[1]100m'!$A$7:$K$156,3,FALSE) -> 118 | C123: =VLOOKUP(A123,'[1]100m'!$A$7:$K$156,5,FALSE) -> 90 | D123: =VLOOKUP(A123,'[1]100m'!$A$7:$K$156,7,FALSE) -> Patrik ŽIŽKA | E123: =VLOOKUP(A123,'[1]100m'!$A$7:$K$156,8,FALSE) -> HZS Karlovarského kraje | F123: =VLOOKUP(A123,'[1]100m'!$A$7:$K$156,9,FALSE) -> 99.99 | G123: =VLOOKUP(A123,'[1]100m'!$A$7:$K$156,10,FALSE) -> 24.71 | H123: =VLOOKUP(A123,'[1]100m'!$A$7:$K$156,11,FALSE) -> 24.71

Sheet věžSF
E1: 61. mistrovství Sdružení hasičů Čech, Moravy a Slezska v požárním sportu
E2: 43. mistrovství České republiky v požárním sportu družstev HZS ČR
E3: České Budějovice 27. - 29. června 2014
E4: výstup do 4. podlaží cvičné věže
E5: muži
E6: semifinále a finále o absolutního mistra ČR
B8: I. semifinálový běh
B9: pořadí | C9: dráha | D9: závodník | E9: družstvo | F9: základní kolo | G9: semifinále
A10: 5 | B10: =RANK(I10,$I$10:$I$21,1) -> 6 | C10: 1 | D10: =VLOOKUP(A10,[1]věžproSF!$A$3:$M$22,3,FALSE) -> Jan HOPP | E10: =VLOOKUP(A10,[1]věžproSF!$A$3:$M$22,4,FALSE) -> HZS hlavního města Prahy | F10: =VLOOKUP(A10,[1]věžproSF!$A$3:$M$22,13,FALSE) -> 14.380147 | G10: 15.69 | I10: =G10+F10*0.0001 -> 15.691438
A11: 1 | B11: =RANK(I11,$I$10:$I$21,1) -> 5 | C11: 2 | D11: =VLOOKUP(A11,[1]věžproSF!$A$3:$M$22,3,FALSE) -> Karel RYL | E11: =VLOOKUP(A11,[1]věžproSF!$A$3:$M$22,4,FALSE) -> HZS Moravskoslezského kraje | F11: =VLOOKUP(A11,[1]věžproSF!$A$3:$M$22,13,FALSE) -> 13.630138 | G11: 15.31 | I11: =G11+F11*0.0001 -> 15.311363
A12: 4 | B12: =RANK(I12,$I$10:$I$21,1) -> 3 | C12: 3 | D12: =VLOOKUP(A12,[1]věžproSF!$A$3:$M$22,3,FALSE) -> Pavel MAŇAS | E12: =VLOOKUP(A12,[1]věžproSF!$A$3:$M$22,4,FALSE) -> HZS Moravskoslezského kraje | F12: =VLOOKUP(A12,[1]věžproSF!$A$3:$M$22,13,FALSE) -> 14.260143 | G12: 14.4 | I12: =G12+F12*0.0001 -> 14.401426
A13: 8 | B13: =RANK(I13,$I$10:$I$21,1) -> 8 | C13: 4 | D13: =VLOOKUP(A13,[1]věžproSF!$A$3:$M$22,3,FALSE) -> Jaroslav ŽITNÝ | E13: =VLOOKUP(A13,[1]věžproSF!$A$3:$M$22,4,FALSE) -> HZS Olomouckého kraje | F13: =VLOOKUP(A13,[1]věžproSF!$A$3:$M$22,13,FALSE) -> 14.630159 | G13: 99.99 | I13: =G13+F13*0.0001 -> 99.991463
B16: II. semifinálový běh
B17: pořadí | C17: dráha | D17: závodník | E17: družstvo | F17: základní kolo | G17: semifinále
A18: 6 | B18: =RANK(I18,$I$10:$I$21,1) -> 4 | C18: 1 | D18: =VLOOKUP(A18,[1]věžproSF!$A$3:$M$22,3,FALSE) -> Milan NETRVAL | E18: =VLOOKUP(A18,[1]věžproSF!$A$3:$M$22,4,FALSE) -> HZS Plzeňského kraje | F18: =VLOOKUP(A18,[1]věžproSF!$A$3:$M$22,13,FALSE) -> 14.450146 | G18: 14.51 | I18: =G18+F18*0.0001 -> 14.511445
A19: 2 | B19: =RANK(I19,$I$10:$I$21,1) -> 7 | C19: 2 | D19: =VLOOKUP(A19,[1]věžproSF!$A$3:$M$22,3,FALSE) -> Jakub PĚKNÝ | E19: =VLOOKUP(A19,[1]věžproSF!$A$3:$M$22,4,FALSE) -> HZS Ústeckého kraje | F19: =VLOOKUP(A19,[1]věžproSF!$A$3:$M$22,13,FALSE) -> 13.670151 | G19: 99.99 | I19: =G19+F19*0.0001 -> 99.991367
A20: 3 | B20: =RANK(I20,$I$10:$I$21,1) -> 1 | C20: 3 | D20: =VLOOKUP(A20,[1]věžproSF!$A$3:$M$22,3,FALSE) -> Kamil BEZRUČ | E20: =VLOOKUP(A20,[1]věžproSF!$A$3:$M$22,4,FALSE) -> HZS Moravskoslezského kraje | F20: =VLOOKUP(A20,[1]věžproSF!$A$3:$M$22,13,FALSE) -> 14.091 | G20: 14.05 | I20: =G20+F20*0.0001 -> 14.051409
A21: 7 | B21: =RANK(I21,$I$10:$I$21,1) -> 2 | C21: 4 | D21: =VLOOKUP(A21,[1]věžproSF!$A$3:$M$22,3,FALSE) -> Adam HRBÁČ | E21: =VLOOKUP(A21,[1]věžproSF!$A$3:$M$22,4,FALSE) -> HZS Moravskoslezského kraje | F21: =VLOOKUP(A21,[1]věžproSF!$A$3:$M$22,13,FALSE) -> 14.580149 | G21: 14.31 | I21: =G21+F21*0.0001 -> 14.311458
B24: Finálový běh
B25: pořadí | C25: dráha | D25: závodník | E25: družstvo | F25: semifinále | G25: finále
A26: 1 | B26: =RANK(I26,$I$26:$I$29,1) -> 1 | C26: 2 | D26: =VLOOKUP(A26,$B$10:$H$21,3,FALSE) -> Kamil BEZRUČ | E26: =VLOOKUP(A26,$B$10:$H$21,4,FALSE) -> HZS Moravskoslezského kraje | F26: =VLOOKUP(A26,$B$10:$G$21,6,FALSE) -> 14.05 | G26: 13.66 | I26: =G26+F26*0.0001 -> 13.661405
A27: 3 | B27: =RANK(I27,$I$26:$I$29,1) -> 2 | C27: 1 | D27: =VLOOKUP(A27,$B$10:$H$21,3,FALSE) -> Pavel MAŇAS | E27: =VLOOKUP(A27,$B$10:$H$21,4,FALSE) -> HZS Moravskoslezského kraje | F27: =VLOOKUP(A27,$B$10:$G$21,6,FALSE) -> 14.4 | G27: 14.01 | I27: =G27+F27*0.0001 -> 14.01144
A28: 2 | B28: =RANK(I28,$I$26:$I$29,1) -> 3 | C28: 3 | D28: =VLOOKUP(A28,$B$10:$H$21,3,FALSE) -> Adam HRBÁČ | E28: =VLOOKUP(A28,$B$10:$H$21,4,FALSE) -> HZS Moravskoslezského kraje | F28: =VLOOKUP(A28,$B$10:$G$21,6,FALSE) -> 14.31 | G28: 14.24 | I28: =G28+F28*0.0001 -> 14.241431
A29: 4 | B29: =RANK(I29,$I$26:$I$29,1) -> 4 | C29: 4 | D29: =VLOOKUP(A29,$B$10:$H$21,3,FALSE) -> Milan NETRVAL | E29: =VLOOKUP(A29,$B$10:$H$21,4,FALSE) -> HZS Plzeňského kraje | F29: =VLOOKUP(A29,$B$10:$G$21,6,FALSE) -> 14.51 | G29: 20.58 | I29: =G29+F29*0.0001 -> 20.581451

Sheet Vvěž
E1: 43. mistrovství České republiky v požárním sportu družstev HZS ČR
E2: České Budějovice 27. - 29. června 2014
E3: Výstup do 4. podlaží cvičné věže
A5: apoř | B5: pořadí | C5: st.č. | D5: závodník | E5: družstvo | F5: 1. pokus | G5: 2. pokus | H5: výsledný
A6: 1 | B6: =VLOOKUP(A6,[1]věž!$A$7:$K$156,3,FALSE) -> 1 | C6: =VLOOKUP(A6,[1]věž!$A$7:$K$156,5,FALSE) -> 65 | D6: =VLOOKUP(A6,[1]věž!$A$7:$K$156,7,FALSE) -> Karel RYL | E6: =VLOOKUP(A6,[1]věž!$A$7:$K$156,8,FALSE) -> HZS Moravskoslezského kraje | F6: =VLOOKUP(A6,[1]věž!$A$7:$K$156,9,FALSE) -> 13.83 | G6: =VLOOKUP(A6,[1]věž!$A$7:$K$156,10,FALSE) -> 13.63 | H6: =VLOOKUP(A6,[1]věž!$A$7:$K$156,11,FALSE) -> 13.63
A7: 2 | B7: =VLOOKUP(A7,[1]věž!$A$7:$K$156,3,FALSE) -> 2 | C7: =VLOOKUP(A7,[1]věž!$A$7:$K$156,5,FALSE) -> 75 | D7: =VLOOKUP(A7,[1]věž!$A$7:$K$156,7,FALSE) -> Jakub PĚKNÝ | E7: =VLOOKUP(A7,[1]věž!$A$7:$K$156,8,FALSE) -> HZS Ústeckého kraje | F7: =VLOOKUP(A7,[1]věž!$A$7:$K$156,9,FALSE) -> 15.09 | G7: =VLOOKUP(A7,[1]věž!$A$7:$K$156,10,FALSE) -> 13.67 | H7: =VLOOKUP(A7,[1]věž!$A$7:$K$156,11,FALSE) -> 13.67
A8: 3 | B8: =VLOOKUP(A8,[1]věž!$A$7:$K$156,3,FALSE) -> 3 | C8: =VLOOKUP(A8,[1]věž!$A$7:$K$156,5,FALSE) -> 61 | D8: =VLOOKUP(A8,[1]věž!$A$7:$K$156,7,FALSE) -> Kamil BEZRUČ | E8: =VLOOKUP(A8,[1]věž!$A$7:$K$156,8,FALSE) -> HZS Moravskoslezského kraje | F8: =VLOOKUP(A8,[1]věž!$A$7:$K$156,9,FALSE) -> 14.09 | G8: =VLOOKUP(A8,[1]věž!$A$7:$K$156,10,FALSE) -> 99.99 | H8: =VLOOKUP(A8,[1]věž!$A$7:$K$156,11,FALSE) -> 14.09
A9: 4 | B9: =VLOOKUP(A9,[1]věž!$A$7:$K$156,3,FALSE) -> 4 | C9: =VLOOKUP(A9,[1]věž!$A$7:$K$156,5,FALSE) -> 66 | D9: =VLOOKUP(A9,[1]věž!$A$7:$K$156,7,FALSE) -> Pavel MAŇAS | E9: =VLOOKUP(A9,[1]věž!$A$7:$K$156,8,FALSE) -> HZS Moravskoslezského kraje | F9: =VLOOKUP(A9,[1]věž!$A$7:$K$156,9,FALSE) -> 14.26 | G9: =VLOOKUP(A9,[1]věž!$A$7:$K$156,10,FALSE) -> 14.27 | H9: =VLOOKUP(A9,[1]věž!$A$7:$K$156,11,FALSE) -> 14.26
A10: 5 | B10: =VLOOKUP(A10,[1]věž!$A$7:$K$156,3,FALSE) -> 5 | C10: =VLOOKUP(A10,[1]věž!$A$7:$K$156,5,FALSE) -> 9 | D10: =VLOOKUP(A10,[1]věž!$A$7:$K$156,7,FALSE) -> Jan HOPP | E10: =VLOOKUP(A10,[1]věž!$A$7:$K$156,8,FALSE) -> HZS hlavního města Prahy | F10: =VLOOKUP(A10,[1]věž!$A$7:$K$156,9,FALSE) -> 14.38 | G10: =VLOOKUP(A10,[1]věž!$A$7:$K$156,10,FALSE) -> 14.73 | H10: =VLOOKUP(A10,[1]věž!$A$7:$K$156,11,FALSE) -> 14.38
A11: 6 | B11: =VLOOKUP(A11,[1]věž!$A$7:$K$156,3,FALSE) -> 6 | C11: =VLOOKUP(A11,[1]věž!$A$7:$K$156,5,FALSE) -> 138 | D11: =VLOOKUP(A11,[1]věž!$A$7:$K$156,7,FALSE) -> Milan NETRVAL | E11: =VLOOKUP(A11,[1]věž!$A$7:$K$156,8,FALSE) -> HZS Plzeňského kraje | F11: =VLOOKUP(A11,[1]věž!$A$7:$K$156,9,FALSE) -> 14.61 | G11: =VLOOKUP(A11,[1]věž!$A$7:$K$156,10,FALSE) -> 14.45 | H11: =VLOOKUP(A11,[1]věž!$A$7:$K$156,11,FALSE) -> 14.45
A12: 7 | B12: =VLOOKUP(A12,[1]věž!$A$7:$K$156,3,FALSE) -> 7 | C12: =VLOOKUP(A12,[1]věž!$A$7:$K$156,5,FALSE) -> 64 | D12: =VLOOKUP(A12,[1]věž!$A$7:$K$156,7,FALSE) -> Adam HRBÁČ | E12: =VLOOKUP(A12,[1]věž!$A$7:$K$156,8,FALSE) -> HZS Moravskoslezského kraje | F12: =VLOOKUP(A12,[1]věž!$A$7:$K$156,9,FALSE) -> 14.86 | G12: =VLOOKUP(A12,[1]věž!$A$7:$K$156,10,FALSE) -> 14.58 | H12: =VLOOKUP(A12,[1]věž!$A$7:$K$156,11,FALSE) -> 14.58
A13: 8 | B13: =VLOOKUP(A13,[1]věž!$A$7:$K$156,3,FALSE) -> 8 | C13: =VLOOKUP(A13,[1]věž!$A$7:$K$156,5,FALSE) -> 92 | D13: =VLOOKUP(A13,[1]věž!$A$7:$K$156,7,FALSE) -> Jaroslav ŽITNÝ | E13: =VLOOKUP(A13,[1]věž!$A$7:$K$156,8,FALSE) -> HZS Olomouckého kraje | F13: =VLOOKUP(A13,[1]věž!$A$7:$K$156,9,FALSE) -> 15.89 | G13: =VLOOKUP(A13,[1]věž!$A$7:$K$156,10,FALSE) -> 14.63 | H13: =VLOOKUP(A13,[1]věž!$A$7:$K$156,11,FALSE) -> 14.63
A14: 9 | B14: =VLOOKUP(A14,[1]věž!$A$7:$K$156,3,FALSE) -> 9 | C14: =VLOOKUP(A14,[1]věž!$A$7:$K$156,5,FALSE) -> 67 | D14: =VLOOKUP(A14,[1]věž!$A$7:$K$156,7,FALSE) -> Pavel KRPEC | E14: =VLOOKUP(A14,[1]věž!$A$7:$K$156,8,FALSE) -> HZS Moravskoslezského kraje | F14: =VLOOKUP(A14,[1]věž!$A$7:$K$156,9,FALSE) -> 19.13 | G14: =VLOOKUP(A14,[1]věž!$A$7:$K$156,10,FALSE) -> 14.63 | H14: =VLOOKUP(A14,[1]věž!$A$7:$K$156,11,FALSE) -> 14.63
A15: 10 | B15: =VLOOKUP(A15,[1]věž!$A$7:$K$156,3,FALSE) -> 10 | C15: =VLOOKUP(A15,[1]věž!$A$7:$K$156,5,FALSE) -> 118 | D15: =VLOOKUP(A15,[1]věž!$A$7:$K$156,7,FALSE) -> Václav NOVOTNÝ | E15: =VLOOKUP(A15,[1]věž!$A$7:$K$156,8,FALSE) -> HZS Královéhradeckého kraje | F15: =VLOOKUP(A15,[1]věž!$A$7:$K$156,9,FALSE) -> 15.82 | G15: =VLOOKUP(A15,[1]věž!$A$7:$K$156,10,FALSE) -> 14.66 | H15: =VLOOKUP(A15,[1]věž!$A$7:$K$156,11,FALSE) -> 14.66
A16: 11 | B16: =VLOOKUP(A16,[1]věž!$A$7:$K$156,3,FALSE) -> 11 | C16: =VLOOKUP(A16,[1]věž!$A$7:$K$156,5,FALSE) -> 57 | D16: =VLOOKUP(A16,[1]věž!$A$7:$K$156,7,FALSE) -> Martin STUCHLÍK | E16: =VLOOKUP(A16,[1]věž!$A$7:$K$156,8,FALSE) -> HZS kraje Vysočina | F16: =VLOOKUP(A16,[1]věž!$A$7:$K$156,9,FALSE) -> 14.67 | G16: =VLOOKUP(A16,[1]věž!$A$7:$K$156,10,FALSE) -> 99.99 | H16: =VLOOKUP(A16,[1]věž!$A$7:$K$156,11,FALSE) -> 14.67
A17: 12 | B17: =VLOOKUP(A17,[1]věž!$A$7:$K$156,3,FALSE) -> 12 | C17: =VLOOKUP(A17,[1]věž!$A$7:$K$156,5,FALSE) -> 62 | D17: =VLOOKUP(A17,[1]věž!$A$7:$K$156,7,FALSE) -> David DOPIRÁK | E17: =VLOOKUP(A17,[1]věž!$A$7:$K$156,8,FALSE) -> HZS Moravskoslezského kraje | F17: =VLOOKUP(A17,[1]věž!$A$7:$K$156,9,FALSE) -> 17.01 | G17: =VLOOKUP(A17,[1]věž!$A$7:$K$156,10,FALSE) -> 14.68 | H17: =VLOOKUP(A17,[1]věž!$A$7:$K$156,11,FALSE) -> 14.68
... A155: 150 | B155: =VLOOKUP(A155,[1]věž!$A$7:$K$156,3,FALSE) -> 120 | C155: =VLOOKUP(A155,[1]věž!$A$7:$K$156,5,FALSE) -> 148 | D155: =VLOOKUP(A155,[1]věž!$A$7:$K$156,7,FALSE) -> Martin HRÁDEK | E155: =VLOOKUP(A155,[1]věž!$A$7:$K$156,8,FALSE) -> HZS Jihočeského kraje | F155: =VLOOKUP(A155,[1]věž!$A$7:$K$156,9,FALSE) -> 99.99 | G155: =VLOOKUP(A155,[1]věž!$A$7:$K$156,10,FALSE) -> 99.99 | H155: =VLOOKUP(A155,[1]věž!$A$7:$K$156,11,FALSE) -> 99.99
