Workbook

Sheet 100m
A1: Výsledková listina 100m Memoriál plk. JUDR Josefa Blažka 6. 6. 2019
A2: Pořadí | C2: Start. č. | D2: Příjmení | E2: Jméno | F2: ÚO/SDH | G2: 1.pokus 100m | H2: 2.pokus 100m | I2: započ. čas 100m | J2: eliminace stejného pořadí
A3: 1 | C3: 34 | D3: Lidmila | E3: Martin | F3: Hradec Králové | G3: 16.02 | H3: 16 | I3: =IF(AND(G3=0,H3=0),"diskval.",IF(AND(G3>0,H3>0),MIN(G3:H3),IF(G3>0,G3,H3))) -> 16 | J3: =IF(G3+H3=0,1000,I3+((IF(G3>0,G3,100)+IF(H3>0,H3,100))/100000)) -> 16.00032
A4: 2 | C4: 4 | D4: Kligl | E4: Patrik | F4: Hradec Králové | G4: 16.22 | H4: 16.22 | I4: =IF(AND(G4=0,H4=0),"diskval.",IF(AND(G4>0,H4>0),MIN(G4:H4),IF(G4>0,G4,H4))) -> 16.22 | J4: =IF(G4+H4=0,1000,I4+((IF(G4>0,G4,100)+IF(H4>0,H4,100))/100000)) -> 16.220324
A5: 3 | C5: 39 | D5: Škodný | E5: Jiří | F5: Hradec Králové | G5: 24.66 | H5: 16.45 | I5: =IF(AND(G5=0,H5=0),"diskval.",IF(AND(G5>0,H5>0),MIN(G5:H5),IF(G5>0,G5,H5))) -> 16.45 | J5: =IF(G5+H5=0,1000,I5+((IF(G5>0,G5,100)+IF(H5>0,H5,100))/100000)) -> 16.450411
A6: 4 | C6: 33 | D6: Vyvial | E6: Jan | F6: Ostrava | G6: 16.45 | I6: =IF(AND(G6=0,H6=0),"diskval.",IF(AND(G6>0,H6>0),MIN(G6:H6),IF(G6>0,G6,H6))) -> 16.45 | J6: =IF(G6+H6=0,1000,I6+((IF(G6>0,G6,100)+IF(H6>0,H6,100))/100000)) -> 16.451165
A7: 4 | C7: 24 | D7: Snášel | E7: Patrik | F7: Domažlice | G7: 16.93 | I7: =IF(AND(G7=0,H7=0),"diskval.",IF(AND(G7>0,H7>0),MIN(G7:H7),IF(G7>0,G7,H7))) -> 16.93 | J7: =IF(G7+H7=0,1000,I7+((IF(G7>0,G7,100)+IF(H7>0,H7,100))/100000)) -> 16.931169
A8: 6 | C8: 12 | D8: Kasal | E8: Jakub | F8: Havlíčkův Brod | G8: 17.12 | I8: =IF(AND(G8=0,H8=0),"diskval.",IF(AND(G8>0,H8>0),MIN(G8:H8),IF(G8>0,G8,H8))) -> 17.12 | J8: =IF(G8+H8=0,1000,I8+((IF(G8>0,G8,100)+IF(H8>0,H8,100))/100000)) -> 17.121171
A9: 7 | C9: 25 | D9: Bělský | E9: Dominik | F9: Hradec Králové | G9: 17.31 | I9: =IF(AND(G9=0,H9=0),"diskval.",IF(AND(G9>0,H9>0),MIN(G9:H9),IF(G9>0,G9,H9))) -> 17.31 | J9: =IF(G9+H9=0,1000,I9+((IF(G9>0,G9,100)+IF(H9>0,H9,100))/100000)) -> 17.311173
A10: 8 | C10: 37 | D10: Netrval | E10: Milan | F10: Plzeň | G10: 17.38 | I10: =IF(AND(G10=0,H10=0),"diskval.",IF(AND(G10>0,H10>0),MIN(G10:H10),IF(G10>0,G10,H10))) -> 17.38 | J10: =IF(G10+H10=0,1000,I10+((IF(G10>0,G10,100)+IF(H10>0,H10,100))/100000)) -> 17.381174
A11: 9 | C11: 23 | D11: Peštál | E11: Marek | F11: Třebíč | G11: 17.39 | I11: =IF(AND(G11=0,H11=0),"diskval.",IF(AND(G11>0,H11>0),MIN(G11:H11),IF(G11>0,G11,H11))) -> 17.39 | J11: =IF(G11+H11=0,1000,I11+((IF(G11>0,G11,100)+IF(H11>0,H11,100))/100000)) -> 17.391174
A12: 10 | C12: 28 | D12: Hons | E12: Lukáš | F12: Třebíč | G12: 17.87 | H12: 17.64 | I12: =IF(AND(G12=0,H12=0),"diskval.",IF(AND(G12>0,H12>0),MIN(G12:H12),IF(G12>0,G12,H12))) -> 17.64 | J12: =IF(G12+H12=0,1000,I12+((IF(G12>0,G12,100)+IF(H12>0,H12,100))/100000)) -> 17.640355
A13: 11 | C13: 10 | D13: Knotek | E13: Radim | F13: JSDHO Nemyšl | H13: 17.79 | I13: =IF(AND(G13=0,H13=0),"diskval.",IF(AND(G13>0,H13>0),MIN(G13:H13),IF(G13>0,G13,H13))) -> 17.79 | J13: =IF(G13+H13=0,1000,I13+((IF(G13>0,G13,100)+IF(H13>0,H13,100))/100000)) -> 17.791178
A14: 12 | C14: 32 | D14: Daněk | E14: Tomáš | F14: Praha | H14: 17.89 | I14: =IF(AND(G14=0,H14=0),"diskval.",IF(AND(G14>0,H14>0),MIN(G14:H14),IF(G14>0,G14,H14))) -> 17.89 | J14: =IF(G14+H14=0,1000,I14+((IF(G14>0,G14,100)+IF(H14>0,H14,100))/100000)) -> 17.891179
A15: 13 | C15: 18 | D15: Hájek | E15: David | F15: České Budějovice | H15: 18.15 | I15: =IF(AND(G15=0,H15=0),"diskval.",IF(AND(G15>0,H15>0),MIN(G15:H15),IF(G15>0,G15,H15))) -> 18.15 | J15: =IF(G15+H15=0,1000,I15+((IF(G15>0,G15,100)+IF(H15>0,H15,100))/100000)) -> 18.151181
A16: 14 | C16: 14 | D16: Janko | E16: Vladimír | F16: Pelhřimov | G16: 18.56 | H16: 18.34 | I16: =IF(AND(G16=0,H16=0),"diskval.",IF(AND(G16>0,H16>0),MIN(G16:H16),IF(G16>0,G16,H16))) -> 18.34 | J16: =IF(G16+H16=0,1000,I16+((IF(G16>0,G16,100)+IF(H16>0,H16,100))/100000)) -> 18.340369
A17: 15 | C17: 13 | D17: Provazník | E17: Martin | F17: Plzeň | G17: 18.34 | I17: =IF(AND(G17=0,H17=0),"diskval.",IF(AND(G17>0,H17>0),MIN(G17:H17),IF(G17>0,G17,H17))) -> 18.34 | J17: =IF(G17+H17=0,1000,I17+((IF(G17>0,G17,100)+IF(H17>0,H17,100))/100000)) -> 18.341183
A18: 16 | C18: 22 | D18: Hůla | E18: Jan | F18: Plzeň | G18: 18.64 | H18: 18.44 | I18: =IF(AND(G18=0,H18=0),"diskval.",IF(AND(G18>0,H18>0),MIN(G18:H18),IF(G18>0,G18,H18))) -> 18.44 | J18: =IF(G18+H18=0,1000,I18+((IF(G18>0,G18,100)+IF(H18>0,H18,100))/100000)) -> 18.440371
A19: 17 | C19: 26 | D19: Senohrábek | E19: Bojislav | F19: Mladá Boleslav | G19: 18.56 | H19: 19.24 | I19: =IF(AND(G19=0,H19=0),"diskval.",IF(AND(G19>0,H19>0),MIN(G19:H19),IF(G19>0,G19,H19))) -> 18.56 | J19: =IF(G19+H19=0,1000,I19+((IF(G19>0,G19,100)+IF(H19>0,H19,100))/100000)) -> 18.560378
A20: 18 | C20: 31 | D20: Vašulka | E20: Petr | F20: Uheské Hradiště | G20: 23.55 | H20: 18.58 | I20: =IF(AND(G20=0,H20=0),"diskval.",IF(AND(G20>0,H20>0),MIN(G20:H20),IF(G20>0,G20,H20))) -> 18.58 | J20: =IF(G20+H20=0,1000,I20+((IF(G20>0,G20,100)+IF(H20>0,H20,100))/100000)) -> 18.580421
A21: 19 | C21: 3 | D21: Smutný | E21: Martin | F21: Plzeň | G21: 18.96 | H21: 18.61 | I21: =IF(AND(G21=0,H21=0),"diskval.",IF(AND(G21>0,H21>0),MIN(G21:H21),IF(G21>0,G21,H21))) -> 18.61 | J21: =IF(G21+H21=0,1000,I21+((IF(G21>0,G21,100)+IF(H21>0,H21,100))/100000)) -> 18.610376
A22: 20 | C22: 1 | D22: Tomášek | E22: Jan | F22: JSDHO Dobřany | G22: 18.64 | I22: =IF(AND(G22=0,H22=0),"diskval.",IF(AND(G22>0,H22>0),MIN(G22:H22),IF(G22>0,G22,H22))) -> 18.64 | J22: =IF(G22+H22=0,1000,I22+((IF(G22>0,G22,100)+IF(H22>0,H22,100))/100000)) -> 18.641186
A23: 21 | C23: 15 | D23: Hrdlička | E23: Jaroslav | F23: Domažlice | G23: 20.6 | H23: 18.76 | I23: =IF(AND(G23=0,H23=0),"diskval.",IF(AND(G23>0,H23>0),MIN(G23:H23),IF(G23>0,G23,H23))) -> 18.76 | J23: =IF(G23+H23=0,1000,I23+((IF(G23>0,G23,100)+IF(H23>0,H23,100))/100000)) -> 18.760394
A24: 22 | C24: 8 | D24: Klimeš | E24: Martin | F24: Havlíčkův Brod | G24: 18.9 | I24: =IF(AND(G24=0,H24=0),"diskval.",IF(AND(G24>0,H24>0),MIN(G24:H24),IF(G24>0,G24,H24))) -> 18.9 | J24: =IF(G24+H24=0,1000,I24+((IF(G24>0,G24,100)+IF(H24>0,H24,100))/100000)) -> 18.901189
A25: 23 | C25: 6 | D25: Nýdl | E25: Jakub | F25: JSDH Borovany | G25: 18.97 | H25: 22.84 | I25: =IF(AND(G25=0,H25=0),"diskval.",IF(AND(G25>0,H25>0),MIN(G25:H25),IF(G25>0,G25,H25))) -> 18.97 | J25: =IF(G25+H25=0,1000,I25+((IF(G25>0,G25,100)+IF(H25>0,H25,100))/100000)) -> 18.970418
A26: 24 | C26: 20 | D26: Joukl | E26: Jiří | F26: Žďár nad Sázavou | G26: 20.3 | H26: 19.04 | I26: =IF(AND(G26=0,H26=0),"diskval.",IF(AND(G26>0,H26>0),MIN(G26:H26),IF(G26>0,G26,H26))) -> 19.04 | J26: =IF(G26+H26=0,1000,I26+((IF(G26>0,G26,100)+IF(H26>0,H26,100))/100000)) -> 19.040393
A27: 25 | C27: 19 | D27: Tomášek | E27: Martin | F27: České Budějovice | G27: 19.22 | I27: =IF(AND(G27=0,H27=0),"diskval.",IF(AND(G27>0,H27>0),MIN(G27:H27),IF(G27>0,G27,H27))) -> 19.22 | J27: =IF(G27+H27=0,1000,I27+((IF(G27>0,G27,100)+IF(H27>0,H27,100))/100000)) -> 19.221192
A28: 26 | C28: 27 | D28: Vaněk | E28: Václav | F28: Jindřichův Hradec | G28: 22.5 | H28: 19.66 | I28: =IF(AND(G28=0,H28=0),"diskval.",IF(AND(G28>0,H28>0),MIN(G28:H28),IF(G28>0,G28,H28))) -> 19.66 | J28: =IF(G28+H28=0,1000,I28+((IF(G28>0,G28,100)+IF(H28>0,H28,100))/100000)) -> 19.660422
A29: 27 | C29: 11 | D29: Vyhnálek | E29: Jan | F29: Kutná Hora | G29: 19.98 | I29: =IF(AND(G29=0,H29=0),"diskval.",IF(AND(G29>0,H29>0),MIN(G29:H29),IF(G29>0,G29,H29))) -> 19.98 | J29: =IF(G29+H29=0,1000,I29+((IF(G29>0,G29,100)+IF(H29>0,H29,100))/100000)) -> 19.9812
A30: 28 | C30: 7 | D30: Roháč | E30: Martin | F30: Plzeň | G30: 20.03 | H30: 20.25 | I30: =IF(AND(G30=0,H30=0),"diskval.",IF(AND(G30>0,H30>0),MIN(G30:H30),IF(G30>0,G30,H30))) -> 20.03 | J30: =IF(G30+H30=0,1000,I30+((IF(G30>0,G30,100)+IF(H30>0,H30,100))/100000)) -> 20.030403
A31: 29 | C31: 9 | D31: Píbal | E31: Jiří | F31: Písek | G31: 20.09 | H31: 20.46 | I31: =IF(AND(G31=0,H31=0),"diskval.",IF(AND(G31>0,H31>0),MIN(G31:H31),IF(G31>0,G31,H31))) -> 20.09 | J31: =IF(G31+H31=0,1000,I31+((IF(G31>0,G31,100)+IF(H31>0,H31,100))/100000)) -> 20.090405
A32: 30 | C32: 38 | D32: Dopirák | E32: David | F32: Domažlice | G32: 21.06 | I32: =IF(AND(G32=0,H32=0),"diskval.",IF(AND(G32>0,H32>0),MIN(G32:H32),IF(G32>0,G32,H32))) -> 21.06 | J32: =IF(G32+H32=0,1000,I32+((IF(G32>0,G32,100)+IF(H32>0,H32,100))/100000)) -> 21.061211
A33: 31 | C33: 17 | D33: Filip | E33: Petr | F33: Jindřichův Hradec | G33: 21.87 | I33: =IF(AND(G33=0,H33=0),"diskval.",IF(AND(G33>0,H33>0),MIN(G33:H33),IF(G33>0,G33,H33))) -> 21.87 | J33: =IF(G33+H33=0,1000,I33+((IF(G33>0,G33,100)+IF(H33>0,H33,100))/100000)) -> 21.871219
A34: 32 | C34: 2 | D34: Ryšavý | E34: Vilém | F34: Pelhřimov | I34: =IF(AND(G34=0,H34=0),"diskval.",IF(AND(G34>0,H34>0),MIN(G34:H34),IF(G34>0,G34,H34))) -> diskval. | J34: =IF(G34+H34=0,1000,I34+((IF(G34>0,G34,100)+IF(H34>0,H34,100))/100000)) -> 1000
A35: 33 | C35: 5 | D35: Tůma | E35: Milan | F35: Kutná Hora | I35: =IF(AND(G35=0,H35=0),"diskval.",IF(AND(G35>0,H35>0),MIN(G35:H35),IF(G35>0,G35,H35))) -> diskval. | J35: =IF(G35+H35=0,1000,I35+((IF(G35>0,G35,100)+IF(H35>0,H35,100))/100000)) -> 1000
A36: 34 | B36: 33 | C36: 16 | D36: Klenka | E36: Vojtěch | F36: Hradec Králové | I36: =IF(AND(G36=0,H36=0),"diskval.",IF(AND(G36>0,H36>0),MIN(G36:H36),IF(G36>0,G36,H36))) -> diskval. | J36: =IF(G36+H36=0,1000,I36+((IF(G36>0,G36,100)+IF(H36>0,H36,100))/100000)) -> 1000
A37: 35 | C37: 21 | D37: Divoš | E37: Václav | F37: Hradec Králové | I37: =IF(AND(G37=0,H37=0),"diskval.",IF(AND(G37>0,H37>0),MIN(G37:H37),IF(G37>0,G37,H37))) -> diskval. | J37: =IF(G37+H37=0,1000,I37+((IF(G37>0,G37,100)+IF(H37>0,H37,100))/100000)) -> 1000
A38: 36 | C38: 29 | D38: Hradil | E38: Zbyněk | F38: Olomouc | I38: =IF(AND(G38=0,H38=0),"diskval.",IF(AND(G38>0,H38>0),MIN(G38:H38),IF(G38>0,G38,H38))) -> diskval. | J38: =IF(G38+H38=0,1000,I38+((IF(G38>0,G38,100)+IF(H38>0,H38,100))/100000)) -> 1000
A39: 37 | C39: 30 | D39: Svačina | E39: Richard | F39: Ostrava | I39: =IF(AND(G39=0,H39=0),"diskval.",IF(AND(G39>0,H39>0),MIN(G39:H39),IF(G39>0,G39,H39))) -> diskval. | J39: =IF(G39+H39=0,1000,I39+((IF(G39>0,G39,100)+IF(H39>0,H39,100))/100000)) -> 1000
A40: 38 | C40: 35 | D40: Krpec | E40: Pavel | F40: Ostrava | I40: =IF(AND(G40=0,H40=0),"diskval.",IF(AND(G40>0,H40>0),MIN(G40:H40),IF(G40>0,G40,H40))) -> diskval. | J40: =IF(G40+H40=0,1000,I40+((IF(G40>0,G40,100)+IF(H40>0,H40,100))/100000)) -> 1000
A41: 39 | C41: 36 | D41: Klvaňa | E41: Daniel | F41: Ostrava | I41: =IF(AND(G41=0,H41=0),"diskval.",IF(AND(G41>0,H41>0),MIN(G41:H41),IF(G41>0,G41,H41))) -> diskval. | J41: =IF(G41+H41=0,1000,I41+((IF(G41>0,G41,100)+IF(H41>0,H41,100))/100000)) -> 1000
A42: 40 | C42: 40 | I42: =IF(AND(G42=0,H42=0),"diskval.",IF(AND(G42>0,H42>0),MIN(G42:H42),IF(G42>0,G42,H42))) -> diskval. | J42: =IF(G42+H42=0,1000,I42+((IF(G42>0,G42,100)+IF(H42>0,H42,100))/100000)) -> 1000
A43: 41 | C43: 41 | I43: =IF(AND(G43=0,H43=0),"diskval.",IF(AND(G43>0,H43>0),MIN(G43:H43),IF(G43>0,G43,H43))) -> diskval. | J43: =IF(G43+H43=0,1000,I43+((IF(G43>0,G43,100)+IF(H43>0,H43,100))/100000)) -> 1000
A44: 42 | C44: 42 | I44: =IF(AND(G44=0,H44=0),"diskval.",IF(AND(G44>0,H44>0),MIN(G44:H44),IF(G44>0,G44,H44))) -> diskval. | J44: =IF(G44+H44=0,1000,I44+((IF(G44>0,G44,100)+IF(H44>0,H44,100))/100000)) -> 1000
A45: 43 | C45: 43 | I45: =IF(AND(G45=0,H45=0),"diskval.",IF(AND(G45>0,H45>0),MIN(G45:H45),IF(G45>0,G45,H45))) -> diskval. | J45: =IF(G45+H45=0,1000,I45+((IF(G45>0,G45,100)+IF(H45>0,H45,100))/100000)) -> 1000
A46: 44 | C46: 44 | I46: =IF(AND(G46=0,H46=0),"diskval.",IF(AND(G46>0,H46>0),MIN(G46:H46),IF(G46>0,G46,H46))) -> diskval. | J46: =IF(G46+H46=0,1000,I46+((IF(G46>0,G46,100)+IF(H46>0,H46,100))/100000)) -> 1000
A47: 45 | C47: 45 | I47: =IF(AND(G47=0,H47=0),"diskval.",IF(AND(G47>0,H47>0),MIN(G47:H47),IF(G47>0,G47,H47))) -> diskval. | J47: =IF(G47+H47=0,1000,I47+((IF(G47>0,G47,100)+IF(H47>0,H47,100))/100000)) -> 1000 | L47: 17.59
A48: 46 | C48: 46 | I48: =IF(AND(G48=0,H48=0),"diskval.",IF(AND(G48>0,H48>0),MIN(G48:H48),IF(G48>0,G48,H48))) -> diskval. | J48: =IF(G48+H48=0,1000,I48+((IF(G48>0,G48,100)+IF(H48>0,H48,100))/100000)) -> 1000
A49: 47 | C49: 47 | I49: =IF(AND(G49=0,H49=0),"diskval.",IF(AND(G49>0,H49>0),MIN(G49:H49),IF(G49>0,G49,H49))) -> diskval. | J49: =IF(G49+H49=0,1000,I49+((IF(G49>0,G49,100)+IF(H49>0,H49,100))/100000)) -> 1000
A50: 48 | C50: 48 | I50: =IF(AND(G50=0,H50=0),"diskval.",IF(AND(G50>0,H50>0),MIN(G50:H50),IF(G50>0,G50,H50))) -> diskval. | J50: =IF(G50+H50=0,1000,I50+((IF(G50>0,G50,100)+IF(H50>0,H50,100))/100000)) -> 1000
A51: 49 | C51: 49 | I51: =IF(AND(G51=0,H51=0),"diskval.",IF(AND(G51>0,H51>0),MIN(G51:H51),IF(G51>0,G51,H51))) -> diskval. | J51: =IF(G51+H51=0,1000,I51+((IF(G51>0,G51,100)+IF(H51>0,H51,100))/100000)) -> 1000 | K51: 18.97
A52: 50 | C52: 50 | I52: =IF(AND(G52=0,H52=0),"diskval.",IF(AND(G52>0,H52>0),MIN(G52:H52),IF(G52>0,G52,H52))) -> diskval. | J52: =IF(G52+H52=0,1000,I52+((IF(G52>0,G52,100)+IF(H52>0,H52,100))/100000)) -> 1000
A53: 51 | C53: 51 | I53: =IF(AND(G53=0,H53=0),"diskval.",IF(AND(G53>0,H53>0),MIN(G53:H53),IF(G53>0,G53,H53))) -> diskval. | J53: =IF(G53+H53=0,1000,I53+((IF(G53>0,G53,100)+IF(H53>0,H53,100))/100000)) -> 1000
A54: 52 | C54: 52 | I54: =IF(AND(G54=0,H54=0),"diskval.",IF(AND(G54>0,H54>0),MIN(G54:H54),IF(G54>0,G54,H54))) -> diskval. | J54: =IF(G54+H54=0,1000,I54+((IF(G54>0,G54,100)+IF(H54>0,H54,100))/100000)) -> 1000
A55: 53 | C55: 53 | I55: =IF(AND(G55=0,H55=0),"diskval.",IF(AND(G55>0,H55>0),MIN(G55:H55),IF(G55>0,G55,H55))) -> diskval. | J55: =IF(G55+H55=0,1000,I55+((IF(G55>0,G55,100)+IF(H55>0,H55,100))/100000)) -> 1000
A56: 54 | C56: 54 | I56: =IF(AND(G56=0,H56=0),"diskval.",IF(AND(G56>0,H56>0),MIN(G56:H56),IF(G56>0,G56,H56))) -> diskval. | J56: =IF(G56+H56=0,1000,I56+((IF(G56>0,G56,100)+IF(H56>0,H56,100))/100000)) -> 1000
A57: 55 | C57: 55 | I57: =IF(AND(G57=0,H57=0),"diskval.",IF(AND(G57>0,H57>0),MIN(G57:H57),IF(G57>0,G57,H57))) -> diskval. | J57: =IF(G57+H57=0,1000,I57+((IF(G57>0,G57,100)+IF(H57>0,H57,100))/100000)) -> 1000
A58: 56 | C58: 56 | I58: =IF(AND(G58=0,H58=0),"diskval.",IF(AND(G58>0,H58>0),MIN(G58:H58),IF(G58>0,G58,H58))) -> diskval. | J58: =IF(G58+H58=0,1000,I58+((IF(G58>0,G58,100)+IF(H58>0,H58,100))/100000)) -> 1000
A59: 57 | C59: 57 | I59: =IF(AND(G59=0,H59=0),"diskval.",IF(AND(G59>0,H59>0),MIN(G59:H59),IF(G59>0,G59,H59))) -> diskval. | J59: =IF(G59+H59=0,1000,I59+((IF(G59>0,G59,100)+IF(H59>0,H59,100))/100000)) -> 1000
A60: 58 | C60: 58 | I60: =IF(AND(G60=0,H60=0),"diskval.",IF(AND(G60>0,H60>0),MIN(G60:H60),IF(G60>0,G60,H60))) -> diskval. | J60: =IF(G60+H60=0,1000,I60+((IF(G60>0,G60,100)+IF(H60>0,H60,100))/100000)) -> 1000
A61: 59 | C61: 59 | I61: =IF(AND(G61=0,H61=0),"diskval.",IF(AND(G61>0,H61>0),MIN(G61:H61),IF(G61>0,G61,H61))) -> diskval. | J61: =IF(G61+H61=0,1000,I61+((IF(G61>0,G61,100)+IF(H61>0,H61,100))/100000)) -> 1000
A62: 60 | C62: 60 | I62: =IF(AND(G62=0,H62=0),"diskval.",IF(AND(G62>0,H62>0),MIN(G62:H62),IF(G62>0,G62,H62))) -> diskval. | J62: =IF(G62+H62=0,1000,I62+((IF(G62>0,G62,100)+IF(H62>0,H62,100))/100000)) -> 1000
A63: 61 | C63: 61 | I63: =IF(AND(G63=0,H63=0),"diskval.",IF(AND(G63>0,H63>0),MIN(G63:H63),IF(G63>0,G63,H63))) -> diskval. | J63: =IF(G63+H63=0,1000,I63+((IF(G63>0,G63,100)+IF(H63>0,H63,100))/100000)) -> 1000 | L63: 16.45
A64: 62 | C64: 62 | I64: =IF(AND(G64=0,H64=0),"diskval.",IF(AND(G64>0,H64>0),MIN(G64:H64),IF(G64>0,G64,H64))) -> diskval. | J64: =IF(G64+H64=0,1000,I64+((IF(G64>0,G64,100)+IF(H64>0,H64,100))/100000)) -> 1000 | L64: 16.7
A65: 63 | C65: 63 | I65: =IF(AND(G65=0,H65=0),"diskval.",IF(AND(G65>0,H65>0),MIN(G65:H65),IF(G65>0,G65,H65))) -> diskval. | J65: =IF(G65+H65=0,1000,I65+((IF(G65>0,G65,100)+IF(H65>0,H65,100))/100000)) -> 1000
A66: 64 | C66: 64 | I66: =IF(AND(G66=0,H66=0),"diskval.",IF(AND(G66>0,H66>0),MIN(G66:H66),IF(G66>0,G66,H66))) -> diskval. | J66: =IF(G66+H66=0,1000,I66+((IF(G66>0,G66,100)+IF(H66>0,H66,100))/100000)) -> 1000
A67: 65 | C67: 65 | I67: =IF(AND(G67=0,H67=0),"diskval.",IF(AND(G67>0,H67>0),MIN(G67:H67),IF(G67>0,G67,H67))) -> diskval. | J67: =IF(G67+H67=0,1000,I67+((IF(G67>0,G67,100)+IF(H67>0,H67,100))/100000)) -> 1000 | L67: 18.47
A68: 66 | C68: 66 | I68: =IF(AND(G68=0,H68=0),"diskval.",IF(AND(G68>0,H68>0),MIN(G68:H68),IF(G68>0,G68,H68))) -> diskval. | J68: =IF(G68+H68=0,1000,I68+((IF(G68>0,G68,100)+IF(H68>0,H68,100))/100000)) -> 1000
A69: 67 | C69: 67 | I69: =IF(AND(G69=0,H69=0),"diskval.",IF(AND(G69>0,H69>0),MIN(G69:H69),IF(G69>0,G69,H69))) -> diskval. | J69: =IF(G69+H69=0,1000,I69+((IF(G69>0,G69,100)+IF(H69>0,H69,100))/100000)) -> 1000 | K69: 16.88
A70: 68 | I70: =IF(AND(G70=0,H70=0),"diskval.",IF(AND(G70>0,H70>0),MIN(G70:H70),IF(G70>0,G70,H70))) -> diskval. | J70: =IF(G70+H70=0,1000,I70+((IF(G70>0,G70,100)+IF(H70>0,H70,100))/100000)) -> 1000
A71: 69 | I71: =IF(AND(G71=0,H71=0),"diskval.",IF(AND(G71>0,H71>0),MIN(G71:H71),IF(G71>0,G71,H71))) -> diskval. | J71: =IF(G71+H71=0,1000,I71+((IF(G71>0,G71,100)+IF(H71>0,H71,100))/100000)) -> 1000 | K71: 16.61 | L71: 16.33
A72: 70 | I72: =IF(AND(G72=0,H72=0),"diskval.",IF(AND(G72>0,H72>0),MIN(G72:H72),IF(G72>0,G72,H72))) -> diskval. | J72: =IF(G72+H72=0,1000,I72+((IF(G72>0,G72,100)+IF(H72>0,H72,100))/100000)) -> 1000
A73: 71 | I73: =IF(AND(G73=0,H73=0),"diskval.",IF(AND(G73>0,H73>0),MIN(G73:H73),IF(G73>0,G73,H73))) -> diskval. | J73: =IF(G73+H73=0,1000,I73+((IF(G73>0,G73,100)+IF(H73>0,H73,100))/100000)) -> 1000
A74: 72 | I74: =IF(AND(G74=0,H74=0),"diskval.",IF(AND(G74>0,H74>0),MIN(G74:H74),IF(G74>0,G74,H74))) -> diskval. | J74: =IF(G74+H74=0,1000,I74+((IF(G74>0,G74,100)+IF(H74>0,H74,100))/100000)) -> 1000
A75: 73 | I75: =IF(AND(G75=0,H75=0),"diskval.",IF(AND(G75>0,H75>0),MIN(G75:H75),IF(G75>0,G75,H75))) -> diskval. | J75: =IF(G75+H75=0,1000,I75+((IF(G75>0,G75,100)+IF(H75>0,H75,100))/100000)) -> 1000
A76: 74 | I76: =IF(AND(G76=0,H76=0),"diskval.",IF(AND(G76>0,H76>0),MIN(G76:H76),IF(G76>0,G76,H76))) -> diskval. | J76: =IF(G76+H76=0,1000,I76+((IF(G76>0,G76,100)+IF(H76>0,H76,100))/100000)) -> 1000 | L76: 18.87
A77: 75 | I77: =IF(AND(G77=0,H77=0),"diskval.",IF(AND(G77>0,H77>0),MIN(G77:H77),IF(G77>0,G77,H77))) -> diskval. | J77: =IF(G77+H77=0,1000,I77+((IF(G77>0,G77,100)+IF(H77>0,H77,100))/100000)) -> 1000
A78: 76 | I78: =IF(AND(G78=0,H78=0),"diskval.",IF(AND(G78>0,H78>0),MIN(G78:H78),IF(G78>0,G78,H78))) -> diskval. | J78: =IF(G78+H78=0,1000,I78+((IF(G78>0,G78,100)+IF(H78>0,H78,100))/100000)) -> 1000
A79: 77 | I79: =IF(AND(G79=0,H79=0),"diskval.",IF(AND(G79>0,H79>0),MIN(G79:H79),IF(G79>0,G79,H79))) -> diskval. | J79: =IF(G79+H79=0,1000,I79+((IF(G79>0,G79,100)+IF(H79>0,H79,100))/100000)) -> 1000
A80: 78 | I80: =IF(AND(G80=0,H80=0),"diskval.",IF(AND(G80>0,H80>0),MIN(G80:H80),IF(G80>0,G80,H80))) -> diskval. | J80: =IF(G80+H80=0,1000,I80+((IF(G80>0,G80,100)+IF(H80>0,H80,100))/100000)) -> 1000
A81: 79 | I81: =IF(AND(G81=0,H81=0),"diskval.",IF(AND(G81>0,H81>0),MIN(G81:H81),IF(G81>0,G81,H81))) -> diskval. | J81: =IF(G81+H81=0,1000,I81+((IF(G81>0,G81,100)+IF(H81>0,H81,100))/100000)) -> 1000
A82: 80 | I82: =IF(AND(G82=0,H82=0),"diskval.",IF(AND(G82>0,H82>0),MIN(G82:H82),IF(G82>0,G82,H82))) -> diskval. | J82: =IF(G82+H82=0,1000,I82+((IF(G82>0,G82,100)+IF(H82>0,H82,100))/100000)) -> 1000
A83: 81 | I83: =IF(AND(G83=0,H83=0),"diskval.",IF(AND(G83>0,H83>0),MIN(G83:H83),IF(G83>0,G83,H83))) -> diskval. | J83: =IF(G83+H83=0,1000,I83+((IF(G83>0,G83,100)+IF(H83>0,H83,100))/100000)) -> 1000
A84: 82 | I84: =IF(AND(G84=0,H84=0),"diskval.",IF(AND(G84>0,H84>0),MIN(G84:H84),IF(G84>0,G84,H84))) -> diskval. | J84: =IF(G84+H84=0,1000,I84+((IF(G84>0,G84,100)+IF(H84>0,H84,100))/100000)) -> 1000
A85: 83 | I85: =IF(AND(G85=0,H85=0),"diskval.",IF(AND(G85>0,H85>0),MIN(G85:H85),IF(G85>0,G85,H85))) -> diskval. | J85: =IF(G85+H85=0,1000,I85+((IF(G85>0,G85,100)+IF(H85>0,H85,100))/100000)) -> 1000
A86: 84 | C86: 84 | I86: =IF(AND(G86=0,H86=0),"diskval.",IF(AND(G86>0,H86>0),MIN(G86:H86),IF(G86>0,G86,H86))) -> diskval. | J86: =IF(G86+H86=0,1000,I86+((IF(G86>0,G86,100)+IF(H86>0,H86,100))/100000)) -> 1000
A87: 85 | C87: 85 | I87: =IF(AND(G87=0,H87=0),"diskval.",IF(AND(G87>0,H87>0),MIN(G87:H87),IF(G87>0,G87,H87))) -> diskval. | J87: =IF(G87+H87=0,1000,I87+((IF(G87>0,G87,100)+IF(H87>0,H87,100))/100000)) -> 1000 | K87: 27.71
A88: 86 | C88: 86 | I88: =IF(AND(G88=0,H88=0),"diskval.",IF(AND(G88>0,H88>0),MIN(G88:H88),IF(G88>0,G88,H88))) -> diskval. | J88: =IF(G88+H88=0,1000,I88+((IF(G88>0,G88,100)+IF(H88>0,H88,100))/100000)) -> 1000
A89: 87 | C89: 87 | I89: =IF(AND(G89=0,H89=0),"diskval.",IF(AND(G89>0,H89>0),MIN(G89:H89),IF(G89>0,G89,H89))) -> diskval. | J89: =IF(G89+H89=0,1000,I89+((IF(G89>0,G89,100)+IF(H89>0,H89,100))/100000)) -> 1000
A90: 88 | C90: 88 | I90: =IF(AND(G90=0,H90=0),"diskval.",IF(AND(G90>0,H90>0),MIN(G90:H90),IF(G90>0,G90,H90))) -> diskval. | J90: =IF(G90+H90=0,1000,I90+((IF(G90>0,G90,100)+IF(H90>0,H90,100))/100000)) -> 1000
A91: 89 | C91: 89 | I91: =IF(AND(G91=0,H91=0),"diskval.",IF(AND(G91>0,H91>0),MIN(G91:H91),IF(G91>0,G91,H91))) -> diskval. | J91: =IF(G91+H91=0,1000,I91+((IF(G91>0,G91,100)+IF(H91>0,H91,100))/100000)) -> 1000 | L91: 17.42
A92: 90 | C92: 90 | I92: =IF(AND(G92=0,H92=0),"diskval.",IF(AND(G92>0,H92>0),MIN(G92:H92),IF(G92>0,G92,H92))) -> diskval. | J92: =IF(G92+H92=0,1000,I92+((IF(G92>0,G92,100)+IF(H92>0,H92,100))/100000)) -> 1000
A93: 91 | C93: 91 | I93: =IF(AND(G93=0,H93=0),"diskval.",IF(AND(G93>0,H93>0),MIN(G93:H93),IF(G93>0,G93,H93))) -> diskval. | J93: =IF(G93+H93=0,1000,I93+((IF(G93>0,G93,100)+IF(H93>0,H93,100))/100000)) -> 1000
A94: 92 | C94: 92 | I94: =IF(AND(G94=0,H94=0),"diskval.",IF(AND(G94>0,H94>0),MIN(G94:H94),IF(G94>0,G94,H94))) -> diskval. | J94: =IF(G94+H94=0,1000,I94+((IF(G94>0,G94,100)+IF(H94>0,H94,100))/100000)) -> 1000
A95: 93 | C95: 93 | I95: =IF(AND(G95=0,H95=0),"diskval.",IF(AND(G95>0,H95>0),MIN(G95:H95),IF(G95>0,G95,H95))) -> diskval. | J95: =IF(G95+H95=0,1000,I95+((IF(G95>0,G95,100)+IF(H95>0,H95,100))/100000)) -> 1000
A96: 94 | C96: 94 | I96: =IF(AND(G96=0,H96=0),"diskval.",IF(AND(G96>0,H96>0),MIN(G96:H96),IF(G96>0,G96,H96))) -> diskval. | J96: =IF(G96+H96=0,1000,I96+((IF(G96>0,G96,100)+IF(H96>0,H96,100))/100000)) -> 1000
A97: 95 | C97: 95 | I97: =IF(AND(G97=0,H97=0),"diskval.",IF(AND(G97>0,H97>0),MIN(G97:H97),IF(G97>0,G97,H97))) -> diskval. | J97: =IF(G97+H97=0,1000,I97+((IF(G97>0,G97,100)+IF(H97>0,H97,100))/100000)) -> 1000
A98: 96 | C98: 96 | I98: =IF(AND(G98=0,H98=0),"diskval.",IF(AND(G98>0,H98>0),MIN(G98:H98),IF(G98>0,G98,H98))) -> diskval. | J98: =IF(G98+H98=0,1000,I98+((IF(G98>0,G98,100)+IF(H98>0,H98,100))/100000)) -> 1000
A99: 97 | C99: 97 | I99: =IF(AND(G99=0,H99=0),"diskval.",IF(AND(G99>0,H99>0),MIN(G99:H99),IF(G99>0,G99,H99))) -> diskval. | J99: =IF(G99+H99=0,1000,I99+((IF(G99>0,G99,100)+IF(H99>0,H99,100))/100000)) -> 1000
A100: 98 | C100: 98 | I100: =IF(AND(G100=0,H100=0),"diskval.",IF(AND(G100>0,H100>0),MIN(G100:H100),IF(G100>0,G100,H100))) -> diskval. | J100: =IF(G100+H100=0,1000,I100+((IF(G100>0,G100,100)+IF(H100>0,H100,100))/100000)) -> 1000
...

Sheet Startovní listina 100m 1.p
A2: Memoriál plk. JUDr. Josefa Blažka 22.6.2021
A3: Rozběh č. | B3: Start. č. | C3: Dráha | D3: Příjmení | E3: Jméno | F3: kraj | G3: čas
A4: 1 | B4: 1 | C4: 1 | D4: Tomášek | E4: Jan | F4: JSDHO Dobřany
B5: 2 | C5: 2 | D5: Ryšavý | E5: Vilém | F5: Pelhřimov | G5: jen věž
B6: 3 | C6: 3 | D6: Smutný | E6: Martin | F6: Plzeň
A7: =A4+1 -> 2 | B7: 4 | C7: 1 | D7: Kligl | E7: Patrik | F7: Hradec Králové
B8: 5 | C8: 2 | D8: Tůma | E8: Milan | F8: Kutná Hora | G8: jen věž
B9: 6 | C9: 3 | D9: Nýdl | E9: Jakub | F9: JSDH Borovany | G9: jen 100 m
A10: =A7+1 -> 3 | B10: 7 | C10: 1 | D10: Roháč | E10: Martin | F10: Plzeň
B11: 8 | C11: 2 | D11: Klimeš | E11: Martin | F11: Havlíčkův Brod
B12: 9 | C12: 3 | D12: Píbal | E12: Jiří | F12: Písek
A13: =A10+1 -> 4 | B13: 10 | C13: 1 | D13: Knotek | E13: Radim | F13: JSDHO Nemyšl | G13: jen 100 m
B14: 11 | C14: 2 | D14: Vyhnálek | E14: Jan | F14: Kutná Hora
B15: 12 | C15: 3 | D15: Kasal | E15: Jakub | F15: Havlíčkův Brod
A16: =A13+1 -> 5 | B16: 13 | C16: 1 | D16: Provazník | E16: Martin | F16: Plzeň
B17: 14 | C17: 2 | D17: Janko | E17: Vladimír | F17: Pelhřimov
B18: 15 | C18: 3 | D18: Hrdlička | E18: Jaroslav | F18: Domažlice
A19: =A16+1 -> 6 | B19: 16 | C19: 1 | D19: Klenka | E19: Vojtěch | F19: Hradec Králové
B20: 17 | C20: 2 | D20: Filip | E20: Petr | F20: Jindřichův Hradec
B21: 18 | C21: 3 | D21: Hájek | E21: David | F21: České Budějovice
A22: =A19+1 -> 7 | B22: 19 | C22: 1 | D22: Tomášek | E22: Martin | F22: České Budějovice | G22: jen 100 m
B23: 20 | C23: 2 | D23: Joukl | E23: Jiří | F23: Žďár nad Sázavou
B24: 21 | C24: 3 | D24: Divoš | E24: Václav | F24: Hradec Králové
A25: =A22+1 -> 8 | B25: 22 | C25: 1 | D25: Hůla | E25: Jan | F25: Plzeň
B26: 23 | C26: 2 | D26: Peštál | E26: Marek | F26: Třebíč
B27: 24 | C27: 3 | D27: Snášel | E27: Patrik | F27: Domažlice
A28: =A25+1 -> 9 | B28: 25 | C28: 1 | D28: Bělský | E28: Dominik | F28: Hradec Králové
B29: 26 | C29: 2 | D29: Senohrábek | E29: Bojislav | F29: Mladá Boleslav | G29: jen 100 m
B30: 27 | C30: 3 | D30: Vaněk | E30: Václav | F30: Jindřichův Hradec
A31: =A28+1 -> 10 | B31: 28 | C31: 1 | D31: Hons | E31: Lukáš | F31: Třebíč
B32: 29 | C32: 2 | D32: Hradil | E32: Zbyněk | F32: Olomouc | G32: jen věž
B33: 30 | C33: 3 | D33: Svačina | E33: Richard | F33: Ostrava
A34: =A31+1 -> 11 | B34: 31 | C34: 1 | D34: Vašulka | E34: Petr | F34: Uheské Hradiště
B35: 32 | C35: 2 | D35: Daněk | E35: Tomáš | F35: Praha
B36: 33 | C36: 3 | D36: Vyvial | E36: Jan | F36: Ostrava
A37: =A34+1 -> 12 | B37: 34 | C37: 1 | D37: Lidmila | E37: Martin | F37: Hradec Králové
B38: 35 | C38: 2 | D38: Krpec | E38: Pavel | F38: Ostrava
B39: 36 | C39: 3 | D39: Klvaňa | E39: Daniel | F39: Ostrava
A40: =A37+1 -> 13 | B40: 37 | C40: 1 | D40: Netrval | E40: Milan | F40: Plzeň
B41: 38 | C41: 2 | D41: Dopirák | E41: David | F41: Domažlice
B42: 39 | C42: 3 | D42: Škodný | E42: Jiří | F42: Hradec Králové
A43: =A40+1 -> 14 | B43: 40 | C43: 1 | D43: Völfel+DD4:G43 | E43: David | F43: JSDHO Strážkovice | G43: jen 100 m
B44: 41 | C44: 2
B45: 42 | C45: 3
A46: =A43+1 -> 15 | B46: 43 | C46: 1
B47: 44 | C47: 2
B48: 45 | C48: 3
A49: =A46+1 -> 16 | B49: 46 | C49: 1
B50: 47 | C50: 2
B51: 48 | C51: 3
A52: =A49+1 -> 17 | B52: 49 | C52: 1
B53: 50 | C53: 2
B54: 51 | C54: 3
A55: =A52+1 -> 18 | B55: 52 | C55: 1
B56: 53 | C56: 2
B57: 54 | C57: 3
A58: =A55+1 -> 19 | B58: 55 | C58: 1
B59: 56 | C59: 2
B60: 57 | C60: 3
A61: =A58+1 -> 20 | B61: 58 | C61: 1
B62: 59 | C62: 2
B63: 60 | C63: 3
A64: =A61+1 -> 21 | B64: 61 | C64: 1
B65: 62 | C65: 2
B66: 63 | C66: 3
A67: =A64+1 -> 22 | B67: 64 | C67: 1
B68: 65 | C68: 2
B69: 66 | C69: 3
A70: =A67+1 -> 23 | B70: 67 | C70: 1
B71: 68 | C71: 2
B72: 69 | C72: 3
A73: =A70+1 -> 24 | B73: 70 | C73: 1
B74: 71 | C74: 2
B75: 72 | C75: 3
A76: =A73+1 -> 25 | B76: 73 | C76: 1
B77: 74 | C77: 2
B78: 75 | C78: 3
A79: =A76+1 -> 26 | B79: 76 | C79: 1
B80: 77 | C80: 2
B81: 78 | C81: 3
A82: =A79+1 -> 27 | B82: 79 | C82: 1
B83: 80 | C83: 2
B84: 81 | C84: 3
A85: =A82+1 -> 28 | B85: 82 | C85: 1
B86: 83 | C86: 2
B87: 84 | C87: 3
A88: =A85+1 -> 29 | B88: 85 | C88: 1
B89: 86 | C89: 2
B90: 87 | C90: 3
A91: =A88+1 -> 30 | B91: 88 | C91: 1
B92: 89 | C92: 2
B93: 90 | C93: 3
A94: =A91+1 -> 31 | B94: 91 | C94: 1
B95: 92 | C95: 2
B96: 93 | C96: 3
A97: =A94+1 -> 32 | B97: 94 | C97: 1
B98: 95 | C98: 2
B99: 96 | C99: 3
A100: =A97+1 -> 33 | B100: 97 | C100: 1
B101: 98 | C101: 2
...

Sheet věže
A1: Výsledková listina věže Memoriál plk. JUDR Josefa Blažka 6. 6. 2019
A2: Pořadí | C2: Start. č. | D2: Příjmení | E2: Jméno | F2: ÚO/SDH | G2: 1.pokus věž | H2: 2.pokus věž | I2: započ. čas věž | J2: eliminace stejného pořadí
A3: 1 | C3: 33 | D3: Vyvial | E3: Jan | F3: Ostrava | G3: 15.44 | H3: 14.36 | I3: =IF(AND(G3=0,H3=0),"diskval.",IF(AND(G3>0,H3>0),MIN(G3:H3),IF(G3>0,G3,H3))) -> 14.36 | J3: =IF(G3+H3=0,1000,I3+((IF(G3>0,G3,100)+IF(H3>0,H3,100))/100000)) -> 14.360298
A4: 2 | C4: 4 | D4: Kligl | E4: Patrik | F4: Hradec Králové | G4: 15.42 | H4: 14.44 | I4: =IF(AND(G4=0,H4=0),"diskval.",IF(AND(G4>0,H4>0),MIN(G4:H4),IF(G4>0,G4,H4))) -> 14.44 | J4: =IF(G4+H4=0,1000,I4+((IF(G4>0,G4,100)+IF(H4>0,H4,100))/100000)) -> 14.440299
A5: 3 | C5: 21 | D5: Divoš | E5: Václav | F5: Hradec Králové | G5: 14.59 | H5: 15.04 | I5: =IF(AND(G5=0,H5=0),"diskval.",IF(AND(G5>0,H5>0),MIN(G5:H5),IF(G5>0,G5,H5))) -> 14.59 | J5: =IF(G5+H5=0,1000,I5+((IF(G5>0,G5,100)+IF(H5>0,H5,100))/100000)) -> 14.590296
A6: 4 | C6: 16 | D6: Klenka | E6: Vojtěch | F6: Hradec Králové | G6: 15.67 | H6: 14.78 | I6: =IF(AND(G6=0,H6=0),"diskval.",IF(AND(G6>0,H6>0),MIN(G6:H6),IF(G6>0,G6,H6))) -> 14.78 | J6: =IF(G6+H6=0,1000,I6+((IF(G6>0,G6,100)+IF(H6>0,H6,100))/100000)) -> 14.780304
A7: 5 | C7: 34 | D7: Lidmila | E7: Martin | F7: Hradec Králové | G7: 19.11 | H7: 14.84 | I7: =IF(AND(G7=0,H7=0),"diskval.",IF(AND(G7>0,H7>0),MIN(G7:H7),IF(G7>0,G7,H7))) -> 14.84 | J7: =IF(G7+H7=0,1000,I7+((IF(G7>0,G7,100)+IF(H7>0,H7,100))/100000)) -> 14.84034
A8: 6 | C8: 23 | D8: Peštál | E8: Marek | F8: Třebíč | G8: 15.19 | H8: 15.06 | I8: =IF(AND(G8=0,H8=0),"diskval.",IF(AND(G8>0,H8>0),MIN(G8:H8),IF(G8>0,G8,H8))) -> 15.06 | J8: =IF(G8+H8=0,1000,I8+((IF(G8>0,G8,100)+IF(H8>0,H8,100))/100000)) -> 15.060303
A9: 7 | C9: 35 | D9: Krpec | E9: Pavel | F9: Ostrava | G9: 15.13 | I9: =IF(AND(G9=0,H9=0),"diskval.",IF(AND(G9>0,H9>0),MIN(G9:H9),IF(G9>0,G9,H9))) -> 15.13 | J9: =IF(G9+H9=0,1000,I9+((IF(G9>0,G9,100)+IF(H9>0,H9,100))/100000)) -> 15.131151
A10: 8 | C10: 37 | D10: Netrval | E10: Milan | F10: Plzeň | G10: 15.35 | H10: 15.16 | I10: =IF(AND(G10=0,H10=0),"diskval.",IF(AND(G10>0,H10>0),MIN(G10:H10),IF(G10>0,G10,H10))) -> 15.16 | J10: =IF(G10+H10=0,1000,I10+((IF(G10>0,G10,100)+IF(H10>0,H10,100))/100000)) -> 15.160305
A11: 9 | C11: 28 | D11: Hons | E11: Lukáš | F11: Třebíč | G11: 15.33 | H11: 15.2 | I11: =IF(AND(G11=0,H11=0),"diskval.",IF(AND(G11>0,H11>0),MIN(G11:H11),IF(G11>0,G11,H11))) -> 15.2 | J11: =IF(G11+H11=0,1000,I11+((IF(G11>0,G11,100)+IF(H11>0,H11,100))/100000)) -> 15.200305
A12: 10 | C12: 38 | D12: Dopirák | E12: David | F12: Domažlice | G12: 19.57 | H12: 15.27 | I12: =IF(AND(G12=0,H12=0),"diskval.",IF(AND(G12>0,H12>0),MIN(G12:H12),IF(G12>0,G12,H12))) -> 15.27 | J12: =IF(G12+H12=0,1000,I12+((IF(G12>0,G12,100)+IF(H12>0,H12,100))/100000)) -> 15.270348
A13: 11 | C13: 32 | D13: Daněk | E13: Tomáš | F13: Praha | G13: 15.45 | H13: 15.31 | I13: =IF(AND(G13=0,H13=0),"diskval.",IF(AND(G13>0,H13>0),MIN(G13:H13),IF(G13>0,G13,H13))) -> 15.31 | J13: =IF(G13+H13=0,1000,I13+((IF(G13>0,G13,100)+IF(H13>0,H13,100))/100000)) -> 15.310308
A14: 12 | C14: 5 | D14: Tůma | E14: Milan | F14: Kutná Hora | G14: 17.22 | H14: 15.7 | I14: =IF(AND(G14=0,H14=0),"diskval.",IF(AND(G14>0,H14>0),MIN(G14:H14),IF(G14>0,G14,H14))) -> 15.7 | J14: =IF(G14+H14=0,1000,I14+((IF(G14>0,G14,100)+IF(H14>0,H14,100))/100000)) -> 15.700329
A15: 13 | C15: 36 | D15: Klvaňa | E15: Daniel | F15: Ostrava | G15: 16.6 | H15: 15.81 | I15: =IF(AND(G15=0,H15=0),"diskval.",IF(AND(G15>0,H15>0),MIN(G15:H15),IF(G15>0,G15,H15))) -> 15.81 | J15: =IF(G15+H15=0,1000,I15+((IF(G15>0,G15,100)+IF(H15>0,H15,100))/100000)) -> 15.810324
A16: 14 | C16: 30 | D16: Svačina | E16: Richard | F16: Ostrava | G16: 15.97 | H16: 17.52 | I16: =IF(AND(G16=0,H16=0),"diskval.",IF(AND(G16>0,H16>0),MIN(G16:H16),IF(G16>0,G16,H16))) -> 15.97 | J16: =IF(G16+H16=0,1000,I16+((IF(G16>0,G16,100)+IF(H16>0,H16,100))/100000)) -> 15.970335
A17: 15 | C17: 15 | D17: Hrdlička | E17: Jaroslav | F17: Domažlice | G17: 16.15 | H17: 16.23 | I17: =IF(AND(G17=0,H17=0),"diskval.",IF(AND(G17>0,H17>0),MIN(G17:H17),IF(G17>0,G17,H17))) -> 16.15 | J17: =IF(G17+H17=0,1000,I17+((IF(G17>0,G17,100)+IF(H17>0,H17,100))/100000)) -> 16.150324
A18: 16 | C18: 22 | D18: Hůla | E18: Jan | F18: Plzeň | G18: 16.83 | H18: 16.17 | I18: =IF(AND(G18=0,H18=0),"diskval.",IF(AND(G18>0,H18>0),MIN(G18:H18),IF(G18>0,G18,H18))) -> 16.17 | J18: =IF(G18+H18=0,1000,I18+((IF(G18>0,G18,100)+IF(H18>0,H18,100))/100000)) -> 16.17033
A19: 17 | C19: 25 | D19: Bělský | E19: Dominik | F19: Hradec Králové | G19: 16.59 | H19: 16.19 | I19: =IF(AND(G19=0,H19=0),"diskval.",IF(AND(G19>0,H19>0),MIN(G19:H19),IF(G19>0,G19,H19))) -> 16.19 | J19: =IF(G19+H19=0,1000,I19+((IF(G19>0,G19,100)+IF(H19>0,H19,100))/100000)) -> 16.190328
A20: 18 | C20: 18 | D20: Hájek | E20: David | F20: České Budějovice | G20: 16.84 | H20: 16.28 | I20: =IF(AND(G20=0,H20=0),"diskval.",IF(AND(G20>0,H20>0),MIN(G20:H20),IF(G20>0,G20,H20))) -> 16.28 | J20: =IF(G20+H20=0,1000,I20+((IF(G20>0,G20,100)+IF(H20>0,H20,100))/100000)) -> 16.280331
A21: 19 | C21: 12 | D21: Kasal | E21: Jakub | F21: Havlíčkův Brod | G21: 16.5 | H21: 17.77 | I21: =IF(AND(G21=0,H21=0),"diskval.",IF(AND(G21>0,H21>0),MIN(G21:H21),IF(G21>0,G21,H21))) -> 16.5 | J21: =IF(G21+H21=0,1000,I21+((IF(G21>0,G21,100)+IF(H21>0,H21,100))/100000)) -> 16.500343
A22: 20 | C22: 2 | D22: Ryšavý | E22: Vilém | F22: Pelhřimov | G22: 16.75 | H22: 16.64 | I22: =IF(AND(G22=0,H22=0),"diskval.",IF(AND(G22>0,H22>0),MIN(G22:H22),IF(G22>0,G22,H22))) -> 16.64 | J22: =IF(G22+H22=0,1000,I22+((IF(G22>0,G22,100)+IF(H22>0,H22,100))/100000)) -> 16.640334
A23: 21 | C23: 14 | D23: Janko | E23: Vladimír | F23: Pelhřimov | G23: 16.73 | I23: =IF(AND(G23=0,H23=0),"diskval.",IF(AND(G23>0,H23>0),MIN(G23:H23),IF(G23>0,G23,H23))) -> 16.73 | J23: =IF(G23+H23=0,1000,I23+((IF(G23>0,G23,100)+IF(H23>0,H23,100))/100000)) -> 16.731167
A24: 22 | C24: 13 | D24: Provazník | E24: Martin | F24: Plzeň | G24: 16.89 | H24: 23.09 | I24: =IF(AND(G24=0,H24=0),"diskval.",IF(AND(G24>0,H24>0),MIN(G24:H24),IF(G24>0,G24,H24))) -> 16.89 | J24: =IF(G24+H24=0,1000,I24+((IF(G24>0,G24,100)+IF(H24>0,H24,100))/100000)) -> 16.8904
A25: 23 | C25: 11 | D25: Vyhnálek | E25: Jan | F25: Kutná Hora | G25: 17.07 | H25: 19.78 | I25: =IF(AND(G25=0,H25=0),"diskval.",IF(AND(G25>0,H25>0),MIN(G25:H25),IF(G25>0,G25,H25))) -> 17.07 | J25: =IF(G25+H25=0,1000,I25+((IF(G25>0,G25,100)+IF(H25>0,H25,100))/100000)) -> 17.070369
A26: 24 | C26: 29 | D26: Hradil | E26: Zbyněk | F26: Olomouc | G26: 17.23 | I26: =IF(AND(G26=0,H26=0),"diskval.",IF(AND(G26>0,H26>0),MIN(G26:H26),IF(G26>0,G26,H26))) -> 17.23 | J26: =IF(G26+H26=0,1000,I26+((IF(G26>0,G26,100)+IF(H26>0,H26,100))/100000)) -> 17.231172
A27: 25 | C27: 9 | D27: Píbal | E27: Jiří | F27: Písek | G27: 17.41 | H27: 20.81 | I27: =IF(AND(G27=0,H27=0),"diskval.",IF(AND(G27>0,H27>0),MIN(G27:H27),IF(G27>0,G27,H27))) -> 17.41 | J27: =IF(G27+H27=0,1000,I27+((IF(G27>0,G27,100)+IF(H27>0,H27,100))/100000)) -> 17.410382
A28: 26 | C28: 39 | D28: Škodný | E28: Jiří | F28: Hradec Králové | G28: 17.73 | H28: 19.68 | I28: =IF(AND(G28=0,H28=0),"diskval.",IF(AND(G28>0,H28>0),MIN(G28:H28),IF(G28>0,G28,H28))) -> 17.73 | J28: =IF(G28+H28=0,1000,I28+((IF(G28>0,G28,100)+IF(H28>0,H28,100))/100000)) -> 17.730374
A29: 27 | C29: 7 | D29: Roháč | E29: Martin | F29: Plzeň | G29: 19.05 | H29: 18.27 | I29: =IF(AND(G29=0,H29=0),"diskval.",IF(AND(G29>0,H29>0),MIN(G29:H29),IF(G29>0,G29,H29))) -> 18.27 | J29: =IF(G29+H29=0,1000,I29+((IF(G29>0,G29,100)+IF(H29>0,H29,100))/100000)) -> 18.270373
A30: 28 | C30: 20 | D30: Joukl | E30: Jiří | F30: Žďár nad Sázavou | G30: 21.47 | H30: 19.37 | I30: =IF(AND(G30=0,H30=0),"diskval.",IF(AND(G30>0,H30>0),MIN(G30:H30),IF(G30>0,G30,H30))) -> 19.37 | J30: =IF(G30+H30=0,1000,I30+((IF(G30>0,G30,100)+IF(H30>0,H30,100))/100000)) -> 19.370408
A31: 29 | C31: 24 | D31: Snášel | E31: Patrik | F31: Domažlice | G31: 23.58 | H31: 20.23 | I31: =IF(AND(G31=0,H31=0),"diskval.",IF(AND(G31>0,H31>0),MIN(G31:H31),IF(G31>0,G31,H31))) -> 20.23 | J31: =IF(G31+H31=0,1000,I31+((IF(G31>0,G31,100)+IF(H31>0,H31,100))/100000)) -> 20.230438
A32: 30 | C32: 10 | D32: Knotek | E32: Radim | F32: JSDHO Nemyšl | G32: 20.98 | H32: 20.43 | I32: =IF(AND(G32=0,H32=0),"diskval.",IF(AND(G32>0,H32>0),MIN(G32:H32),IF(G32>0,G32,H32))) -> 20.43 | J32: =IF(G32+H32=0,1000,I32+((IF(G32>0,G32,100)+IF(H32>0,H32,100))/100000)) -> 20.430414
A33: 31 | C33: 31 | D33: Vašulka | E33: Petr | F33: Uheské Hradiště | H33: 20.47 | I33: =IF(AND(G33=0,H33=0),"diskval.",IF(AND(G33>0,H33>0),MIN(G33:H33),IF(G33>0,G33,H33))) -> 20.47 | J33: =IF(G33+H33=0,1000,I33+((IF(G33>0,G33,100)+IF(H33>0,H33,100))/100000)) -> 20.471205
A34: 32 | C34: 3 | D34: Smutný | E34: Martin | F34: Plzeň | G34: 20.56 | H34: 26.17 | I34: =IF(AND(G34=0,H34=0),"diskval.",IF(AND(G34>0,H34>0),MIN(G34:H34),IF(G34>0,G34,H34))) -> 20.56 | J34: =IF(G34+H34=0,1000,I34+((IF(G34>0,G34,100)+IF(H34>0,H34,100))/100000)) -> 20.560467
A35: 33 | C35: 8 | D35: Klimeš | E35: Martin | F35: Havlíčkův Brod | G35: 21.49 | I35: =IF(AND(G35=0,H35=0),"diskval.",IF(AND(G35>0,H35>0),MIN(G35:H35),IF(G35>0,G35,H35))) -> 21.49 | J35: =IF(G35+H35=0,1000,I35+((IF(G35>0,G35,100)+IF(H35>0,H35,100))/100000)) -> 21.491215
A36: 34 | C36: 1 | D36: Tomášek | E36: Jan | F36: JSDHO Dobřany | G36: 21.61 | I36: =IF(AND(G36=0,H36=0),"diskval.",IF(AND(G36>0,H36>0),MIN(G36:H36),IF(G36>0,G36,H36))) -> 21.61 | J36: =IF(G36+H36=0,1000,I36+((IF(G36>0,G36,100)+IF(H36>0,H36,100))/100000)) -> 21.611216
A37: 35 | C37: 27 | D37: Vaněk | E37: Václav | F37: Jindřichův Hradec | G37: 26.4 | H37: 23.11 | I37: =IF(AND(G37=0,H37=0),"diskval.",IF(AND(G37>0,H37>0),MIN(G37:H37),IF(G37>0,G37,H37))) -> 23.11 | J37: =IF(G37+H37=0,1000,I37+((IF(G37>0,G37,100)+IF(H37>0,H37,100))/100000)) -> 23.110495
A38: 36 | C38: 17 | D38: Filip | E38: Petr | F38: Jindřichův Hradec | G38: 25.3 | H38: 23.14 | I38: =IF(AND(G38=0,H38=0),"diskval.",IF(AND(G38>0,H38>0),MIN(G38:H38),IF(G38>0,G38,H38))) -> 23.14 | J38: =IF(G38+H38=0,1000,I38+((IF(G38>0,G38,100)+IF(H38>0,H38,100))/100000)) -> 23.140484
A39: 37 | C39: 6 | D39: Nýdl | E39: Jakub | F39: JSDH Borovany (jen 100m) | I39: =IF(AND(G39=0,H39=0),"diskval.",IF(AND(G39>0,H39>0),MIN(G39:H39),IF(G39>0,G39,H39))) -> diskval. | J39: =IF(G39+H39=0,1000,I39+((IF(G39>0,G39,100)+IF(H39>0,H39,100))/100000)) -> 1000
A40: 38 | C40: 19 | D40: Tomášek | E40: Martin | F40: České Budějovice (jen 100m) | I40: =IF(AND(G40=0,H40=0),"diskval.",IF(AND(G40>0,H40>0),MIN(G40:H40),IF(G40>0,G40,H40))) -> diskval. | J40: =IF(G40+H40=0,1000,I40+((IF(G40>0,G40,100)+IF(H40>0,H40,100))/100000)) -> 1000
A41: 39 | C41: 26 | D41: Senohrábek | E41: Bojislav | F41: Mladá Boleslav (jen 100m) | I41: =IF(AND(G41=0,H41=0),"diskval.",IF(AND(G41>0,H41>0),MIN(G41:H41),IF(G41>0,G41,H41))) -> diskval. | J41: =IF(G41+H41=0,1000,I41+((IF(G41>0,G41,100)+IF(H41>0,H41,100))/100000)) -> 1000
A42: 40 | C42: 40 | I42: =IF(AND(G42=0,H42=0),"diskval.",IF(AND(G42>0,H42>0),MIN(G42:H42),IF(G42>0,G42,H42))) -> diskval. | J42: =IF(G42+H42=0,1000,I42+((IF(G42>0,G42,100)+IF(H42>0,H42,100))/100000)) -> 1000
A43: 41 | C43: 41 | I43: =IF(AND(G43=0,H43=0),"diskval.",IF(AND(G43>0,H43>0),MIN(G43:H43),IF(G43>0,G43,H43))) -> diskval. | J43: =IF(G43+H43=0,1000,I43+((IF(G43>0,G43,100)+IF(H43>0,H43,100))/100000)) -> 1000
A44: 42 | C44: 42 | I44: =IF(AND(G44=0,H44=0),"diskval.",IF(AND(G44>0,H44>0),MIN(G44:H44),IF(G44>0,G44,H44))) -> diskval. | J44: =IF(G44+H44=0,1000,I44+((IF(G44>0,G44,100)+IF(H44>0,H44,100))/100000)) -> 1000
A45: 43 | C45: 43 | I45: =IF(AND(G45=0,H45=0),"diskval.",IF(AND(G45>0,H45>0),MIN(G45:H45),IF(G45>0,G45,H45))) -> diskval. | J45: =IF(G45+H45=0,1000,I45+((IF(G45>0,G45,100)+IF(H45>0,H45,100))/100000)) -> 1000
A46: 44 | C46: 44 | I46: =IF(AND(G46=0,H46=0),"diskval.",IF(AND(G46>0,H46>0),MIN(G46:H46),IF(G46>0,G46,H46))) -> diskval. | J46: =IF(G46+H46=0,1000,I46+((IF(G46>0,G46,100)+IF(H46>0,H46,100))/100000)) -> 1000
A47: 45 | C47: 45 | I47: =IF(AND(G47=0,H47=0),"diskval.",IF(AND(G47>0,H47>0),MIN(G47:H47),IF(G47>0,G47,H47))) -> diskval. | J47: =IF(G47+H47=0,1000,I47+((IF(G47>0,G47,100)+IF(H47>0,H47,100))/100000)) -> 1000
A48: 46 | C48: 46 | I48: =IF(AND(G48=0,H48=0),"diskval.",IF(AND(G48>0,H48>0),MIN(G48:H48),IF(G48>0,G48,H48))) -> diskval. | J48: =IF(G48+H48=0,1000,I48+((IF(G48>0,G48,100)+IF(H48>0,H48,100))/100000)) -> 1000
A49: 47 | C49: 47 | I49: =IF(AND(G49=0,H49=0),"diskval.",IF(AND(G49>0,H49>0),MIN(G49:H49),IF(G49>0,G49,H49))) -> diskval. | J49: =IF(G49+H49=0,1000,I49+((IF(G49>0,G49,100)+IF(H49>0,H49,100))/100000)) -> 1000
A50: 48 | C50: 48 | I50: =IF(AND(G50=0,H50=0),"diskval.",IF(AND(G50>0,H50>0),MIN(G50:H50),IF(G50>0,G50,H50))) -> diskval. | J50: =IF(G50+H50=0,1000,I50+((IF(G50>0,G50,100)+IF(H50>0,H50,100))/100000)) -> 1000
A51: 49 | C51: 49 | I51: =IF(AND(G51=0,H51=0),"diskval.",IF(AND(G51>0,H51>0),MIN(G51:H51),IF(G51>0,G51,H51))) -> diskval. | J51: =IF(G51+H51=0,1000,I51+((IF(G51>0,G51,100)+IF(H51>0,H51,100))/100000)) -> 1000
A52: 50 | C52: 50 | I52: =IF(AND(G52=0,H52=0),"diskval.",IF(AND(G52>0,H52>0),MIN(G52:H52),IF(G52>0,G52,H52))) -> diskval. | J52: =IF(G52+H52=0,1000,I52+((IF(G52>0,G52,100)+IF(H52>0,H52,100))/100000)) -> 1000 | K52: 15.31
A53: 51 | C53: 51 | I53: =IF(AND(G53=0,H53=0),"diskval.",IF(AND(G53>0,H53>0),MIN(G53:H53),IF(G53>0,G53,H53))) -> diskval. | J53: =IF(G53+H53=0,1000,I53+((IF(G53>0,G53,100)+IF(H53>0,H53,100))/100000)) -> 1000
A54: 52 | C54: 52 | I54: =IF(AND(G54=0,H54=0),"diskval.",IF(AND(G54>0,H54>0),MIN(G54:H54),IF(G54>0,G54,H54))) -> diskval. | J54: =IF(G54+H54=0,1000,I54+((IF(G54>0,G54,100)+IF(H54>0,H54,100))/100000)) -> 1000
A55: 53 | C55: 53 | I55: =IF(AND(G55=0,H55=0),"diskval.",IF(AND(G55>0,H55>0),MIN(G55:H55),IF(G55>0,G55,H55))) -> diskval. | J55: =IF(G55+H55=0,1000,I55+((IF(G55>0,G55,100)+IF(H55>0,H55,100))/100000)) -> 1000
A56: 54 | C56: 54 | I56: =IF(AND(G56=0,H56=0),"diskval.",IF(AND(G56>0,H56>0),MIN(G56:H56),IF(G56>0,G56,H56))) -> diskval. | J56: =IF(G56+H56=0,1000,I56+((IF(G56>0,G56,100)+IF(H56>0,H56,100))/100000)) -> 1000
A57: 55 | C57: 55 | I57: =IF(AND(G57=0,H57=0),"diskval.",IF(AND(G57>0,H57>0),MIN(G57:H57),IF(G57>0,G57,H57))) -> diskval. | J57: =IF(G57+H57=0,1000,I57+((IF(G57>0,G57,100)+IF(H57>0,H57,100))/100000)) -> 1000
A58: 56 | C58: 56 | I58: =IF(AND(G58=0,H58=0),"diskval.",IF(AND(G58>0,H58>0),MIN(G58:H58),IF(G58>0,G58,H58))) -> diskval. | J58: =IF(G58+H58=0,1000,I58+((IF(G58>0,G58,100)+IF(H58>0,H58,100))/100000)) -> 1000
A59: 57 | C59: 57 | I59: =IF(AND(G59=0,H59=0),"diskval.",IF(AND(G59>0,H59>0),MIN(G59:H59),IF(G59>0,G59,H59))) -> diskval. | J59: =IF(G59+H59=0,1000,I59+((IF(G59>0,G59,100)+IF(H59>0,H59,100))/100000)) -> 1000
A60: 58 | C60: 58 | I60: =IF(AND(G60=0,H60=0),"diskval.",IF(AND(G60>0,H60>0),MIN(G60:H60),IF(G60>0,G60,H60))) -> diskval. | J60: =IF(G60+H60=0,1000,I60+((IF(G60>0,G60,100)+IF(H60>0,H60,100))/100000)) -> 1000
A61: 59 | C61: 59 | I61: =IF(AND(G61=0,H61=0),"diskval.",IF(AND(G61>0,H61>0),MIN(G61:H61),IF(G61>0,G61,H61))) -> diskval. | J61: =IF(G61+H61=0,1000,I61+((IF(G61>0,G61,100)+IF(H61>0,H61,100))/100000)) -> 1000
A62: 60 | C62: 60 | I62: =IF(AND(G62=0,H62=0),"diskval.",IF(AND(G62>0,H62>0),MIN(G62:H62),IF(G62>0,G62,H62))) -> diskval. | J62: =IF(G62+H62=0,1000,I62+((IF(G62>0,G62,100)+IF(H62>0,H62,100))/100000)) -> 1000
A63: 61 | C63: 61 | I63: =IF(AND(G63=0,H63=0),"diskval.",IF(AND(G63>0,H63>0),MIN(G63:H63),IF(G63>0,G63,H63))) -> diskval. | J63: =IF(G63+H63=0,1000,I63+((IF(G63>0,G63,100)+IF(H63>0,H63,100))/100000)) -> 1000
A64: 62 | C64: 62 | I64: =IF(AND(G64=0,H64=0),"diskval.",IF(AND(G64>0,H64>0),MIN(G64:H64),IF(G64>0,G64,H64))) -> diskval. | J64: =IF(G64+H64=0,1000,I64+((IF(G64>0,G64,100)+IF(H64>0,H64,100))/100000)) -> 1000
... A69: 67 | C69: 67 | I69: =IF(AND(G69=0,H69=0),"diskval.",IF(AND(G69>0,H69>0),MIN(G69:H69),IF(G69>0,G69,H69))) -> diskval. | J69: =IF(G69+H69=0,1000,I69+((IF(G69>0,G69,100)+IF(H69>0,H69,100))/100000)) -> 1000
A70: 68 | I70: =IF(AND(G70=0,H70=0),"diskval.",IF(AND(G70>0,H70>0),MIN(G70:H70),IF(G70>0,G70,H70))) -> diskval. | J70: =IF(G70+H70=0,1000,I70+((IF(G70>0,G70,100)+IF(H70>0,H70,100))/100000)) -> 1000
A71: 69 | I71: =IF(AND(G71=0,H71=0),"diskval.",IF(AND(G71>0,H71>0),MIN(G71:H71),IF(G71>0,G71,H71))) -> diskval. | J71: =IF(G71+H71=0,1000,I71+((IF(G71>0,G71,100)+IF(H71>0,H71,100))/100000)) -> 1000
A72: 70 | I72: =IF(AND(G72=0,H72=0),"diskval.",IF(AND(G72>0,H72>0),MIN(G72:H72),IF(G72>0,G72,H72))) -> diskval. | J72: =IF(G72+H72=0,1000,I72+((IF(G72>0,G72,100)+IF(H72>0,H72,100))/100000)) -> 1000
A73: 71 | I73: =IF(AND(G73=0,H73=0),"diskval.",IF(AND(G73>0,H73>0),MIN(G73:H73),IF(G73>0,G73,H73))) -> diskval. | J73: =IF(G73+H73=0,1000,I73+((IF(G73>0,G73,100)+IF(H73>0,H73,100))/100000)) -> 1000
A74: 72 | I74: =IF(AND(G74=0,H74=0),"diskval.",IF(AND(G74>0,H74>0),MIN(G74:H74),IF(G74>0,G74,H74))) -> diskval. | J74: =IF(G74+H74=0,1000,I74+((IF(G74>0,G74,100)+IF(H74>0,H74,100))/100000)) -> 1000
A75: 73 | I75: =IF(AND(G75=0,H75=0),"diskval.",IF(AND(G75>0,H75>0),MIN(G75:H75),IF(G75>0,G75,H75))) -> diskval. | J75: =IF(G75+H75=0,1000,I75+((IF(G75>0,G75,100)+IF(H75>0,H75,100))/100000)) -> 1000
A76: 74 | I76: =IF(AND(G76=0,H76=0),"diskval.",IF(AND(G76>0,H76>0),MIN(G76:H76),IF(G76>0,G76,H76))) -> diskval. | J76: =IF(G76+H76=0,1000,I76+((IF(G76>0,G76,100)+IF(H76>0,H76,100))/100000)) -> 1000
A77: 75 | I77: =IF(AND(G77=0,H77=0),"diskval.",IF(AND(G77>0,H77>0),MIN(G77:H77),IF(G77>0,G77,H77))) -> diskval. | J77: =IF(G77+H77=0,1000,I77+((IF(G77>0,G77,100)+IF(H77>0,H77,100))/100000)) -> 1000
A78: 76 | I78: =IF(AND(G78=0,H78=0),"diskval.",IF(AND(G78>0,H78>0),MIN(G78:H78),IF(G78>0,G78,H78))) -> diskval. | J78: =IF(G78+H78=0,1000,I78+((IF(G78>0,G78,100)+IF(H78>0,H78,100))/100000)) -> 1000
A79: 77 | I79: =IF(AND(G79=0,H79=0),"diskval.",IF(AND(G79>0,H79>0),MIN(G79:H79),IF(G79>0,G79,H79))) -> diskval. | J79: =IF(G79+H79=0,1000,I79+((IF(G79>0,G79,100)+IF(H79>0,H79,100))/100000)) -> 1000
A80: 78 | I80: =IF(AND(G80=0,H80=0),"diskval.",IF(AND(G80>0,H80>0),MIN(G80:H80),IF(G80>0,G80,H80))) -> diskval. | J80: =IF(G80+H80=0,1000,I80+((IF(G80>0,G80,100)+IF(H80>0,H80,100))/100000)) -> 1000
A81: 79 | I81: =IF(AND(G81=0,H81=0),"diskval.",IF(AND(G81>0,H81>0),MIN(G81:H81),IF(G81>0,G81,H81))) -> diskval. | J81: =IF(G81+H81=0,1000,I81+((IF(G81>0,G81,100)+IF(H81>0,H81,100))/100000)) -> 1000
... A85: 83 | I85: =IF(AND(G85=0,H85=0),"diskval.",IF(AND(G85>0,H85>0),MIN(G85:H85),IF(G85>0,G85,H85))) -> diskval. | J85: =IF(G85+H85=0,1000,I85+((IF(G85>0,G85,100)+IF(H85>0,H85,100))/100000)) -> 1000
A86: 84 | C86: 84 | I86: =IF(AND(G86=0,H86=0),"diskval.",IF(AND(G86>0,H86>0),MIN(G86:H86),IF(G86>0,G86,H86))) -> diskval. | J86: =IF(G86+H86=0,1000,I86+((IF(G86>0,G86,100)+IF(H86>0,H86,100))/100000)) -> 1000
A87: 85 | C87: 85 | I87: =IF(AND(G87=0,H87=0),"diskval.",IF(AND(G87>0,H87>0),MIN(G87:H87),IF(G87>0,G87,H87))) -> diskval. | J87: =IF(G87+H87=0,1000,I87+((IF(G87>0,G87,100)+IF(H87>0,H87,100))/100000)) -> 1000
A88: 86 | C88: 86 | I88: =IF(AND(G88=0,H88=0),"diskval.",IF(AND(G88>0,H88>0),MIN(G88:H88),IF(G88>0,G88,H88))) -> diskval. | J88: =IF(G88+H88=0,1000,I88+((IF(G88>0,G88,100)+IF(H88>0,H88,100))/100000)) -> 1000
A89: 87 | C89: 87 | I89: =IF(AND(G89=0,H89=0),"diskval.",IF(AND(G89>0,H89>0),MIN(G89:H89),IF(G89>0,G89,H89))) -> diskval. | J89: =IF(G89+H89=0,1000,I89+((IF(G89>0,G89,100)+IF(H89>0,H89,100))/100000)) -> 1000
A90: 88 | C90: 88 | I90: =IF(AND(G90=0,H90=0),"diskval.",IF(AND(G90>0,H90>0),MIN(G90:H90),IF(G90>0,G90,H90))) -> diskval. | J90: =IF(G90+H90=0,1000,I90+((IF(G90>0,G90,100)+IF(H90>0,H90,100))/100000)) -> 1000
A91: 89 | C91: 89 | I91: =IF(AND(G91=0,H91=0),"diskval.",IF(AND(G91>0,H91>0),MIN(G91:H91),IF(G91>0,G91,H91))) -> diskval. | J91: =IF(G91+H91=0,1000,I91+((IF(G91>0,G91,100)+IF(H91>0,H91,100))/100000)) -> 1000
A92: 90 | C92: 90 | I92: =IF(AND(G92=0,H92=0),"diskval.",IF(AND(G92>0,H92>0),MIN(G92:H92),IF(G92>0,G92,H92))) -> diskval. | J92: =IF(G92+H92=0,1000,I92+((IF(G92>0,G92,100)+IF(H92>0,H92,100))/100000)) -> 1000
A93: 91 | I93: =IF(AND(G93=0,H93=0),"diskval.",IF(AND(G93>0,H93>0),MIN(G93:H93),IF(G93>0,G93,H93))) -> diskval. | J93: =IF(G93+H93=0,1000,I93+((IF(G93>0,G93,100)+IF(H93>0,H93,100))/100000)) -> 1000
A94: 92 | C94: 92 | I94: =IF(AND(G94=0,H94=0),"diskval.",IF(AND(G94>0,H94>0),MIN(G94:H94),IF(G94>0,G94,H94))) -> diskval. | J94: =IF(G94+H94=0,1000,I94+((IF(G94>0,G94,100)+IF(H94>0,H94,100))/100000)) -> 1000
A95: 93 | C95: 93 | I95: =IF(AND(G95=0,H95=0),"diskval.",IF(AND(G95>0,H95>0),MIN(G95:H95),IF(G95>0,G95,H95))) -> diskval. | J95: =IF(G95+H95=0,1000,I95+((IF(G95>0,G95,100)+IF(H95>0,H95,100))/100000)) -> 1000
A96: 94 | C96: 94 | I96: =IF(AND(G96=0,H96=0),"diskval.",IF(AND(G96>0,H96>0),MIN(G96:H96),IF(G96>0,G96,H96))) -> diskval. | J96: =IF(G96+H96=0,1000,I96+((IF(G96>0,G96,100)+IF(H96>0,H96,100))/100000)) -> 1000
A97: 95 | C97: 95 | I97: =IF(AND(G97=0,H97=0),"diskval.",IF(AND(G97>0,H97>0),MIN(G97:H97),IF(G97>0,G97,H97))) -> diskval. | J97: =IF(G97+H97=0,1000,I97+((IF(G97>0,G97,100)+IF(H97>0,H97,100))/100000)) -> 1000
A98: 96 | C98: 96 | I98: =IF(AND(G98=0,H98=0),"diskval.",IF(AND(G98>0,H98>0),MIN(G98:H98),IF(G98>0,G98,H98))) -> diskval. | J98: =IF(G98+H98=0,1000,I98+((IF(G98>0,G98,100)+IF(H98>0,H98,100))/100000)) -> 1000
A99: 97 | C99: 97 | I99: =IF(AND(G99=0,H99=0),"diskval.",IF(AND(G99>0,H99>0),MIN(G99:H99),IF(G99>0,G99,H99))) -> diskval. | J99: =IF(G99+H99=0,1000,I99+((IF(G99>0,G99,100)+IF(H99>0,H99,100))/100000)) -> 1000
A100: 98 | C100: 98 | I100: =IF(AND(G100=0,H100=0),"diskval.",IF(AND(G100>0,H100>0),MIN(G100:H100),IF(G100>0,G100,H100))) -> diskval. | J100: =IF(G100+H100=0,1000,I100+((IF(G100>0,G100,100)+IF(H100>0,H100,100))/100000)) -> 1000
A101: 99 | C101: 99 | I101: =IF(AND(G101=0,H101=0),"diskval.",IF(AND(G101>0,H101>0),MIN(G101:H101),IF(G101>0,G101,H101))) -> diskval. | J101: =IF(G101+H101=0,1000,I101+((IF(G101>0,G101,100)+IF(H101>0,H101,100))/100000)) -> 1000
A102: 100 | C102: 100 | I102: =IF(AND(G102=0,H102=0),"diskval.",IF(AND(G102>0,H102>0),MIN(G102:H102),IF(G102>0,G102,H102))) -> diskval. | J102: =IF(G102+H102=0,1000,I102+((IF(G102>0,G102,100)+IF(H102>0,H102,100))/100000)) -> 1000
A103: 101 | C103: 101 | I103: =IF(AND(G103=0,H103=0),"diskval.",IF(AND(G103>0,H103>0),MIN(G103:H103),IF(G103>0,G103,H103))) -> diskval. | J103: =IF(G103+H103=0,1000,I103+((IF(G103>0,G103,100)+IF(H103>0,H103,100))/100000)) -> 1000
A104: 102 | C104: 102 | I104: =IF(AND(G104=0,H104=0),"diskval.",IF(AND(G104>0,H104>0),MIN(G104:H104),IF(G104>0,G104,H104))) -> diskval. | J104: =IF(G104+H104=0,1000,I104+((IF(G104>0,G104,100)+IF(H104>0,H104,100))/100000)) -> 1000
A105: 103 | C105: 103 | I105: =IF(AND(G105=0,H105=0),"diskval.",IF(AND(G105>0,H105>0),MIN(G105:H105),IF(G105>0,G105,H105))) -> diskval. | J105: =IF(G105+H105=0,1000,I105+((IF(G105>0,G105,100)+IF(H105>0,H105,100))/100000)) -> 1000
... A152: 150 | C152: 150 | I152: =IF(AND(G152=0,H152=0),"diskval.",IF(AND(G152>0,H152>0),MIN(G152:H152),IF(G152>0,G152,H152))) -> diskval. | J152: =IF(G152+H152=0,1000,I152+((IF(G152>0,G152,100)+IF(H152>0,H152,100))/100000)) -> 1000

Sheet Startovní listina věž 1.p
A1: STARTOVNÍ LISTINA - výstup do 4. podlaží věže 1. a 2. pokus
A2: Memoriál plk. JUDr. Josefa Blažka 22.6.2021
A3: Rozběh č. | B3: Start. č. | C3: Dráha | D3: Příjmení | E3: Jméno | F3: kraj | G3: čas
A4: 1 | B4: 1 | C4: 1 | D4: Tomášek | E4: Jan | F4: JSDHO Dobřany
B5: 2 | C5: 2 | D5: Ryšavý | E5: Vilém | F5: Pelhřimov | G5: jen věž
B6: 3 | C6: 3 | D6: Smutný | E6: Martin | F6: Plzeň
A7: 2 | B7: 4 | C7: 1 | D7: Kligl | E7: Patrik | F7: Hradec Králové
B8: 5 | C8: 2 | D8: Tůma | E8: Milan | F8: Kutná Hora | G8: jen věž
B9: 6 | C9: 3 | D9: Nýdl | E9: Jakub | F9: JSDH Borovany | G9: jen 100 m
A10: 3 | B10: 7 | C10: 1 | D10: Roháč | E10: Martin | F10: Plzeň
B11: 8 | C11: 2 | D11: Klimeš | E11: Martin | F11: Havlíčkův Brod
B12: 9 | C12: 3 | D12: Píbal | E12: Jiří | F12: Písek
A13: 4 | B13: 10 | C13: 1 | D13: Knotek | E13: Radim | F13: JSDHO Nemyšl | G13: jen 100 m
B14: 11 | C14: 2 | D14: Vyhnálek | E14: Jan | F14: Kutná Hora
B15: 12 | C15: 3 | D15: Kasal | E15: Jakub | F15: Havlíčkův Brod
A16: 5 | B16: 13 | C16: 1 | D16: Provazník | E16: Martin | F16: Plzeň
B17: 14 | C17: 2 | D17: Janko | E17: Vladimír | F17: Pelhřimov
B18: 15 | C18: 3 | D18: Hrdlička | E18: Jaroslav | F18: Domažlice
A19: 6 | B19: 16 | C19: 1 | D19: Klenka | E19: Vojtěch | F19: Hradec Králové
B20: 17 | C20: 2 | D20: Filip | E20: Petr | F20: Jindřichův Hradec
B21: 18 | C21: 3 | D21: Hájek | E21: David | F21: České Budějovice
A22: 7 | B22: 19 | C22: 1 | D22: Tomášek | E22: Martin | F22: České Budějovice | G22: jen 100 m
B23: 20 | C23: 2 | D23: Joukl | E23: Jiří | F23: Žďár nad Sázavou
B24: 21 | C24: 3 | D24: Divoš | E24: Václav | F24: Hradec Králové
A25: 8 | B25: 22 | C25: 1 | D25: Hůla | E25: Jan | F25: Plzeň
B26: 23 | C26: 2 | D26: Peštál | E26: Marek | F26: Třebíč
B27: 24 | C27: 3 | D27: Snášel | E27: Patrik | F27: Domažlice
A28: 9 | B28: 25 | C28: 1 | D28: Bělský | E28: Dominik | F28: Hradec Králové
B29: 26 | C29: 2 | D29: Senohrábek | E29: Bojislav | F29: Mladá Boleslav | G29: jen 100 m
B30: 27 | C30: 3 | D30: Vaněk | E30: Václav | F30: Jindřichův Hradec
A31: 10 | B31: 28 | C31: 1 | D31: Hons | E31: Lukáš | F31: Třebíč
B32: 29 | C32: 2 | D32: Hradil | E32: Zbyněk | F32: Olomouc | G32: jen věž
B33: 30 | C33: 3 | D33: Svačina | E33: Richard | F33: Ostrava
A34: 11 | B34: 31 | C34: 1 | D34: Vašulka | E34: Petr | F34: Uheské Hradiště
B35: 32 | C35: 2 | D35: Daněk | E35: Tomáš | F35: Praha
B36: 33 | C36: 3 | D36: Vyvial | E36: Jan | F36: Ostrava
A37: 12 | B37: 34 | C37: 1 | D37: Lidmila | E37: Martin | F37: Hradec Králové
B38: 35 | C38: 2 | D38: Krpec | E38: Pavel | F38: Ostrava
B39: 36 | C39: 3 | D39: Klvaňa | E39: Daniel | F39: Ostrava
A40: 13 | B40: 37 | C40: 1 | D40: Netrval | E40: Milan | F40: Plzeň
B41: 38 | C41: 2 | D41: Dopirák | E41: David | F41: Domažlice
B42: 39 | C42: 3 | D42: Škodný | E42: Jiří | F42: Hradec Králové
A43: 14 | B43: 40 | C43: 1 | D43: Völfel+DD4:G43 | E43: David | F43: JSDHO Strážkovice | G43: jen 100 m
B44: 41 | C44: 2 | D44: Krpec | E44: Pavel | F44: Ostrava
B45: 42 | C45: 3 | D45: Klvaňa | E45: Daniel | F45: Ostrava
A46: 15 | B46: 43 | C46: 1 | D46: Netrval | E46: Milan | F46: Plzeň
B47: 44 | C47: 2 | D47: Dopirák | E47: David | F47: Domažlice
B48: 45 | C48: 3 | D48: Hnízdil | E48: Pavel | F48: Třebíč
A49: 16 | B49: 46 | C49: 1 | D49: Škodný | E49: Jiří | F49: Hradec Králové
B50: 62 | C50: 2
B51: 63 | C51: 3
A52: 17 | B52: 65 | C52: 1
B53: 66 | C53: 2
B54: 67 | C54: 3
A55: 18 | B55: 69 | C55: 1
B56: 70 | C56: 2
B57: 71 | C57: 3
A58: 19 | B58: 73 | C58: 1
B59: 74 | C59: 2
B60: 75 | C60: 3
A61: 20 | B61: 77 | C61: 1
B62: 78 | C62: 2
B63: 79 | C63: 3
A64: 21 | B64: 81 | C64: 1
B65: 82 | C65: 2
B66: 83 | C66: 3
A67: 22 | B67: 85 | C67: 1
B68: 86 | C68: 2
B69: 87 | C69: 3
A70: 23 | B70: 89 | C70: 1
B71: 90 | C71: 2
B72: 91 | C72: 3
A73: 24 | B73: 93 | C73: 1
B74: 94 | C74: 2
B75: 95 | C75: 3
B76: 96 | C76: 4
A77: 25 | B77: 97 | C77: 1
B78: 98 | C78: 2
B79: 99 | C79: 3
B80: 100 | C80: 4
A81: 26 | B81: 101 | C81: 1
B82: 102 | C82: 2
B83: 104 | C83: 3
B84: 105 | C84: 4
B85: 106 | C85: 1
B86: 107 | C86: 2
B87: 108 | C87: 3
B88: 109 | C88: 4
B89: 110 | C89: 1
B90: 111 | C90: 2
B91: 112 | C91: 3
B92: 113 | C92: 4
B93: 114 | C93: 1
... B119: 140 | C119: 3
C120: 4

Sheet Dvojboj
C1: Výsledková listina dvojboj Memoriál plk. JUDR Josefa Blažka 6. 6. 2019
A2: Pořadí | C2: Start. č. | D2: Příjmení | E2: Jméno | F2: započ. čas věž | G2: započ. čas 100m | H2: čas dvojboj | I2: horší pok. věž | J2: horší pok. 100m | K2: elimin. stejného pořadí | N2: Listy 100M A VĚŽE MUSÍ BÝT SEŘAZENY PODLE STARTOVNÍCH ČÍSEL
A3: 1 | C3: 4 | D3: Kligl | E3: Patrik | F3: 14.44 | G3: 16.22 | H3: =IF(OR(F3="diskval.",G3="diskval."),"diskval.",F3+G3) -> 30.66 | I3: =IF(OR(věže!G81=0,věže!H81=0),100,MAX(věže!G81:H81)) -> 100 | J3: =IF(OR('100m'!G81=0,'100m'!H81=0),100,MAX('100m'!G81:H81)) -> 100 | K3: =IF(H3="diskval.",1000,H3+((IF(I3>0,I3,100)+IF(J3>0,J3,100))/100000)) -> 30.662
A4: 2 | C4: 33 | D4: Vyvial | E4: Jan | F4: 14.36 | G4: 16.45 | H4: =IF(OR(F4="diskval.",G4="diskval."),"diskval.",F4+G4) -> 30.81 | I4: =IF(OR(věže!G80=0,věže!H80=0),100,MAX(věže!G80:H80)) -> 100 | J4: =IF(OR('100m'!G80=0,'100m'!H80=0),100,MAX('100m'!G80:H80)) -> 100 | K4: =IF(H4="diskval.",1000,H4+((IF(I4>0,I4,100)+IF(J4>0,J4,100))/100000)) -> 30.812
A5: 3 | C5: 34 | D5: Lidmila | E5: Martin | F5: 14.84 | G5: 16 | H5: =IF(OR(F5="diskval.",G5="diskval."),"diskval.",F5+G5) -> 30.84 | I5: =IF(OR(věže!G54=0,věže!H54=0),100,MAX(věže!G54:H54)) -> 100 | J5: =IF(OR('100m'!G54=0,'100m'!H54=0),100,MAX('100m'!G54:H54)) -> 100 | K5: =IF(H5="diskval.",1000,H5+((IF(I5>0,I5,100)+IF(J5>0,J5,100))/100000)) -> 30.842
A6: 4 | C6: 23 | D6: Peštál | E6: Marek | F6: 15.06 | G6: 17.39 | H6: =IF(OR(F6="diskval.",G6="diskval."),"diskval.",F6+G6) -> 32.45 | I6: =IF(OR(věže!G9=0,věže!H9=0),100,MAX(věže!G9:H9)) -> 100 | J6: =IF(OR('100m'!G9=0,'100m'!H9=0),100,MAX('100m'!G9:H9)) -> 100 | K6: =IF(H6="diskval.",1000,H6+((IF(I6>0,I6,100)+IF(J6>0,J6,100))/100000)) -> 32.452
A7: 5 | C7: 37 | D7: Netrval | E7: Milan | F7: 15.16 | G7: 17.38 | H7: =IF(OR(F7="diskval.",G7="diskval."),"diskval.",F7+G7) -> 32.54 | I7: =IF(OR(věže!G12=0,věže!H12=0),100,MAX(věže!G12:H12)) -> 19.57 | J7: =IF(OR('100m'!G12=0,'100m'!H12=0),100,MAX('100m'!G12:H12)) -> 17.87 | K7: =IF(H7="diskval.",1000,H7+((IF(I7>0,I7,100)+IF(J7>0,J7,100))/100000)) -> 32.540374
A8: 6 | C8: 28 | D8: Hons | E8: Lukáš | F8: 15.2 | G8: 17.64 | H8: =IF(OR(F8="diskval.",G8="diskval."),"diskval.",F8+G8) -> 32.84 | I8: =IF(OR(věže!G29=0,věže!H29=0),100,MAX(věže!G29:H29)) -> 19.05 | J8: =IF(OR('100m'!G29=0,'100m'!H29=0),100,MAX('100m'!G29:H29)) -> 100 | K8: =IF(H8="diskval.",1000,H8+((IF(I8>0,I8,100)+IF(J8>0,J8,100))/100000)) -> 32.841191
A9: 7 | C9: 32 | D9: Daněk | E9: Tomáš | F9: 15.31 | G9: 17.89 | H9: =IF(OR(F9="diskval.",G9="diskval."),"diskval.",F9+G9) -> 33.2 | I9: =IF(OR(věže!G10=0,věže!H10=0),100,MAX(věže!G10:H10)) -> 15.35 | J9: =IF(OR('100m'!G10=0,'100m'!H10=0),100,MAX('100m'!G10:H10)) -> 100 | K9: =IF(H9="diskval.",1000,H9+((IF(I9>0,I9,100)+IF(J9>0,J9,100))/100000)) -> 33.201154
A10: 8 | C10: 25 | D10: Bělský | E10: Dominik | F10: 16.19 | G10: 17.31 | H10: =IF(OR(F10="diskval.",G10="diskval."),"diskval.",F10+G10) -> 33.5 | I10: =IF(OR(věže!G34=0,věže!H34=0),100,MAX(věže!G34:H34)) -> 26.17 | J10: =IF(OR('100m'!G34=0,'100m'!H34=0),100,MAX('100m'!G34:H34)) -> 100 | K10: =IF(H10="diskval.",1000,H10+((IF(I10>0,I10,100)+IF(J10>0,J10,100))/100000)) -> 33.501262
A11: 9 | C11: 12 | D11: Kasal | E11: Jakub | F11: 16.5 | G11: 17.12 | H11: =IF(OR(F11="diskval.",G11="diskval."),"diskval.",F11+G11) -> 33.62 | I11: =IF(OR(věže!G79=0,věže!H79=0),100,MAX(věže!G79:H79)) -> 100 | J11: =IF(OR('100m'!G79=0,'100m'!H79=0),100,MAX('100m'!G79:H79)) -> 100 | K11: =IF(H11="diskval.",1000,H11+((IF(I11>0,I11,100)+IF(J11>0,J11,100))/100000)) -> 33.622
A12: 10 | C12: 39 | D12: Škodný | E12: Jiří | F12: 17.73 | G12: 16.45 | H12: =IF(OR(F12="diskval.",G12="diskval."),"diskval.",F12+G12) -> 34.18 | I12: =IF(OR(věže!G56=0,věže!H56=0),100,MAX(věže!G56:H56)) -> 100 | J12: =IF(OR('100m'!G56=0,'100m'!H56=0),100,MAX('100m'!G56:H56)) -> 100 | K12: =IF(H12="diskval.",1000,H12+((IF(I12>0,I12,100)+IF(J12>0,J12,100))/100000)) -> 34.182
A13: 11 | C13: 18 | D13: Hájek | E13: David | F13: 16.28 | G13: 18.15 | H13: =IF(OR(F13="diskval.",G13="diskval."),"diskval.",F13+G13) -> 34.43 | I13: =IF(OR(věže!G8=0,věže!H8=0),100,MAX(věže!G8:H8)) -> 15.19 | J13: =IF(OR('100m'!G8=0,'100m'!H8=0),100,MAX('100m'!G8:H8)) -> 100 | K13: =IF(H13="diskval.",1000,H13+((IF(I13>0,I13,100)+IF(J13>0,J13,100))/100000)) -> 34.431152
A14: 11 | C14: 22 | D14: Hůla | E14: Jan | F14: 16.17 | G14: 18.44 | H14: =IF(OR(F14="diskval.",G14="diskval."),"diskval.",F14+G14) -> 34.61 | I14: =IF(OR(věže!G21=0,věže!H21=0),100,MAX(věže!G21:H21)) -> 17.77 | J14: =IF(OR('100m'!G21=0,'100m'!H21=0),100,MAX('100m'!G21:H21)) -> 18.96 | K14: =IF(H14="diskval.",1000,H14+((IF(I14>0,I14,100)+IF(J14>0,J14,100))/100000)) -> 34.610367
A15: 12 | C15: 15 | D15: Hrdlička | E15: Jaroslav | F15: 16.15 | G15: 18.76 | H15: =IF(OR(F15="diskval.",G15="diskval."),"diskval.",F15+G15) -> 34.91 | I15: =IF(OR(věže!G4=0,věže!H4=0),100,MAX(věže!G4:H4)) -> 15.42 | J15: =IF(OR('100m'!G4=0,'100m'!H4=0),100,MAX('100m'!G4:H4)) -> 16.22 | K15: =IF(H15="diskval.",1000,H15+((IF(I15>0,I15,100)+IF(J15>0,J15,100))/100000)) -> 34.910316
A16: 13 | C16: 14 | D16: Janko | E16: Vladimír | F16: 16.73 | G16: 18.34 | H16: =IF(OR(F16="diskval.",G16="diskval."),"diskval.",F16+G16) -> 35.07 | I16: =IF(OR(věže!G50=0,věže!H50=0),100,MAX(věže!G50:H50)) -> 100 | J16: =IF(OR('100m'!G50=0,'100m'!H50=0),100,MAX('100m'!G50:H50)) -> 100 | K16: =IF(H16="diskval.",1000,H16+((IF(I16>0,I16,100)+IF(J16>0,J16,100))/100000)) -> 35.072
A17: 14 | C17: 13 | D17: Provazník | E17: Martin | F17: 16.89 | G17: 18.34 | H17: =IF(OR(F17="diskval.",G17="diskval."),"diskval.",F17+G17) -> 35.23 | I17: =IF(OR(věže!G89=0,věže!H89=0),100,MAX(věže!G89:H89)) -> 100 | J17: =IF(OR('100m'!G89=0,'100m'!H89=0),100,MAX('100m'!G89:H89)) -> 100 | K17: =IF(H17="diskval.",1000,H17+((IF(I17>0,I17,100)+IF(J17>0,J17,100))/100000)) -> 35.232
A18: 15 | C18: 38 | D18: Dopirák | E18: David | F18: 15.27 | G18: 21.06 | H18: =IF(OR(F18="diskval.",G18="diskval."),"diskval.",F18+G18) -> 36.33 | I18: =IF(OR(věže!G86=0,věže!H86=0),100,MAX(věže!G86:H86)) -> 100 | J18: =IF(OR('100m'!G86=0,'100m'!H86=0),100,MAX('100m'!G86:H86)) -> 100 | K18: =IF(H18="diskval.",1000,H18+((IF(I18>0,I18,100)+IF(J18>0,J18,100))/100000)) -> 36.332
A19: 16 | C19: 11 | D19: Vyhnálek | E19: Jan | F19: 17.07 | G19: 19.98 | H19: =IF(OR(F19="diskval.",G19="diskval."),"diskval.",F19+G19) -> 37.05 | I19: =IF(OR(věže!G31=0,věže!H31=0),100,MAX(věže!G31:H31)) -> 23.58 | J19: =IF(OR('100m'!G31=0,'100m'!H31=0),100,MAX('100m'!G31:H31)) -> 20.46 | K19: =IF(H19="diskval.",1000,H19+((IF(I19>0,I19,100)+IF(J19>0,J19,100))/100000)) -> 37.05044
A20: 17 | C20: 24 | D20: Snášel | E20: Patrik | F20: 20.23 | G20: 16.93 | H20: =IF(OR(F20="diskval.",G20="diskval."),"diskval.",F20+G20) -> 37.16 | I20: =IF(OR(věže!G43=0,věže!H43=0),100,MAX(věže!G43:H43)) -> 100 | J20: =IF(OR('100m'!G43=0,'100m'!H43=0),100,MAX('100m'!G43:H43)) -> 100 | K20: =IF(H20="diskval.",1000,H20+((IF(I20>0,I20,100)+IF(J20>0,J20,100))/100000)) -> 37.162
A21: 18 | C21: 9 | D21: Píbal | E21: Jiří | F21: 17.41 | G21: 20.09 | H21: =IF(OR(F21="diskval.",G21="diskval."),"diskval.",F21+G21) -> 37.5 | I21: =IF(OR(věže!G14=0,věže!H14=0),100,MAX(věže!G14:H14)) -> 17.22 | J21: =IF(OR('100m'!G14=0,'100m'!H14=0),100,MAX('100m'!G14:H14)) -> 100 | K21: =IF(H21="diskval.",1000,H21+((IF(I21>0,I21,100)+IF(J21>0,J21,100))/100000)) -> 37.501172
A22: 19 | C22: 10 | D22: Knotek | E22: Radim | F22: 20.43 | G22: 17.79 | H22: =IF(OR(F22="diskval.",G22="diskval."),"diskval.",F22+G22) -> 38.22 | I22: =IF(OR(věže!G60=0,věže!H60=0),100,MAX(věže!G60:H60)) -> 100 | J22: =IF(OR('100m'!G60=0,'100m'!H60=0),100,MAX('100m'!G60:H60)) -> 100 | K22: =IF(H22="diskval.",1000,H22+((IF(I22>0,I22,100)+IF(J22>0,J22,100))/100000)) -> 38.222
A23: 20 | C23: 7 | D23: Roháč | E23: Martin | F23: 18.27 | G23: 20.03 | H23: =IF(OR(F23="diskval.",G23="diskval."),"diskval.",F23+G23) -> 38.3 | I23: =IF(OR(věže!G13=0,věže!H13=0),100,MAX(věže!G13:H13)) -> 15.45 | J23: =IF(OR('100m'!G13=0,'100m'!H13=0),100,MAX('100m'!G13:H13)) -> 100 | K23: =IF(H23="diskval.",1000,H23+((IF(I23>0,I23,100)+IF(J23>0,J23,100))/100000)) -> 38.301154
A24: 21 | C24: 20 | D24: Joukl | E24: Jiří | F24: 19.37 | G24: 19.04 | H24: =IF(OR(F24="diskval.",G24="diskval."),"diskval.",F24+G24) -> 38.41 | I24: =IF(OR(věže!G26=0,věže!H26=0),100,MAX(věže!G26:H26)) -> 100 | J24: =IF(OR('100m'!G26=0,'100m'!H26=0),100,MAX('100m'!G26:H26)) -> 20.3 | K24: =IF(H24="diskval.",1000,H24+((IF(I24>0,I24,100)+IF(J24>0,J24,100))/100000)) -> 38.411203
A25: 22 | C25: 31 | D25: Vašulka | E25: Petr | F25: 20.47 | G25: 18.58 | H25: =IF(OR(F25="diskval.",G25="diskval."),"diskval.",F25+G25) -> 39.05 | I25: =IF(OR(věže!G51=0,věže!H51=0),100,MAX(věže!G51:H51)) -> 100 | J25: =IF(OR('100m'!G51=0,'100m'!H51=0),100,MAX('100m'!G51:H51)) -> 100 | K25: =IF(H25="diskval.",1000,H25+((IF(I25>0,I25,100)+IF(J25>0,J25,100))/100000)) -> 39.052
A26: 23 | C26: 3 | D26: Smutný | E26: Martin | F26: 20.56 | G26: 18.61 | H26: =IF(OR(F26="diskval.",G26="diskval."),"diskval.",F26+G26) -> 39.17 | I26: =IF(OR(věže!G27=0,věže!H27=0),100,MAX(věže!G27:H27)) -> 20.81 | J26: =IF(OR('100m'!G27=0,'100m'!H27=0),100,MAX('100m'!G27:H27)) -> 100 | K26: =IF(H26="diskval.",1000,H26+((IF(I26>0,I26,100)+IF(J26>0,J26,100))/100000)) -> 39.171208
A27: 24 | C27: 1 | D27: Tomášek | E27: Jan | F27: 21.61 | G27: 18.64 | H27: =IF(OR(F27="diskval.",G27="diskval."),"diskval.",F27+G27) -> 40.25 | I27: =IF(OR(věže!G91=0,věže!H91=0),100,MAX(věže!G91:H91)) -> 100 | J27: =IF(OR('100m'!G91=0,'100m'!H91=0),100,MAX('100m'!G91:H91)) -> 100 | K27: =IF(H27="diskval.",1000,H27+((IF(I27>0,I27,100)+IF(J27>0,J27,100))/100000)) -> 40.252
A28: 25 | C28: 8 | D28: Klimeš | E28: Martin | F28: 21.49 | G28: 18.9 | H28: =IF(OR(F28="diskval.",G28="diskval."),"diskval.",F28+G28) -> 40.39 | I28: =IF(OR(věže!G85=0,věže!H85=0),100,MAX(věže!G85:H85)) -> 100 | J28: =IF(OR('100m'!G85=0,'100m'!H85=0),100,MAX('100m'!G85:H85)) -> 100 | K28: =IF(H28="diskval.",1000,H28+((IF(I28>0,I28,100)+IF(J28>0,J28,100))/100000)) -> 40.392
A29: 26 | C29: 27 | D29: Vaněk | E29: Václav | F29: 23.11 | G29: 19.66 | H29: =IF(OR(F29="diskval.",G29="diskval."),"diskval.",F29+G29) -> 42.77 | I29: =IF(OR(věže!G25=0,věže!H25=0),100,MAX(věže!G25:H25)) -> 19.78 | J29: =IF(OR('100m'!G25=0,'100m'!H25=0),100,MAX('100m'!G25:H25)) -> 22.84 | K29: =IF(H29="diskval.",1000,H29+((IF(I29>0,I29,100)+IF(J29>0,J29,100))/100000)) -> 42.770426
A30: 27 | C30: 17 | D30: Filip | E30: Petr | F30: 23.14 | G30: 21.87 | H30: =IF(OR(F30="diskval.",G30="diskval."),"diskval.",F30+G30) -> 45.01 | I30: =IF(OR(věže!G78=0,věže!H78=0),100,MAX(věže!G78:H78)) -> 100 | J30: =IF(OR('100m'!G78=0,'100m'!H78=0),100,MAX('100m'!G78:H78)) -> 100 | K30: =IF(H30="diskval.",1000,H30+((IF(I30>0,I30,100)+IF(J30>0,J30,100))/100000)) -> 45.012
A31: 28 | C31: 2 | D31: Ryšavý | E31: Vilém | F31: 16.64 | G31: diskval. | H31: =IF(OR(F31="diskval.",G31="diskval."),"diskval.",F31+G31) -> diskval. | I31: =IF(OR(věže!G74=0,věže!H74=0),100,MAX(věže!G74:H74)) -> 100 | J31: =IF(OR('100m'!G74=0,'100m'!H74=0),100,MAX('100m'!G74:H74)) -> 100 | K31: =IF(H31="diskval.",1000,H31+((IF(I31>0,I31,100)+IF(J31>0,J31,100))/100000)) -> 1000
A32: 29 | C32: 5 | D32: Tůma | E32: Milan | F32: 15.7 | G32: diskval. | H32: =IF(OR(F32="diskval.",G32="diskval."),"diskval.",F32+G32) -> diskval. | I32: =IF(OR(věže!G48=0,věže!H48=0),100,MAX(věže!G48:H48)) -> 100 | J32: =IF(OR('100m'!G48=0,'100m'!H48=0),100,MAX('100m'!G48:H48)) -> 100 | K32: =IF(H32="diskval.",1000,H32+((IF(I32>0,I32,100)+IF(J32>0,J32,100))/100000)) -> 1000
A33: 30 | C33: 6 | D33: Nýdl | E33: Jakub | F33: diskval. | G33: 18.97 | H33: =IF(OR(F33="diskval.",G33="diskval."),"diskval.",F33+G33) -> diskval. | I33: =IF(OR(věže!G53=0,věže!H53=0),100,MAX(věže!G53:H53)) -> 100 | J33: =IF(OR('100m'!G53=0,'100m'!H53=0),100,MAX('100m'!G53:H53)) -> 100 | K33: =IF(H33="diskval.",1000,H33+((IF(I33>0,I33,100)+IF(J33>0,J33,100))/100000)) -> 1000
A34: 31 | C34: 16 | D34: Klenka | E34: Vojtěch | F34: 14.78 | G34: diskval. | H34: =IF(OR(F34="diskval.",G34="diskval."),"diskval.",F34+G34) -> diskval. | I34: =IF(OR(věže!G49=0,věže!H49=0),100,MAX(věže!G49:H49)) -> 100 | J34: =IF(OR('100m'!G49=0,'100m'!H49=0),100,MAX('100m'!G49:H49)) -> 100 | K34: =IF(H34="diskval.",1000,H34+((IF(I34>0,I34,100)+IF(J34>0,J34,100))/100000)) -> 1000
A35: 32 | C35: 19 | D35: Tomášek | E35: Martin | F35: diskval. | G35: 19.22 | H35: =IF(OR(F35="diskval.",G35="diskval."),"diskval.",F35+G35) -> diskval. | I35: =IF(OR(věže!G65=0,věže!H65=0),100,MAX(věže!G65:H65)) -> 100 | J35: =IF(OR('100m'!G65=0,'100m'!H65=0),100,MAX('100m'!G65:H65)) -> 100 | K35: =IF(H35="diskval.",1000,H35+((IF(I35>0,I35,100)+IF(J35>0,J35,100))/100000)) -> 1000
A36: 33 | C36: 21 | D36: Divoš | E36: Václav | F36: 14.59 | G36: diskval. | H36: =IF(OR(F36="diskval.",G36="diskval."),"diskval.",F36+G36) -> diskval. | I36: =IF(OR(věže!G38=0,věže!H38=0),100,MAX(věže!G38:H38)) -> 25.3 | J36: =IF(OR('100m'!G38=0,'100m'!H38=0),100,MAX('100m'!G38:H38)) -> 100 | K36: =IF(H36="diskval.",1000,H36+((IF(I36>0,I36,100)+IF(J36>0,J36,100))/100000)) -> 1000
A37: 34 | C37: 26 | D37: Senohrábek | E37: Bojislav | F37: diskval. | G37: 18.56 | H37: =IF(OR(F37="diskval.",G37="diskval."),"diskval.",F37+G37) -> diskval. | I37: =IF(OR(věže!G77=0,věže!H77=0),100,MAX(věže!G77:H77)) -> 100 | J37: =IF(OR('100m'!G77=0,'100m'!H77=0),100,MAX('100m'!G77:H77)) -> 100 | K37: =IF(H37="diskval.",1000,H37+((IF(I37>0,I37,100)+IF(J37>0,J37,100))/100000)) -> 1000
A38: 35 | C38: 29 | D38: Hradil | E38: Zbyněk | F38: 17.23 | G38: diskval. | H38: =IF(OR(F38="diskval.",G38="diskval."),"diskval.",F38+G38) -> diskval. | I38: =IF(OR(věže!G69=0,věže!H69=0),100,MAX(věže!G69:H69)) -> 100 | J38: =IF(OR('100m'!G69=0,'100m'!H69=0),100,MAX('100m'!G69:H69)) -> 100 | K38: =IF(H38="diskval.",1000,H38+((IF(I38>0,I38,100)+IF(J38>0,J38,100))/100000)) -> 1000
A39: 36 | C39: 30 | D39: Svačina | E39: Richard | F39: 15.97 | G39: diskval. | H39: =IF(OR(F39="diskval.",G39="diskval."),"diskval.",F39+G39) -> diskval. | I39: =IF(OR(věže!G64=0,věže!H64=0),100,MAX(věže!G64:H64)) -> 100 | J39: =IF(OR('100m'!G64=0,'100m'!H64=0),100,MAX('100m'!G64:H64)) -> 100 | K39: =IF(H39="diskval.",1000,H39+((IF(I39>0,I39,100)+IF(J39>0,J39,100))/100000)) -> 1000
A40: 37 | C40: 35 | D40: Krpec | E40: Pavel | F40: 15.13 | G40: diskval. | H40: =IF(OR(F40="diskval.",G40="diskval."),"diskval.",F40+G40) -> diskval. | I40: =IF(OR(věže!G23=0,věže!H23=0),100,MAX(věže!G23:H23)) -> 100 | J40: =IF(OR('100m'!G23=0,'100m'!H23=0),100,MAX('100m'!G23:H23)) -> 20.6 | K40: =IF(H40="diskval.",1000,H40+((IF(I40>0,I40,100)+IF(J40>0,J40,100))/100000)) -> 1000
A41: 38 | C41: 36 | D41: Klvaňa | E41: Daniel | F41: 15.81 | G41: diskval. | H41: =IF(OR(F41="diskval.",G41="diskval."),"diskval.",F41+G41) -> diskval. | I41: =IF(OR(věže!G18=0,věže!H18=0),100,MAX(věže!G18:H18)) -> 16.83 | J41: =IF(OR('100m'!G18=0,'100m'!H18=0),100,MAX('100m'!G18:H18)) -> 18.64 | K41: =IF(H41="diskval.",1000,H41+((IF(I41>0,I41,100)+IF(J41>0,J41,100))/100000)) -> 1000
A42: 39 | C42: 40 | H42: =IF(OR(F42="diskval.",G42="diskval."),"diskval.",F42+G42) -> 0 | I42: =IF(OR(věže!G32=0,věže!H32=0),100,MAX(věže!G32:H32)) -> 20.98 | J42: =IF(OR('100m'!G32=0,'100m'!H32=0),100,MAX('100m'!G32:H32)) -> 100 | K42: =IF(H42="diskval.",1000,H42+((IF(I42>0,I42,100)+IF(J42>0,J42,100))/100000)) -> 0.0012098
A43: 40 | H43: =IF(OR(F43="diskval.",G43="diskval."),"diskval.",F43+G43) -> 0 | I43: =IF(OR(věže!G59=0,věže!H59=0),100,MAX(věže!G59:H59)) -> 100 | J43: =IF(OR('100m'!G59=0,'100m'!H59=0),100,MAX('100m'!G59:H59)) -> 100 | K43: =IF(H43="diskval.",1000,H43+((IF(I43>0,I43,100)+IF(J43>0,J43,100))/100000)) -> 0.002
A44: 41 | H44: =IF(OR(F44="diskval.",G44="diskval."),"diskval.",F44+G44) -> 0 | I44: =IF(OR(věže!G19=0,věže!H19=0),100,MAX(věže!G19:H19)) -> 16.59 | J44: =IF(OR('100m'!G19=0,'100m'!H19=0),100,MAX('100m'!G19:H19)) -> 19.24 | K44: =IF(H44="diskval.",1000,H44+((IF(I44>0,I44,100)+IF(J44>0,J44,100))/100000)) -> 0.0003583
A45: 42 | H45: =IF(OR(F45="diskval.",G45="diskval."),"diskval.",F45+G45) -> 0 | I45: =IF(OR(věže!G75=0,věže!H75=0),100,MAX(věže!G75:H75)) -> 100 | J45: =IF(OR('100m'!G75=0,'100m'!H75=0),100,MAX('100m'!G75:H75)) -> 100 | K45: =IF(H45="diskval.",1000,H45+((IF(I45>0,I45,100)+IF(J45>0,J45,100))/100000)) -> 0.002
A46: 43 | H46: =IF(OR(F46="diskval.",G46="diskval."),"diskval.",F46+G46) -> 0 | I46: =IF(OR(věže!G33=0,věže!H33=0),100,MAX(věže!G33:H33)) -> 100 | J46: =IF(OR('100m'!G33=0,'100m'!H33=0),100,MAX('100m'!G33:H33)) -> 100 | K46: =IF(H46="diskval.",1000,H46+((IF(I46>0,I46,100)+IF(J46>0,J46,100))/100000)) -> 0.002
A47: 44 | H47: =IF(OR(F47="diskval.",G47="diskval."),"diskval.",F47+G47) -> 0 | I47: =IF(OR(věže!G37=0,věže!H37=0),100,MAX(věže!G37:H37)) -> 26.4 | J47: =IF(OR('100m'!G37=0,'100m'!H37=0),100,MAX('100m'!G37:H37)) -> 100 | K47: =IF(H47="diskval.",1000,H47+((IF(I47>0,I47,100)+IF(J47>0,J47,100))/100000)) -> 0.001264
A48: 45 | H48: =IF(OR(F48="diskval.",G48="diskval."),"diskval.",F48+G48) -> 0 | I48: =IF(OR(věže!G67=0,věže!H67=0),100,MAX(věže!G67:H67)) -> 100 | J48: =IF(OR('100m'!G67=0,'100m'!H67=0),100,MAX('100m'!G67:H67)) -> 100 | K48: =IF(H48="diskval.",1000,H48+((IF(I48>0,I48,100)+IF(J48>0,J48,100))/100000)) -> 0.002
A49: 46 | H49: =IF(OR(F49="diskval.",G49="diskval."),"diskval.",F49+G49) -> 0 | I49: =IF(OR(věže!G84=0,věže!H84=0),100,MAX(věže!G84:H84)) -> 100 | J49: =IF(OR('100m'!G84=0,'100m'!H84=0),100,MAX('100m'!G84:H84)) -> 100 | K49: =IF(H49="diskval.",1000,H49+((IF(I49>0,I49,100)+IF(J49>0,J49,100))/100000)) -> 0.002
A50: 47 | H50: =IF(OR(F50="diskval.",G50="diskval."),"diskval.",F50+G50) -> 0 | I50: =IF(OR(věže!G90=0,věže!H90=0),100,MAX(věže!G90:H90)) -> 100 | J50: =IF(OR('100m'!G90=0,'100m'!H90=0),100,MAX('100m'!G90:H90)) -> 100 | K50: =IF(H50="diskval.",1000,H50+((IF(I50>0,I50,100)+IF(J50>0,J50,100))/100000)) -> 0.002
A51: 48 | H51: =IF(OR(F51="diskval.",G51="diskval."),"diskval.",F51+G51) -> 0 | I51: =IF(OR(věže!G45=0,věže!H45=0),100,MAX(věže!G45:H45)) -> 100 | J51: =IF(OR('100m'!G45=0,'100m'!H45=0),100,MAX('100m'!G45:H45)) -> 100 | K51: =IF(H51="diskval.",1000,H51+((IF(I51>0,I51,100)+IF(J51>0,J51,100))/100000)) -> 0.002
A52: 49 | H52: =IF(OR(F52="diskval.",G52="diskval."),"diskval.",F52+G52) -> 0 | I52: =IF(OR(věže!G88=0,věže!H88=0),100,MAX(věže!G88:H88)) -> 100 | J52: =IF(OR('100m'!G88=0,'100m'!H88=0),100,MAX('100m'!G88:H88)) -> 100 | K52: =IF(H52="diskval.",1000,H52+((IF(I52>0,I52,100)+IF(J52>0,J52,100))/100000)) -> 0.002
A53: 50 | H53: =IF(OR(F53="diskval.",G53="diskval."),"diskval.",F53+G53) -> 0 | I53: =IF(OR(věže!G39=0,věže!H39=0),100,MAX(věže!G39:H39)) -> 100 | J53: =IF(OR('100m'!G39=0,'100m'!H39=0),100,MAX('100m'!G39:H39)) -> 100 | K53: =IF(H53="diskval.",1000,H53+((IF(I53>0,I53,100)+IF(J53>0,J53,100))/100000)) -> 0.002
A54: 51 | H54: =IF(OR(F54="diskval.",G54="diskval."),"diskval.",F54+G54) -> 0 | I54: =IF(OR(věže!G16=0,věže!H16=0),100,MAX(věže!G16:H16)) -> 17.52 | J54: =IF(OR('100m'!G16=0,'100m'!H16=0),100,MAX('100m'!G16:H16)) -> 18.56 | K54: =IF(H54="diskval.",1000,H54+((IF(I54>0,I54,100)+IF(J54>0,J54,100))/100000)) -> 0.0003608
A55: 52 | H55: =IF(OR(F55="diskval.",G55="diskval."),"diskval.",F55+G55) -> 0 | I55: =IF(OR(věže!G83=0,věže!H83=0),100,MAX(věže!G83:H83)) -> 100 | J55: =IF(OR('100m'!G83=0,'100m'!H83=0),100,MAX('100m'!G83:H83)) -> 100 | K55: =IF(H55="diskval.",1000,H55+((IF(I55>0,I55,100)+IF(J55>0,J55,100))/100000)) -> 0.002
A56: 53 | H56: =IF(OR(F56="diskval.",G56="diskval."),"diskval.",F56+G56) -> 0 | I56: =IF(OR(věže!G63=0,věže!H63=0),100,MAX(věže!G63:H63)) -> 100 | J56: =IF(OR('100m'!G63=0,'100m'!H63=0),100,MAX('100m'!G63:H63)) -> 100 | K56: =IF(H56="diskval.",1000,H56+((IF(I56>0,I56,100)+IF(J56>0,J56,100))/100000)) -> 0.002
A57: 54 | H57: =IF(OR(F57="diskval.",G57="diskval."),"diskval.",F57+G57) -> 0 | I57: =IF(OR(věže!G72=0,věže!H72=0),100,MAX(věže!G72:H72)) -> 100 | J57: =IF(OR('100m'!G72=0,'100m'!H72=0),100,MAX('100m'!G72:H72)) -> 100 | K57: =IF(H57="diskval.",1000,H57+((IF(I57>0,I57,100)+IF(J57>0,J57,100))/100000)) -> 0.002
A58: 55 | H58: =IF(OR(F58="diskval.",G58="diskval."),"diskval.",F58+G58) -> 0 | I58: =IF(OR(věže!G17=0,věže!H17=0),100,MAX(věže!G17:H17)) -> 16.23 | J58: =IF(OR('100m'!G17=0,'100m'!H17=0),100,MAX('100m'!G17:H17)) -> 100 | K58: =IF(H58="diskval.",1000,H58+((IF(I58>0,I58,100)+IF(J58>0,J58,100))/100000)) -> 0.0011623
A59: 56 | H59: =IF(OR(F59="diskval.",G59="diskval."),"diskval.",F59+G59) -> 0 | I59: =IF(OR(věže!G22=0,věže!H22=0),100,MAX(věže!G22:H22)) -> 16.75 | J59: =IF(OR('100m'!G22=0,'100m'!H22=0),100,MAX('100m'!G22:H22)) -> 100 | K59: =IF(H59="diskval.",1000,H59+((IF(I59>0,I59,100)+IF(J59>0,J59,100))/100000)) -> 0.0011675
A60: 57 | H60: =IF(OR(F60="diskval.",G60="diskval."),"diskval.",F60+G60) -> 0 | I60: =IF(OR(věže!G70=0,věže!H70=0),100,MAX(věže!G70:H70)) -> 100 | J60: =IF(OR('100m'!G70=0,'100m'!H70=0),100,MAX('100m'!G70:H70)) -> 100 | K60: =IF(H60="diskval.",1000,H60+((IF(I60>0,I60,100)+IF(J60>0,J60,100))/100000)) -> 0.002
A61: 58 | H61: =IF(OR(F61="diskval.",G61="diskval."),"diskval.",F61+G61) -> 0 | I61: =IF(OR(věže!G47=0,věže!H47=0),100,MAX(věže!G47:H47)) -> 100 | J61: =IF(OR('100m'!G47=0,'100m'!H47=0),100,MAX('100m'!G47:H47)) -> 100 | K61: =IF(H61="diskval.",1000,H61+((IF(I61>0,I61,100)+IF(J61>0,J61,100))/100000)) -> 0.002
A62: 59 | H62: =IF(OR(F62="diskval.",G62="diskval."),"diskval.",F62+G62) -> 0 | I62: =IF(OR(věže!G58=0,věže!H58=0),100,MAX(věže!G58:H58)) -> 100 | J62: =IF(OR('100m'!G58=0,'100m'!H58=0),100,MAX('100m'!G58:H58)) -> 100 | K62: =IF(H62="diskval.",1000,H62+((IF(I62>0,I62,100)+IF(J62>0,J62,100))/100000)) -> 0.002
A63: 60 | H63: =IF(OR(F63="diskval.",G63="diskval."),"diskval.",F63+G63) -> 0 | I63: =IF(OR(věže!G11=0,věže!H11=0),100,MAX(věže!G11:H11)) -> 15.33 | J63: =IF(OR('100m'!G11=0,'100m'!H11=0),100,MAX('100m'!G11:H11)) -> 100 | K63: =IF(H63="diskval.",1000,H63+((IF(I63>0,I63,100)+IF(J63>0,J63,100))/100000)) -> 0.0011533
A64: 61 | H64: =IF(OR(F64="diskval.",G64="diskval."),"diskval.",F64+G64) -> 0 | I64: =IF(OR(věže!G62=0,věže!H62=0),100,MAX(věže!G62:H62)) -> 100 | J64: =IF(OR('100m'!G62=0,'100m'!H62=0),100,MAX('100m'!G62:H62)) -> 100 | K64: =IF(H64="diskval.",1000,H64+((IF(I64>0,I64,100)+IF(J64>0,J64,100))/100000)) -> 0.002
A65: 62 | H65: =IF(OR(F65="diskval.",G65="diskval."),"diskval.",F65+G65) -> 0 | I65: =IF(OR(věže!G6=0,věže!H6=0),100,MAX(věže!G6:H6)) -> 15.67 | J65: =IF(OR('100m'!G6=0,'100m'!H6=0),100,MAX('100m'!G6:H6)) -> 100 | K65: =IF(H65="diskval.",1000,H65+((IF(I65>0,I65,100)+IF(J65>0,J65,100))/100000)) -> 0.0011567
A66: 63 | H66: =IF(OR(F66="diskval.",G66="diskval."),"diskval.",F66+G66) -> 0 | I66: =IF(OR(věže!G40=0,věže!H40=0),100,MAX(věže!G40:H40)) -> 100 | J66: =IF(OR('100m'!G40=0,'100m'!H40=0),100,MAX('100m'!G40:H40)) -> 100 | K66: =IF(H66="diskval.",1000,H66+((IF(I66>0,I66,100)+IF(J66>0,J66,100))/100000)) -> 0.002
A67: 64 | H67: =IF(OR(F67="diskval.",G67="diskval."),"diskval.",F67+G67) -> 0 | I67: =IF(OR(věže!G55=0,věže!H55=0),100,MAX(věže!G55:H55)) -> 100 | J67: =IF(OR('100m'!G55=0,'100m'!H55=0),100,MAX('100m'!G55:H55)) -> 100 | K67: =IF(H67="diskval.",1000,H67+((IF(I67>0,I67,100)+IF(J67>0,J67,100))/100000)) -> 0.002
A68: 65 | H68: =IF(OR(F68="diskval.",G68="diskval."),"diskval.",F68+G68) -> 0 | I68: =IF(OR(věže!G5=0,věže!H5=0),100,MAX(věže!G5:H5)) -> 15.04 | J68: =IF(OR('100m'!G5=0,'100m'!H5=0),100,MAX('100m'!G5:H5)) -> 24.66 | K68: =IF(H68="diskval.",1000,H68+((IF(I68>0,I68,100)+IF(J68>0,J68,100))/100000)) -> 0.000397
A69: 66 | H69: =IF(OR(F69="diskval.",G69="diskval."),"diskval.",F69+G69) -> 0 | I69: =IF(OR(věže!G36=0,věže!H36=0),100,MAX(věže!G36:H36)) -> 100 | J69: =IF(OR('100m'!G36=0,'100m'!H36=0),100,MAX('100m'!G36:H36)) -> 100 | K69: =IF(H69="diskval.",1000,H69+((IF(I69>0,I69,100)+IF(J69>0,J69,100))/100000)) -> 0.002
A70: 67 | H70: =IF(OR(F70="diskval.",G70="diskval."),"diskval.",F70+G70) -> 0 | I70: =IF(OR(věže!G15=0,věže!H15=0),100,MAX(věže!G15:H15)) -> 16.6 | J70: =IF(OR('100m'!G15=0,'100m'!H15=0),100,MAX('100m'!G15:H15)) -> 100 | K70: =IF(H70="diskval.",1000,H70+((IF(I70>0,I70,100)+IF(J70>0,J70,100))/100000)) -> 0.001166
A71: 68 | H71: =IF(OR(F71="diskval.",G71="diskval."),"diskval.",F71+G71) -> 0 | I71: =IF(OR(věže!G92=0,věže!H92=0),100,MAX(věže!G92:H92)) -> 100 | J71: =IF(OR('100m'!G92=0,'100m'!H92=0),100,MAX('100m'!G92:H92)) -> 100 | K71: =IF(H71="diskval.",1000,H71+((IF(I71>0,I71,100)+IF(J71>0,J71,100))/100000)) -> 0.002
A72: 69 | H72: =IF(OR(F72="diskval.",G72="diskval."),"diskval.",F72+G72) -> 0 | I72: =IF(OR(věže!G42=0,věže!H42=0),100,MAX(věže!G42:H42)) -> 100 | J72: =IF(OR('100m'!G42=0,'100m'!H42=0),100,MAX('100m'!G42:H42)) -> 100 | K72: =IF(H72="diskval.",1000,H72+((IF(I72>0,I72,100)+IF(J72>0,J72,100))/100000)) -> 0.002
A73: 70 | H73: =IF(OR(F73="diskval.",G73="diskval."),"diskval.",F73+G73) -> 0 | I73: =IF(OR(věže!G82=0,věže!H82=0),100,MAX(věže!G82:H82)) -> 100 | J73: =IF(OR('100m'!G82=0,'100m'!H82=0),100,MAX('100m'!G82:H82)) -> 100 | K73: =IF(H73="diskval.",1000,H73+((IF(I73>0,I73,100)+IF(J73>0,J73,100))/100000)) -> 0.002
A74: 71 | H74: =IF(OR(F74="diskval.",G74="diskval."),"diskval.",F74+G74) -> 0 | I74: =IF(OR(věže!G3=0,věže!H3=0),100,MAX(věže!G3:H3)) -> 15.44 | J74: =IF(OR('100m'!G3=0,'100m'!H3=0),100,MAX('100m'!G3:H3)) -> 16.02 | K74: =IF(H74="diskval.",1000,H74+((IF(I74>0,I74,100)+IF(J74>0,J74,100))/100000)) -> 0.0003146
A75: 72 | H75: =IF(OR(F75="diskval.",G75="diskval."),"diskval.",F75+G75) -> 0 | I75: =IF(OR(věže!G7=0,věže!H7=0),100,MAX(věže!G7:H7)) -> 19.11 | J75: =IF(OR('100m'!G7=0,'100m'!H7=0),100,MAX('100m'!G7:H7)) -> 100 | K75: =IF(H75="diskval.",1000,H75+((IF(I75>0,I75,100)+IF(J75>0,J75,100))/100000)) -> 0.0011911
A76: 73 | H76: =IF(OR(F76="diskval.",G76="diskval."),"diskval.",F76+G76) -> 0 | I76: =IF(OR(věže!G20=0,věže!H20=0),100,MAX(věže!G20:H20)) -> 16.84 | J76: =IF(OR('100m'!G20=0,'100m'!H20=0),100,MAX('100m'!G20:H20)) -> 23.55 | K76: =IF(H76="diskval.",1000,H76+((IF(I76>0,I76,100)+IF(J76>0,J76,100))/100000)) -> 0.0004039
A77: 74 | H77: =IF(OR(F77="diskval.",G77="diskval."),"diskval.",F77+G77) -> 0 | I77: =IF(OR(věže!G24=0,věže!H24=0),100,MAX(věže!G24:H24)) -> 23.09 | J77: =IF(OR('100m'!G24=0,'100m'!H24=0),100,MAX('100m'!G24:H24)) -> 100 | K77: =IF(H77="diskval.",1000,H77+((IF(I77>0,I77,100)+IF(J77>0,J77,100))/100000)) -> 0.0012309
A78: 75 | H78: =IF(OR(F78="diskval.",G78="diskval."),"diskval.",F78+G78) -> 0 | I78: =IF(OR(věže!G28=0,věže!H28=0),100,MAX(věže!G28:H28)) -> 19.68 | J78: =IF(OR('100m'!G28=0,'100m'!H28=0),100,MAX('100m'!G28:H28)) -> 22.5 | K78: =IF(H78="diskval.",1000,H78+((IF(I78>0,I78,100)+IF(J78>0,J78,100))/100000)) -> 0.0004218
A79: 76 | H79: =IF(OR(F79="diskval.",G79="diskval."),"diskval.",F79+G79) -> 0 | I79: =IF(OR(věže!G30=0,věže!H30=0),100,MAX(věže!G30:H30)) -> 21.47 | J79: =IF(OR('100m'!G30=0,'100m'!H30=0),100,MAX('100m'!G30:H30)) -> 20.25 | K79: =IF(H79="diskval.",1000,H79+((IF(I79>0,I79,100)+IF(J79>0,J79,100))/100000)) -> 0.0004172
A80: 77 | H80: =IF(OR(F80="diskval.",G80="diskval."),"diskval.",F80+G80) -> 0 | I80: =IF(OR(věže!G35=0,věže!H35=0),100,MAX(věže!G35:H35)) -> 100 | J80: =IF(OR('100m'!G35=0,'100m'!H35=0),100,MAX('100m'!G35:H35)) -> 100 | K80: =IF(H80="diskval.",1000,H80+((IF(I80>0,I80,100)+IF(J80>0,J80,100))/100000)) -> 0.002
A81: 78 | H81: =IF(OR(F81="diskval.",G81="diskval."),"diskval.",F81+G81) -> 0 | I81: =IF(OR(věže!G41=0,věže!H41=0),100,MAX(věže!G41:H41)) -> 100 | J81: =IF(OR('100m'!G41=0,'100m'!H41=0),100,MAX('100m'!G41:H41)) -> 100 | K81: =IF(H81="diskval.",1000,H81+((IF(I81>0,I81,100)+IF(J81>0,J81,100))/100000)) -> 0.002
A82: 79 | C82: 80 | H82: =IF(OR(F82="diskval.",G82="diskval."),"diskval.",F82+G82) -> 0 | I82: =IF(OR(věže!G44=0,věže!H44=0),100,MAX(věže!G44:H44)) -> 100 | J82: =IF(OR('100m'!G44=0,'100m'!H44=0),100,MAX('100m'!G44:H44)) -> 100 | K82: =IF(H82="diskval.",1000,H82+((IF(I82>0,I82,100)+IF(J82>0,J82,100))/100000)) -> 0.002
A83: 80 | C83: 81 | H83: =IF(OR(F83="diskval.",G83="diskval."),"diskval.",F83+G83) -> 0 | I83: =IF(OR(věže!G46=0,věže!H46=0),100,MAX(věže!G46:H46)) -> 100 | J83: =IF(OR('100m'!G46=0,'100m'!H46=0),100,MAX('100m'!G46:H46)) -> 100 | K83: =IF(H83="diskval.",1000,H83+((IF(I83>0,I83,100)+IF(J83>0,J83,100))/100000)) -> 0.002
A84: 81 | C84: 82 | H84: =IF(OR(F84="diskval.",G84="diskval."),"diskval.",F84+G84) -> 0 | I84: =IF(OR(věže!G52=0,věže!H52=0),100,MAX(věže!G52:H52)) -> 100 | J84: =IF(OR('100m'!G52=0,'100m'!H52=0),100,MAX('100m'!G52:H52)) -> 100 | K84: =IF(H84="diskval.",1000,H84+((IF(I84>0,I84,100)+IF(J84>0,J84,100))/100000)) -> 0.002
A85: 82 | C85: 83 | H85: =IF(OR(F85="diskval.",G85="diskval."),"diskval.",F85+G85) -> 0 | I85: =IF(OR(věže!G57=0,věže!H57=0),100,MAX(věže!G57:H57)) -> 100 | J85: =IF(OR('100m'!G57=0,'100m'!H57=0),100,MAX('100m'!G57:H57)) -> 100 | K85: =IF(H85="diskval.",1000,H85+((IF(I85>0,I85,100)+IF(J85>0,J85,100))/100000)) -> 0.002
A86: 83 | C86: 84 | H86: =IF(OR(F86="diskval.",G86="diskval."),"diskval.",F86+G86) -> 0 | I86: =IF(OR(věže!G61=0,věže!H61=0),100,MAX(věže!G61:H61)) -> 100 | J86: =IF(OR('100m'!G61=0,'100m'!H61=0),100,MAX('100m'!G61:H61)) -> 100 | K86: =IF(H86="diskval.",1000,H86+((IF(I86>0,I86,100)+IF(J86>0,J86,100))/100000)) -> 0.002
A87: 84 | C87: 85 | H87: =IF(OR(F87="diskval.",G87="diskval."),"diskval.",F87+G87) -> 0 | I87: =IF(OR(věže!G66=0,věže!H66=0),100,MAX(věže!G66:H66)) -> 100 | J87: =IF(OR('100m'!G66=0,'100m'!H66=0),100,MAX('100m'!G66:H66)) -> 100 | K87: =IF(H87="diskval.",1000,H87+((IF(I87>0,I87,100)+IF(J87>0,J87,100))/100000)) -> 0.002
A88: 85 | C88: 86 | H88: =IF(OR(F88="diskval.",G88="diskval."),"diskval.",F88+G88) -> 0 | I88: =IF(OR(věže!G68=0,věže!H68=0),100,MAX(věže!G68:H68)) -> 100 | J88: =IF(OR('100m'!G68=0,'100m'!H68=0),100,MAX('100m'!G68:H68)) -> 100 | K88: =IF(H88="diskval.",1000,H88+((IF(I88>0,I88,100)+IF(J88>0,J88,100))/100000)) -> 0.002
A89: 86 | C89: 87 | H89: =IF(OR(F89="diskval.",G89="diskval."),"diskval.",F89+G89) -> 0 | I89: =IF(OR(věže!G71=0,věže!H71=0),100,MAX(věže!G71:H71)) -> 100 | J89: =IF(OR('100m'!G71=0,'100m'!H71=0),100,MAX('100m'!G71:H71)) -> 100 | K89: =IF(H89="diskval.",1000,H89+((IF(I89>0,I89,100)+IF(J89>0,J89,100))/100000)) -> 0.002
A90: 87 | C90: 88 | H90: =IF(OR(F90="diskval.",G90="diskval."),"diskval.",F90+G90) -> 0 | I90: =IF(OR(věže!G73=0,věže!H73=0),100,MAX(věže!G73:H73)) -> 100 | J90: =IF(OR('100m'!G73=0,'100m'!H73=0),100,MAX('100m'!G73:H73)) -> 100 | K90: =IF(H90="diskval.",1000,H90+((IF(I90>0,I90,100)+IF(J90>0,J90,100))/100000)) -> 0.002
A91: 88 | C91: 89 | H91: =IF(OR(F91="diskval.",G91="diskval."),"diskval.",F91+G91) -> 0 | I91: =IF(OR(věže!G76=0,věže!H76=0),100,MAX(věže!G76:H76)) -> 100 | J91: =IF(OR('100m'!G76=0,'100m'!H76=0),100,MAX('100m'!G76:H76)) -> 100 | K91: =IF(H91="diskval.",1000,H91+((IF(I91>0,I91,100)+IF(J91>0,J91,100))/100000)) -> 0.002
A92: 89 | C92: 90 | H92: =IF(OR(F92="diskval.",G92="diskval."),"diskval.",F92+G92) -> 0 | I92: =IF(OR(věže!G87=0,věže!H87=0),100,MAX(věže!G87:H87)) -> 100 | J92: =IF(OR('100m'!G87=0,'100m'!H87=0),100,MAX('100m'!G87:H87)) -> 100 | K92: =IF(H92="diskval.",1000,H92+((IF(I92>0,I92,100)+IF(J92>0,J92,100))/100000)) -> 0.002
A93: 91 | C93: 91 | H93: =IF(OR(F93="diskval.",G93="diskval."),"diskval.",F93+G93) -> 0 | I93: =IF(OR(věže!G93=0,věže!H93=0),100,MAX(věže!G93:H93)) -> 100 | J93: =IF(OR('100m'!G93=0,'100m'!H93=0),100,MAX('100m'!G93:H93)) -> 100 | K93: =IF(H93="diskval.",1000,H93+((IF(I93>0,I93,100)+IF(J93>0,J93,100))/100000)) -> 0.002
A94: 92 | C94: 92 | H94: =IF(OR(F94="diskval.",G94="diskval."),"diskval.",F94+G94) -> 0 | I94: =IF(OR(věže!G94=0,věže!H94=0),100,MAX(věže!G94:H94)) -> 100 | J94: =IF(OR('100m'!G94=0,'100m'!H94=0),100,MAX('100m'!G94:H94)) -> 100 | K94: =IF(H94="diskval.",1000,H94+((IF(I94>0,I94,100)+IF(J94>0,J94,100))/100000)) -> 0.002
A95: 93 | C95: 93 | H95: =IF(OR(F95="diskval.",G95="diskval."),"diskval.",F95+G95) -> 0 | I95: =IF(OR(věže!G95=0,věže!H95=0),100,MAX(věže!G95:H95)) -> 100 | J95: =IF(OR('100m'!G95=0,'100m'!H95=0),100,MAX('100m'!G95:H95)) -> 100 | K95: =IF(H95="diskval.",1000,H95+((IF(I95>0,I95,100)+IF(J95>0,J95,100))/100000)) -> 0.002
A96: 94 | C96: 94 | H96: =IF(OR(F96="diskval.",G96="diskval."),"diskval.",F96+G96) -> 0 | I96: =IF(OR(věže!G96=0,věže!H96=0),100,MAX(věže!G96:H96)) -> 100 | J96: =IF(OR('100m'!G96=0,'100m'!H96=0),100,MAX('100m'!G96:H96)) -> 100 | K96: =IF(H96="diskval.",1000,H96+((IF(I96>0,I96,100)+IF(J96>0,J96,100))/100000)) -> 0.002
A97: 95 | C97: 95 | H97: =IF(OR(F97="diskval.",G97="diskval."),"diskval.",F97+G97) -> 0 | I97: =IF(OR(věže!G97=0,věže!H97=0),100,MAX(věže!G97:H97)) -> 100 | J97: =IF(OR('100m'!G97=0,'100m'!H97=0),100,MAX('100m'!G97:H97)) -> 100 | K97: =IF(H97="diskval.",1000,H97+((IF(I97>0,I97,100)+IF(J97>0,J97,100))/100000)) -> 0.002
A98: 96 | C98: 96 | H98: =IF(OR(F98="diskval.",G98="diskval."),"diskval.",F98+G98) -> 0 | I98: =IF(OR(věže!G98=0,věže!H98=0),100,MAX(věže!G98:H98)) -> 100 | J98: =IF(OR('100m'!G98=0,'100m'!H98=0),100,MAX('100m'!G98:H98)) -> 100 | K98: =IF(H98="diskval.",1000,H98+((IF(I98>0,I98,100)+IF(J98>0,J98,100))/100000)) -> 0.002
A99: 97 | C99: 97 | H99: =IF(OR(F99="diskval.",G99="diskval."),"diskval.",F99+G99) -> 0 | I99: =IF(OR(věže!G99=0,věže!H99=0),100,MAX(věže!G99:H99)) -> 100 | J99: =IF(OR('100m'!G99=0,'100m'!H99=0),100,MAX('100m'!G99:H99)) -> 100 | K99: =IF(H99="diskval.",1000,H99+((IF(I99>0,I99,100)+IF(J99>0,J99,100))/100000)) -> 0.002
A100: 98 | C100: 98 | H100: =IF(OR(F100="diskval.",G100="diskval."),"diskval.",F100+G100) -> 0 | I100: =IF(OR(věže!G100=0,věže!H100=0),100,MAX(věže!G100:H100)) -> 100 | J100: =IF(OR('100m'!G100=0,'100m'!H100=0),100,MAX('100m'!G100:H100)) -> 100 | K100: =IF(H100="diskval.",1000,H100+((IF(I100>0,I100,100)+IF(J100>0,J100,100))/100000)) -> 0.002
...
