Workbook

Sheet celkem
F1: Krajské kolo v požárním sportu Moravskoslezského a Olomouckého kraje
F2: Ostrava, 7. - 8. června 2014
F3: Celkové pořadí družstev
F4: muži HZS
C6: Moravskoslezský kraj | D6: 100m | F6: věž | H6: štafeta | J6: útok | L6: celkem
A7: pořadí | B7: st.č | C7: územní odbor | D7: čas | E7: body | F7: čas | G7: body | H7: čas | I7: body | J7: čas | K7: body | L7: bodů | N7: koef
A8: =RANK(N8,$N$8:$N$13,1) -> 1 | B8: 5 | C8: Ostrava | D8: ='[1]100mD'!D8 -> 97.83 | E8: =IF($E$21=1,0,'[1]100mD'!C8) -> 1 | F8: =[1]věžD!D8 -> 88.43 | G8: =IF($G$21=1,0,[1]věžD!C8) -> 1 | H8: =[1]štafetaD!E6 -> 56.68 | I8: =IF($I$21=1,0,[1]štafetaD!A6) -> 1 | J8: =[1]útok!J9 -> 22.21 | K8: =IF($K$21=1,0,[1]útok!A9) -> 1 | L8: =E8+G8+I8+K8*1.001 -> 4.001 | N8: =L8+K8*0.01 -> 4.011
A9: =RANK(N9,$N$8:$N$13,1) -> 2 | B9: 10 | C9: Karviná | D9: ='[1]100mD'!D10 -> 101.98 | E9: =IF($E$21=1,0,'[1]100mD'!C10) -> 2 | F9: =[1]věžD!D10 -> 94.22 | G9: =IF($G$21=1,0,[1]věžD!C10) -> 2 | H9: =[1]štafetaD!E8 -> 60.32 | I9: =IF($I$21=1,0,[1]štafetaD!A8) -> 2 | J9: =[1]útok!J11 -> 28.71 | K9: =IF($K$21=1,0,[1]útok!A11) -> 5 | L9: =E9+G9+I9+K9*1.001 -> 11.005 | N9: =L9+K9*0.01 -> 11.055
A10: =RANK(N10,$N$8:$N$13,1) -> 3 | B10: 3 | C10: Opava | D10: ='[1]100mD'!D7 -> 120.83 | E10: =IF($E$21=1,0,'[1]100mD'!C7) -> 3 | F10: =[1]věžD!D7 -> 157.01 | G10: =IF($G$21=1,0,[1]věžD!C7) -> 4 | H10: =[1]štafetaD!E5 -> 68.82 | I10: =IF($I$21=1,0,[1]štafetaD!A5) -> 3 | J10: =[1]útok!J8 -> 23.97 | K10: =IF($K$21=1,0,[1]útok!A8) -> 2 | L10: =E10+G10+I10+K10*1.001 -> 12.002 | N10: =L10+K10*0.01 -> 12.022
A11: =RANK(N11,$N$8:$N$13,1) -> 4 | B11: 12 | C11: Nový Jičín | D11: ='[1]100mD'!D11 -> 122.18 | E11: =IF($E$21=1,0,'[1]100mD'!C11) -> 4 | F11: =[1]věžD!D11 -> 138.77 | G11: =IF($G$21=1,0,[1]věžD!C11) -> 3 | H11: =[1]štafetaD!E9 -> 71.17 | I11: =IF($I$21=1,0,[1]štafetaD!A9) -> 6 | J11: =[1]útok!J12 -> 25.87 | K11: =IF($K$21=1,0,[1]útok!A12) -> 3 | L11: =E11+G11+I11+K11*1.001 -> 16.003 | N11: =L11+K11*0.01 -> 16.033
A12: =RANK(N12,$N$8:$N$13,1) -> 5 | B12: 8 | C12: Frýdek - Místek | D12: ='[1]100mD'!D9 -> 126.84 | E12: =IF($E$21=1,0,'[1]100mD'!C9) -> 5 | F12: =[1]věžD!D9 -> 165.01 | G12: =IF($G$21=1,0,[1]věžD!C9) -> 5 | H12: =[1]štafetaD!E7 -> 69.11 | I12: =IF($I$21=1,0,[1]štafetaD!A7) -> 4 | J12: =[1]útok!J10 -> 29.5 | K12: =IF($K$21=1,0,[1]útok!A10) -> 6 | L12: =E12+G12+I12+K12*1.001 -> 20.006 | N12: =L12+K12*0.01 -> 20.066
A13: =RANK(N13,$N$8:$N$13,1) -> 6 | B13: 1 | C13: Bruntál | D13: ='[1]100mD'!D6 -> 133.82 | E13: =IF($E$21=1,0,'[1]100mD'!C6) -> 6 | F13: =[1]věžD!D6 -> 172.24 | G13: =IF($G$21=1,0,[1]věžD!C6) -> 6 | H13: =[1]štafetaD!E4 -> 71.16 | I13: =IF($I$21=1,0,[1]štafetaD!A4) -> 5 | J13: =[1]útok!J7 -> 28.12 | K13: =IF($K$21=1,0,[1]útok!A7) -> 4 | L13: =E13+G13+I13+K13*1.001 -> 21.004 | N13: =L13+K13*0.01 -> 21.044
C15: Olomoucký kraj
A16: =RANK(N16,$N$16:$N$20,1) -> 1 | B16: 9 | C16: Přerov | D16: ='[1]100mD'!D16 -> 110.67 | E16: =IF($E$21=1,0,'[1]100mD'!C16) -> 1 | F16: =[1]věžD!D16 -> 101.97 | G16: =IF($G$21=1,0,[1]věžD!C16) -> 2 | H16: =[1]štafetaD!E14 -> 63.31 | I16: =IF($I$21=1,0,[1]štafetaD!A14) -> 1 | J16: =[1]útok!J18 -> 27.4 | K16: =IF($K$21=1,0,[1]útok!A18) -> 2 | L16: =E16+G16+I16+K16*1.001 -> 6.002 | N16: =L16+K16*0.01 -> 6.022
A17: =RANK(N17,$N$16:$N$20,1) -> 2 | B17: 11 | C17: Olomouc | D17: ='[1]100mD'!D17 -> 111.51 | E17: =IF($E$21=1,0,'[1]100mD'!C17) -> 2 | F17: =[1]věžD!D17 -> 99.85 | G17: =IF($G$21=1,0,[1]věžD!C17) -> 1 | H17: =[1]štafetaD!E15 -> 64.82 | I17: =IF($I$21=1,0,[1]štafetaD!A15) -> 2 | J17: =[1]útok!J19 -> 28.94 | K17: =IF($K$21=1,0,[1]útok!A19) -> 3 | L17: =E17+G17+I17+K17*1.001 -> 8.003 | N17: =L17+K17*0.01 -> 8.033
A18: =RANK(N18,$N$16:$N$20,1) -> 3 | B18: 4 | C18: Prostějov | D18: ='[1]100mD'!D14 -> 126.72 | E18: =IF($E$21=1,0,'[1]100mD'!C14) -> 3 | F18: =[1]věžD!D14 -> 147.47 | G18: =IF($G$21=1,0,[1]věžD!C14) -> 4 | H18: =[1]štafetaD!E12 -> 65.45 | I18: =IF($I$21=1,0,[1]štafetaD!A12) -> 3 | J18: =[1]útok!J16 -> 24.74 | K18: =IF($K$21=1,0,[1]útok!A16) -> 1 | L18: =E18+G18+I18+K18*1.001 -> 11.001 | N18: =L18+K18*0.01 -> 11.011
A19: =RANK(N19,$N$16:$N$20,1) -> 4 | B19: 7 | C19: Šumperk | D19: ='[1]100mD'!D15 -> 126.93 | E19: =IF($E$21=1,0,'[1]100mD'!C15) -> 4 | F19: =[1]věžD!D15 -> 141.19 | G19: =IF($G$21=1,0,[1]věžD!C15) -> 3 | H19: =[1]štafetaD!E13 -> 71.63 | I19: =IF($I$21=1,0,[1]štafetaD!A13) -> 4 | J19: =[1]útok!J17 -> 50.57 | K19: =IF($K$21=1,0,[1]útok!A17) -> 5 | L19: =E19+G19+I19+K19*1.001 -> 16.005 | N19: =L19+K19*0.01 -> 16.055
A20: =RANK(N20,$N$16:$N$20,1) -> 5 | B20: 2 | C20: Jeseník | D20: ='[1]100mD'!D13 -> 139.73 | E20: =IF($E$21=1,0,'[1]100mD'!C13) -> 5 | F20: =[1]věžD!D13 -> 210.5 | G20: =IF($G$21=1,0,[1]věžD!C13) -> 5 | H20: =[1]štafetaD!E11 -> 76.71 | I20: =IF($I$21=1,0,[1]štafetaD!A11) -> 5 | J20: =[1]útok!J15 -> 30.45 | K20: =IF($K$21=1,0,[1]útok!A15) -> 4 | L20: =E20+G20+I20+K20*1.001 -> 19.004 | N20: =L20+K20*0.01 -> 19.044

Sheet celkemNEOF
F1: Krajské kolo v požárním sportu Moravskoslezského a Olomouckého kraje
F2: Ostrava, 7. - 8. června 2014
F3: Celkové neoficiální pořadí družstev včetně hostů
F4: muži HZS
D6: 100m | F6: věž | H6: štafeta | J6: útok | L6: celkem
A7: pořadí | B7: st.č | C7: územní odbor | D7: čas | E7: body | F7: čas | G7: body | H7: čas | I7: body | J7: čas | K7: body | L7: bodů | N7: koef
A8: =RANK(N8,$N$8:$N$19,1) -> 1 | B8: 5 | C8: Ostrava | D8: ='[1]100mD'!D8 -> 97.83 | E8: =IF($E$20=1,0,'[1]100mD'!N8) -> 1 | F8: =[1]věžD!D8 -> 88.43 | G8: =IF($G$20=1,0,[1]věžD!N8) -> 1 | H8: =[1]štafetaD!E6 -> 56.68 | I8: =IF($I$20=1,0,[1]štafetaD!G6) -> 1 | J8: =[1]útok!J9 -> 22.21 | K8: =IF($K$20=1,0,[1]útok!P9) -> 1 | L8: =E8+G8+I8+K8*1.001 -> 4.001 | N8: =L8+K8*0.01 -> 4.011
A9: =RANK(N9,$N$8:$N$19,1) -> 2 | B9: 10 | C9: Karviná | D9: ='[1]100mD'!D10 -> 101.98 | E9: =IF($E$20=1,0,'[1]100mD'!N10) -> 2 | F9: =[1]věžD!D10 -> 94.22 | G9: =IF($G$20=1,0,[1]věžD!N10) -> 2 | H9: =[1]štafetaD!E8 -> 60.32 | I9: =IF($I$20=1,0,[1]štafetaD!G8) -> 2 | J9: =[1]útok!J11 -> 28.71 | K9: =IF($K$20=1,0,[1]útok!P11) -> 8 | L9: =E9+G9+I9+K9*1.001 -> 14.008 | N9: =L9+K9*0.01 -> 14.088
A10: =RANK(N10,$N$8:$N$19,1) -> 3 | B10: 9 | C10: Přerov | D10: ='[1]100mD'!D16 -> 110.67 | E10: =IF($E$20=1,0,'[1]100mD'!N16) -> 4 | F10: =[1]věžD!D16 -> 101.97 | G10: =IF($G$20=1,0,[1]věžD!N16) -> 5 | H10: =[1]štafetaD!E14 -> 63.31 | I10: =IF($I$20=1,0,[1]štafetaD!G14) -> 3 | J10: =[1]útok!J18 -> 27.4 | K10: =IF($K$20=1,0,[1]útok!P18) -> 5 | L10: =E10+G10+I10+K10*1.001 -> 17.005 | N10: =L10+K10*0.01 -> 17.055
A11: =RANK(N11,$N$8:$N$19,1) -> 4 | B11: 11 | C11: Olomouc | D11: ='[1]100mD'!D17 -> 111.51 | E11: =IF($E$20=1,0,'[1]100mD'!N17) -> 5 | F11: =[1]věžD!D17 -> 99.85 | G11: =IF($G$20=1,0,[1]věžD!N17) -> 3 | H11: =[1]štafetaD!E15 -> 64.82 | I11: =IF($I$20=1,0,[1]štafetaD!G15) -> 4 | J11: =[1]útok!J19 -> 28.94 | K11: =IF($K$20=1,0,[1]útok!P19) -> 9 | L11: =E11+G11+I11+K11*1.001 -> 21.009 | N11: =L11+K11*0.01 -> 21.099
A12: =RANK(N12,$N$8:$N$19,1) -> 5 | B12: 3 | C12: Opava | D12: ='[1]100mD'!D7 -> 120.83 | E12: =IF($E$20=1,0,'[1]100mD'!N7) -> 6 | F12: =[1]věžD!D7 -> 157.01 | G12: =IF($G$20=1,0,[1]věžD!N7) -> 9 | H12: =[1]štafetaD!E5 -> 68.82 | I12: =IF($I$20=1,0,[1]štafetaD!G5) -> 6 | J12: =[1]útok!J8 -> 23.97 | K12: =IF($K$20=1,0,[1]útok!P8) -> 2 | L12: =E12+G12+I12+K12*1.001 -> 23.002 | N12: =L12+K12*0.01 -> 23.022
A13: =RANK(N13,$N$8:$N$19,1) -> 6 | B13: 4 | C13: Prostějov | D13: ='[1]100mD'!D14 -> 126.72 | E13: =IF($E$20=1,0,'[1]100mD'!N14) -> 8 | F13: =[1]věžD!D14 -> 147.47 | G13: =IF($G$20=1,0,[1]věžD!N14) -> 8 | H13: =[1]štafetaD!E12 -> 65.45 | I13: =IF($I$20=1,0,[1]štafetaD!G12) -> 5 | J13: =[1]útok!J16 -> 24.74 | K13: =IF($K$20=1,0,[1]útok!P16) -> 3 | L13: =E13+G13+I13+K13*1.001 -> 24.003 | N13: =L13+K13*0.01 -> 24.033
A14: =RANK(N14,$N$8:$N$19,1) -> 7 | B14: 6 | C14: G4S Fire Services | D14: ='[1]100mD'!D12 -> 108.55 | E14: =IF($E$20=1,0,'[1]100mD'!N12) -> 3 | F14: =[1]věžD!D12 -> 101.37 | G14: =IF($G$20=1,0,[1]věžD!N12) -> 4 | H14: =[1]štafetaD!E10 -> 99.99 | I14: =IF($I$20=1,0,[1]štafetaD!G10) -> 12 | J14: =[1]útok!J21 -> 28.08 | K14: =IF($K$20=1,0,[1]útok!P21) -> 6 | L14: =E14+G14+I14+K14*1.001 -> 25.006 | N14: =L14+K14*0.01 -> 25.066
A15: =RANK(N15,$N$8:$N$19,1) -> 8 | B15: 12 | C15: Nový Jičín | D15: ='[1]100mD'!D11 -> 122.18 | E15: =IF($E$20=1,0,'[1]100mD'!N11) -> 7 | F15: =[1]věžD!D11 -> 138.77 | G15: =IF($G$20=1,0,[1]věžD!N11) -> 6 | H15: =[1]štafetaD!E9 -> 71.17 | I15: =IF($I$20=1,0,[1]štafetaD!G9) -> 9 | J15: =[1]útok!J12 -> 25.87 | K15: =IF($K$20=1,0,[1]útok!P12) -> 4 | L15: =E15+G15+I15+K15*1.001 -> 26.004 | N15: =L15+K15*0.01 -> 26.044
A16: =RANK(N16,$N$8:$N$19,1) -> 9 | B16: 8 | C16: Frýdek - Místek | D16: ='[1]100mD'!D9 -> 126.84 | E16: =IF($E$20=1,0,'[1]100mD'!N9) -> 9 | F16: =[1]věžD!D9 -> 165.01 | G16: =IF($G$20=1,0,[1]věžD!N9) -> 10 | H16: =[1]štafetaD!E7 -> 69.11 | I16: =IF($I$20=1,0,[1]štafetaD!G7) -> 7 | J16: =[1]útok!J10 -> 29.5 | K16: =IF($K$20=1,0,[1]útok!P10) -> 10 | L16: =E16+G16+I16+K16*1.001 -> 36.01 | N16: =L16+K16*0.01 -> 36.11
A17: =RANK(N17,$N$8:$N$19,1) -> 10 | B17: 1 | C17: Bruntál | D17: ='[1]100mD'!D6 -> 133.82 | E17: =IF($E$20=1,0,'[1]100mD'!N6) -> 11 | F17: =[1]věžD!D6 -> 172.24 | G17: =IF($G$20=1,0,[1]věžD!N6) -> 11 | H17: =[1]štafetaD!E4 -> 71.16 | I17: =IF($I$20=1,0,[1]štafetaD!G4) -> 8 | J17: =[1]útok!J7 -> 28.12 | K17: =IF($K$20=1,0,[1]útok!P7) -> 7 | L17: =E17+G17+I17+K17*1.001 -> 37.007 | N17: =L17+K17*0.01 -> 37.077
A18: =RANK(N18,$N$8:$N$19,1) -> 11 | B18: 7 | C18: Šumperk | D18: ='[1]100mD'!D15 -> 126.93 | E18: =IF($E$20=1,0,'[1]100mD'!N15) -> 10 | F18: =[1]věžD!D15 -> 141.19 | G18: =IF($G$20=1,0,[1]věžD!N15) -> 7 | H18: =[1]štafetaD!E13 -> 71.63 | I18: =IF($I$20=1,0,[1]štafetaD!G13) -> 10 | J18: =[1]útok!J17 -> 50.57 | K18: =IF($K$20=1,0,[1]útok!P17) -> 12 | L18: =E18+G18+I18+K18*1.001 -> 39.012 | N18: =L18+K18*0.01 -> 39.132
A19: =RANK(N19,$N$8:$N$19,1) -> 12 | B19: 2 | C19: Jeseník | D19: ='[1]100mD'!D13 -> 139.73 | E19: =IF($E$20=1,0,'[1]100mD'!N13) -> 12 | F19: =[1]věžD!D13 -> 210.5 | G19: =IF($G$20=1,0,[1]věžD!N13) -> 12 | H19: =[1]štafetaD!E11 -> 76.71 | I19: =IF($I$20=1,0,[1]štafetaD!G11) -> 11 | J19: =[1]útok!J15 -> 30.45 | K19: =IF($K$20=1,0,[1]útok!P15) -> 11 | L19: =E19+G19+I19+K19*1.001 -> 46.011 | N19: =L19+K19*0.01 -> 46.121

Sheet útok
F1: Krajské kolo v požárním sportu Moravskoslezského a Olomouckého kraje
F2: Ostrava, 7. - 8. června 2014
F3: Požární útok
F4: muži HZS
C5: Moravskoslezský kraj | E5: 1. pokus | H5: 2. pokus
A6: poř. | B6: st.č. | C6: územní odbor | D6: levý | E6: pravý | F6: výsledný | G6: levý | H6: pravý | I6: výsledný | J6: celkem | L6: min | M6: max | N6: koef | P6: neof
A7: =IF(J7=99.99,6,RANK(N7,$N$7:$N$12,1)) -> 1 | B7: 5 | C7: Ostrava | D7: 20.89 | E7: 22.21 | F7: =IF(MIN(D7:E7)=0,99.99,MAX(D7:E7)) -> 22.21 | G7: 99.99 | H7: 99.99 | I7: =IF(MIN(G7:H7)=0,99.99,MAX(G7:H7)) -> 99.99 | J7: =MIN(F7,I7) -> 22.21 | L7: =MIN(F7,I7) -> 22.21 | M7: =MAX(F7,I7) -> 99.99 | N7: =L7+M7*0.0001 -> 22.219999 | P7: =RANK(N7,$N$7:$N$21,1) -> 1
A8: =IF(J8=99.99,6,RANK(N8,$N$7:$N$12,1)) -> 2 | B8: 3 | C8: Opava | D8: 23.97 | E8: 23.95 | F8: =IF(MIN(D8:E8)=0,99.99,MAX(D8:E8)) -> 23.97 | G8: 99.99 | H8: 99.99 | I8: =IF(MIN(G8:H8)=0,99.99,MAX(G8:H8)) -> 99.99 | J8: =MIN(F8,I8) -> 23.97 | L8: =MIN(F8,I8) -> 23.97 | M8: =MAX(F8,I8) -> 99.99 | N8: =L8+M8*0.0001 -> 23.979999 | P8: =RANK(N8,$N$7:$N$21,1) -> 2
A9: =IF(J9=99.99,6,RANK(N9,$N$7:$N$12,1)) -> 3 | B9: 12 | C9: Nový Jičín | D9: 99.99 | E9: 99.99 | F9: =IF(MIN(D9:E9)=0,99.99,MAX(D9:E9)) -> 99.99 | G9: 25.87 | H9: 24.94 | I9: =IF(MIN(G9:H9)=0,99.99,MAX(G9:H9)) -> 25.87 | J9: =MIN(F9,I9) -> 25.87 | L9: =MIN(F9,I9) -> 25.87 | M9: =MAX(F9,I9) -> 99.99 | N9: =L9+M9*0.0001 -> 25.879999 | P9: =RANK(N9,$N$7:$N$21,1) -> 4
A10: =IF(J10=99.99,6,RANK(N10,$N$7:$N$12,1)) -> 4 | B10: 1 | C10: Bruntál | D10: 28.12 | E10: 26.48 | F10: =IF(MIN(D10:E10)=0,99.99,MAX(D10:E10)) -> 28.12 | G10: 31.53 | H10: 27.47 | I10: =IF(MIN(G10:H10)=0,99.99,MAX(G10:H10)) -> 31.53 | J10: =MIN(F10,I10) -> 28.12 | L10: =MIN(F10,I10) -> 28.12 | M10: =MAX(F10,I10) -> 31.53 | N10: =L10+M10*0.0001 -> 28.123153 | P10: =RANK(N10,$N$7:$N$21,1) -> 7
A11: =IF(J11=99.99,6,RANK(N11,$N$7:$N$12,1)) -> 5 | B11: 10 | C11: Karviná | D11: 28.71 | E11: 24.1 | F11: =IF(MIN(D11:E11)=0,99.99,MAX(D11:E11)) -> 28.71 | G11: 31.8 | H11: 33.67 | I11: =IF(MIN(G11:H11)=0,99.99,MAX(G11:H11)) -> 33.67 | J11: =MIN(F11,I11) -> 28.71 | L11: =MIN(F11,I11) -> 28.71 | M11: =MAX(F11,I11) -> 33.67 | N11: =L11+M11*0.0001 -> 28.713367 | P11: =RANK(N11,$N$7:$N$21,1) -> 8
A12: =IF(J12=99.99,6,RANK(N12,$N$7:$N$12,1)) -> 6 | B12: 8 | C12: Frýdek - Místek | D12: 24.45 | E12: 38.1 | F12: =IF(MIN(D12:E12)=0,99.99,MAX(D12:E12)) -> 38.1 | G12: 27.68 | H12: 29.5 | I12: =IF(MIN(G12:H12)=0,99.99,MAX(G12:H12)) -> 29.5 | J12: =MIN(F12,I12) -> 29.5 | L12: =MIN(F12,I12) -> 29.5 | M12: =MAX(F12,I12) -> 38.1 | N12: =L12+M12*0.0001 -> 29.50381 | P12: =RANK(N12,$N$7:$N$21,1) -> 10
C14: Olomoucký kraj
A15: =IF(J15=99.99,5,RANK(N15,$N$15:$N$19,1)) -> 1 | B15: 4 | C15: Prostějov | D15: 99.99 | E15: 99.99 | F15: =IF(MIN(D15:E15)=0,99.99,MAX(D15:E15)) -> 99.99 | G15: 24.19 | H15: 24.74 | I15: =IF(MIN(G15:H15)=0,99.99,MAX(G15:H15)) -> 24.74 | J15: =MIN(F15,I15) -> 24.74 | L15: =MIN(F15,I15) -> 24.74 | M15: =MAX(F15,I15) -> 99.99 | N15: =L15+M15*0.0001 -> 24.749999 | P15: =RANK(N15,$N$7:$N$21,1) -> 3
A16: =IF(J16=99.99,5,RANK(N16,$N$15:$N$19,1)) -> 2 | B16: 9 | C16: Přerov | D16: 27.25 | E16: 32.11 | F16: =IF(MIN(D16:E16)=0,99.99,MAX(D16:E16)) -> 32.11 | G16: 27.4 | H16: 24.37 | I16: =IF(MIN(G16:H16)=0,99.99,MAX(G16:H16)) -> 27.4 | J16: =MIN(F16,I16) -> 27.4 | L16: =MIN(F16,I16) -> 27.4 | M16: =MAX(F16,I16) -> 32.11 | N16: =L16+M16*0.0001 -> 27.403211 | P16: =RANK(N16,$N$7:$N$21,1) -> 5
A17: =IF(J17=99.99,5,RANK(N17,$N$15:$N$19,1)) -> 3 | B17: 11 | C17: Olomouc | D17: 33.15 | E17: 33.62 | F17: =IF(MIN(D17:E17)=0,99.99,MAX(D17:E17)) -> 33.62 | G17: 25.8 | H17: 28.94 | I17: =IF(MIN(G17:H17)=0,99.99,MAX(G17:H17)) -> 28.94 | J17: =MIN(F17,I17) -> 28.94 | L17: =MIN(F17,I17) -> 28.94 | M17: =MAX(F17,I17) -> 33.62 | N17: =L17+M17*0.0001 -> 28.943362 | P17: =RANK(N17,$N$7:$N$21,1) -> 9
A18: =IF(J18=99.99,5,RANK(N18,$N$15:$N$19,1)) -> 4 | B18: 2 | C18: Jeseník | D18: 30.45 | E18: 28.71 | F18: =IF(MIN(D18:E18)=0,99.99,MAX(D18:E18)) -> 30.45 | G18: 99.99 | H18: 99.99 | I18: =IF(MIN(G18:H18)=0,99.99,MAX(G18:H18)) -> 99.99 | J18: =MIN(F18,I18) -> 30.45 | L18: =MIN(F18,I18) -> 30.45 | M18: =MAX(F18,I18) -> 99.99 | N18: =L18+M18*0.0001 -> 30.459999 | P18: =RANK(N18,$N$7:$N$21,1) -> 11
A19: =IF(J19=99.99,5,RANK(N19,$N$15:$N$19,1)) -> 5 | B19: 7 | C19: Šumperk | D19: 44.32 | E19: 50.57 | F19: =IF(MIN(D19:E19)=0,99.99,MAX(D19:E19)) -> 50.57 | G19: 99.99 | H19: 99.99 | I19: =IF(MIN(G19:H19)=0,99.99,MAX(G19:H19)) -> 99.99 | J19: =MIN(F19,I19) -> 50.57 | L19: =MIN(F19,I19) -> 50.57 | M19: =MAX(F19,I19) -> 99.99 | N19: =L19+M19*0.0001 -> 50.579999 | P19: =RANK(N19,$N$7:$N$21,1) -> 12
B21: 6 | C21: G4S Fire Services | D21: 28.08 | E21: 27.88 | F21: =IF(MIN(D21:E21)=0,99.99,MAX(D21:E21)) -> 28.08 | G21: 28.28 | H21: 25.82 | I21: =IF(MIN(G21:H21)=0,99.99,MAX(G21:H21)) -> 28.28 | J21: =MIN(F21,I21) -> 28.08 | L21: =MIN(F21,I21) -> 28.08 | M21: =MAX(F21,I21) -> 28.28 | N21: =L21+M21*0.0001 -> 28.082828 | P21: =RANK(N21,$N$7:$N$21,1) -> 6

Sheet štafeta
F1: Krajské kolo v požárním sportu Moravskoslezského a Olomouckého kraje
F2: Ostrava, 7. - 8. června 2014
F3: Štafeta 4x100m s překážkami
F4: muži HZS
A5: pořadí | B5: MSK | C5: OLK | D5: st.č. | E5: dráha | F5: družstvo | G5: štafeta | H5: čas
A6: =IF(OR(H6=99.99,H6=0),24,RANK(H6,$H$6:$H$29,1)) -> 1 | B6: 1 | D6: 5 | E6: 1 | F6: Ostrava | G6: A | H6: 56.68
A7: =IF(OR(H7=99.99,H7=0),24,RANK(H7,$H$6:$H$29,1)) -> 2 | B7: 2 | D7: 18 | E7: 2 | F7: Ostrava | G7: B | H7: 58.28
A8: =IF(OR(H8=99.99,H8=0),24,RANK(H8,$H$6:$H$29,1)) -> 3 | B8: 3 | D8: 10 | E8: 2 | F8: Karviná | G8: A | H8: 60.32
A9: =IF(OR(H9=99.99,H9=0),24,RANK(H9,$H$6:$H$29,1)) -> 4 | C9: 1 | D9: 22 | E9: 2 | F9: Přerov | G9: B | H9: 63.31
A10: =IF(OR(H10=99.99,H10=0),24,RANK(H10,$H$6:$H$29,1)) -> 5 | C10: 2 | D10: 11 | E10: 1 | F10: Olomouc | G10: A | H10: 64.82
A11: =IF(OR(H11=99.99,H11=0),24,RANK(H11,$H$6:$H$29,1)) -> 6 | C11: 3 | D11: 24 | E11: 2 | F11: Olomouc | G11: B | H11: 65.13
A12: =IF(OR(H12=99.99,H12=0),24,RANK(H12,$H$6:$H$29,1)) -> 7 | C12: 4 | D12: 15 | E12: 1 | F12: Prostějov | G12: B | H12: 65.45
A13: =IF(OR(H13=99.99,H13=0),24,RANK(H13,$H$6:$H$29,1)) -> 8 | B13: 4 | D13: 16 | E13: 2 | F13: Opava | G13: B | H13: 68.82
A14: =IF(OR(H14=99.99,H14=0),24,RANK(H14,$H$6:$H$29,1)) -> 9 | B14: 5 | D14: 19 | E14: 1 | F14: Frýdek - Místek | G14: B | H14: 69.11
A15: =IF(OR(H15=99.99,H15=0),24,RANK(H15,$H$6:$H$29,1)) -> 10 | B15: 6 | D15: 1 | E15: 1 | F15: Bruntál | G15: A | H15: 71.16
A16: =IF(OR(H16=99.99,H16=0),24,RANK(H16,$H$6:$H$29,1)) -> 11 | B16: 7 | D16: 23 | E16: 1 | F16: Nový Jičín | G16: B | H16: 71.17
A17: =IF(OR(H17=99.99,H17=0),24,RANK(H17,$H$6:$H$29,1)) -> 12 | C17: 5 | D17: 7 | E17: 1 | F17: Šumperk | G17: A | H17: 71.63
A18: =IF(OR(H18=99.99,H18=0),24,RANK(H18,$H$6:$H$29,1)) -> 13 | C18: 6 | D18: 2 | E18: 2 | F18: Jeseník | G18: A | H18: 76.71
A19: =IF(OR(H19=99.99,H19=0),24,RANK(H19,$H$6:$H$29,1)) -> 14 | B19: 8 | D19: 14 | E19: 2 | F19: Bruntál | G19: B | H19: 76.88
A20: =IF(OR(H20=99.99,H20=0),24,RANK(H20,$H$6:$H$29,1)) -> 15 | B20: 9 | D20: 3 | E20: 1 | F20: Opava | G20: A | H20: 77.91
A21: =IF(OR(H21=99.99,H21=0),24,RANK(H21,$H$6:$H$29,1)) -> 16 | B21: 10 | D21: 21 | E21: 1 | F21: Karviná | G21: B | H21: 85.29
A22: =IF(OR(H22=99.99,H22=0),24,RANK(H22,$H$6:$H$29,1)) -> 17 | B22: 11 | D22: 8 | E22: 2 | F22: Frýdek - Místek | G22: A | H22: 87.21
A23: =IF(OR(H23=99.99,H23=0),24,RANK(H23,$H$6:$H$29,1)) -> 24 | C23: 10 | D23: 4 | E23: 2 | F23: Prostějov | G23: A | H23: 99.99
A24: =IF(OR(H24=99.99,H24=0),24,RANK(H24,$H$6:$H$29,1)) -> 24 | D24: 6 | E24: 2 | F24: G4S Fire Services | G24: A | H24: 99.99
A25: =IF(OR(H25=99.99,H25=0),24,RANK(H25,$H$6:$H$29,1)) -> 24 | C25: 10 | D25: 9 | E25: 1 | F25: Přerov | G25: A | H25: 99.99
A26: =IF(OR(H26=99.99,H26=0),24,RANK(H26,$H$6:$H$29,1)) -> 24 | B26: 12 | D26: 12 | E26: 2 | F26: Nový Jičín | G26: A | H26: 99.99
A27: =IF(OR(H27=99.99,H27=0),24,RANK(H27,$H$6:$H$29,1)) -> 24 | C27: 10 | D27: 13 | E27: 1 | F27: Jeseník | G27: B | H27: 99.99
A28: =IF(OR(H28=99.99,H28=0),24,RANK(H28,$H$6:$H$29,1)) -> 24 | D28: 17 | E28: 1 | F28: G4S Fire Services | G28: B | H28: 99.99
A29: =IF(OR(H29=99.99,H29=0),24,RANK(H29,$H$6:$H$29,1)) -> 24 | C29: 10 | D29: 20 | E29: 2 | F29: Šumperk | G29: B | H29: 99.99

Sheet dvojbojV
G1: Krajské kolo v požárním sportu Moravskoslezského a Olomouckého kraje
G2: Ostrava, 7. - 8. června 2014
G3: dvojboj
A5: apoř | B5: celkem | C5: MSK | D5: OLK | E5: st.č. | F5: závodník | G5: družstvo | H5: 100m | I5: věž | J5: celkem
A6: 1 | B6: =VLOOKUP(A6,[1]dvojboj!$A$6:$M$125,3,FALSE) -> 1 | C6: =VLOOKUP(A6,[1]dvojboj!$A$6:$M$125,5,FALSE) -> 1 | D6: =VLOOKUP(A6,[1]dvojboj!$A$6:$M$125,7,FALSE) | E6: =VLOOKUP(A6,[1]dvojboj!$A$6:$M$125,8,FALSE) -> 41 | F6: =VLOOKUP(A6,[1]dvojboj!$A$6:$M$125,9,FALSE) -> Kamil BEZRUČ | G6: =VLOOKUP(A6,[1]dvojboj!$A$6:$M$125,10,FALSE) -> Ostrava | H6: =VLOOKUP(A6,[1]dvojboj!$A$6:$M$125,11,FALSE) -> 16.82 | I6: =VLOOKUP(A6,[1]dvojboj!$A$6:$M$125,12,FALSE) -> 13.75 | J6: =VLOOKUP(A6,[1]dvojboj!$A$6:$M$125,13,FALSE) -> 30.57
A7: 2 | B7: =VLOOKUP(A7,[1]dvojboj!$A$6:$M$125,3,FALSE) -> 2 | C7: =VLOOKUP(A7,[1]dvojboj!$A$6:$M$125,5,FALSE) -> 2 | D7: =VLOOKUP(A7,[1]dvojboj!$A$6:$M$125,7,FALSE) | E7: =VLOOKUP(A7,[1]dvojboj!$A$6:$M$125,8,FALSE) -> 47 | F7: =VLOOKUP(A7,[1]dvojboj!$A$6:$M$125,9,FALSE) -> Pavel KRPEC | G7: =VLOOKUP(A7,[1]dvojboj!$A$6:$M$125,10,FALSE) -> Ostrava | H7: =VLOOKUP(A7,[1]dvojboj!$A$6:$M$125,11,FALSE) -> 15.95 | I7: =VLOOKUP(A7,[1]dvojboj!$A$6:$M$125,12,FALSE) -> 14.69 | J7: =VLOOKUP(A7,[1]dvojboj!$A$6:$M$125,13,FALSE) -> 30.64
A8: 3 | B8: =VLOOKUP(A8,[1]dvojboj!$A$6:$M$125,3,FALSE) -> 3 | C8: =VLOOKUP(A8,[1]dvojboj!$A$6:$M$125,5,FALSE) -> 3 | D8: =VLOOKUP(A8,[1]dvojboj!$A$6:$M$125,7,FALSE) | E8: =VLOOKUP(A8,[1]dvojboj!$A$6:$M$125,8,FALSE) -> 49 | F8: =VLOOKUP(A8,[1]dvojboj!$A$6:$M$125,9,FALSE) -> Karel RYL | G8: =VLOOKUP(A8,[1]dvojboj!$A$6:$M$125,10,FALSE) -> Ostrava | H8: =VLOOKUP(A8,[1]dvojboj!$A$6:$M$125,11,FALSE) -> 16.47 | I8: =VLOOKUP(A8,[1]dvojboj!$A$6:$M$125,12,FALSE) -> 14.67 | J8: =VLOOKUP(A8,[1]dvojboj!$A$6:$M$125,13,FALSE) -> 31.14
A9: 4 | B9: =VLOOKUP(A9,[1]dvojboj!$A$6:$M$125,3,FALSE) -> 4 | C9: =VLOOKUP(A9,[1]dvojboj!$A$6:$M$125,5,FALSE) -> 4 | D9: =VLOOKUP(A9,[1]dvojboj!$A$6:$M$125,7,FALSE) | E9: =VLOOKUP(A9,[1]dvojboj!$A$6:$M$125,8,FALSE) -> 45 | F9: =VLOOKUP(A9,[1]dvojboj!$A$6:$M$125,9,FALSE) -> David DOPIRÁK | G9: =VLOOKUP(A9,[1]dvojboj!$A$6:$M$125,10,FALSE) -> Ostrava | H9: =VLOOKUP(A9,[1]dvojboj!$A$6:$M$125,11,FALSE) -> 16.26 | I9: =VLOOKUP(A9,[1]dvojboj!$A$6:$M$125,12,FALSE) -> 15.22 | J9: =VLOOKUP(A9,[1]dvojboj!$A$6:$M$125,13,FALSE) -> 31.48
A10: 5 | B10: =VLOOKUP(A10,[1]dvojboj!$A$6:$M$125,3,FALSE) -> 5 | C10: =VLOOKUP(A10,[1]dvojboj!$A$6:$M$125,5,FALSE) -> 5 | D10: =VLOOKUP(A10,[1]dvojboj!$A$6:$M$125,7,FALSE) | E10: =VLOOKUP(A10,[1]dvojboj!$A$6:$M$125,8,FALSE) -> 48 | F10: =VLOOKUP(A10,[1]dvojboj!$A$6:$M$125,9,FALSE) -> Pavel MAŇAS | G10: =VLOOKUP(A10,[1]dvojboj!$A$6:$M$125,10,FALSE) -> Ostrava | H10: =VLOOKUP(A10,[1]dvojboj!$A$6:$M$125,11,FALSE) -> 16.99 | I10: =VLOOKUP(A10,[1]dvojboj!$A$6:$M$125,12,FALSE) -> 14.57 | J10: =VLOOKUP(A10,[1]dvojboj!$A$6:$M$125,13,FALSE) -> 31.56
A11: 6 | B11: =VLOOKUP(A11,[1]dvojboj!$A$6:$M$125,3,FALSE) -> 6 | C11: =VLOOKUP(A11,[1]dvojboj!$A$6:$M$125,5,FALSE) | D11: =VLOOKUP(A11,[1]dvojboj!$A$6:$M$125,7,FALSE) -> 1 | E11: =VLOOKUP(A11,[1]dvojboj!$A$6:$M$125,8,FALSE) -> 102 | F11: =VLOOKUP(A11,[1]dvojboj!$A$6:$M$125,9,FALSE) -> Jaroslav ŽITNÝ | G11: =VLOOKUP(A11,[1]dvojboj!$A$6:$M$125,10,FALSE) -> Olomouc | H11: =VLOOKUP(A11,[1]dvojboj!$A$6:$M$125,11,FALSE) -> 17.06 | I11: =VLOOKUP(A11,[1]dvojboj!$A$6:$M$125,12,FALSE) -> 14.94 | J11: =VLOOKUP(A11,[1]dvojboj!$A$6:$M$125,13,FALSE) -> 32
A12: 7 | B12: =VLOOKUP(A12,[1]dvojboj!$A$6:$M$125,3,FALSE) -> 7 | C12: =VLOOKUP(A12,[1]dvojboj!$A$6:$M$125,5,FALSE) -> 6 | D12: =VLOOKUP(A12,[1]dvojboj!$A$6:$M$125,7,FALSE) | E12: =VLOOKUP(A12,[1]dvojboj!$A$6:$M$125,8,FALSE) -> 97 | F12: =VLOOKUP(A12,[1]dvojboj!$A$6:$M$125,9,FALSE) -> Jiří MOTYKA | G12: =VLOOKUP(A12,[1]dvojboj!$A$6:$M$125,10,FALSE) -> Karviná | H12: =VLOOKUP(A12,[1]dvojboj!$A$6:$M$125,11,FALSE) -> 17.08 | I12: =VLOOKUP(A12,[1]dvojboj!$A$6:$M$125,12,FALSE) -> 15.27 | J12: =VLOOKUP(A12,[1]dvojboj!$A$6:$M$125,13,FALSE) -> 32.35
A13: 8 | B13: =VLOOKUP(A13,[1]dvojboj!$A$6:$M$125,3,FALSE) -> 8 | C13: =VLOOKUP(A13,[1]dvojboj!$A$6:$M$125,5,FALSE) -> 7 | D13: =VLOOKUP(A13,[1]dvojboj!$A$6:$M$125,7,FALSE) | E13: =VLOOKUP(A13,[1]dvojboj!$A$6:$M$125,8,FALSE) -> 43 | F13: =VLOOKUP(A13,[1]dvojboj!$A$6:$M$125,9,FALSE) -> Adam VONDRA | G13: =VLOOKUP(A13,[1]dvojboj!$A$6:$M$125,10,FALSE) -> Ostrava | H13: =VLOOKUP(A13,[1]dvojboj!$A$6:$M$125,11,FALSE) -> 16.46 | I13: =VLOOKUP(A13,[1]dvojboj!$A$6:$M$125,12,FALSE) -> 15.94 | J13: =VLOOKUP(A13,[1]dvojboj!$A$6:$M$125,13,FALSE) -> 32.4
A14: 9 | B14: =VLOOKUP(A14,[1]dvojboj!$A$6:$M$125,3,FALSE) -> 9 | C14: =VLOOKUP(A14,[1]dvojboj!$A$6:$M$125,5,FALSE) -> 8 | D14: =VLOOKUP(A14,[1]dvojboj!$A$6:$M$125,7,FALSE) | E14: =VLOOKUP(A14,[1]dvojboj!$A$6:$M$125,8,FALSE) -> 93 | F14: =VLOOKUP(A14,[1]dvojboj!$A$6:$M$125,9,FALSE) -> Jakub GRYČ | G14: =VLOOKUP(A14,[1]dvojboj!$A$6:$M$125,10,FALSE) -> Karviná | H14: =VLOOKUP(A14,[1]dvojboj!$A$6:$M$125,11,FALSE) -> 16.68 | I14: =VLOOKUP(A14,[1]dvojboj!$A$6:$M$125,12,FALSE) -> 15.74 | J14: =VLOOKUP(A14,[1]dvojboj!$A$6:$M$125,13,FALSE) -> 32.42
A15: 10 | B15: =VLOOKUP(A15,[1]dvojboj!$A$6:$M$125,3,FALSE) -> 10 | C15: =VLOOKUP(A15,[1]dvojboj!$A$6:$M$125,5,FALSE) -> 9 | D15: =VLOOKUP(A15,[1]dvojboj!$A$6:$M$125,7,FALSE) | E15: =VLOOKUP(A15,[1]dvojboj!$A$6:$M$125,8,FALSE) -> 94 | F15: =VLOOKUP(A15,[1]dvojboj!$A$6:$M$125,9,FALSE) -> Petr LANGER | G15: =VLOOKUP(A15,[1]dvojboj!$A$6:$M$125,10,FALSE) -> Karviná | H15: =VLOOKUP(A15,[1]dvojboj!$A$6:$M$125,11,FALSE) -> 16.77 | I15: =VLOOKUP(A15,[1]dvojboj!$A$6:$M$125,12,FALSE) -> 15.95 | J15: =VLOOKUP(A15,[1]dvojboj!$A$6:$M$125,13,FALSE) -> 32.72
A16: 11 | B16: =VLOOKUP(A16,[1]dvojboj!$A$6:$M$125,3,FALSE) -> 11 | C16: =VLOOKUP(A16,[1]dvojboj!$A$6:$M$125,5,FALSE) -> 10 | D16: =VLOOKUP(A16,[1]dvojboj!$A$6:$M$125,7,FALSE) | E16: =VLOOKUP(A16,[1]dvojboj!$A$6:$M$125,8,FALSE) -> 95 | F16: =VLOOKUP(A16,[1]dvojboj!$A$6:$M$125,9,FALSE) -> Šimon KUDRNA | G16: =VLOOKUP(A16,[1]dvojboj!$A$6:$M$125,10,FALSE) -> Karviná | H16: =VLOOKUP(A16,[1]dvojboj!$A$6:$M$125,11,FALSE) -> 16.8 | I16: =VLOOKUP(A16,[1]dvojboj!$A$6:$M$125,12,FALSE) -> 16.26 | J16: =VLOOKUP(A16,[1]dvojboj!$A$6:$M$125,13,FALSE) -> 33.06
A17: 12 | B17: =VLOOKUP(A17,[1]dvojboj!$A$6:$M$125,3,FALSE) -> 12 | C17: =VLOOKUP(A17,[1]dvojboj!$A$6:$M$125,5,FALSE) | D17: =VLOOKUP(A17,[1]dvojboj!$A$6:$M$125,7,FALSE) -> 2 | E17: =VLOOKUP(A17,[1]dvojboj!$A$6:$M$125,8,FALSE) -> 34 | F17: =VLOOKUP(A17,[1]dvojboj!$A$6:$M$125,9,FALSE) -> Jan ŠINDELKA | G17: =VLOOKUP(A17,[1]dvojboj!$A$6:$M$125,10,FALSE) -> Prostějov | H17: =VLOOKUP(A17,[1]dvojboj!$A$6:$M$125,11,FALSE) -> 17.63 | I17: =VLOOKUP(A17,[1]dvojboj!$A$6:$M$125,12,FALSE) -> 15.49 | J17: =VLOOKUP(A17,[1]dvojboj!$A$6:$M$125,13,FALSE) -> 33.12
... A20: 15 | B20: =VLOOKUP(A20,[1]dvojboj!$A$6:$M$125,3,FALSE) -> 15 | C20: =VLOOKUP(A20,[1]dvojboj!$A$6:$M$125,5,FALSE) -> 12 | D20: =VLOOKUP(A20,[1]dvojboj!$A$6:$M$125,7,FALSE) | E20: =VLOOKUP(A20,[1]dvojboj!$A$6:$M$125,8,FALSE) -> 91 | F20: =VLOOKUP(A20,[1]dvojboj!$A$6:$M$125,9,FALSE) -> David SIKORA | G20: =VLOOKUP(A20,[1]dvojboj!$A$6:$M$125,10,FALSE) -> Karviná | H20: =VLOOKUP(A20,[1]dvojboj!$A$6:$M$125,11,FALSE) -> 17.5 | I20: =VLOOKUP(A20,[1]dvojboj!$A$6:$M$125,12,FALSE) -> 16.65 | J20: =VLOOKUP(A20,[1]dvojboj!$A$6:$M$125,13,FALSE) -> 34.15
A21: 16 | B21: =VLOOKUP(A21,[1]dvojboj!$A$6:$M$125,3,FALSE) -> 16 | C21: =VLOOKUP(A21,[1]dvojboj!$A$6:$M$125,5,FALSE) | E21: =VLOOKUP(A21,[1]dvojboj!$A$6:$M$125,8,FALSE) -> 52 | F21: =VLOOKUP(A21,[1]dvojboj!$A$6:$M$125,9,FALSE) -> Martin SZABO | G21: =VLOOKUP(A21,[1]dvojboj!$A$6:$M$125,10,FALSE) -> G4S Fire Services | H21: =VLOOKUP(A21,[1]dvojboj!$A$6:$M$125,11,FALSE) -> 18.63 | I21: =VLOOKUP(A21,[1]dvojboj!$A$6:$M$125,12,FALSE) -> 15.56 | J21: =VLOOKUP(A21,[1]dvojboj!$A$6:$M$125,13,FALSE) -> 34.19
A22: 17 | B22: =VLOOKUP(A22,[1]dvojboj!$A$6:$M$125,3,FALSE) -> 17 | C22: =VLOOKUP(A22,[1]dvojboj!$A$6:$M$125,5,FALSE) | E22: =VLOOKUP(A22,[1]dvojboj!$A$6:$M$125,8,FALSE) -> 54 | F22: =VLOOKUP(A22,[1]dvojboj!$A$6:$M$125,9,FALSE) -> Rastislav PECNÍK | G22: =VLOOKUP(A22,[1]dvojboj!$A$6:$M$125,10,FALSE) -> G4S Fire Services | H22: =VLOOKUP(A22,[1]dvojboj!$A$6:$M$125,11,FALSE) -> 18.16 | I22: =VLOOKUP(A22,[1]dvojboj!$A$6:$M$125,12,FALSE) -> 16.38 | J22: =VLOOKUP(A22,[1]dvojboj!$A$6:$M$125,13,FALSE) -> 34.54
A23: 18 | B23: =VLOOKUP(A23,[1]dvojboj!$A$6:$M$125,3,FALSE) -> 18 | C23: =VLOOKUP(A23,[1]dvojboj!$A$6:$M$125,5,FALSE) | E23: =VLOOKUP(A23,[1]dvojboj!$A$6:$M$125,8,FALSE) -> 55 | F23: =VLOOKUP(A23,[1]dvojboj!$A$6:$M$125,9,FALSE) -> Dávid KALUŽNIK | G23: =VLOOKUP(A23,[1]dvojboj!$A$6:$M$125,10,FALSE) -> G4S Fire Services | H23: =VLOOKUP(A23,[1]dvojboj!$A$6:$M$125,11,FALSE) -> 17.44 | I23: =VLOOKUP(A23,[1]dvojboj!$A$6:$M$125,12,FALSE) -> 17.11 | J23: =VLOOKUP(A23,[1]dvojboj!$A$6:$M$125,13,FALSE) -> 34.55
A24: 19 | B24: =VLOOKUP(A24,[1]dvojboj!$A$6:$M$125,3,FALSE) -> 19 | C24: =VLOOKUP(A24,[1]dvojboj!$A$6:$M$125,5,FALSE) -> 13 | D24: =VLOOKUP(A24,[1]dvojboj!$A$6:$M$125,7,FALSE) | E24: =VLOOKUP(A24,[1]dvojboj!$A$6:$M$125,8,FALSE) -> 92 | F24: =VLOOKUP(A24,[1]dvojboj!$A$6:$M$125,9,FALSE) -> Marcel DAL | G24: =VLOOKUP(A24,[1]dvojboj!$A$6:$M$125,10,FALSE) -> Karviná | H24: =VLOOKUP(A24,[1]dvojboj!$A$6:$M$125,11,FALSE) -> 17.9 | I24: =VLOOKUP(A24,[1]dvojboj!$A$6:$M$125,12,FALSE) -> 16.79 | J24: =VLOOKUP(A24,[1]dvojboj!$A$6:$M$125,13,FALSE) -> 34.69
A25: 20 | B25: =VLOOKUP(A25,[1]dvojboj!$A$6:$M$125,3,FALSE) -> 20 | C25: =VLOOKUP(A25,[1]dvojboj!$A$6:$M$125,5,FALSE) | D25: =VLOOKUP(A25,[1]dvojboj!$A$6:$M$125,7,FALSE) -> 4 | E25: =VLOOKUP(A25,[1]dvojboj!$A$6:$M$125,8,FALSE) -> 86 | F25: =VLOOKUP(A25,[1]dvojboj!$A$6:$M$125,9,FALSE) -> Pavel BERNHAUER | G25: =VLOOKUP(A25,[1]dvojboj!$A$6:$M$125,10,FALSE) -> Přerov | H25: =VLOOKUP(A25,[1]dvojboj!$A$6:$M$125,11,FALSE) -> 18.35 | I25: =VLOOKUP(A25,[1]dvojboj!$A$6:$M$125,12,FALSE) -> 16.56 | J25: =VLOOKUP(A25,[1]dvojboj!$A$6:$M$125,13,FALSE) -> 34.91
A26: 21 | B26: =VLOOKUP(A26,[1]dvojboj!$A$6:$M$125,3,FALSE) -> 21 | C26: =VLOOKUP(A26,[1]dvojboj!$A$6:$M$125,5,FALSE) | D26: =VLOOKUP(A26,[1]dvojboj!$A$6:$M$125,7,FALSE) -> 5 | E26: =VLOOKUP(A26,[1]dvojboj!$A$6:$M$125,8,FALSE) -> 106 | F26: =VLOOKUP(A26,[1]dvojboj!$A$6:$M$125,9,FALSE) -> Petr NAVRÁTIL | G26: =VLOOKUP(A26,[1]dvojboj!$A$6:$M$125,10,FALSE) -> Olomouc | H26: =VLOOKUP(A26,[1]dvojboj!$A$6:$M$125,11,FALSE) -> 18.62 | I26: =VLOOKUP(A26,[1]dvojboj!$A$6:$M$125,12,FALSE) -> 16.64 | J26: =VLOOKUP(A26,[1]dvojboj!$A$6:$M$125,13,FALSE) -> 35.26
A27: 22 | B27: =VLOOKUP(A27,[1]dvojboj!$A$6:$M$125,3,FALSE) -> 22 | C27: =VLOOKUP(A27,[1]dvojboj!$A$6:$M$125,5,FALSE) | D27: =VLOOKUP(A27,[1]dvojboj!$A$6:$M$125,7,FALSE) -> 6 | E27: =VLOOKUP(A27,[1]dvojboj!$A$6:$M$125,8,FALSE) -> 89 | F27: =VLOOKUP(A27,[1]dvojboj!$A$6:$M$125,9,FALSE) -> Ladislav PATRMAN | G27: =VLOOKUP(A27,[1]dvojboj!$A$6:$M$125,10,FALSE) -> Přerov | H27: =VLOOKUP(A27,[1]dvojboj!$A$6:$M$125,11,FALSE) -> 19.23 | I27: =VLOOKUP(A27,[1]dvojboj!$A$6:$M$125,12,FALSE) -> 16.15 | J27: =VLOOKUP(A27,[1]dvojboj!$A$6:$M$125,13,FALSE) -> 35.38
A28: 23 | B28: =VLOOKUP(A28,[1]dvojboj!$A$6:$M$125,3,FALSE) -> 23 | C28: =VLOOKUP(A28,[1]dvojboj!$A$6:$M$125,5,FALSE) | D28: =VLOOKUP(A28,[1]dvojboj!$A$6:$M$125,7,FALSE) -> 7 | E28: =VLOOKUP(A28,[1]dvojboj!$A$6:$M$125,8,FALSE) -> 103 | F28: =VLOOKUP(A28,[1]dvojboj!$A$6:$M$125,9,FALSE) -> Jiří MAREŠ | G28: =VLOOKUP(A28,[1]dvojboj!$A$6:$M$125,10,FALSE) -> Olomouc | H28: =VLOOKUP(A28,[1]dvojboj!$A$6:$M$125,11,FALSE) -> 17.4 | I28: =VLOOKUP(A28,[1]dvojboj!$A$6:$M$125,12,FALSE) -> 18.1 | J28: =VLOOKUP(A28,[1]dvojboj!$A$6:$M$125,13,FALSE) -> 35.5
A29: 24 | B29: =VLOOKUP(A29,[1]dvojboj!$A$6:$M$125,3,FALSE) -> 24 | C29: =VLOOKUP(A29,[1]dvojboj!$A$6:$M$125,5,FALSE) | E29: =VLOOKUP(A29,[1]dvojboj!$A$6:$M$125,8,FALSE) -> 56 | F29: =VLOOKUP(A29,[1]dvojboj!$A$6:$M$125,9,FALSE) -> Marián TÓTH | G29: =VLOOKUP(A29,[1]dvojboj!$A$6:$M$125,10,FALSE) -> G4S Fire Services | H29: =VLOOKUP(A29,[1]dvojboj!$A$6:$M$125,11,FALSE) -> 19.32 | I29: =VLOOKUP(A29,[1]dvojboj!$A$6:$M$125,12,FALSE) -> 16.56 | J29: =VLOOKUP(A29,[1]dvojboj!$A$6:$M$125,13,FALSE) -> 35.88
A30: 25 | B30: =VLOOKUP(A30,[1]dvojboj!$A$6:$M$125,3,FALSE) -> 25 | C30: =VLOOKUP(A30,[1]dvojboj!$A$6:$M$125,5,FALSE) | D30: =VLOOKUP(A30,[1]dvojboj!$A$6:$M$125,7,FALSE) -> 8 | E30: =VLOOKUP(A30,[1]dvojboj!$A$6:$M$125,8,FALSE) -> 101 | F30: =VLOOKUP(A30,[1]dvojboj!$A$6:$M$125,9,FALSE) -> Zbyněk HRADIL | G30: =VLOOKUP(A30,[1]dvojboj!$A$6:$M$125,10,FALSE) -> Olomouc | H30: =VLOOKUP(A30,[1]dvojboj!$A$6:$M$125,11,FALSE) -> 20.03 | I30: =VLOOKUP(A30,[1]dvojboj!$A$6:$M$125,12,FALSE) -> 16.29 | J30: =VLOOKUP(A30,[1]dvojboj!$A$6:$M$125,13,FALSE) -> 36.32
A31: 26 | B31: =VLOOKUP(A31,[1]dvojboj!$A$6:$M$125,3,FALSE) -> 26 | C31: =VLOOKUP(A31,[1]dvojboj!$A$6:$M$125,5,FALSE) | D31: =VLOOKUP(A31,[1]dvojboj!$A$6:$M$125,7,FALSE) -> 9 | E31: =VLOOKUP(A31,[1]dvojboj!$A$6:$M$125,8,FALSE) -> 84 | F31: =VLOOKUP(A31,[1]dvojboj!$A$6:$M$125,9,FALSE) -> Josef BUCHTA | G31: =VLOOKUP(A31,[1]dvojboj!$A$6:$M$125,10,FALSE) -> Přerov | H31: =VLOOKUP(A31,[1]dvojboj!$A$6:$M$125,11,FALSE) -> 17.72 | I31: =VLOOKUP(A31,[1]dvojboj!$A$6:$M$125,12,FALSE) -> 18.61 | J31: =VLOOKUP(A31,[1]dvojboj!$A$6:$M$125,13,FALSE) -> 36.33
A32: 27 | B32: =VLOOKUP(A32,[1]dvojboj!$A$6:$M$125,3,FALSE) -> 27 | C32: =VLOOKUP(A32,[1]dvojboj!$A$6:$M$125,5,FALSE) | D32: =VLOOKUP(A32,[1]dvojboj!$A$6:$M$125,7,FALSE) -> 10 | E32: =VLOOKUP(A32,[1]dvojboj!$A$6:$M$125,8,FALSE) -> 104 | F32: =VLOOKUP(A32,[1]dvojboj!$A$6:$M$125,9,FALSE) -> Jan NESVADBA | G32: =VLOOKUP(A32,[1]dvojboj!$A$6:$M$125,10,FALSE) -> Olomouc | H32: =VLOOKUP(A32,[1]dvojboj!$A$6:$M$125,11,FALSE) -> 19.56 | I32: =VLOOKUP(A32,[1]dvojboj!$A$6:$M$125,12,FALSE) -> 16.96 | J32: =VLOOKUP(A32,[1]dvojboj!$A$6:$M$125,13,FALSE) -> 36.52
A33: 28 | B33: =VLOOKUP(A33,[1]dvojboj!$A$6:$M$125,3,FALSE) -> 28 | C33: =VLOOKUP(A33,[1]dvojboj!$A$6:$M$125,5,FALSE) | E33: =VLOOKUP(A33,[1]dvojboj!$A$6:$M$125,8,FALSE) -> 51 | F33: =VLOOKUP(A33,[1]dvojboj!$A$6:$M$125,9,FALSE) -> Vladislav FODOR | G33: =VLOOKUP(A33,[1]dvojboj!$A$6:$M$125,10,FALSE) -> G4S Fire Services | H33: =VLOOKUP(A33,[1]dvojboj!$A$6:$M$125,11,FALSE) -> 19.09 | I33: =VLOOKUP(A33,[1]dvojboj!$A$6:$M$125,12,FALSE) -> 17.52 | J33: =VLOOKUP(A33,[1]dvojboj!$A$6:$M$125,13,FALSE) -> 36.61
A34: 29 | B34: =VLOOKUP(A34,[1]dvojboj!$A$6:$M$125,3,FALSE) -> 29 | C34: =VLOOKUP(A34,[1]dvojboj!$A$6:$M$125,5,FALSE) | D34: =VLOOKUP(A34,[1]dvojboj!$A$6:$M$125,7,FALSE) -> 11 | E34: =VLOOKUP(A34,[1]dvojboj!$A$6:$M$125,8,FALSE) -> 82 | F34: =VLOOKUP(A34,[1]dvojboj!$A$6:$M$125,9,FALSE) -> Petr MIRVALD | G34: =VLOOKUP(A34,[1]dvojboj!$A$6:$M$125,10,FALSE) -> Přerov | H34: =VLOOKUP(A34,[1]dvojboj!$A$6:$M$125,11,FALSE) -> 18.7 | I34: =VLOOKUP(A34,[1]dvojboj!$A$6:$M$125,12,FALSE) -> 18.38 | J34: =VLOOKUP(A34,[1]dvojboj!$A$6:$M$125,13,FALSE) -> 37.08
A35: 30 | B35: =VLOOKUP(A35,[1]dvojboj!$A$6:$M$125,3,FALSE) -> 30 | C35: =VLOOKUP(A35,[1]dvojboj!$A$6:$M$125,5,FALSE) | E35: =VLOOKUP(A35,[1]dvojboj!$A$6:$M$125,8,FALSE) -> 53 | F35: =VLOOKUP(A35,[1]dvojboj!$A$6:$M$125,9,FALSE) -> Jakub PAVELKA | G35: =VLOOKUP(A35,[1]dvojboj!$A$6:$M$125,10,FALSE) -> G4S Fire Services | H35: =VLOOKUP(A35,[1]dvojboj!$A$6:$M$125,11,FALSE) -> 17.94 | I35: =VLOOKUP(A35,[1]dvojboj!$A$6:$M$125,12,FALSE) -> 19.29 | J35: =VLOOKUP(A35,[1]dvojboj!$A$6:$M$125,13,FALSE) -> 37.23
A36: 31 | B36: =VLOOKUP(A36,[1]dvojboj!$A$6:$M$125,3,FALSE) -> 31 | C36: =VLOOKUP(A36,[1]dvojboj!$A$6:$M$125,5,FALSE) | E36: =VLOOKUP(A36,[1]dvojboj!$A$6:$M$125,8,FALSE) -> 57 | F36: =VLOOKUP(A36,[1]dvojboj!$A$6:$M$125,9,FALSE) -> Štefan NEUVIRTH | G36: =VLOOKUP(A36,[1]dvojboj!$A$6:$M$125,10,FALSE) -> G4S Fire Services | H36: =VLOOKUP(A36,[1]dvojboj!$A$6:$M$125,11,FALSE) -> 17.29 | I36: =VLOOKUP(A36,[1]dvojboj!$A$6:$M$125,12,FALSE) -> 20.34 | J36: =VLOOKUP(A36,[1]dvojboj!$A$6:$M$125,13,FALSE) -> 37.63
A37: 32 | B37: =VLOOKUP(A37,[1]dvojboj!$A$6:$M$125,3,FALSE) -> 32 | C37: =VLOOKUP(A37,[1]dvojboj!$A$6:$M$125,5,FALSE) | D37: =VLOOKUP(A37,[1]dvojboj!$A$6:$M$125,7,FALSE) -> 12 | E37: =VLOOKUP(A37,[1]dvojboj!$A$6:$M$125,8,FALSE) -> 85 | F37: =VLOOKUP(A37,[1]dvojboj!$A$6:$M$125,9,FALSE) -> Marek BIA | G37: =VLOOKUP(A37,[1]dvojboj!$A$6:$M$125,10,FALSE) -> Přerov | H37: =VLOOKUP(A37,[1]dvojboj!$A$6:$M$125,11,FALSE) -> 21.97 | I37: =VLOOKUP(A37,[1]dvojboj!$A$6:$M$125,12,FALSE) -> 16.35 | J37: =VLOOKUP(A37,[1]dvojboj!$A$6:$M$125,13,FALSE) -> 38.32
A38: 33 | B38: =VLOOKUP(A38,[1]dvojboj!$A$6:$M$125,3,FALSE) -> 33 | C38: =VLOOKUP(A38,[1]dvojboj!$A$6:$M$125,5,FALSE) | D38: =VLOOKUP(A38,[1]dvojboj!$A$6:$M$125,7,FALSE) -> 13 | E38: =VLOOKUP(A38,[1]dvojboj!$A$6:$M$125,8,FALSE) -> 64 | F38: =VLOOKUP(A38,[1]dvojboj!$A$6:$M$125,9,FALSE) -> Přemysl VENOUŠ | G38: =VLOOKUP(A38,[1]dvojboj!$A$6:$M$125,10,FALSE) -> Šumperk | H38: =VLOOKUP(A38,[1]dvojboj!$A$6:$M$125,11,FALSE) -> 19.31 | I38: =VLOOKUP(A38,[1]dvojboj!$A$6:$M$125,12,FALSE) -> 19.96 | J38: =VLOOKUP(A38,[1]dvojboj!$A$6:$M$125,13,FALSE) -> 39.27
A39: 34 | B39: =VLOOKUP(A39,[1]dvojboj!$A$6:$M$125,3,FALSE) -> 34 | C39: =VLOOKUP(A39,[1]dvojboj!$A$6:$M$125,5,FALSE) | D39: =VLOOKUP(A39,[1]dvojboj!$A$6:$M$125,7,FALSE) -> 14 | E39: =VLOOKUP(A39,[1]dvojboj!$A$6:$M$125,8,FALSE) -> 81 | F39: =VLOOKUP(A39,[1]dvojboj!$A$6:$M$125,9,FALSE) -> Jan KLIMECKÝ | G39: =VLOOKUP(A39,[1]dvojboj!$A$6:$M$125,10,FALSE) -> Přerov | H39: =VLOOKUP(A39,[1]dvojboj!$A$6:$M$125,11,FALSE) -> 18.45 | I39: =VLOOKUP(A39,[1]dvojboj!$A$6:$M$125,12,FALSE) -> 21.57 | J39: =VLOOKUP(A39,[1]dvojboj!$A$6:$M$125,13,FALSE) -> 40.02
A40: 35 | B40: =VLOOKUP(A40,[1]dvojboj!$A$6:$M$125,3,FALSE) -> 35 | C40: =VLOOKUP(A40,[1]dvojboj!$A$6:$M$125,5,FALSE) -> 14 | D40: =VLOOKUP(A40,[1]dvojboj!$A$6:$M$125,7,FALSE) | E40: =VLOOKUP(A40,[1]dvojboj!$A$6:$M$125,8,FALSE) -> 112 | F40: =VLOOKUP(A40,[1]dvojboj!$A$6:$M$125,9,FALSE) -> Petr BINAR | G40: =VLOOKUP(A40,[1]dvojboj!$A$6:$M$125,10,FALSE) -> Nový Jičín | H40: =VLOOKUP(A40,[1]dvojboj!$A$6:$M$125,11,FALSE) -> 18.86 | I40: =VLOOKUP(A40,[1]dvojboj!$A$6:$M$125,12,FALSE) -> 21.66 | J40: =VLOOKUP(A40,[1]dvojboj!$A$6:$M$125,13,FALSE) -> 40.52
A41: 36 | B41: =VLOOKUP(A41,[1]dvojboj!$A$6:$M$125,3,FALSE) -> 36 | C41: =VLOOKUP(A41,[1]dvojboj!$A$6:$M$125,5,FALSE) -> 15 | D41: =VLOOKUP(A41,[1]dvojboj!$A$6:$M$125,7,FALSE) | E41: =VLOOKUP(A41,[1]dvojboj!$A$6:$M$125,8,FALSE) -> 73 | F41: =VLOOKUP(A41,[1]dvojboj!$A$6:$M$125,9,FALSE) -> Martin POLÁŠEK | G41: =VLOOKUP(A41,[1]dvojboj!$A$6:$M$125,10,FALSE) -> Frýdek - Místek | H41: =VLOOKUP(A41,[1]dvojboj!$A$6:$M$125,11,FALSE) -> 20.2 | I41: =VLOOKUP(A41,[1]dvojboj!$A$6:$M$125,12,FALSE) -> 20.45 | J41: =VLOOKUP(A41,[1]dvojboj!$A$6:$M$125,13,FALSE) -> 40.65
A42: 37 | B42: =VLOOKUP(A42,[1]dvojboj!$A$6:$M$125,3,FALSE) -> 37 | C42: =VLOOKUP(A42,[1]dvojboj!$A$6:$M$125,5,FALSE) | D42: =VLOOKUP(A42,[1]dvojboj!$A$6:$M$125,7,FALSE) -> 15 | E42: =VLOOKUP(A42,[1]dvojboj!$A$6:$M$125,8,FALSE) -> 105 | F42: =VLOOKUP(A42,[1]dvojboj!$A$6:$M$125,9,FALSE) -> Jaroslav NAVRÁTIL | G42: =VLOOKUP(A42,[1]dvojboj!$A$6:$M$125,10,FALSE) -> Olomouc | H42: =VLOOKUP(A42,[1]dvojboj!$A$6:$M$125,11,FALSE) -> 18.84 | I42: =VLOOKUP(A42,[1]dvojboj!$A$6:$M$125,12,FALSE) -> 22.39 | J42: =VLOOKUP(A42,[1]dvojboj!$A$6:$M$125,13,FALSE) -> 41.23
A43: 38 | B43: =VLOOKUP(A43,[1]dvojboj!$A$6:$M$125,3,FALSE) -> 38 | C43: =VLOOKUP(A43,[1]dvojboj!$A$6:$M$125,5,FALSE) | D43: =VLOOKUP(A43,[1]dvojboj!$A$6:$M$125,7,FALSE) -> 16 | E43: =VLOOKUP(A43,[1]dvojboj!$A$6:$M$125,8,FALSE) -> 68 | F43: =VLOOKUP(A43,[1]dvojboj!$A$6:$M$125,9,FALSE) -> Vítězslav RESNER | G43: =VLOOKUP(A43,[1]dvojboj!$A$6:$M$125,10,FALSE) -> Šumperk | H43: =VLOOKUP(A43,[1]dvojboj!$A$6:$M$125,11,FALSE) -> 20.95 | I43: =VLOOKUP(A43,[1]dvojboj!$A$6:$M$125,12,FALSE) -> 20.97 | J43: =VLOOKUP(A43,[1]dvojboj!$A$6:$M$125,13,FALSE) -> 41.92
A44: 39 | B44: =VLOOKUP(A44,[1]dvojboj!$A$6:$M$125,3,FALSE) -> 39 | C44: =VLOOKUP(A44,[1]dvojboj!$A$6:$M$125,5,FALSE) -> 16 | D44: =VLOOKUP(A44,[1]dvojboj!$A$6:$M$125,7,FALSE) | E44: =VLOOKUP(A44,[1]dvojboj!$A$6:$M$125,8,FALSE) -> 71 | F44: =VLOOKUP(A44,[1]dvojboj!$A$6:$M$125,9,FALSE) -> Jiří HRČEK | G44: =VLOOKUP(A44,[1]dvojboj!$A$6:$M$125,10,FALSE) -> Frýdek - Místek | H44: =VLOOKUP(A44,[1]dvojboj!$A$6:$M$125,11,FALSE) -> 21.28 | I44: =VLOOKUP(A44,[1]dvojboj!$A$6:$M$125,12,FALSE) -> 20.7 | J44: =VLOOKUP(A44,[1]dvojboj!$A$6:$M$125,13,FALSE) -> 41.98
A45: 40 | B45: =VLOOKUP(A45,[1]dvojboj!$A$6:$M$125,3,FALSE) -> 40 | C45: =VLOOKUP(A45,[1]dvojboj!$A$6:$M$125,5,FALSE) -> 17 | D45: =VLOOKUP(A45,[1]dvojboj!$A$6:$M$125,7,FALSE) | E45: =VLOOKUP(A45,[1]dvojboj!$A$6:$M$125,8,FALSE) -> 111 | F45: =VLOOKUP(A45,[1]dvojboj!$A$6:$M$125,9,FALSE) -> Daniel CAMFRLA | G45: =VLOOKUP(A45,[1]dvojboj!$A$6:$M$125,10,FALSE) -> Nový Jičín | H45: =VLOOKUP(A45,[1]dvojboj!$A$6:$M$125,11,FALSE) -> 20.91 | I45: =VLOOKUP(A45,[1]dvojboj!$A$6:$M$125,12,FALSE) -> 21.53 | J45: =VLOOKUP(A45,[1]dvojboj!$A$6:$M$125,13,FALSE) -> 42.44
A46: 41 | B46: =VLOOKUP(A46,[1]dvojboj!$A$6:$M$125,3,FALSE) -> 41 | C46: =VLOOKUP(A46,[1]dvojboj!$A$6:$M$125,5,FALSE) -> 18 | D46: =VLOOKUP(A46,[1]dvojboj!$A$6:$M$125,7,FALSE) | E46: =VLOOKUP(A46,[1]dvojboj!$A$6:$M$125,8,FALSE) -> 1 | F46: =VLOOKUP(A46,[1]dvojboj!$A$6:$M$125,9,FALSE) -> Petr BOXAN | G46: =VLOOKUP(A46,[1]dvojboj!$A$6:$M$125,10,FALSE) -> Bruntál | H46: =VLOOKUP(A46,[1]dvojboj!$A$6:$M$125,11,FALSE) -> 19.5 | I46: =VLOOKUP(A46,[1]dvojboj!$A$6:$M$125,12,FALSE) -> 23.01 | J46: =VLOOKUP(A46,[1]dvojboj!$A$6:$M$125,13,FALSE) -> 42.51
A47: 42 | B47: =VLOOKUP(A47,[1]dvojboj!$A$6:$M$125,3,FALSE) -> 42 | C47: =VLOOKUP(A47,[1]dvojboj!$A$6:$M$125,5,FALSE) -> 19 | D47: =VLOOKUP(A47,[1]dvojboj!$A$6:$M$125,7,FALSE) | E47: =VLOOKUP(A47,[1]dvojboj!$A$6:$M$125,8,FALSE) -> 114 | F47: =VLOOKUP(A47,[1]dvojboj!$A$6:$M$125,9,FALSE) -> Pavel KROUPA | G47: =VLOOKUP(A47,[1]dvojboj!$A$6:$M$125,10,FALSE) -> Nový Jičín | H47: =VLOOKUP(A47,[1]dvojboj!$A$6:$M$125,11,FALSE) -> 21.56 | I47: =VLOOKUP(A47,[1]dvojboj!$A$6:$M$125,12,FALSE) -> 21.47 | J47: =VLOOKUP(A47,[1]dvojboj!$A$6:$M$125,13,FALSE) -> 43.03
A48: 43 | B48: =VLOOKUP(A48,[1]dvojboj!$A$6:$M$125,3,FALSE) -> 43 | C48: =VLOOKUP(A48,[1]dvojboj!$A$6:$M$125,5,FALSE) -> 20 | D48: =VLOOKUP(A48,[1]dvojboj!$A$6:$M$125,7,FALSE) | E48: =VLOOKUP(A48,[1]dvojboj!$A$6:$M$125,8,FALSE) -> 22 | F48: =VLOOKUP(A48,[1]dvojboj!$A$6:$M$125,9,FALSE) -> Jiří DRÁPAL | G48: =VLOOKUP(A48,[1]dvojboj!$A$6:$M$125,10,FALSE) -> Opava | H48: =VLOOKUP(A48,[1]dvojboj!$A$6:$M$125,11,FALSE) -> 19.93 | I48: =VLOOKUP(A48,[1]dvojboj!$A$6:$M$125,12,FALSE) -> 24.04 | J48: =VLOOKUP(A48,[1]dvojboj!$A$6:$M$125,13,FALSE) -> 43.97
... A76: 71 | B76: =VLOOKUP(A76,[1]dvojboj!$A$6:$M$125,3,FALSE) -> 71 | C76: =VLOOKUP(A76,[1]dvojboj!$A$6:$M$125,5,FALSE) | D76: =VLOOKUP(A76,[1]dvojboj!$A$6:$M$125,7,FALSE) -> 30 | E76: =VLOOKUP(A76,[1]dvojboj!$A$6:$M$125,8,FALSE) -> 17 | F76: =VLOOKUP(A76,[1]dvojboj!$A$6:$M$125,9,FALSE) -> Martin DISTLER | G76: =VLOOKUP(A76,[1]dvojboj!$A$6:$M$125,10,FALSE) -> Jeseník | H76: =VLOOKUP(A76,[1]dvojboj!$A$6:$M$125,11,FALSE) -> 25.1 | I76: =VLOOKUP(A76,[1]dvojboj!$A$6:$M$125,12,FALSE) -> 43.23 | J76: =VLOOKUP(A76,[1]dvojboj!$A$6:$M$125,13,FALSE) -> 68.33

Sheet 100mV
G1: Krajské kolo v požárním sportu Moravskoslezského a Olomouckého kraje
G2: Ostrava, 7. - 8. června 2014
G3: 100m
G4: muži HZS
A5: apoř | B5: celkem | C5: MSK | D5: OLK | E5: st.č. | F5: závodník | G5: družstvo | H5: 1. pokus | I5: 2. pokus | J5: výsledný
A6: 1 | B6: =VLOOKUP(A6,'[1]100m'!$A$6:$T$125,3,FALSE) -> 1 | C6: =VLOOKUP(A6,'[1]100m'!$A$6:$T$125,5,FALSE) -> 1 | D6: =VLOOKUP(A6,'[1]100m'!$A$6:$T$125,7,FALSE) | E6: =VLOOKUP(A6,'[1]100m'!$A$6:$T$125,10,FALSE) -> 46 | F6: =VLOOKUP(A6,'[1]100m'!$A$6:$T$125,12,FALSE) -> Jakub ARVAI | G6: =VLOOKUP(A6,'[1]100m'!$A$6:$T$125,13,FALSE) -> Ostrava | H6: =VLOOKUP(A6,'[1]100m'!$A$6:$T$125,14,FALSE) -> 16.59 | I6: =VLOOKUP(A6,'[1]100m'!$A$6:$T$125,15,FALSE) -> 15.87 | J6: =VLOOKUP(A6,'[1]100m'!$A$6:$T$125,16,FALSE) -> 15.87
A7: 2 | B7: =VLOOKUP(A7,'[1]100m'!$A$6:$T$125,3,FALSE) -> 2 | C7: =VLOOKUP(A7,'[1]100m'!$A$6:$T$125,5,FALSE) -> 2 | D7: =VLOOKUP(A7,'[1]100m'!$A$6:$T$125,7,FALSE) | E7: =VLOOKUP(A7,'[1]100m'!$A$6:$T$125,10,FALSE) -> 47 | F7: =VLOOKUP(A7,'[1]100m'!$A$6:$T$125,12,FALSE) -> Pavel KRPEC | G7: =VLOOKUP(A7,'[1]100m'!$A$6:$T$125,13,FALSE) -> Ostrava | H7: =VLOOKUP(A7,'[1]100m'!$A$6:$T$125,14,FALSE) -> 18.42 | I7: =VLOOKUP(A7,'[1]100m'!$A$6:$T$125,15,FALSE) -> 15.95 | J7: =VLOOKUP(A7,'[1]100m'!$A$6:$T$125,16,FALSE) -> 15.95
A8: 3 | B8: =VLOOKUP(A8,'[1]100m'!$A$6:$T$125,3,FALSE) -> 3 | C8: =VLOOKUP(A8,'[1]100m'!$A$6:$T$125,5,FALSE) -> 3 | D8: =VLOOKUP(A8,'[1]100m'!$A$6:$T$125,7,FALSE) | E8: =VLOOKUP(A8,'[1]100m'!$A$6:$T$125,10,FALSE) -> 45 | F8: =VLOOKUP(A8,'[1]100m'!$A$6:$T$125,12,FALSE) -> David DOPIRÁK | G8: =VLOOKUP(A8,'[1]100m'!$A$6:$T$125,13,FALSE) -> Ostrava | H8: =VLOOKUP(A8,'[1]100m'!$A$6:$T$125,14,FALSE) -> 16.72 | I8: =VLOOKUP(A8,'[1]100m'!$A$6:$T$125,15,FALSE) -> 16.26 | J8: =VLOOKUP(A8,'[1]100m'!$A$6:$T$125,16,FALSE) -> 16.26
A9: 4 | B9: =VLOOKUP(A9,'[1]100m'!$A$6:$T$125,3,FALSE) -> 4 | C9: =VLOOKUP(A9,'[1]100m'!$A$6:$T$125,5,FALSE) -> 4 | D9: =VLOOKUP(A9,'[1]100m'!$A$6:$T$125,7,FALSE) | E9: =VLOOKUP(A9,'[1]100m'!$A$6:$T$125,10,FALSE) -> 43 | F9: =VLOOKUP(A9,'[1]100m'!$A$6:$T$125,12,FALSE) -> Adam VONDRA | G9: =VLOOKUP(A9,'[1]100m'!$A$6:$T$125,13,FALSE) -> Ostrava | H9: =VLOOKUP(A9,'[1]100m'!$A$6:$T$125,14,FALSE) -> 16.75 | I9: =VLOOKUP(A9,'[1]100m'!$A$6:$T$125,15,FALSE) -> 16.46 | J9: =VLOOKUP(A9,'[1]100m'!$A$6:$T$125,16,FALSE) -> 16.46
A10: 5 | B10: =VLOOKUP(A10,'[1]100m'!$A$6:$T$125,3,FALSE) -> 5 | C10: =VLOOKUP(A10,'[1]100m'!$A$6:$T$125,5,FALSE) -> 5 | D10: =VLOOKUP(A10,'[1]100m'!$A$6:$T$125,7,FALSE) | E10: =VLOOKUP(A10,'[1]100m'!$A$6:$T$125,10,FALSE) -> 49 | F10: =VLOOKUP(A10,'[1]100m'!$A$6:$T$125,12,FALSE) -> Karel RYL | G10: =VLOOKUP(A10,'[1]100m'!$A$6:$T$125,13,FALSE) -> Ostrava | H10: =VLOOKUP(A10,'[1]100m'!$A$6:$T$125,14,FALSE) -> 16.96 | I10: =VLOOKUP(A10,'[1]100m'!$A$6:$T$125,15,FALSE) -> 16.47 | J10: =VLOOKUP(A10,'[1]100m'!$A$6:$T$125,16,FALSE) -> 16.47
A11: 6 | B11: =VLOOKUP(A11,'[1]100m'!$A$6:$T$125,3,FALSE) -> 6 | C11: =VLOOKUP(A11,'[1]100m'!$A$6:$T$125,5,FALSE) -> 6 | D11: =VLOOKUP(A11,'[1]100m'!$A$6:$T$125,7,FALSE) | E11: =VLOOKUP(A11,'[1]100m'!$A$6:$T$125,10,FALSE) -> 93 | F11: =VLOOKUP(A11,'[1]100m'!$A$6:$T$125,12,FALSE) -> Jakub GRYČ | G11: =VLOOKUP(A11,'[1]100m'!$A$6:$T$125,13,FALSE) -> Karviná | H11: =VLOOKUP(A11,'[1]100m'!$A$6:$T$125,14,FALSE) -> 16.86 | I11: =VLOOKUP(A11,'[1]100m'!$A$6:$T$125,15,FALSE) -> 16.68 | J11: =VLOOKUP(A11,'[1]100m'!$A$6:$T$125,16,FALSE) -> 16.68
A12: 7 | B12: =VLOOKUP(A12,'[1]100m'!$A$6:$T$125,3,FALSE) -> 7 | C12: =VLOOKUP(A12,'[1]100m'!$A$6:$T$125,5,FALSE) -> 7 | D12: =VLOOKUP(A12,'[1]100m'!$A$6:$T$125,7,FALSE) | E12: =VLOOKUP(A12,'[1]100m'!$A$6:$T$125,10,FALSE) -> 94 | F12: =VLOOKUP(A12,'[1]100m'!$A$6:$T$125,12,FALSE) -> Petr LANGER | G12: =VLOOKUP(A12,'[1]100m'!$A$6:$T$125,13,FALSE) -> Karviná | H12: =VLOOKUP(A12,'[1]100m'!$A$6:$T$125,14,FALSE) -> 17 | I12: =VLOOKUP(A12,'[1]100m'!$A$6:$T$125,15,FALSE) -> 16.77 | J12: =VLOOKUP(A12,'[1]100m'!$A$6:$T$125,16,FALSE) -> 16.77
A13: 8 | B13: =VLOOKUP(A13,'[1]100m'!$A$6:$T$125,3,FALSE) -> 8 | C13: =VLOOKUP(A13,'[1]100m'!$A$6:$T$125,5,FALSE) -> 8 | D13: =VLOOKUP(A13,'[1]100m'!$A$6:$T$125,7,FALSE) | E13: =VLOOKUP(A13,'[1]100m'!$A$6:$T$125,10,FALSE) -> 95 | F13: =VLOOKUP(A13,'[1]100m'!$A$6:$T$125,12,FALSE) -> Šimon KUDRNA | G13: =VLOOKUP(A13,'[1]100m'!$A$6:$T$125,13,FALSE) -> Karviná | H13: =VLOOKUP(A13,'[1]100m'!$A$6:$T$125,14,FALSE) -> 17.02 | I13: =VLOOKUP(A13,'[1]100m'!$A$6:$T$125,15,FALSE) -> 16.8 | J13: =VLOOKUP(A13,'[1]100m'!$A$6:$T$125,16,FALSE) -> 16.8
A14: 9 | B14: =VLOOKUP(A14,'[1]100m'!$A$6:$T$125,3,FALSE) -> 9 | C14: =VLOOKUP(A14,'[1]100m'!$A$6:$T$125,5,FALSE) -> 9 | D14: =VLOOKUP(A14,'[1]100m'!$A$6:$T$125,7,FALSE) | E14: =VLOOKUP(A14,'[1]100m'!$A$6:$T$125,10,FALSE) -> 41 | F14: =VLOOKUP(A14,'[1]100m'!$A$6:$T$125,12,FALSE) -> Kamil BEZRUČ | G14: =VLOOKUP(A14,'[1]100m'!$A$6:$T$125,13,FALSE) -> Ostrava | H14: =VLOOKUP(A14,'[1]100m'!$A$6:$T$125,14,FALSE) -> 16.82 | I14: =VLOOKUP(A14,'[1]100m'!$A$6:$T$125,15,FALSE) -> 99.99 | J14: =VLOOKUP(A14,'[1]100m'!$A$6:$T$125,16,FALSE) -> 16.82
A15: 10 | B15: =VLOOKUP(A15,'[1]100m'!$A$6:$T$125,3,FALSE) -> 10 | C15: =VLOOKUP(A15,'[1]100m'!$A$6:$T$125,5,FALSE) -> 10 | D15: =VLOOKUP(A15,'[1]100m'!$A$6:$T$125,7,FALSE) | E15: =VLOOKUP(A15,'[1]100m'!$A$6:$T$125,10,FALSE) -> 48 | F15: =VLOOKUP(A15,'[1]100m'!$A$6:$T$125,12,FALSE) -> Pavel MAŇAS | G15: =VLOOKUP(A15,'[1]100m'!$A$6:$T$125,13,FALSE) -> Ostrava | H15: =VLOOKUP(A15,'[1]100m'!$A$6:$T$125,14,FALSE) -> 16.99 | I15: =VLOOKUP(A15,'[1]100m'!$A$6:$T$125,15,FALSE) -> 32.79 | J15: =VLOOKUP(A15,'[1]100m'!$A$6:$T$125,16,FALSE) -> 16.99
A16: 11 | B16: =VLOOKUP(A16,'[1]100m'!$A$6:$T$125,3,FALSE) -> 11 | C16: =VLOOKUP(A16,'[1]100m'!$A$6:$T$125,5,FALSE) | D16: =VLOOKUP(A16,'[1]100m'!$A$6:$T$125,7,FALSE) -> 1 | E16: =VLOOKUP(A16,'[1]100m'!$A$6:$T$125,10,FALSE) -> 102 | F16: =VLOOKUP(A16,'[1]100m'!$A$6:$T$125,12,FALSE) -> Jaroslav ŽITNÝ | G16: =VLOOKUP(A16,'[1]100m'!$A$6:$T$125,13,FALSE) -> Olomouc | H16: =VLOOKUP(A16,'[1]100m'!$A$6:$T$125,14,FALSE) -> 17.77 | I16: =VLOOKUP(A16,'[1]100m'!$A$6:$T$125,15,FALSE) -> 17.06 | J16: =VLOOKUP(A16,'[1]100m'!$A$6:$T$125,16,FALSE) -> 17.06
A17: 12 | B17: =VLOOKUP(A17,'[1]100m'!$A$6:$T$125,3,FALSE) -> 12 | C17: =VLOOKUP(A17,'[1]100m'!$A$6:$T$125,5,FALSE) -> 11 | D17: =VLOOKUP(A17,'[1]100m'!$A$6:$T$125,7,FALSE) | E17: =VLOOKUP(A17,'[1]100m'!$A$6:$T$125,10,FALSE) -> 97 | F17: =VLOOKUP(A17,'[1]100m'!$A$6:$T$125,12,FALSE) -> Jiří MOTYKA | G17: =VLOOKUP(A17,'[1]100m'!$A$6:$T$125,13,FALSE) -> Karviná | H17: =VLOOKUP(A17,'[1]100m'!$A$6:$T$125,14,FALSE) -> 17.41 | I17: =VLOOKUP(A17,'[1]100m'!$A$6:$T$125,15,FALSE) -> 17.08 | J17: =VLOOKUP(A17,'[1]100m'!$A$6:$T$125,16,FALSE) -> 17.08
A18: 13 | B18: =VLOOKUP(A18,'[1]100m'!$A$6:$T$125,3,FALSE) -> 13 | C18: =VLOOKUP(A18,'[1]100m'!$A$6:$T$125,5,FALSE) -> 12 | D18: =VLOOKUP(A18,'[1]100m'!$A$6:$T$125,7,FALSE) | E18: =VLOOKUP(A18,'[1]100m'!$A$6:$T$125,10,FALSE) -> 98 | F18: =VLOOKUP(A18,'[1]100m'!$A$6:$T$125,12,FALSE) -> Martin GRYČ | G18: =VLOOKUP(A18,'[1]100m'!$A$6:$T$125,13,FALSE) -> Karviná | H18: =VLOOKUP(A18,'[1]100m'!$A$6:$T$125,14,FALSE) -> 18.89 | I18: =VLOOKUP(A18,'[1]100m'!$A$6:$T$125,15,FALSE) -> 17.15 | J18: =VLOOKUP(A18,'[1]100m'!$A$6:$T$125,16,FALSE) -> 17.15
A19: 14 | B19: =VLOOKUP(A19,'[1]100m'!$A$6:$T$125,3,FALSE) -> 14 | C19: =VLOOKUP(A19,'[1]100m'!$A$6:$T$125,5,FALSE) | E19: =VLOOKUP(A19,'[1]100m'!$A$6:$T$125,10,FALSE) -> 57 | F19: =VLOOKUP(A19,'[1]100m'!$A$6:$T$125,12,FALSE) -> Štefan NEUVIRTH | G19: =VLOOKUP(A19,'[1]100m'!$A$6:$T$125,13,FALSE) -> G4S Fire Services | H19: =VLOOKUP(A19,'[1]100m'!$A$6:$T$125,14,FALSE) -> 17.29 | I19: =VLOOKUP(A19,'[1]100m'!$A$6:$T$125,15,FALSE) -> 99.99 | J19: =VLOOKUP(A19,'[1]100m'!$A$6:$T$125,16,FALSE) -> 17.29
A20: 15 | B20: =VLOOKUP(A20,'[1]100m'!$A$6:$T$125,3,FALSE) -> 15 | C20: =VLOOKUP(A20,'[1]100m'!$A$6:$T$125,5,FALSE) | D20: =VLOOKUP(A20,'[1]100m'!$A$6:$T$125,7,FALSE) -> 2 | E20: =VLOOKUP(A20,'[1]100m'!$A$6:$T$125,10,FALSE) -> 103 | F20: =VLOOKUP(A20,'[1]100m'!$A$6:$T$125,12,FALSE) -> Jiří MAREŠ | G20: =VLOOKUP(A20,'[1]100m'!$A$6:$T$125,13,FALSE) -> Olomouc | H20: =VLOOKUP(A20,'[1]100m'!$A$6:$T$125,14,FALSE) -> 17.72 | I20: =VLOOKUP(A20,'[1]100m'!$A$6:$T$125,15,FALSE) -> 17.4 | J20: =VLOOKUP(A20,'[1]100m'!$A$6:$T$125,16,FALSE) -> 17.4
A21: 16 | B21: =VLOOKUP(A21,'[1]100m'!$A$6:$T$125,3,FALSE) -> 16 | C21: =VLOOKUP(A21,'[1]100m'!$A$6:$T$125,5,FALSE) | E21: =VLOOKUP(A21,'[1]100m'!$A$6:$T$125,10,FALSE) -> 55 | F21: =VLOOKUP(A21,'[1]100m'!$A$6:$T$125,12,FALSE) -> Dávid KALUŽNIK | G21: =VLOOKUP(A21,'[1]100m'!$A$6:$T$125,13,FALSE) -> G4S Fire Services | H21: =VLOOKUP(A21,'[1]100m'!$A$6:$T$125,14,FALSE) -> 99.99 | I21: =VLOOKUP(A21,'[1]100m'!$A$6:$T$125,15,FALSE) -> 17.44 | J21: =VLOOKUP(A21,'[1]100m'!$A$6:$T$125,16,FALSE) -> 17.44
A22: 17 | B22: =VLOOKUP(A22,'[1]100m'!$A$6:$T$125,3,FALSE) -> 17 | C22: =VLOOKUP(A22,'[1]100m'!$A$6:$T$125,5,FALSE) -> 13 | D22: =VLOOKUP(A22,'[1]100m'!$A$6:$T$125,7,FALSE) | E22: =VLOOKUP(A22,'[1]100m'!$A$6:$T$125,10,FALSE) -> 91 | F22: =VLOOKUP(A22,'[1]100m'!$A$6:$T$125,12,FALSE) -> David SIKORA | G22: =VLOOKUP(A22,'[1]100m'!$A$6:$T$125,13,FALSE) -> Karviná | H22: =VLOOKUP(A22,'[1]100m'!$A$6:$T$125,14,FALSE) -> 18.25 | I22: =VLOOKUP(A22,'[1]100m'!$A$6:$T$125,15,FALSE) -> 17.5 | J22: =VLOOKUP(A22,'[1]100m'!$A$6:$T$125,16,FALSE) -> 17.5
A23: 18 | B23: =VLOOKUP(A23,'[1]100m'!$A$6:$T$125,3,FALSE) -> 18 | C23: =VLOOKUP(A23,'[1]100m'!$A$6:$T$125,5,FALSE) | D23: =VLOOKUP(A23,'[1]100m'!$A$6:$T$125,7,FALSE) -> 3 | E23: =VLOOKUP(A23,'[1]100m'!$A$6:$T$125,10,FALSE) -> 34 | F23: =VLOOKUP(A23,'[1]100m'!$A$6:$T$125,12,FALSE) -> Jan ŠINDELKA | G23: =VLOOKUP(A23,'[1]100m'!$A$6:$T$125,13,FALSE) -> Prostějov | H23: =VLOOKUP(A23,'[1]100m'!$A$6:$T$125,14,FALSE) -> 17.63 | I23: =VLOOKUP(A23,'[1]100m'!$A$6:$T$125,15,FALSE) -> 99.99 | J23: =VLOOKUP(A23,'[1]100m'!$A$6:$T$125,16,FALSE) -> 17.63
A24: 19 | B24: =VLOOKUP(A24,'[1]100m'!$A$6:$T$125,3,FALSE) -> 19 | C24: =VLOOKUP(A24,'[1]100m'!$A$6:$T$125,5,FALSE) | D24: =VLOOKUP(A24,'[1]100m'!$A$6:$T$125,7,FALSE) -> 4 | E24: =VLOOKUP(A24,'[1]100m'!$A$6:$T$125,10,FALSE) -> 84 | F24: =VLOOKUP(A24,'[1]100m'!$A$6:$T$125,12,FALSE) -> Josef BUCHTA | G24: =VLOOKUP(A24,'[1]100m'!$A$6:$T$125,13,FALSE) -> Přerov | H24: =VLOOKUP(A24,'[1]100m'!$A$6:$T$125,14,FALSE) -> 18.17 | I24: =VLOOKUP(A24,'[1]100m'!$A$6:$T$125,15,FALSE) -> 17.72 | J24: =VLOOKUP(A24,'[1]100m'!$A$6:$T$125,16,FALSE) -> 17.72
A25: 20 | B25: =VLOOKUP(A25,'[1]100m'!$A$6:$T$125,3,FALSE) -> 20 | C25: =VLOOKUP(A25,'[1]100m'!$A$6:$T$125,5,FALSE) -> 14 | D25: =VLOOKUP(A25,'[1]100m'!$A$6:$T$125,7,FALSE) | E25: =VLOOKUP(A25,'[1]100m'!$A$6:$T$125,10,FALSE) -> 92 | F25: =VLOOKUP(A25,'[1]100m'!$A$6:$T$125,12,FALSE) -> Marcel DAL | G25: =VLOOKUP(A25,'[1]100m'!$A$6:$T$125,13,FALSE) -> Karviná | H25: =VLOOKUP(A25,'[1]100m'!$A$6:$T$125,14,FALSE) -> 17.9 | I25: =VLOOKUP(A25,'[1]100m'!$A$6:$T$125,15,FALSE) -> 99.99 | J25: =VLOOKUP(A25,'[1]100m'!$A$6:$T$125,16,FALSE) -> 17.9
A26: 21 | B26: =VLOOKUP(A26,'[1]100m'!$A$6:$T$125,3,FALSE) -> 21 | C26: =VLOOKUP(A26,'[1]100m'!$A$6:$T$125,5,FALSE) | E26: =VLOOKUP(A26,'[1]100m'!$A$6:$T$125,10,FALSE) -> 53 | F26: =VLOOKUP(A26,'[1]100m'!$A$6:$T$125,12,FALSE) -> Jakub PAVELKA | G26: =VLOOKUP(A26,'[1]100m'!$A$6:$T$125,13,FALSE) -> G4S Fire Services | H26: =VLOOKUP(A26,'[1]100m'!$A$6:$T$125,14,FALSE) -> 23.53 | I26: =VLOOKUP(A26,'[1]100m'!$A$6:$T$125,15,FALSE) -> 17.94 | J26: =VLOOKUP(A26,'[1]100m'!$A$6:$T$125,16,FALSE) -> 17.94
A27: 22 | B27: =VLOOKUP(A27,'[1]100m'!$A$6:$T$125,3,FALSE) -> 22 | C27: =VLOOKUP(A27,'[1]100m'!$A$6:$T$125,5,FALSE) | E27: =VLOOKUP(A27,'[1]100m'!$A$6:$T$125,10,FALSE) -> 54 | F27: =VLOOKUP(A27,'[1]100m'!$A$6:$T$125,12,FALSE) -> Rastislav PECNÍK | G27: =VLOOKUP(A27,'[1]100m'!$A$6:$T$125,13,FALSE) -> G4S Fire Services | H27: =VLOOKUP(A27,'[1]100m'!$A$6:$T$125,14,FALSE) -> 18.16 | I27: =VLOOKUP(A27,'[1]100m'!$A$6:$T$125,15,FALSE) -> 99.99 | J27: =VLOOKUP(A27,'[1]100m'!$A$6:$T$125,16,FALSE) -> 18.16
A28: 23 | B28: =VLOOKUP(A28,'[1]100m'!$A$6:$T$125,3,FALSE) -> 23 | C28: =VLOOKUP(A28,'[1]100m'!$A$6:$T$125,5,FALSE) | D28: =VLOOKUP(A28,'[1]100m'!$A$6:$T$125,7,FALSE) -> 5 | E28: =VLOOKUP(A28,'[1]100m'!$A$6:$T$125,10,FALSE) -> 83 | F28: =VLOOKUP(A28,'[1]100m'!$A$6:$T$125,12,FALSE) -> Václav BLAŽEK | G28: =VLOOKUP(A28,'[1]100m'!$A$6:$T$125,13,FALSE) -> Přerov | H28: =VLOOKUP(A28,'[1]100m'!$A$6:$T$125,14,FALSE) -> 18.22 | I28: =VLOOKUP(A28,'[1]100m'!$A$6:$T$125,15,FALSE) -> 99.99 | J28: =VLOOKUP(A28,'[1]100m'!$A$6:$T$125,16,FALSE) -> 18.22
A29: 24 | B29: =VLOOKUP(A29,'[1]100m'!$A$6:$T$125,3,FALSE) -> 24 | C29: =VLOOKUP(A29,'[1]100m'!$A$6:$T$125,5,FALSE) | D29: =VLOOKUP(A29,'[1]100m'!$A$6:$T$125,7,FALSE) -> 6 | E29: =VLOOKUP(A29,'[1]100m'!$A$6:$T$125,10,FALSE) -> 86 | F29: =VLOOKUP(A29,'[1]100m'!$A$6:$T$125,12,FALSE) -> Pavel BERNHAUER | G29: =VLOOKUP(A29,'[1]100m'!$A$6:$T$125,13,FALSE) -> Přerov | H29: =VLOOKUP(A29,'[1]100m'!$A$6:$T$125,14,FALSE) -> 18.51 | I29: =VLOOKUP(A29,'[1]100m'!$A$6:$T$125,15,FALSE) -> 18.35 | J29: =VLOOKUP(A29,'[1]100m'!$A$6:$T$125,16,FALSE) -> 18.35
A30: 25 | B30: =VLOOKUP(A30,'[1]100m'!$A$6:$T$125,3,FALSE) -> 25 | C30: =VLOOKUP(A30,'[1]100m'!$A$6:$T$125,5,FALSE) | D30: =VLOOKUP(A30,'[1]100m'!$A$6:$T$125,7,FALSE) -> 7 | E30: =VLOOKUP(A30,'[1]100m'!$A$6:$T$125,10,FALSE) -> 81 | F30: =VLOOKUP(A30,'[1]100m'!$A$6:$T$125,12,FALSE) -> Jan KLIMECKÝ | G30: =VLOOKUP(A30,'[1]100m'!$A$6:$T$125,13,FALSE) -> Přerov | H30: =VLOOKUP(A30,'[1]100m'!$A$6:$T$125,14,FALSE) -> 19.19 | I30: =VLOOKUP(A30,'[1]100m'!$A$6:$T$125,15,FALSE) -> 18.45 | J30: =VLOOKUP(A30,'[1]100m'!$A$6:$T$125,16,FALSE) -> 18.45
A31: 26 | B31: =VLOOKUP(A31,'[1]100m'!$A$6:$T$125,3,FALSE) -> 26 | C31: =VLOOKUP(A31,'[1]100m'!$A$6:$T$125,5,FALSE) | D31: =VLOOKUP(A31,'[1]100m'!$A$6:$T$125,7,FALSE) -> 8 | E31: =VLOOKUP(A31,'[1]100m'!$A$6:$T$125,10,FALSE) -> 106 | F31: =VLOOKUP(A31,'[1]100m'!$A$6:$T$125,12,FALSE) -> Petr NAVRÁTIL | G31: =VLOOKUP(A31,'[1]100m'!$A$6:$T$125,13,FALSE) -> Olomouc | H31: =VLOOKUP(A31,'[1]100m'!$A$6:$T$125,14,FALSE) -> 18.62 | I31: =VLOOKUP(A31,'[1]100m'!$A$6:$T$125,15,FALSE) -> 99.99 | J31: =VLOOKUP(A31,'[1]100m'!$A$6:$T$125,16,FALSE) -> 18.62
A32: 27 | B32: =VLOOKUP(A32,'[1]100m'!$A$6:$T$125,3,FALSE) -> 27 | C32: =VLOOKUP(A32,'[1]100m'!$A$6:$T$125,5,FALSE) | E32: =VLOOKUP(A32,'[1]100m'!$A$6:$T$125,10,FALSE) -> 52 | F32: =VLOOKUP(A32,'[1]100m'!$A$6:$T$125,12,FALSE) -> Martin SZABO | G32: =VLOOKUP(A32,'[1]100m'!$A$6:$T$125,13,FALSE) -> G4S Fire Services | H32: =VLOOKUP(A32,'[1]100m'!$A$6:$T$125,14,FALSE) -> 18.63 | I32: =VLOOKUP(A32,'[1]100m'!$A$6:$T$125,15,FALSE) -> 99.99 | J32: =VLOOKUP(A32,'[1]100m'!$A$6:$T$125,16,FALSE) -> 18.63
A33: 28 | B33: =VLOOKUP(A33,'[1]100m'!$A$6:$T$125,3,FALSE) -> 28 | C33: =VLOOKUP(A33,'[1]100m'!$A$6:$T$125,5,FALSE) | D33: =VLOOKUP(A33,'[1]100m'!$A$6:$T$125,7,FALSE) -> 9 | E33: =VLOOKUP(A33,'[1]100m'!$A$6:$T$125,10,FALSE) -> 82 | F33: =VLOOKUP(A33,'[1]100m'!$A$6:$T$125,12,FALSE) -> Petr MIRVALD | G33: =VLOOKUP(A33,'[1]100m'!$A$6:$T$125,13,FALSE) -> Přerov | H33: =VLOOKUP(A33,'[1]100m'!$A$6:$T$125,14,FALSE) -> 18.97 | I33: =VLOOKUP(A33,'[1]100m'!$A$6:$T$125,15,FALSE) -> 18.7 | J33: =VLOOKUP(A33,'[1]100m'!$A$6:$T$125,16,FALSE) -> 18.7
A34: 29 | B34: =VLOOKUP(A34,'[1]100m'!$A$6:$T$125,3,FALSE) -> 29 | C34: =VLOOKUP(A34,'[1]100m'!$A$6:$T$125,5,FALSE) | D34: =VLOOKUP(A34,'[1]100m'!$A$6:$T$125,7,FALSE) -> 10 | E34: =VLOOKUP(A34,'[1]100m'!$A$6:$T$125,10,FALSE) -> 105 | F34: =VLOOKUP(A34,'[1]100m'!$A$6:$T$125,12,FALSE) -> Jaroslav NAVRÁTIL | G34: =VLOOKUP(A34,'[1]100m'!$A$6:$T$125,13,FALSE) -> Olomouc | H34: =VLOOKUP(A34,'[1]100m'!$A$6:$T$125,14,FALSE) -> 19.4 | I34: =VLOOKUP(A34,'[1]100m'!$A$6:$T$125,15,FALSE) -> 18.84 | J34: =VLOOKUP(A34,'[1]100m'!$A$6:$T$125,16,FALSE) -> 18.84
A35: 30 | B35: =VLOOKUP(A35,'[1]100m'!$A$6:$T$125,3,FALSE) -> 30 | C35: =VLOOKUP(A35,'[1]100m'!$A$6:$T$125,5,FALSE) -> 15 | D35: =VLOOKUP(A35,'[1]100m'!$A$6:$T$125,7,FALSE) | E35: =VLOOKUP(A35,'[1]100m'!$A$6:$T$125,10,FALSE) -> 112 | F35: =VLOOKUP(A35,'[1]100m'!$A$6:$T$125,12,FALSE) -> Petr BINAR | G35: =VLOOKUP(A35,'[1]100m'!$A$6:$T$125,13,FALSE) -> Nový Jičín | H35: =VLOOKUP(A35,'[1]100m'!$A$6:$T$125,14,FALSE) -> 20.92 | I35: =VLOOKUP(A35,'[1]100m'!$A$6:$T$125,15,FALSE) -> 18.86 | J35: =VLOOKUP(A35,'[1]100m'!$A$6:$T$125,16,FALSE) -> 18.86
A36: 31 | B36: =VLOOKUP(A36,'[1]100m'!$A$6:$T$125,3,FALSE) -> 31 | C36: =VLOOKUP(A36,'[1]100m'!$A$6:$T$125,5,FALSE) | E36: =VLOOKUP(A36,'[1]100m'!$A$6:$T$125,10,FALSE) -> 51 | F36: =VLOOKUP(A36,'[1]100m'!$A$6:$T$125,12,FALSE) -> Vladislav FODOR | G36: =VLOOKUP(A36,'[1]100m'!$A$6:$T$125,13,FALSE) -> G4S Fire Services | H36: =VLOOKUP(A36,'[1]100m'!$A$6:$T$125,14,FALSE) -> 20.38 | I36: =VLOOKUP(A36,'[1]100m'!$A$6:$T$125,15,FALSE) -> 19.09 | J36: =VLOOKUP(A36,'[1]100m'!$A$6:$T$125,16,FALSE) -> 19.09
A37: 32 | B37: =VLOOKUP(A37,'[1]100m'!$A$6:$T$125,3,FALSE) -> 32 | C37: =VLOOKUP(A37,'[1]100m'!$A$6:$T$125,5,FALSE) -> 16 | D37: =VLOOKUP(A37,'[1]100m'!$A$6:$T$125,7,FALSE) | E37: =VLOOKUP(A37,'[1]100m'!$A$6:$T$125,10,FALSE) -> 21 | F37: =VLOOKUP(A37,'[1]100m'!$A$6:$T$125,12,FALSE) -> Přemysl PTÁŠNÍK | G37: =VLOOKUP(A37,'[1]100m'!$A$6:$T$125,13,FALSE) -> Opava | H37: =VLOOKUP(A37,'[1]100m'!$A$6:$T$125,14,FALSE) -> 19.16 | I37: =VLOOKUP(A37,'[1]100m'!$A$6:$T$125,15,FALSE) -> 99.99 | J37: =VLOOKUP(A37,'[1]100m'!$A$6:$T$125,16,FALSE) -> 19.16
A38: 33 | B38: =VLOOKUP(A38,'[1]100m'!$A$6:$T$125,3,FALSE) -> 33 | C38: =VLOOKUP(A38,'[1]100m'!$A$6:$T$125,5,FALSE) | D38: =VLOOKUP(A38,'[1]100m'!$A$6:$T$125,7,FALSE) -> 11 | E38: =VLOOKUP(A38,'[1]100m'!$A$6:$T$125,10,FALSE) -> 89 | F38: =VLOOKUP(A38,'[1]100m'!$A$6:$T$125,12,FALSE) -> Ladislav PATRMAN | G38: =VLOOKUP(A38,'[1]100m'!$A$6:$T$125,13,FALSE) -> Přerov | H38: =VLOOKUP(A38,'[1]100m'!$A$6:$T$125,14,FALSE) -> 19.23 | I38: =VLOOKUP(A38,'[1]100m'!$A$6:$T$125,15,FALSE) -> 99.99 | J38: =VLOOKUP(A38,'[1]100m'!$A$6:$T$125,16,FALSE) -> 19.23
A39: 34 | B39: =VLOOKUP(A39,'[1]100m'!$A$6:$T$125,3,FALSE) -> 34 | C39: =VLOOKUP(A39,'[1]100m'!$A$6:$T$125,5,FALSE) | D39: =VLOOKUP(A39,'[1]100m'!$A$6:$T$125,7,FALSE) -> 12 | E39: =VLOOKUP(A39,'[1]100m'!$A$6:$T$125,10,FALSE) -> 64 | F39: =VLOOKUP(A39,'[1]100m'!$A$6:$T$125,12,FALSE) -> Přemysl VENOUŠ | G39: =VLOOKUP(A39,'[1]100m'!$A$6:$T$125,13,FALSE) -> Šumperk | H39: =VLOOKUP(A39,'[1]100m'!$A$6:$T$125,14,FALSE) -> 19.31 | I39: =VLOOKUP(A39,'[1]100m'!$A$6:$T$125,15,FALSE) -> 99.99 | J39: =VLOOKUP(A39,'[1]100m'!$A$6:$T$125,16,FALSE) -> 19.31
A40: 35 | B40: =VLOOKUP(A40,'[1]100m'!$A$6:$T$125,3,FALSE) -> 35 | C40: =VLOOKUP(A40,'[1]100m'!$A$6:$T$125,5,FALSE) | E40: =VLOOKUP(A40,'[1]100m'!$A$6:$T$125,10,FALSE) -> 56 | F40: =VLOOKUP(A40,'[1]100m'!$A$6:$T$125,12,FALSE) -> Marián TÓTH | G40: =VLOOKUP(A40,'[1]100m'!$A$6:$T$125,13,FALSE) -> G4S Fire Services | H40: =VLOOKUP(A40,'[1]100m'!$A$6:$T$125,14,FALSE) -> 19.32 | I40: =VLOOKUP(A40,'[1]100m'!$A$6:$T$125,15,FALSE) -> 99.99 | J40: =VLOOKUP(A40,'[1]100m'!$A$6:$T$125,16,FALSE) -> 19.32
A41: 36 | B41: =VLOOKUP(A41,'[1]100m'!$A$6:$T$125,3,FALSE) -> 36 | C41: =VLOOKUP(A41,'[1]100m'!$A$6:$T$125,5,FALSE) -> 17 | D41: =VLOOKUP(A41,'[1]100m'!$A$6:$T$125,7,FALSE) | E41: =VLOOKUP(A41,'[1]100m'!$A$6:$T$125,10,FALSE) -> 1 | F41: =VLOOKUP(A41,'[1]100m'!$A$6:$T$125,12,FALSE) -> Petr BOXAN | G41: =VLOOKUP(A41,'[1]100m'!$A$6:$T$125,13,FALSE) -> Bruntál | H41: =VLOOKUP(A41,'[1]100m'!$A$6:$T$125,14,FALSE) -> 20.36 | I41: =VLOOKUP(A41,'[1]100m'!$A$6:$T$125,15,FALSE) -> 19.5 | J41: =VLOOKUP(A41,'[1]100m'!$A$6:$T$125,16,FALSE) -> 19.5
A42: 37 | B42: =VLOOKUP(A42,'[1]100m'!$A$6:$T$125,3,FALSE) -> 37 | C42: =VLOOKUP(A42,'[1]100m'!$A$6:$T$125,5,FALSE) -> 18 | D42: =VLOOKUP(A42,'[1]100m'!$A$6:$T$125,7,FALSE) | E42: =VLOOKUP(A42,'[1]100m'!$A$6:$T$125,10,FALSE) -> 23 | F42: =VLOOKUP(A42,'[1]100m'!$A$6:$T$125,12,FALSE) -> Aleš MARTINEK | G42: =VLOOKUP(A42,'[1]100m'!$A$6:$T$125,13,FALSE) -> Opava | H42: =VLOOKUP(A42,'[1]100m'!$A$6:$T$125,14,FALSE) -> 19.53 | I42: =VLOOKUP(A42,'[1]100m'!$A$6:$T$125,15,FALSE) -> 99.99 | J42: =VLOOKUP(A42,'[1]100m'!$A$6:$T$125,16,FALSE) -> 19.53
A43: 38 | B43: =VLOOKUP(A43,'[1]100m'!$A$6:$T$125,3,FALSE) -> 38 | C43: =VLOOKUP(A43,'[1]100m'!$A$6:$T$125,5,FALSE) | D43: =VLOOKUP(A43,'[1]100m'!$A$6:$T$125,7,FALSE) -> 13 | E43: =VLOOKUP(A43,'[1]100m'!$A$6:$T$125,10,FALSE) -> 104 | F43: =VLOOKUP(A43,'[1]100m'!$A$6:$T$125,12,FALSE) -> Jan NESVADBA | G43: =VLOOKUP(A43,'[1]100m'!$A$6:$T$125,13,FALSE) -> Olomouc | H43: =VLOOKUP(A43,'[1]100m'!$A$6:$T$125,14,FALSE) -> 20.43 | I43: =VLOOKUP(A43,'[1]100m'!$A$6:$T$125,15,FALSE) -> 19.56 | J43: =VLOOKUP(A43,'[1]100m'!$A$6:$T$125,16,FALSE) -> 19.56
A44: 39 | B44: =VLOOKUP(A44,'[1]100m'!$A$6:$T$125,3,FALSE) -> 39 | C44: =VLOOKUP(A44,'[1]100m'!$A$6:$T$125,5,FALSE) -> 19 | D44: =VLOOKUP(A44,'[1]100m'!$A$6:$T$125,7,FALSE) | E44: =VLOOKUP(A44,'[1]100m'!$A$6:$T$125,10,FALSE) -> 113 | F44: =VLOOKUP(A44,'[1]100m'!$A$6:$T$125,12,FALSE) -> Robert JALŮVKA | G44: =VLOOKUP(A44,'[1]100m'!$A$6:$T$125,13,FALSE) -> Nový Jičín | H44: =VLOOKUP(A44,'[1]100m'!$A$6:$T$125,14,FALSE) -> 19.6 | I44: =VLOOKUP(A44,'[1]100m'!$A$6:$T$125,15,FALSE) -> 99.99 | J44: =VLOOKUP(A44,'[1]100m'!$A$6:$T$125,16,FALSE) -> 19.6
A45: 40 | B45: =VLOOKUP(A45,'[1]100m'!$A$6:$T$125,3,FALSE) -> 40 | C45: =VLOOKUP(A45,'[1]100m'!$A$6:$T$125,5,FALSE) | D45: =VLOOKUP(A45,'[1]100m'!$A$6:$T$125,7,FALSE) -> 14 | E45: =VLOOKUP(A45,'[1]100m'!$A$6:$T$125,10,FALSE) -> 39 | F45: =VLOOKUP(A45,'[1]100m'!$A$6:$T$125,12,FALSE) -> Tomáš KOUTNÝ | G45: =VLOOKUP(A45,'[1]100m'!$A$6:$T$125,13,FALSE) -> Prostějov | H45: =VLOOKUP(A45,'[1]100m'!$A$6:$T$125,14,FALSE) -> 19.65 | I45: =VLOOKUP(A45,'[1]100m'!$A$6:$T$125,15,FALSE) -> 99.99 | J45: =VLOOKUP(A45,'[1]100m'!$A$6:$T$125,16,FALSE) -> 19.65
A46: 41 | B46: =VLOOKUP(A46,'[1]100m'!$A$6:$T$125,3,FALSE) -> 41 | C46: =VLOOKUP(A46,'[1]100m'!$A$6:$T$125,5,FALSE) | D46: =VLOOKUP(A46,'[1]100m'!$A$6:$T$125,7,FALSE) -> 15 | E46: =VLOOKUP(A46,'[1]100m'!$A$6:$T$125,10,FALSE) -> 67 | F46: =VLOOKUP(A46,'[1]100m'!$A$6:$T$125,12,FALSE) -> Ondřej HÝBL | G46: =VLOOKUP(A46,'[1]100m'!$A$6:$T$125,13,FALSE) -> Šumperk | H46: =VLOOKUP(A46,'[1]100m'!$A$6:$T$125,14,FALSE) -> 19.72 | I46: =VLOOKUP(A46,'[1]100m'!$A$6:$T$125,15,FALSE) -> 99.99 | J46: =VLOOKUP(A46,'[1]100m'!$A$6:$T$125,16,FALSE) -> 19.72
A47: 42 | B47: =VLOOKUP(A47,'[1]100m'!$A$6:$T$125,3,FALSE) -> 42 | C47: =VLOOKUP(A47,'[1]100m'!$A$6:$T$125,5,FALSE) -> 20 | D47: =VLOOKUP(A47,'[1]100m'!$A$6:$T$125,7,FALSE) | E47: =VLOOKUP(A47,'[1]100m'!$A$6:$T$125,10,FALSE) -> 22 | F47: =VLOOKUP(A47,'[1]100m'!$A$6:$T$125,12,FALSE) -> Jiří DRÁPAL | G47: =VLOOKUP(A47,'[1]100m'!$A$6:$T$125,13,FALSE) -> Opava | H47: =VLOOKUP(A47,'[1]100m'!$A$6:$T$125,14,FALSE) -> 19.93 | I47: =VLOOKUP(A47,'[1]100m'!$A$6:$T$125,15,FALSE) -> 99.99 | J47: =VLOOKUP(A47,'[1]100m'!$A$6:$T$125,16,FALSE) -> 19.93
A48: 43 | B48: =VLOOKUP(A48,'[1]100m'!$A$6:$T$125,3,FALSE) -> 43 | C48: =VLOOKUP(A48,'[1]100m'!$A$6:$T$125,5,FALSE) -> 21 | D48: =VLOOKUP(A48,'[1]100m'!$A$6:$T$125,7,FALSE) | E48: =VLOOKUP(A48,'[1]100m'!$A$6:$T$125,10,FALSE) -> 118 | F48: =VLOOKUP(A48,'[1]100m'!$A$6:$T$125,12,FALSE) -> Tomáš VYKYDAL | G48: =VLOOKUP(A48,'[1]100m'!$A$6:$T$125,13,FALSE) -> Nový Jičín | H48: =VLOOKUP(A48,'[1]100m'!$A$6:$T$125,14,FALSE) -> 20.46 | I48: =VLOOKUP(A48,'[1]100m'!$A$6:$T$125,15,FALSE) -> 20.01 | J48: =VLOOKUP(A48,'[1]100m'!$A$6:$T$125,16,FALSE) -> 20.01
A49: 44 | B49: =VLOOKUP(A49,'[1]100m'!$A$6:$T$125,3,FALSE) -> 44 | C49: =VLOOKUP(A49,'[1]100m'!$A$6:$T$125,5,FALSE) | D49: =VLOOKUP(A49,'[1]100m'!$A$6:$T$125,7,FALSE) -> 16 | E49: =VLOOKUP(A49,'[1]100m'!$A$6:$T$125,10,FALSE) -> 101 | F49: =VLOOKUP(A49,'[1]100m'!$A$6:$T$125,12,FALSE) -> Zbyněk HRADIL | G49: =VLOOKUP(A49,'[1]100m'!$A$6:$T$125,13,FALSE) -> Olomouc | H49: =VLOOKUP(A49,'[1]100m'!$A$6:$T$125,14,FALSE) -> 20.03 | I49: =VLOOKUP(A49,'[1]100m'!$A$6:$T$125,15,FALSE) -> 99.99 | J49: =VLOOKUP(A49,'[1]100m'!$A$6:$T$125,16,FALSE) -> 20.03
A50: 45 | B50: =VLOOKUP(A50,'[1]100m'!$A$6:$T$125,3,FALSE) -> 45 | C50: =VLOOKUP(A50,'[1]100m'!$A$6:$T$125,5,FALSE) -> 22 | D50: =VLOOKUP(A50,'[1]100m'!$A$6:$T$125,7,FALSE) | E50: =VLOOKUP(A50,'[1]100m'!$A$6:$T$125,10,FALSE) -> 29 | F50: =VLOOKUP(A50,'[1]100m'!$A$6:$T$125,12,FALSE) -> Robin MALCHÁREK | G50: =VLOOKUP(A50,'[1]100m'!$A$6:$T$125,13,FALSE) -> Opava | H50: =VLOOKUP(A50,'[1]100m'!$A$6:$T$125,14,FALSE) -> 20.13 | I50: =VLOOKUP(A50,'[1]100m'!$A$6:$T$125,15,FALSE) -> 99.99 | J50: =VLOOKUP(A50,'[1]100m'!$A$6:$T$125,16,FALSE) -> 20.13
A51: 46 | B51: =VLOOKUP(A51,'[1]100m'!$A$6:$T$125,3,FALSE) -> 46 | C51: =VLOOKUP(A51,'[1]100m'!$A$6:$T$125,5,FALSE) | D51: =VLOOKUP(A51,'[1]100m'!$A$6:$T$125,7,FALSE) -> 17 | E51: =VLOOKUP(A51,'[1]100m'!$A$6:$T$125,10,FALSE) -> 73 | F51: =VLOOKUP(A51,'[1]100m'!$A$6:$T$125,12,FALSE) -> Martin POLÁŠEK | G51: =VLOOKUP(A51,'[1]100m'!$A$6:$T$125,13,FALSE) -> Frýdek - Místek | H51: =VLOOKUP(A51,'[1]100m'!$A$6:$T$125,14,FALSE) -> 20.2 | I51: =VLOOKUP(A51,'[1]100m'!$A$6:$T$125,15,FALSE) -> 21.01 | J51: =VLOOKUP(A51,'[1]100m'!$A$6:$T$125,16,FALSE) -> 20.2
A52: 47 | B52: =VLOOKUP(A52,'[1]100m'!$A$6:$T$125,3,FALSE) -> 47 | C52: =VLOOKUP(A52,'[1]100m'!$A$6:$T$125,5,FALSE) -> 23 | D52: =VLOOKUP(A52,'[1]100m'!$A$6:$T$125,7,FALSE) | E52: =VLOOKUP(A52,'[1]100m'!$A$6:$T$125,10,FALSE) -> 30 | F52: =VLOOKUP(A52,'[1]100m'!$A$6:$T$125,12,FALSE) -> Radomír KUBESA | G52: =VLOOKUP(A52,'[1]100m'!$A$6:$T$125,13,FALSE) -> Opava | H52: =VLOOKUP(A52,'[1]100m'!$A$6:$T$125,14,FALSE) -> 20.46 | I52: =VLOOKUP(A52,'[1]100m'!$A$6:$T$125,15,FALSE) -> 99.99 | J52: =VLOOKUP(A52,'[1]100m'!$A$6:$T$125,16,FALSE) -> 20.46
... A87: 82 | B87: =VLOOKUP(A87,'[1]100m'!$A$6:$T$125,3,FALSE) -> 82 | C87: =VLOOKUP(A87,'[1]100m'!$A$6:$T$125,5,FALSE) | D87: =VLOOKUP(A87,'[1]100m'!$A$6:$T$125,7,FALSE) -> 39 | E87: =VLOOKUP(A87,'[1]100m'!$A$6:$T$125,10,FALSE) -> 20 | F87: =VLOOKUP(A87,'[1]100m'!$A$6:$T$125,12,FALSE) -> Martin SUROVÝCH | G87: =VLOOKUP(A87,'[1]100m'!$A$6:$T$125,13,FALSE) -> Jeseník | H87: =VLOOKUP(A87,'[1]100m'!$A$6:$T$125,14,FALSE) -> 28.03 | I87: =VLOOKUP(A87,'[1]100m'!$A$6:$T$125,15,FALSE) -> 99.99 | J87: =VLOOKUP(A87,'[1]100m'!$A$6:$T$125,16,FALSE) -> 28.03

Sheet věžV
G1: Krajské kolo v požárním sportu Moravskoslezského a Olomouckého kraje
G2: Ostrava, 7. - 8. června 2014
G3: Věž
A5: apoř | B5: celkem | C5: MSK | D5: OLK | E5: st.č. | F5: závodník | G5: družstvo | H5: 1. pokus | I5: 2. pokus | J5: výsledný
A6: 1 | B6: =VLOOKUP(A6,[1]věž!$A$6:$P$125,3,FALSE) -> 1 | C6: =VLOOKUP(A6,[1]věž!$A$6:$P$125,5,FALSE) -> 1 | D6: =VLOOKUP(A6,[1]věž!$A$6:$P$125,7,FALSE) | E6: =VLOOKUP(A6,[1]věž!$A$6:$P$125,10,FALSE) -> 41 | F6: =VLOOKUP(A6,[1]věž!$A$6:$P$125,12,FALSE) -> Kamil BEZRUČ | G6: =VLOOKUP(A6,[1]věž!$A$6:$P$125,13,FALSE) -> Ostrava | H6: =VLOOKUP(A6,[1]věž!$A$6:$P$125,14,FALSE) -> 13.75 | I6: =VLOOKUP(A6,[1]věž!$A$6:$P$125,15,FALSE) -> 13.75 | J6: =VLOOKUP(A6,[1]věž!$A$6:$P$125,16,FALSE) -> 13.75
A7: 2 | B7: =VLOOKUP(A7,[1]věž!$A$6:$P$125,3,FALSE) -> 2 | C7: =VLOOKUP(A7,[1]věž!$A$6:$P$125,5,FALSE) -> 2 | D7: =VLOOKUP(A7,[1]věž!$A$6:$P$125,7,FALSE) | E7: =VLOOKUP(A7,[1]věž!$A$6:$P$125,10,FALSE) -> 48 | F7: =VLOOKUP(A7,[1]věž!$A$6:$P$125,12,FALSE) -> Pavel MAŇAS | G7: =VLOOKUP(A7,[1]věž!$A$6:$P$125,13,FALSE) -> Ostrava | H7: =VLOOKUP(A7,[1]věž!$A$6:$P$125,14,FALSE) -> 15.77 | I7: =VLOOKUP(A7,[1]věž!$A$6:$P$125,15,FALSE) -> 14.57 | J7: =VLOOKUP(A7,[1]věž!$A$6:$P$125,16,FALSE) -> 14.57
A8: 3 | B8: =VLOOKUP(A8,[1]věž!$A$6:$P$125,3,FALSE) -> 3 | C8: =VLOOKUP(A8,[1]věž!$A$6:$P$125,5,FALSE) -> 3 | D8: =VLOOKUP(A8,[1]věž!$A$6:$P$125,7,FALSE) | E8: =VLOOKUP(A8,[1]věž!$A$6:$P$125,10,FALSE) -> 49 | F8: =VLOOKUP(A8,[1]věž!$A$6:$P$125,12,FALSE) -> Karel RYL | G8: =VLOOKUP(A8,[1]věž!$A$6:$P$125,13,FALSE) -> Ostrava | H8: =VLOOKUP(A8,[1]věž!$A$6:$P$125,14,FALSE) -> 16.6 | I8: =VLOOKUP(A8,[1]věž!$A$6:$P$125,15,FALSE) -> 14.67 | J8: =VLOOKUP(A8,[1]věž!$A$6:$P$125,16,FALSE) -> 14.67
A9: 4 | B9: =VLOOKUP(A9,[1]věž!$A$6:$P$125,3,FALSE) -> 4 | C9: =VLOOKUP(A9,[1]věž!$A$6:$P$125,5,FALSE) -> 4 | D9: =VLOOKUP(A9,[1]věž!$A$6:$P$125,7,FALSE) | E9: =VLOOKUP(A9,[1]věž!$A$6:$P$125,10,FALSE) -> 47 | F9: =VLOOKUP(A9,[1]věž!$A$6:$P$125,12,FALSE) -> Pavel KRPEC | G9: =VLOOKUP(A9,[1]věž!$A$6:$P$125,13,FALSE) -> Ostrava | H9: =VLOOKUP(A9,[1]věž!$A$6:$P$125,14,FALSE) -> 14.69 | I9: =VLOOKUP(A9,[1]věž!$A$6:$P$125,15,FALSE) -> 99.99 | J9: =VLOOKUP(A9,[1]věž!$A$6:$P$125,16,FALSE) -> 14.69
A10: 5 | B10: =VLOOKUP(A10,[1]věž!$A$6:$P$125,3,FALSE) -> 5 | C10: =VLOOKUP(A10,[1]věž!$A$6:$P$125,5,FALSE) -> 5 | D10: =VLOOKUP(A10,[1]věž!$A$6:$P$125,7,FALSE) | E10: =VLOOKUP(A10,[1]věž!$A$6:$P$125,10,FALSE) -> 96 | F10: =VLOOKUP(A10,[1]věž!$A$6:$P$125,12,FALSE) -> Adam HRBÁČ | G10: =VLOOKUP(A10,[1]věž!$A$6:$P$125,13,FALSE) -> Karviná | H10: =VLOOKUP(A10,[1]věž!$A$6:$P$125,14,FALSE) -> 14.97 | I10: =VLOOKUP(A10,[1]věž!$A$6:$P$125,15,FALSE) -> 14.7 | J10: =VLOOKUP(A10,[1]věž!$A$6:$P$125,16,FALSE) -> 14.7
A11: 6 | B11: =VLOOKUP(A11,[1]věž!$A$6:$P$125,3,FALSE) -> 6 | C11: =VLOOKUP(A11,[1]věž!$A$6:$P$125,5,FALSE) | D11: =VLOOKUP(A11,[1]věž!$A$6:$P$125,7,FALSE) -> 1 | E11: =VLOOKUP(A11,[1]věž!$A$6:$P$125,10,FALSE) -> 102 | F11: =VLOOKUP(A11,[1]věž!$A$6:$P$125,12,FALSE) -> Jaroslav ŽITNÝ | G11: =VLOOKUP(A11,[1]věž!$A$6:$P$125,13,FALSE) -> Olomouc | H11: =VLOOKUP(A11,[1]věž!$A$6:$P$125,14,FALSE) -> 14.97 | I11: =VLOOKUP(A11,[1]věž!$A$6:$P$125,15,FALSE) -> 14.94 | J11: =VLOOKUP(A11,[1]věž!$A$6:$P$125,16,FALSE) -> 14.94
A12: 7 | B12: =VLOOKUP(A12,[1]věž!$A$6:$P$125,3,FALSE) -> 7 | C12: =VLOOKUP(A12,[1]věž!$A$6:$P$125,5,FALSE) -> 6 | D12: =VLOOKUP(A12,[1]věž!$A$6:$P$125,7,FALSE) | E12: =VLOOKUP(A12,[1]věž!$A$6:$P$125,10,FALSE) -> 45 | F12: =VLOOKUP(A12,[1]věž!$A$6:$P$125,12,FALSE) -> David DOPIRÁK | G12: =VLOOKUP(A12,[1]věž!$A$6:$P$125,13,FALSE) -> Ostrava | H12: =VLOOKUP(A12,[1]věž!$A$6:$P$125,14,FALSE) -> 16.19 | I12: =VLOOKUP(A12,[1]věž!$A$6:$P$125,15,FALSE) -> 15.22 | J12: =VLOOKUP(A12,[1]věž!$A$6:$P$125,16,FALSE) -> 15.22
A13: 8 | B13: =VLOOKUP(A13,[1]věž!$A$6:$P$125,3,FALSE) -> 8 | C13: =VLOOKUP(A13,[1]věž!$A$6:$P$125,5,FALSE) -> 7 | D13: =VLOOKUP(A13,[1]věž!$A$6:$P$125,7,FALSE) | E13: =VLOOKUP(A13,[1]věž!$A$6:$P$125,10,FALSE) -> 97 | F13: =VLOOKUP(A13,[1]věž!$A$6:$P$125,12,FALSE) -> Jiří MOTYKA | G13: =VLOOKUP(A13,[1]věž!$A$6:$P$125,13,FALSE) -> Karviná | H13: =VLOOKUP(A13,[1]věž!$A$6:$P$125,14,FALSE) -> 15.27 | I13: =VLOOKUP(A13,[1]věž!$A$6:$P$125,15,FALSE) -> 17.47 | J13: =VLOOKUP(A13,[1]věž!$A$6:$P$125,16,FALSE) -> 15.27
A14: 9 | B14: =VLOOKUP(A14,[1]věž!$A$6:$P$125,3,FALSE) -> 9 | C14: =VLOOKUP(A14,[1]věž!$A$6:$P$125,5,FALSE) | D14: =VLOOKUP(A14,[1]věž!$A$6:$P$125,7,FALSE) -> 2 | E14: =VLOOKUP(A14,[1]věž!$A$6:$P$125,10,FALSE) -> 34 | F14: =VLOOKUP(A14,[1]věž!$A$6:$P$125,12,FALSE) -> Jan ŠINDELKA | G14: =VLOOKUP(A14,[1]věž!$A$6:$P$125,13,FALSE) -> Prostějov | H14: =VLOOKUP(A14,[1]věž!$A$6:$P$125,14,FALSE) -> 15.66 | I14: =VLOOKUP(A14,[1]věž!$A$6:$P$125,15,FALSE) -> 15.49 | J14: =VLOOKUP(A14,[1]věž!$A$6:$P$125,16,FALSE) -> 15.49
A15: 10 | B15: =VLOOKUP(A15,[1]věž!$A$6:$P$125,3,FALSE) -> 10 | C15: =VLOOKUP(A15,[1]věž!$A$6:$P$125,5,FALSE) -> 8 | D15: =VLOOKUP(A15,[1]věž!$A$6:$P$125,7,FALSE) | E15: =VLOOKUP(A15,[1]věž!$A$6:$P$125,10,FALSE) -> 44 | F15: =VLOOKUP(A15,[1]věž!$A$6:$P$125,12,FALSE) -> Libor MROZOWSKI | G15: =VLOOKUP(A15,[1]věž!$A$6:$P$125,13,FALSE) -> Ostrava | H15: =VLOOKUP(A15,[1]věž!$A$6:$P$125,14,FALSE) -> 17.29 | I15: =VLOOKUP(A15,[1]věž!$A$6:$P$125,15,FALSE) -> 15.53 | J15: =VLOOKUP(A15,[1]věž!$A$6:$P$125,16,FALSE) -> 15.53
A16: 11 | B16: =VLOOKUP(A16,[1]věž!$A$6:$P$125,3,FALSE) -> 11 | C16: =VLOOKUP(A16,[1]věž!$A$6:$P$125,5,FALSE) | E16: =VLOOKUP(A16,[1]věž!$A$6:$P$125,10,FALSE) -> 52 | F16: =VLOOKUP(A16,[1]věž!$A$6:$P$125,12,FALSE) -> Martin SZABO | G16: =VLOOKUP(A16,[1]věž!$A$6:$P$125,13,FALSE) -> G4S Fire Services | H16: =VLOOKUP(A16,[1]věž!$A$6:$P$125,14,FALSE) -> 16.2 | I16: =VLOOKUP(A16,[1]věž!$A$6:$P$125,15,FALSE) -> 15.56 | J16: =VLOOKUP(A16,[1]věž!$A$6:$P$125,16,FALSE) -> 15.56
A17: 12 | B17: =VLOOKUP(A17,[1]věž!$A$6:$P$125,3,FALSE) -> 12 | C17: =VLOOKUP(A17,[1]věž!$A$6:$P$125,5,FALSE) -> 9 | D17: =VLOOKUP(A17,[1]věž!$A$6:$P$125,7,FALSE) | E17: =VLOOKUP(A17,[1]věž!$A$6:$P$125,10,FALSE) -> 93 | F17: =VLOOKUP(A17,[1]věž!$A$6:$P$125,12,FALSE) -> Jakub GRYČ | G17: =VLOOKUP(A17,[1]věž!$A$6:$P$125,13,FALSE) -> Karviná | H17: =VLOOKUP(A17,[1]věž!$A$6:$P$125,14,FALSE) -> 16.26 | I17: =VLOOKUP(A17,[1]věž!$A$6:$P$125,15,FALSE) -> 15.74 | J17: =VLOOKUP(A17,[1]věž!$A$6:$P$125,16,FALSE) -> 15.74
A18: 13 | B18: =VLOOKUP(A18,[1]věž!$A$6:$P$125,3,FALSE) -> 13 | C18: =VLOOKUP(A18,[1]věž!$A$6:$P$125,5,FALSE) | D18: =VLOOKUP(A18,[1]věž!$A$6:$P$125,7,FALSE) -> 3 | E18: =VLOOKUP(A18,[1]věž!$A$6:$P$125,10,FALSE) -> 83 | F18: =VLOOKUP(A18,[1]věž!$A$6:$P$125,12,FALSE) -> Václav BLAŽEK | G18: =VLOOKUP(A18,[1]věž!$A$6:$P$125,13,FALSE) -> Přerov | H18: =VLOOKUP(A18,[1]věž!$A$6:$P$125,14,FALSE) -> 16.98 | I18: =VLOOKUP(A18,[1]věž!$A$6:$P$125,15,FALSE) -> 15.92 | J18: =VLOOKUP(A18,[1]věž!$A$6:$P$125,16,FALSE) -> 15.92
A19: 14 | B19: =VLOOKUP(A19,[1]věž!$A$6:$P$125,3,FALSE) -> 14 | C19: =VLOOKUP(A19,[1]věž!$A$6:$P$125,5,FALSE) -> 10 | D19: =VLOOKUP(A19,[1]věž!$A$6:$P$125,7,FALSE) | E19: =VLOOKUP(A19,[1]věž!$A$6:$P$125,10,FALSE) -> 43 | F19: =VLOOKUP(A19,[1]věž!$A$6:$P$125,12,FALSE) -> Adam VONDRA | G19: =VLOOKUP(A19,[1]věž!$A$6:$P$125,13,FALSE) -> Ostrava | H19: =VLOOKUP(A19,[1]věž!$A$6:$P$125,14,FALSE) -> 99.99 | I19: =VLOOKUP(A19,[1]věž!$A$6:$P$125,15,FALSE) -> 15.94 | J19: =VLOOKUP(A19,[1]věž!$A$6:$P$125,16,FALSE) -> 15.94
A20: 15 | B20: =VLOOKUP(A20,[1]věž!$A$6:$P$125,3,FALSE) -> 15 | C20: =VLOOKUP(A20,[1]věž!$A$6:$P$125,5,FALSE) -> 11 | D20: =VLOOKUP(A20,[1]věž!$A$6:$P$125,7,FALSE) | E20: =VLOOKUP(A20,[1]věž!$A$6:$P$125,10,FALSE) -> 94 | F20: =VLOOKUP(A20,[1]věž!$A$6:$P$125,12,FALSE) -> Petr LANGER | G20: =VLOOKUP(A20,[1]věž!$A$6:$P$125,13,FALSE) -> Karviná | H20: =VLOOKUP(A20,[1]věž!$A$6:$P$125,14,FALSE) -> 15.95 | I20: =VLOOKUP(A20,[1]věž!$A$6:$P$125,15,FALSE) -> 16.17 | J20: =VLOOKUP(A20,[1]věž!$A$6:$P$125,16,FALSE) -> 15.95
A21: 16 | B21: =VLOOKUP(A21,[1]věž!$A$6:$P$125,3,FALSE) -> 16 | C21: =VLOOKUP(A21,[1]věž!$A$6:$P$125,5,FALSE) | D21: =VLOOKUP(A21,[1]věž!$A$6:$P$125,7,FALSE) -> 4 | E21: =VLOOKUP(A21,[1]věž!$A$6:$P$125,10,FALSE) -> 89 | F21: =VLOOKUP(A21,[1]věž!$A$6:$P$125,12,FALSE) -> Ladislav PATRMAN | G21: =VLOOKUP(A21,[1]věž!$A$6:$P$125,13,FALSE) -> Přerov | H21: =VLOOKUP(A21,[1]věž!$A$6:$P$125,14,FALSE) -> 16.5 | I21: =VLOOKUP(A21,[1]věž!$A$6:$P$125,15,FALSE) -> 16.15 | J21: =VLOOKUP(A21,[1]věž!$A$6:$P$125,16,FALSE) -> 16.15
A22: 17 | B22: =VLOOKUP(A22,[1]věž!$A$6:$P$125,3,FALSE) -> 17 | C22: =VLOOKUP(A22,[1]věž!$A$6:$P$125,5,FALSE) -> 12 | D22: =VLOOKUP(A22,[1]věž!$A$6:$P$125,7,FALSE) | E22: =VLOOKUP(A22,[1]věž!$A$6:$P$125,10,FALSE) -> 95 | F22: =VLOOKUP(A22,[1]věž!$A$6:$P$125,12,FALSE) -> Šimon KUDRNA | G22: =VLOOKUP(A22,[1]věž!$A$6:$P$125,13,FALSE) -> Karviná | H22: =VLOOKUP(A22,[1]věž!$A$6:$P$125,14,FALSE) -> 16.9 | I22: =VLOOKUP(A22,[1]věž!$A$6:$P$125,15,FALSE) -> 16.26 | J22: =VLOOKUP(A22,[1]věž!$A$6:$P$125,16,FALSE) -> 16.26
A23: 18 | B23: =VLOOKUP(A23,[1]věž!$A$6:$P$125,3,FALSE) -> 18 | C23: =VLOOKUP(A23,[1]věž!$A$6:$P$125,5,FALSE) | D23: =VLOOKUP(A23,[1]věž!$A$6:$P$125,7,FALSE) -> 5 | E23: =VLOOKUP(A23,[1]věž!$A$6:$P$125,10,FALSE) -> 101 | F23: =VLOOKUP(A23,[1]věž!$A$6:$P$125,12,FALSE) -> Zbyněk HRADIL | G23: =VLOOKUP(A23,[1]věž!$A$6:$P$125,13,FALSE) -> Olomouc | H23: =VLOOKUP(A23,[1]věž!$A$6:$P$125,14,FALSE) -> 16.29 | I23: =VLOOKUP(A23,[1]věž!$A$6:$P$125,15,FALSE) -> 16.31 | J23: =VLOOKUP(A23,[1]věž!$A$6:$P$125,16,FALSE) -> 16.29
A24: 19 | B24: =VLOOKUP(A24,[1]věž!$A$6:$P$125,3,FALSE) -> 19 | C24: =VLOOKUP(A24,[1]věž!$A$6:$P$125,5,FALSE) -> 13 | D24: =VLOOKUP(A24,[1]věž!$A$6:$P$125,7,FALSE) | E24: =VLOOKUP(A24,[1]věž!$A$6:$P$125,10,FALSE) -> 100 | F24: =VLOOKUP(A24,[1]věž!$A$6:$P$125,12,FALSE) -> Jaroslav HANZEL | G24: =VLOOKUP(A24,[1]věž!$A$6:$P$125,13,FALSE) -> Karviná | H24: =VLOOKUP(A24,[1]věž!$A$6:$P$125,14,FALSE) -> 16.57 | I24: =VLOOKUP(A24,[1]věž!$A$6:$P$125,15,FALSE) -> 16.3 | J24: =VLOOKUP(A24,[1]věž!$A$6:$P$125,16,FALSE) -> 16.3
A25: 20 | B25: =VLOOKUP(A25,[1]věž!$A$6:$P$125,3,FALSE) -> 20 | C25: =VLOOKUP(A25,[1]věž!$A$6:$P$125,5,FALSE) | D25: =VLOOKUP(A25,[1]věž!$A$6:$P$125,7,FALSE) -> 6 | E25: =VLOOKUP(A25,[1]věž!$A$6:$P$125,10,FALSE) -> 85 | F25: =VLOOKUP(A25,[1]věž!$A$6:$P$125,12,FALSE) -> Marek BIA | G25: =VLOOKUP(A25,[1]věž!$A$6:$P$125,13,FALSE) -> Přerov | H25: =VLOOKUP(A25,[1]věž!$A$6:$P$125,14,FALSE) -> 16.83 | I25: =VLOOKUP(A25,[1]věž!$A$6:$P$125,15,FALSE) -> 16.35 | J25: =VLOOKUP(A25,[1]věž!$A$6:$P$125,16,FALSE) -> 16.35
A26: 21 | B26: =VLOOKUP(A26,[1]věž!$A$6:$P$125,3,FALSE) -> 21 | C26: =VLOOKUP(A26,[1]věž!$A$6:$P$125,5,FALSE) | E26: =VLOOKUP(A26,[1]věž!$A$6:$P$125,10,FALSE) -> 54 | F26: =VLOOKUP(A26,[1]věž!$A$6:$P$125,12,FALSE) -> Rastislav PECNÍK | G26: =VLOOKUP(A26,[1]věž!$A$6:$P$125,13,FALSE) -> G4S Fire Services | H26: =VLOOKUP(A26,[1]věž!$A$6:$P$125,14,FALSE) -> 17.25 | I26: =VLOOKUP(A26,[1]věž!$A$6:$P$125,15,FALSE) -> 16.38 | J26: =VLOOKUP(A26,[1]věž!$A$6:$P$125,16,FALSE) -> 16.38
A27: 22 | B27: =VLOOKUP(A27,[1]věž!$A$6:$P$125,3,FALSE) -> 22 | C27: =VLOOKUP(A27,[1]věž!$A$6:$P$125,5,FALSE) | E27: =VLOOKUP(A27,[1]věž!$A$6:$P$125,10,FALSE) -> 56 | F27: =VLOOKUP(A27,[1]věž!$A$6:$P$125,12,FALSE) -> Marián TÓTH | G27: =VLOOKUP(A27,[1]věž!$A$6:$P$125,13,FALSE) -> G4S Fire Services | H27: =VLOOKUP(A27,[1]věž!$A$6:$P$125,14,FALSE) -> 16.96 | I27: =VLOOKUP(A27,[1]věž!$A$6:$P$125,15,FALSE) -> 16.56 | J27: =VLOOKUP(A27,[1]věž!$A$6:$P$125,16,FALSE) -> 16.56
A28: 23 | B28: =VLOOKUP(A28,[1]věž!$A$6:$P$125,3,FALSE) -> 23 | C28: =VLOOKUP(A28,[1]věž!$A$6:$P$125,5,FALSE) | D28: =VLOOKUP(A28,[1]věž!$A$6:$P$125,7,FALSE) -> 7 | E28: =VLOOKUP(A28,[1]věž!$A$6:$P$125,10,FALSE) -> 86 | F28: =VLOOKUP(A28,[1]věž!$A$6:$P$125,12,FALSE) -> Pavel BERNHAUER | G28: =VLOOKUP(A28,[1]věž!$A$6:$P$125,13,FALSE) -> Přerov | H28: =VLOOKUP(A28,[1]věž!$A$6:$P$125,14,FALSE) -> 17.71 | I28: =VLOOKUP(A28,[1]věž!$A$6:$P$125,15,FALSE) -> 16.56 | J28: =VLOOKUP(A28,[1]věž!$A$6:$P$125,16,FALSE) -> 16.56
A29: 24 | B29: =VLOOKUP(A29,[1]věž!$A$6:$P$125,3,FALSE) -> 24 | C29: =VLOOKUP(A29,[1]věž!$A$6:$P$125,5,FALSE) | D29: =VLOOKUP(A29,[1]věž!$A$6:$P$125,7,FALSE) -> 8 | E29: =VLOOKUP(A29,[1]věž!$A$6:$P$125,10,FALSE) -> 106 | F29: =VLOOKUP(A29,[1]věž!$A$6:$P$125,12,FALSE) -> Petr NAVRÁTIL | G29: =VLOOKUP(A29,[1]věž!$A$6:$P$125,13,FALSE) -> Olomouc | H29: =VLOOKUP(A29,[1]věž!$A$6:$P$125,14,FALSE) -> 17.37 | I29: =VLOOKUP(A29,[1]věž!$A$6:$P$125,15,FALSE) -> 16.64 | J29: =VLOOKUP(A29,[1]věž!$A$6:$P$125,16,FALSE) -> 16.64
A30: 25 | B30: =VLOOKUP(A30,[1]věž!$A$6:$P$125,3,FALSE) -> 25 | C30: =VLOOKUP(A30,[1]věž!$A$6:$P$125,5,FALSE) -> 14 | D30: =VLOOKUP(A30,[1]věž!$A$6:$P$125,7,FALSE) | E30: =VLOOKUP(A30,[1]věž!$A$6:$P$125,10,FALSE) -> 91 | F30: =VLOOKUP(A30,[1]věž!$A$6:$P$125,12,FALSE) -> David SIKORA | G30: =VLOOKUP(A30,[1]věž!$A$6:$P$125,13,FALSE) -> Karviná | H30: =VLOOKUP(A30,[1]věž!$A$6:$P$125,14,FALSE) -> 16.65 | I30: =VLOOKUP(A30,[1]věž!$A$6:$P$125,15,FALSE) -> 17.23 | J30: =VLOOKUP(A30,[1]věž!$A$6:$P$125,16,FALSE) -> 16.65
A31: 26 | B31: =VLOOKUP(A31,[1]věž!$A$6:$P$125,3,FALSE) -> 26 | C31: =VLOOKUP(A31,[1]věž!$A$6:$P$125,5,FALSE) -> 15 | D31: =VLOOKUP(A31,[1]věž!$A$6:$P$125,7,FALSE) | E31: =VLOOKUP(A31,[1]věž!$A$6:$P$125,10,FALSE) -> 92 | F31: =VLOOKUP(A31,[1]věž!$A$6:$P$125,12,FALSE) -> Marcel DAL | G31: =VLOOKUP(A31,[1]věž!$A$6:$P$125,13,FALSE) -> Karviná | H31: =VLOOKUP(A31,[1]věž!$A$6:$P$125,14,FALSE) -> 16.93 | I31: =VLOOKUP(A31,[1]věž!$A$6:$P$125,15,FALSE) -> 16.79 | J31: =VLOOKUP(A31,[1]věž!$A$6:$P$125,16,FALSE) -> 16.79
A32: 27 | B32: =VLOOKUP(A32,[1]věž!$A$6:$P$125,3,FALSE) -> 27 | C32: =VLOOKUP(A32,[1]věž!$A$6:$P$125,5,FALSE) | D32: =VLOOKUP(A32,[1]věž!$A$6:$P$125,7,FALSE) -> 9 | E32: =VLOOKUP(A32,[1]věž!$A$6:$P$125,10,FALSE) -> 107 | F32: =VLOOKUP(A32,[1]věž!$A$6:$P$125,12,FALSE) -> Dalibor BLAŽEK | G32: =VLOOKUP(A32,[1]věž!$A$6:$P$125,13,FALSE) -> Olomouc | H32: =VLOOKUP(A32,[1]věž!$A$6:$P$125,14,FALSE) -> 99.99 | I32: =VLOOKUP(A32,[1]věž!$A$6:$P$125,15,FALSE) -> 16.92 | J32: =VLOOKUP(A32,[1]věž!$A$6:$P$125,16,FALSE) -> 16.92
A33: 28 | B33: =VLOOKUP(A33,[1]věž!$A$6:$P$125,3,FALSE) -> 28 | C33: =VLOOKUP(A33,[1]věž!$A$6:$P$125,5,FALSE) | D33: =VLOOKUP(A33,[1]věž!$A$6:$P$125,7,FALSE) -> 10 | E33: =VLOOKUP(A33,[1]věž!$A$6:$P$125,10,FALSE) -> 104 | F33: =VLOOKUP(A33,[1]věž!$A$6:$P$125,12,FALSE) -> Jan NESVADBA | G33: =VLOOKUP(A33,[1]věž!$A$6:$P$125,13,FALSE) -> Olomouc | H33: =VLOOKUP(A33,[1]věž!$A$6:$P$125,14,FALSE) -> 16.96 | I33: =VLOOKUP(A33,[1]věž!$A$6:$P$125,15,FALSE) -> 17.57 | J33: =VLOOKUP(A33,[1]věž!$A$6:$P$125,16,FALSE) -> 16.96
A34: 29 | B34: =VLOOKUP(A34,[1]věž!$A$6:$P$125,3,FALSE) -> 29 | C34: =VLOOKUP(A34,[1]věž!$A$6:$P$125,5,FALSE) | E34: =VLOOKUP(A34,[1]věž!$A$6:$P$125,10,FALSE) -> 55 | F34: =VLOOKUP(A34,[1]věž!$A$6:$P$125,12,FALSE) -> Dávid KALUŽNIK | G34: =VLOOKUP(A34,[1]věž!$A$6:$P$125,13,FALSE) -> G4S Fire Services | H34: =VLOOKUP(A34,[1]věž!$A$6:$P$125,14,FALSE) -> 18.37 | I34: =VLOOKUP(A34,[1]věž!$A$6:$P$125,15,FALSE) -> 17.11 | J34: =VLOOKUP(A34,[1]věž!$A$6:$P$125,16,FALSE) -> 17.11
A35: 30 | B35: =VLOOKUP(A35,[1]věž!$A$6:$P$125,3,FALSE) -> 30 | C35: =VLOOKUP(A35,[1]věž!$A$6:$P$125,5,FALSE) | E35: =VLOOKUP(A35,[1]věž!$A$6:$P$125,10,FALSE) -> 51 | F35: =VLOOKUP(A35,[1]věž!$A$6:$P$125,12,FALSE) -> Vladislav FODOR | G35: =VLOOKUP(A35,[1]věž!$A$6:$P$125,13,FALSE) -> G4S Fire Services | H35: =VLOOKUP(A35,[1]věž!$A$6:$P$125,14,FALSE) -> 17.68 | I35: =VLOOKUP(A35,[1]věž!$A$6:$P$125,15,FALSE) -> 17.52 | J35: =VLOOKUP(A35,[1]věž!$A$6:$P$125,16,FALSE) -> 17.52
A36: 31 | B36: =VLOOKUP(A36,[1]věž!$A$6:$P$125,3,FALSE) -> 31 | C36: =VLOOKUP(A36,[1]věž!$A$6:$P$125,5,FALSE) -> 16 | D36: =VLOOKUP(A36,[1]věž!$A$6:$P$125,7,FALSE) | E36: =VLOOKUP(A36,[1]věž!$A$6:$P$125,10,FALSE) -> 46 | F36: =VLOOKUP(A36,[1]věž!$A$6:$P$125,12,FALSE) -> Jakub ARVAI | G36: =VLOOKUP(A36,[1]věž!$A$6:$P$125,13,FALSE) -> Ostrava | H36: =VLOOKUP(A36,[1]věž!$A$6:$P$125,14,FALSE) -> 17.93 | I36: =VLOOKUP(A36,[1]věž!$A$6:$P$125,15,FALSE) -> 18.07 | J36: =VLOOKUP(A36,[1]věž!$A$6:$P$125,16,FALSE) -> 17.93
A37: 32 | B37: =VLOOKUP(A37,[1]věž!$A$6:$P$125,3,FALSE) -> 32 | C37: =VLOOKUP(A37,[1]věž!$A$6:$P$125,5,FALSE) | D37: =VLOOKUP(A37,[1]věž!$A$6:$P$125,7,FALSE) -> 11 | E37: =VLOOKUP(A37,[1]věž!$A$6:$P$125,10,FALSE) -> 103 | F37: =VLOOKUP(A37,[1]věž!$A$6:$P$125,12,FALSE) -> Jiří MAREŠ | G37: =VLOOKUP(A37,[1]věž!$A$6:$P$125,13,FALSE) -> Olomouc | H37: =VLOOKUP(A37,[1]věž!$A$6:$P$125,14,FALSE) -> 18.1 | I37: =VLOOKUP(A37,[1]věž!$A$6:$P$125,15,FALSE) -> 99.99 | J37: =VLOOKUP(A37,[1]věž!$A$6:$P$125,16,FALSE) -> 18.1
A38: 33 | B38: =VLOOKUP(A38,[1]věž!$A$6:$P$125,3,FALSE) -> 33 | C38: =VLOOKUP(A38,[1]věž!$A$6:$P$125,5,FALSE) | E38: =VLOOKUP(A38,[1]věž!$A$6:$P$125,10,FALSE) -> 58 | F38: =VLOOKUP(A38,[1]věž!$A$6:$P$125,12,FALSE) -> Alexander KOCSIS | G38: =VLOOKUP(A38,[1]věž!$A$6:$P$125,13,FALSE) -> G4S Fire Services | H38: =VLOOKUP(A38,[1]věž!$A$6:$P$125,14,FALSE) -> 18.88 | I38: =VLOOKUP(A38,[1]věž!$A$6:$P$125,15,FALSE) -> 18.24 | J38: =VLOOKUP(A38,[1]věž!$A$6:$P$125,16,FALSE) -> 18.24
A39: 34 | B39: =VLOOKUP(A39,[1]věž!$A$6:$P$125,3,FALSE) -> 34 | C39: =VLOOKUP(A39,[1]věž!$A$6:$P$125,5,FALSE) | D39: =VLOOKUP(A39,[1]věž!$A$6:$P$125,7,FALSE) -> 12 | E39: =VLOOKUP(A39,[1]věž!$A$6:$P$125,10,FALSE) -> 82 | F39: =VLOOKUP(A39,[1]věž!$A$6:$P$125,12,FALSE) -> Petr MIRVALD | G39: =VLOOKUP(A39,[1]věž!$A$6:$P$125,13,FALSE) -> Přerov | H39: =VLOOKUP(A39,[1]věž!$A$6:$P$125,14,FALSE) -> 20.09 | I39: =VLOOKUP(A39,[1]věž!$A$6:$P$125,15,FALSE) -> 18.38 | J39: =VLOOKUP(A39,[1]věž!$A$6:$P$125,16,FALSE) -> 18.38
A40: 35 | B40: =VLOOKUP(A40,[1]věž!$A$6:$P$125,3,FALSE) -> 35 | C40: =VLOOKUP(A40,[1]věž!$A$6:$P$125,5,FALSE) | D40: =VLOOKUP(A40,[1]věž!$A$6:$P$125,7,FALSE) -> 13 | E40: =VLOOKUP(A40,[1]věž!$A$6:$P$125,10,FALSE) -> 84 | F40: =VLOOKUP(A40,[1]věž!$A$6:$P$125,12,FALSE) -> Josef BUCHTA | G40: =VLOOKUP(A40,[1]věž!$A$6:$P$125,13,FALSE) -> Přerov | H40: =VLOOKUP(A40,[1]věž!$A$6:$P$125,14,FALSE) -> 22.84 | I40: =VLOOKUP(A40,[1]věž!$A$6:$P$125,15,FALSE) -> 18.61 | J40: =VLOOKUP(A40,[1]věž!$A$6:$P$125,16,FALSE) -> 18.61
A41: 36 | B41: =VLOOKUP(A41,[1]věž!$A$6:$P$125,3,FALSE) -> 36 | C41: =VLOOKUP(A41,[1]věž!$A$6:$P$125,5,FALSE) | E41: =VLOOKUP(A41,[1]věž!$A$6:$P$125,10,FALSE) -> 53 | F41: =VLOOKUP(A41,[1]věž!$A$6:$P$125,12,FALSE) -> Jakub PAVELKA | G41: =VLOOKUP(A41,[1]věž!$A$6:$P$125,13,FALSE) -> G4S Fire Services | H41: =VLOOKUP(A41,[1]věž!$A$6:$P$125,14,FALSE) -> 19.29 | I41: =VLOOKUP(A41,[1]věž!$A$6:$P$125,15,FALSE) -> 21.55 | J41: =VLOOKUP(A41,[1]věž!$A$6:$P$125,16,FALSE) -> 19.29
A42: 37 | B42: =VLOOKUP(A42,[1]věž!$A$6:$P$125,3,FALSE) -> 37 | C42: =VLOOKUP(A42,[1]věž!$A$6:$P$125,5,FALSE) | D42: =VLOOKUP(A42,[1]věž!$A$6:$P$125,7,FALSE) -> 14 | E42: =VLOOKUP(A42,[1]věž!$A$6:$P$125,10,FALSE) -> 64 | F42: =VLOOKUP(A42,[1]věž!$A$6:$P$125,12,FALSE) -> Přemysl VENOUŠ | G42: =VLOOKUP(A42,[1]věž!$A$6:$P$125,13,FALSE) -> Šumperk | H42: =VLOOKUP(A42,[1]věž!$A$6:$P$125,14,FALSE) -> 19.96 | I42: =VLOOKUP(A42,[1]věž!$A$6:$P$125,15,FALSE) -> 99.99 | J42: =VLOOKUP(A42,[1]věž!$A$6:$P$125,16,FALSE) -> 19.96
A43: 38 | B43: =VLOOKUP(A43,[1]věž!$A$6:$P$125,3,FALSE) -> 38 | C43: =VLOOKUP(A43,[1]věž!$A$6:$P$125,5,FALSE) | E43: =VLOOKUP(A43,[1]věž!$A$6:$P$125,10,FALSE) -> 57 | F43: =VLOOKUP(A43,[1]věž!$A$6:$P$125,12,FALSE) -> Štefan NEUVIRTH | G43: =VLOOKUP(A43,[1]věž!$A$6:$P$125,13,FALSE) -> G4S Fire Services | H43: =VLOOKUP(A43,[1]věž!$A$6:$P$125,14,FALSE) -> 20.96 | I43: =VLOOKUP(A43,[1]věž!$A$6:$P$125,15,FALSE) -> 20.34 | J43: =VLOOKUP(A43,[1]věž!$A$6:$P$125,16,FALSE) -> 20.34
A44: 39 | B44: =VLOOKUP(A44,[1]věž!$A$6:$P$125,3,FALSE) -> 39 | C44: =VLOOKUP(A44,[1]věž!$A$6:$P$125,5,FALSE) | D44: =VLOOKUP(A44,[1]věž!$A$6:$P$125,7,FALSE) -> 15 | E44: =VLOOKUP(A44,[1]věž!$A$6:$P$125,10,FALSE) -> 73 | F44: =VLOOKUP(A44,[1]věž!$A$6:$P$125,12,FALSE) -> Martin POLÁŠEK | G44: =VLOOKUP(A44,[1]věž!$A$6:$P$125,13,FALSE) -> Frýdek - Místek | H44: =VLOOKUP(A44,[1]věž!$A$6:$P$125,14,FALSE) -> 22.7 | I44: =VLOOKUP(A44,[1]věž!$A$6:$P$125,15,FALSE) -> 20.45 | J44: =VLOOKUP(A44,[1]věž!$A$6:$P$125,16,FALSE) -> 20.45
A45: 40 | B45: =VLOOKUP(A45,[1]věž!$A$6:$P$125,3,FALSE) -> 40 | C45: =VLOOKUP(A45,[1]věž!$A$6:$P$125,5,FALSE) | D45: =VLOOKUP(A45,[1]věž!$A$6:$P$125,7,FALSE) -> 16 | E45: =VLOOKUP(A45,[1]věž!$A$6:$P$125,10,FALSE) -> 71 | F45: =VLOOKUP(A45,[1]věž!$A$6:$P$125,12,FALSE) -> Jiří HRČEK | G45: =VLOOKUP(A45,[1]věž!$A$6:$P$125,13,FALSE) -> Frýdek - Místek | H45: =VLOOKUP(A45,[1]věž!$A$6:$P$125,14,FALSE) -> 20.7 | I45: =VLOOKUP(A45,[1]věž!$A$6:$P$125,15,FALSE) -> 99.99 | J45: =VLOOKUP(A45,[1]věž!$A$6:$P$125,16,FALSE) -> 20.7
A46: 41 | B46: =VLOOKUP(A46,[1]věž!$A$6:$P$125,3,FALSE) -> 41 | C46: =VLOOKUP(A46,[1]věž!$A$6:$P$125,5,FALSE) | D46: =VLOOKUP(A46,[1]věž!$A$6:$P$125,7,FALSE) -> 17 | E46: =VLOOKUP(A46,[1]věž!$A$6:$P$125,10,FALSE) -> 87 | F46: =VLOOKUP(A46,[1]věž!$A$6:$P$125,12,FALSE) -> Zdeněk NAVRÁTIL | G46: =VLOOKUP(A46,[1]věž!$A$6:$P$125,13,FALSE) -> Přerov | H46: =VLOOKUP(A46,[1]věž!$A$6:$P$125,14,FALSE) -> 21.94 | I46: =VLOOKUP(A46,[1]věž!$A$6:$P$125,15,FALSE) -> 20.9 | J46: =VLOOKUP(A46,[1]věž!$A$6:$P$125,16,FALSE) -> 20.9
A47: 42 | B47: =VLOOKUP(A47,[1]věž!$A$6:$P$125,3,FALSE) -> 42 | C47: =VLOOKUP(A47,[1]věž!$A$6:$P$125,5,FALSE) | D47: =VLOOKUP(A47,[1]věž!$A$6:$P$125,7,FALSE) -> 18 | E47: =VLOOKUP(A47,[1]věž!$A$6:$P$125,10,FALSE) -> 68 | F47: =VLOOKUP(A47,[1]věž!$A$6:$P$125,12,FALSE) -> Vítězslav RESNER | G47: =VLOOKUP(A47,[1]věž!$A$6:$P$125,13,FALSE) -> Šumperk | H47: =VLOOKUP(A47,[1]věž!$A$6:$P$125,14,FALSE) -> 20.97 | I47: =VLOOKUP(A47,[1]věž!$A$6:$P$125,15,FALSE) -> 99.99 | J47: =VLOOKUP(A47,[1]věž!$A$6:$P$125,16,FALSE) -> 20.97
A48: 43 | B48: =VLOOKUP(A48,[1]věž!$A$6:$P$125,3,FALSE) -> 43 | C48: =VLOOKUP(A48,[1]věž!$A$6:$P$125,5,FALSE) -> 17 | D48: =VLOOKUP(A48,[1]věž!$A$6:$P$125,7,FALSE) | E48: =VLOOKUP(A48,[1]věž!$A$6:$P$125,10,FALSE) -> 114 | F48: =VLOOKUP(A48,[1]věž!$A$6:$P$125,12,FALSE) -> Pavel KROUPA | G48: =VLOOKUP(A48,[1]věž!$A$6:$P$125,13,FALSE) -> Nový Jičín | H48: =VLOOKUP(A48,[1]věž!$A$6:$P$125,14,FALSE) -> 21.47 | I48: =VLOOKUP(A48,[1]věž!$A$6:$P$125,15,FALSE) -> 24.89 | J48: =VLOOKUP(A48,[1]věž!$A$6:$P$125,16,FALSE) -> 21.47
A49: 44 | B49: =VLOOKUP(A49,[1]věž!$A$6:$P$125,3,FALSE) -> 44 | C49: =VLOOKUP(A49,[1]věž!$A$6:$P$125,5,FALSE) -> 18 | D49: =VLOOKUP(A49,[1]věž!$A$6:$P$125,7,FALSE) | E49: =VLOOKUP(A49,[1]věž!$A$6:$P$125,10,FALSE) -> 111 | F49: =VLOOKUP(A49,[1]věž!$A$6:$P$125,12,FALSE) -> Daniel CAMFRLA | G49: =VLOOKUP(A49,[1]věž!$A$6:$P$125,13,FALSE) -> Nový Jičín | H49: =VLOOKUP(A49,[1]věž!$A$6:$P$125,14,FALSE) -> 21.53 | I49: =VLOOKUP(A49,[1]věž!$A$6:$P$125,15,FALSE) -> 99.99 | J49: =VLOOKUP(A49,[1]věž!$A$6:$P$125,16,FALSE) -> 21.53
A50: 45 | B50: =VLOOKUP(A50,[1]věž!$A$6:$P$125,3,FALSE) -> 45 | C50: =VLOOKUP(A50,[1]věž!$A$6:$P$125,5,FALSE) | D50: =VLOOKUP(A50,[1]věž!$A$6:$P$125,7,FALSE) -> 19 | E50: =VLOOKUP(A50,[1]věž!$A$6:$P$125,10,FALSE) -> 81 | F50: =VLOOKUP(A50,[1]věž!$A$6:$P$125,12,FALSE) -> Jan KLIMECKÝ | G50: =VLOOKUP(A50,[1]věž!$A$6:$P$125,13,FALSE) -> Přerov | H50: =VLOOKUP(A50,[1]věž!$A$6:$P$125,14,FALSE) -> 27.52 | I50: =VLOOKUP(A50,[1]věž!$A$6:$P$125,15,FALSE) -> 21.57 | J50: =VLOOKUP(A50,[1]věž!$A$6:$P$125,16,FALSE) -> 21.57
A51: 46 | B51: =VLOOKUP(A51,[1]věž!$A$6:$P$125,3,FALSE) -> 46 | C51: =VLOOKUP(A51,[1]věž!$A$6:$P$125,5,FALSE) -> 19 | D51: =VLOOKUP(A51,[1]věž!$A$6:$P$125,7,FALSE) | E51: =VLOOKUP(A51,[1]věž!$A$6:$P$125,10,FALSE) -> 112 | F51: =VLOOKUP(A51,[1]věž!$A$6:$P$125,12,FALSE) -> Petr BINAR | G51: =VLOOKUP(A51,[1]věž!$A$6:$P$125,13,FALSE) -> Nový Jičín | H51: =VLOOKUP(A51,[1]věž!$A$6:$P$125,14,FALSE) -> 22.19 | I51: =VLOOKUP(A51,[1]věž!$A$6:$P$125,15,FALSE) -> 21.66 | J51: =VLOOKUP(A51,[1]věž!$A$6:$P$125,16,FALSE) -> 21.66
A52: 47 | B52: =VLOOKUP(A52,[1]věž!$A$6:$P$125,3,FALSE) -> 47 | C52: =VLOOKUP(A52,[1]věž!$A$6:$P$125,5,FALSE) | D52: =VLOOKUP(A52,[1]věž!$A$6:$P$125,7,FALSE) -> 20 | E52: =VLOOKUP(A52,[1]věž!$A$6:$P$125,10,FALSE) -> 105 | F52: =VLOOKUP(A52,[1]věž!$A$6:$P$125,12,FALSE) -> Jaroslav NAVRÁTIL | G52: =VLOOKUP(A52,[1]věž!$A$6:$P$125,13,FALSE) -> Olomouc | H52: =VLOOKUP(A52,[1]věž!$A$6:$P$125,14,FALSE) -> 23.05 | I52: =VLOOKUP(A52,[1]věž!$A$6:$P$125,15,FALSE) -> 22.39 | J52: =VLOOKUP(A52,[1]věž!$A$6:$P$125,16,FALSE) -> 22.39
A53: 48 | B53: =VLOOKUP(A53,[1]věž!$A$6:$P$125,3,FALSE) -> 48 | C53: =VLOOKUP(A53,[1]věž!$A$6:$P$125,5,FALSE) -> 20 | D53: =VLOOKUP(A53,[1]věž!$A$6:$P$125,7,FALSE) | E53: =VLOOKUP(A53,[1]věž!$A$6:$P$125,10,FALSE) -> 1 | F53: =VLOOKUP(A53,[1]věž!$A$6:$P$125,12,FALSE) -> Petr BOXAN | G53: =VLOOKUP(A53,[1]věž!$A$6:$P$125,13,FALSE) -> Bruntál | H53: =VLOOKUP(A53,[1]věž!$A$6:$P$125,14,FALSE) -> 23.84 | I53: =VLOOKUP(A53,[1]věž!$A$6:$P$125,15,FALSE) -> 23.01 | J53: =VLOOKUP(A53,[1]věž!$A$6:$P$125,16,FALSE) -> 23.01
A54: 49 | B54: =VLOOKUP(A54,[1]věž!$A$6:$P$125,3,FALSE) -> 49 | C54: =VLOOKUP(A54,[1]věž!$A$6:$P$125,5,FALSE) | D54: =VLOOKUP(A54,[1]věž!$A$6:$P$125,7,FALSE) -> 21 | E54: =VLOOKUP(A54,[1]věž!$A$6:$P$125,10,FALSE) -> 61 | F54: =VLOOKUP(A54,[1]věž!$A$6:$P$125,12,FALSE) -> Michal DRIEMER | G54: =VLOOKUP(A54,[1]věž!$A$6:$P$125,13,FALSE) -> Šumperk | H54: =VLOOKUP(A54,[1]věž!$A$6:$P$125,14,FALSE) -> 26.52 | I54: =VLOOKUP(A54,[1]věž!$A$6:$P$125,15,FALSE) -> 23.03 | J54: =VLOOKUP(A54,[1]věž!$A$6:$P$125,16,FALSE) -> 23.03
A55: 50 | B55: =VLOOKUP(A55,[1]věž!$A$6:$P$125,3,FALSE) -> 50 | C55: =VLOOKUP(A55,[1]věž!$A$6:$P$125,5,FALSE) -> 21 | D55: =VLOOKUP(A55,[1]věž!$A$6:$P$125,7,FALSE) | E55: =VLOOKUP(A55,[1]věž!$A$6:$P$125,10,FALSE) -> 7 | F55: =VLOOKUP(A55,[1]věž!$A$6:$P$125,12,FALSE) -> Petr SLAVÍK | G55: =VLOOKUP(A55,[1]věž!$A$6:$P$125,13,FALSE) -> Bruntál | H55: =VLOOKUP(A55,[1]věž!$A$6:$P$125,14,FALSE) -> 23.17 | I55: =VLOOKUP(A55,[1]věž!$A$6:$P$125,15,FALSE) -> 99.99 | J55: =VLOOKUP(A55,[1]věž!$A$6:$P$125,16,FALSE) -> 23.17
... A107: 102 | B107: =VLOOKUP(A107,[1]věž!$A$6:$P$125,3,FALSE) -> 120 | C107: =VLOOKUP(A107,[1]věž!$A$6:$P$125,5,FALSE) -> 104 | D107: =VLOOKUP(A107,[1]věž!$A$6:$P$125,7,FALSE) -> 81 | E107: =VLOOKUP(A107,[1]věž!$A$6:$P$125,10,FALSE) -> 50 | F107: =VLOOKUP(A107,[1]věž!$A$6:$P$125,12,FALSE) -> Milan ONDERKA | G107: =VLOOKUP(A107,[1]věž!$A$6:$P$125,13,FALSE) -> Ostrava | H107: =VLOOKUP(A107,[1]věž!$A$6:$P$125,14,FALSE) -> 99.99 | I107: =VLOOKUP(A107,[1]věž!$A$6:$P$125,15,FALSE) -> 99.99 | J107: =VLOOKUP(A107,[1]věž!$A$6:$P$125,16,FALSE) -> 99.99
A108: 103 | B108: =VLOOKUP(A108,[1]věž!$A$6:$P$125,3,FALSE) -> 120 | C108: =VLOOKUP(A108,[1]věž!$A$6:$P$125,5,FALSE) | E108: =VLOOKUP(A108,[1]věž!$A$6:$P$125,10,FALSE) -> 59 | F108: =VLOOKUP(A108,[1]věž!$A$6:$P$125,12,FALSE) -> Neobsazen | G108: =VLOOKUP(A108,[1]věž!$A$6:$P$125,13,FALSE) -> G4S Fire Services | H108: =VLOOKUP(A108,[1]věž!$A$6:$P$125,14,FALSE) -> 99.99 | I108: =VLOOKUP(A108,[1]věž!$A$6:$P$125,15,FALSE) -> 99.99 | J108: =VLOOKUP(A108,[1]věž!$A$6:$P$125,16,FALSE) -> 99.99
A109: 104 | B109: =VLOOKUP(A109,[1]věž!$A$6:$P$125,3,FALSE) -> 120 | C109: =VLOOKUP(A109,[1]věž!$A$6:$P$125,5,FALSE) | E109: =VLOOKUP(A109,[1]věž!$A$6:$P$125,10,FALSE) -> 60 | F109: =VLOOKUP(A109,[1]věž!$A$6:$P$125,12,FALSE) -> Neobsazen | G109: =VLOOKUP(A109,[1]věž!$A$6:$P$125,13,FALSE) -> G4S Fire Services | H109: =VLOOKUP(A109,[1]věž!$A$6:$P$125,14,FALSE) -> 99.99 | I109: =VLOOKUP(A109,[1]věž!$A$6:$P$125,15,FALSE) -> 99.99 | J109: =VLOOKUP(A109,[1]věž!$A$6:$P$125,16,FALSE) -> 99.99
A110: 105 | B110: =VLOOKUP(A110,[1]věž!$A$6:$P$125,3,FALSE) -> 120 | C110: =VLOOKUP(A110,[1]věž!$A$6:$P$125,5,FALSE) | D110: =VLOOKUP(A110,[1]věž!$A$6:$P$125,7,FALSE) -> 81 | E110: =VLOOKUP(A110,[1]věž!$A$6:$P$125,10,FALSE) -> 65 | F110: =VLOOKUP(A110,[1]věž!$A$6:$P$125,12,FALSE) -> Ladislav HAUK | G110: =VLOOKUP(A110,[1]věž!$A$6:$P$125,13,FALSE) -> Šumperk | H110: =VLOOKUP(A110,[1]věž!$A$6:$P$125,14,FALSE) -> 99.99 | I110: =VLOOKUP(A110,[1]věž!$A$6:$P$125,15,FALSE) -> 99.99 | J110: =VLOOKUP(A110,[1]věž!$A$6:$P$125,16,FALSE) -> 99.99
A111: 106 | B111: =VLOOKUP(A111,[1]věž!$A$6:$P$125,3,FALSE) -> 120 | C111: =VLOOKUP(A111,[1]věž!$A$6:$P$125,5,FALSE) | D111: =VLOOKUP(A111,[1]věž!$A$6:$P$125,7,FALSE) -> 81 | E111: =VLOOKUP(A111,[1]věž!$A$6:$P$125,10,FALSE) -> 66 | F111: =VLOOKUP(A111,[1]věž!$A$6:$P$125,12,FALSE) -> Tomáš HRDLIČKA | G111: =VLOOKUP(A111,[1]věž!$A$6:$P$125,13,FALSE) -> Šumperk | H111: =VLOOKUP(A111,[1]věž!$A$6:$P$125,14,FALSE) -> 99.99 | I111: =VLOOKUP(A111,[1]věž!$A$6:$P$125,15,FALSE) -> 99.99 | J111: =VLOOKUP(A111,[1]věž!$A$6:$P$125,16,FALSE) -> 99.99
A112: 107 | B112: =VLOOKUP(A112,[1]věž!$A$6:$P$125,3,FALSE) -> 120 | C112: =VLOOKUP(A112,[1]věž!$A$6:$P$125,5,FALSE) | D112: =VLOOKUP(A112,[1]věž!$A$6:$P$125,7,FALSE) -> 81 | E112: =VLOOKUP(A112,[1]věž!$A$6:$P$125,10,FALSE) -> 69 | F112: =VLOOKUP(A112,[1]věž!$A$6:$P$125,12,FALSE) -> Neobsazen | G112: =VLOOKUP(A112,[1]věž!$A$6:$P$125,13,FALSE) -> Šumperk | H112: =VLOOKUP(A112,[1]věž!$A$6:$P$125,14,FALSE) -> 99.99 | I112: =VLOOKUP(A112,[1]věž!$A$6:$P$125,15,FALSE) -> 99.99 | J112: =VLOOKUP(A112,[1]věž!$A$6:$P$125,16,FALSE) -> 99.99
A113: 108 | B113: =VLOOKUP(A113,[1]věž!$A$6:$P$125,3,FALSE) -> 120 | C113: =VLOOKUP(A113,[1]věž!$A$6:$P$125,5,FALSE) | D113: =VLOOKUP(A113,[1]věž!$A$6:$P$125,7,FALSE) -> 81 | E113: =VLOOKUP(A113,[1]věž!$A$6:$P$125,10,FALSE) -> 70 | F113: =VLOOKUP(A113,[1]věž!$A$6:$P$125,12,FALSE) -> Neobsazen | G113: =VLOOKUP(A113,[1]věž!$A$6:$P$125,13,FALSE) -> Šumperk | H113: =VLOOKUP(A113,[1]věž!$A$6:$P$125,14,FALSE) -> 99.99 | I113: =VLOOKUP(A113,[1]věž!$A$6:$P$125,15,FALSE) -> 99.99 | J113: =VLOOKUP(A113,[1]věž!$A$6:$P$125,16,FALSE) -> 99.99
A114: 109 | B114: =VLOOKUP(A114,[1]věž!$A$6:$P$125,3,FALSE) -> 120 | C114: =VLOOKUP(A114,[1]věž!$A$6:$P$125,5,FALSE) | D114: =VLOOKUP(A114,[1]věž!$A$6:$P$125,7,FALSE) -> 81 | E114: =VLOOKUP(A114,[1]věž!$A$6:$P$125,10,FALSE) -> 76 | F114: =VLOOKUP(A114,[1]věž!$A$6:$P$125,12,FALSE) -> Roman VONDRÁČEK | G114: =VLOOKUP(A114,[1]věž!$A$6:$P$125,13,FALSE) -> Frýdek - Místek | H114: =VLOOKUP(A114,[1]věž!$A$6:$P$125,14,FALSE) -> 99.99 | I114: =VLOOKUP(A114,[1]věž!$A$6:$P$125,15,FALSE) -> 99.99 | J114: =VLOOKUP(A114,[1]věž!$A$6:$P$125,16,FALSE) -> 99.99
A115: 110 | B115: =VLOOKUP(A115,[1]věž!$A$6:$P$125,3,FALSE) -> 120 | C115: =VLOOKUP(A115,[1]věž!$A$6:$P$125,5,FALSE) | D115: =VLOOKUP(A115,[1]věž!$A$6:$P$125,7,FALSE) -> 81 | E115: =VLOOKUP(A115,[1]věž!$A$6:$P$125,10,FALSE) -> 79 | F115: =VLOOKUP(A115,[1]věž!$A$6:$P$125,12,FALSE) -> Roman OTIPKA | G115: =VLOOKUP(A115,[1]věž!$A$6:$P$125,13,FALSE) -> Frýdek - Místek | H115: =VLOOKUP(A115,[1]věž!$A$6:$P$125,14,FALSE) -> 99.99 | I115: =VLOOKUP(A115,[1]věž!$A$6:$P$125,15,FALSE) -> 99.99 | J115: =VLOOKUP(A115,[1]věž!$A$6:$P$125,16,FALSE) -> 99.99
A116: 111 | B116: =VLOOKUP(A116,[1]věž!$A$6:$P$125,3,FALSE) -> 120 | C116: =VLOOKUP(A116,[1]věž!$A$6:$P$125,5,FALSE) | D116: =VLOOKUP(A116,[1]věž!$A$6:$P$125,7,FALSE) -> 81 | E116: =VLOOKUP(A116,[1]věž!$A$6:$P$125,10,FALSE) -> 80 | F116: =VLOOKUP(A116,[1]věž!$A$6:$P$125,12,FALSE) -> Jan ŠEDĚNKA | G116: =VLOOKUP(A116,[1]věž!$A$6:$P$125,13,FALSE) -> Frýdek - Místek | H116: =VLOOKUP(A116,[1]věž!$A$6:$P$125,14,FALSE) -> 99.99 | I116: =VLOOKUP(A116,[1]věž!$A$6:$P$125,15,FALSE) -> 99.99 | J116: =VLOOKUP(A116,[1]věž!$A$6:$P$125,16,FALSE) -> 99.99
A117: 112 | B117: =VLOOKUP(A117,[1]věž!$A$6:$P$125,3,FALSE) -> 120 | C117: =VLOOKUP(A117,[1]věž!$A$6:$P$125,5,FALSE) | D117: =VLOOKUP(A117,[1]věž!$A$6:$P$125,7,FALSE) -> 81 | E117: =VLOOKUP(A117,[1]věž!$A$6:$P$125,10,FALSE) -> 88 | F117: =VLOOKUP(A117,[1]věž!$A$6:$P$125,12,FALSE) -> Jaroslav ZEHNÁLEK | G117: =VLOOKUP(A117,[1]věž!$A$6:$P$125,13,FALSE) -> Přerov | H117: =VLOOKUP(A117,[1]věž!$A$6:$P$125,14,FALSE) -> 99.99 | I117: =VLOOKUP(A117,[1]věž!$A$6:$P$125,15,FALSE) -> 99.99 | J117: =VLOOKUP(A117,[1]věž!$A$6:$P$125,16,FALSE) -> 99.99
A118: 113 | B118: =VLOOKUP(A118,[1]věž!$A$6:$P$125,3,FALSE) -> 120 | C118: =VLOOKUP(A118,[1]věž!$A$6:$P$125,5,FALSE) | D118: =VLOOKUP(A118,[1]věž!$A$6:$P$125,7,FALSE) -> 81 | E118: =VLOOKUP(A118,[1]věž!$A$6:$P$125,10,FALSE) -> 90 | F118: =VLOOKUP(A118,[1]věž!$A$6:$P$125,12,FALSE) -> Neobsazen | G118: =VLOOKUP(A118,[1]věž!$A$6:$P$125,13,FALSE) -> Přerov | H118: =VLOOKUP(A118,[1]věž!$A$6:$P$125,14,FALSE) -> 99.99 | I118: =VLOOKUP(A118,[1]věž!$A$6:$P$125,15,FALSE) -> 99.99 | J118: =VLOOKUP(A118,[1]věž!$A$6:$P$125,16,FALSE) -> 99.99
A119: 114 | B119: =VLOOKUP(A119,[1]věž!$A$6:$P$125,3,FALSE) -> 120 | C119: =VLOOKUP(A119,[1]věž!$A$6:$P$125,5,FALSE) -> 104 | D119: =VLOOKUP(A119,[1]věž!$A$6:$P$125,7,FALSE) -> 81 | E119: =VLOOKUP(A119,[1]věž!$A$6:$P$125,10,FALSE) -> 98 | F119: =VLOOKUP(A119,[1]věž!$A$6:$P$125,12,FALSE) -> Martin GRYČ | G119: =VLOOKUP(A119,[1]věž!$A$6:$P$125,13,FALSE) -> Karviná | H119: =VLOOKUP(A119,[1]věž!$A$6:$P$125,14,FALSE) -> 99.99 | I119: =VLOOKUP(A119,[1]věž!$A$6:$P$125,15,FALSE) -> 99.99 | J119: =VLOOKUP(A119,[1]věž!$A$6:$P$125,16,FALSE) -> 99.99
A120: 115 | B120: =VLOOKUP(A120,[1]věž!$A$6:$P$125,3,FALSE) -> 120 | C120: =VLOOKUP(A120,[1]věž!$A$6:$P$125,5,FALSE) -> 104 | D120: =VLOOKUP(A120,[1]věž!$A$6:$P$125,7,FALSE) -> 81 | E120: =VLOOKUP(A120,[1]věž!$A$6:$P$125,10,FALSE) -> 99 | F120: =VLOOKUP(A120,[1]věž!$A$6:$P$125,12,FALSE) -> Jiří WALICA | G120: =VLOOKUP(A120,[1]věž!$A$6:$P$125,13,FALSE) -> Karviná | H120: =VLOOKUP(A120,[1]věž!$A$6:$P$125,14,FALSE) -> 99.99 | I120: =VLOOKUP(A120,[1]věž!$A$6:$P$125,15,FALSE) -> 99.99 | J120: =VLOOKUP(A120,[1]věž!$A$6:$P$125,16,FALSE) -> 99.99
A121: 116 | B121: =VLOOKUP(A121,[1]věž!$A$6:$P$125,3,FALSE) -> 120 | C121: =VLOOKUP(A121,[1]věž!$A$6:$P$125,5,FALSE) | D121: =VLOOKUP(A121,[1]věž!$A$6:$P$125,7,FALSE) -> 81 | E121: =VLOOKUP(A121,[1]věž!$A$6:$P$125,10,FALSE) -> 108 | F121: =VLOOKUP(A121,[1]věž!$A$6:$P$125,12,FALSE) -> Josef SKALKA | G121: =VLOOKUP(A121,[1]věž!$A$6:$P$125,13,FALSE) -> Olomouc | H121: =VLOOKUP(A121,[1]věž!$A$6:$P$125,14,FALSE) -> 99.99 | I121: =VLOOKUP(A121,[1]věž!$A$6:$P$125,15,FALSE) -> 99.99 | J121: =VLOOKUP(A121,[1]věž!$A$6:$P$125,16,FALSE) -> 99.99
... A125: 120 | B125: =VLOOKUP(A125,[1]věž!$A$6:$P$125,3,FALSE) -> 120 | C125: =VLOOKUP(A125,[1]věž!$A$6:$P$125,5,FALSE) -> 104 | D125: =VLOOKUP(A125,[1]věž!$A$6:$P$125,7,FALSE) -> 81 | E125: =VLOOKUP(A125,[1]věž!$A$6:$P$125,10,FALSE) -> 120 | F125: =VLOOKUP(A125,[1]věž!$A$6:$P$125,12,FALSE) -> Petr VELIČKA | G125: =VLOOKUP(A125,[1]věž!$A$6:$P$125,13,FALSE) -> Nový Jičín | H125: =VLOOKUP(A125,[1]věž!$A$6:$P$125,14,FALSE) -> 99.99 | I125: =VLOOKUP(A125,[1]věž!$A$6:$P$125,15,FALSE) -> 99.99 | J125: =VLOOKUP(A125,[1]věž!$A$6:$P$125,16,FALSE) -> 99.99
