Workbook

Sheet věž
C1: Výsledková listina věž
A2: Pořadí | C2: Start. č. | D2: Jméno | E2: stanice | F2: 1.pokus věž | G2: 2.pokus věž | H2: započ. čas věž | I2: eliminace stejného pořadí
A3: =RANK(I3,$I$3:$I$72,1) -> 1 | C3: 33 | D3: =IF(přihlášky!$F$73="X",přihlášky!$E$73,přihlášky!$H$73) -> Pěnča Ivan | E3: =Startovky!E36 -> ÚO Strakonice | F3: 15.87 | H3: =IF(AND(F3=0,G3=0),"diskval.",IF(AND(F3>0,G3>0),MIN(F3:G3),IF(F3>0,F3,G3))) -> 15.87 | I3: =IF(F3+G3=0,1000,H3+((IF(F3>0,F3,100)+IF(G3>0,G3,100))/100000)) -> 15.871159 | J3: x | M3: =přihlášky!$C$7 -> ÚO Český Krumlov
A4: =RANK(I4,$I$3:$I$72,1) -> 2 | C4: 31 | D4: =IF(přihlášky!$F$47="X",přihlášky!$E$47,přihlášky!$H$47) -> Píbal Jiří | E4: =Startovky!E34 -> ÚO Písek | F4: 15.96 | G4: 16.72 | H4: =IF(AND(F4=0,G4=0),"diskval.",IF(AND(F4>0,G4>0),MIN(F4:G4),IF(F4>0,F4,G4))) -> 15.96 | I4: =IF(F4+G4=0,1000,H4+((IF(F4>0,F4,100)+IF(G4>0,G4,100))/100000)) -> 15.960327 | J4: 1 | K4: 24 | M4: 50 | N4: Bartuška Jiří | O4: ÚO Český Krumlov | P4: 20.09 | R4: 20.09
A5: =RANK(I5,$I$3:$I$72,1) -> 3 | C5: 11 | D5: =IF(přihlášky!$F$57="X",přihlášky!$E$57,přihlášky!$H$57) -> Ježek Jan | E5: =Startovky!E14 -> ÚO České Budějovice | F5: 16.65 | G5: 16.1 | H5: =IF(AND(F5=0,G5=0),"diskval.",IF(AND(F5>0,G5>0),MIN(F5:G5),IF(F5>0,F5,G5))) -> 16.1 | I5: =IF(F5+G5=0,1000,H5+((IF(F5>0,F5,100)+IF(G5>0,G5,100))/100000)) -> 16.100328 | K5: 27 | M5: 22 | N5: Klein Adolf | O5: ÚO Český Krumlov | P5: 23.98 | Q5: 20.62 | R5: 20.62
A6: =RANK(I6,$I$3:$I$72,1) -> 4 | C6: 13 | D6: =IF(přihlášky!$F$83="X",přihlášky!$E$83,přihlášky!$H$83) -> Doktor Michal | E6: =Startovky!E16 -> ÚO Jindřichův Hradec | F6: 17.04 | G6: 16.38 | H6: =IF(AND(F6=0,G6=0),"diskval.",IF(AND(F6>0,G6>0),MIN(F6:G6),IF(F6>0,F6,G6))) -> 16.38 | I6: =IF(F6+G6=0,1000,H6+((IF(F6>0,F6,100)+IF(G6>0,G6,100))/100000)) -> 16.380334 | K6: 29 | M6: 8 | N6: Dvořák Petr | O6: ÚO Český Krumlov | P6: 24.67 | Q6: 20.96 | R6: 20.96
A7: =RANK(I7,$I$3:$I$72,1) -> 5 | C7: 6 | D7: =IF(přihlášky!$F$82="X",přihlášky!$E$82,přihlášky!$H$82) -> Šmíd Stanislav | E7: =Startovky!E9 -> ÚO Jindřichův Hradec | F7: 16.97 | G7: 16.61 | H7: =IF(AND(F7=0,G7=0),"diskval.",IF(AND(F7>0,G7>0),MIN(F7:G7),IF(F7>0,F7,G7))) -> 16.61 | I7: =IF(F7+G7=0,1000,H7+((IF(F7>0,F7,100)+IF(G7>0,G7,100))/100000)) -> 16.610336 | K7: 34 | M7: 1 | N7: Čížek David | O7: ÚO Český Krumlov | P7: 33.29 | Q7: 22.46 | R7: 22.46
A8: =RANK(I8,$I$3:$I$72,1) -> 6 | C8: 27 | D8: =IF(přihlášky!$F$85="X",přihlášky!$E$85,přihlášky!$H$85) -> Bašta Vojtěch | E8: =Startovky!E30 -> ÚO Jindřichův Hradec | F8: 19.21 | G8: 16.81 | H8: =IF(AND(F8=0,G8=0),"diskval.",IF(AND(F8>0,G8>0),MIN(F8:G8),IF(F8>0,F8,G8))) -> 16.81 | I8: =IF(F8+G8=0,1000,H8+((IF(F8>0,F8,100)+IF(G8>0,G8,100))/100000)) -> 16.81036 | K8: 37 | M8: 43 | N8: Klíma Miloslav | O8: ÚO Český Krumlov | P8: 23.02 | R8: 23.02
A9: =RANK(I9,$I$3:$I$72,1) -> 7 | C9: 24 | D9: =IF(přihlášky!$F$46="X",přihlášky!$E$46,přihlášky!$H$46) -> Jirout Patrik | E9: =Startovky!E27 -> ÚO Písek | F9: 20.62 | G9: 16.89 | H9: =IF(AND(F9=0,G9=0),"diskval.",IF(AND(F9>0,G9>0),MIN(F9:G9),IF(F9>0,F9,G9))) -> 16.89 | I9: =IF(F9+G9=0,1000,H9+((IF(F9>0,F9,100)+IF(G9>0,G9,100))/100000)) -> 16.890375 | K9: 44 | M9: 36 | N9: Ottenschläger Václav | O9: ÚO Český Krumlov | P9: 26.44 | Q9: 24.95 | R9: 24.95 | T9: Pro počítání pořadí družstev
A10: =RANK(I10,$I$3:$I$72,1) -> 8 | C10: 16 | D10: =IF(přihlášky!$F$32="X",přihlášky!$E$32,přihlášky!$H$32) -> Knotek Radim | E10: =Startovky!E19 -> ÚO Tábor | F10: 17.02 | G10: 19.13 | H10: =IF(AND(F10=0,G10=0),"diskval.",IF(AND(F10>0,G10>0),MIN(F10:G10),IF(F10>0,F10,G10))) -> 17.02 | I10: =IF(F10+G10=0,1000,H10+((IF(F10>0,F10,100)+IF(G10>0,G10,100))/100000)) -> 17.020361 | J10: BODY | K10: =RANK(T10,T10:T16,1) -> 5 | R10: =SUM(R4:R9) -> 132.1 | S10: Čas celkem | T10: =R10 -> 132.1
A11: =RANK(I11,$I$3:$I$72,1) -> 9 | C11: 20 | D11: =IF(přihlášky!$F$84="X",přihlášky!$E$84,přihlášky!$H$84) -> Janů Pavel | E11: =Startovky!E23 -> ÚO Jindřichův Hradec | F11: 17.97 | G11: 17.55 | H11: =IF(AND(F11=0,G11=0),"diskval.",IF(AND(F11>0,G11>0),MIN(F11:G11),IF(F11>0,F11,G11))) -> 17.55 | I11: =IF(F11+G11=0,1000,H11+((IF(F11>0,F11,100)+IF(G11>0,G11,100))/100000)) -> 17.550355 | T11: =R19 -> 144.77
A12: =RANK(I12,$I$3:$I$72,1) -> 10 | C12: 68 | D12: =IF(přihlášky!$F$78="X",přihlášky!$E$78,přihlášky!$H$78) -> Černovský Michal | E12: =Startovky!E74 -> ÚO Strakonice | F12: 17.7 | G12: 17.6 | H12: =IF(AND(F12=0,G12=0),"diskval.",IF(AND(F12>0,G12>0),MIN(F12:G12),IF(F12>0,F12,G12))) -> 17.6 | I12: =IF(F12+G12=0,1000,H12+((IF(F12>0,F12,100)+IF(G12>0,G12,100))/100000)) -> 17.600353 | M12: =přihlášky!$C$8 -> ÚO Tábor | T12: =R28 -> 113.79
A13: =RANK(I13,$I$3:$I$72,1) -> 11 | C13: 39 | D13: =IF(přihlášky!$F$61="X",přihlášky!$E$61,přihlášky!$H$61) -> Čada Milan | E13: =Startovky!E45 -> ÚO České Budějovice | F13: 18.07 | G13: 20.39 | H13: =IF(AND(F13=0,G13=0),"diskval.",IF(AND(F13>0,G13>0),MIN(F13:G13),IF(F13>0,F13,G13))) -> 18.07 | I13: =IF(F13+G13=0,1000,H13+((IF(F13>0,F13,100)+IF(G13>0,G13,100))/100000)) -> 18.070385 | J13: 2 | K13: 8 | M13: 16 | N13: Knotek Radim | O13: ÚO Tábor | P13: 17.02 | Q13: 19.13 | R13: 17.02 | T13: =R37 -> 109.06
A14: =RANK(I14,$I$3:$I$72,1) -> 12 | C14: 32 | D14: =IF(přihlášky!$F$60="X",přihlášky!$E$60,přihlášky!$H$60) -> Měřička Michal | E14: =Startovky!E35 -> ÚO České Budějovice | F14: 18.36 | G14: 19.31 | H14: =IF(AND(F14=0,G14=0),"diskval.",IF(AND(F14>0,G14>0),MIN(F14:G14),IF(F14>0,F14,G14))) -> 18.36 | I14: =IF(F14+G14=0,1000,H14+((IF(F14>0,F14,100)+IF(G14>0,G14,100))/100000)) -> 18.360377 | K14: 39 | M14: 9 | N14: Novák Dominik | O14: ÚO Tábor | P14: 29.55 | Q14: 23.44 | R14: 23.44 | T14: =R46 -> 114.27
A15: =RANK(I15,$I$3:$I$72,1) -> 13 | C15: 18 | D15: =IF(přihlášky!$F$58="X",přihlášky!$E$58,přihlášky!$H$58) -> Krygar Josef | E15: =Startovky!E21 -> ÚO České Budějovice | F15: 20.39 | G15: 18.55 | H15: =IF(AND(F15=0,G15=0),"diskval.",IF(AND(F15>0,G15>0),MIN(F15:G15),IF(F15>0,F15,G15))) -> 18.55 | I15: =IF(F15+G15=0,1000,H15+((IF(F15>0,F15,100)+IF(G15>0,G15,100))/100000)) -> 18.550389 | K15: 40 | M15: 23 | N15: Kopecký Jan | O15: ÚO Tábor | P15: 25.53 | Q15: 23.52 | R15: 23.52 | T15: =R55 -> 105.74
A16: =RANK(I16,$I$3:$I$72,1) -> 14 | C16: 4 | D16: =IF(přihlášky!$F$56="X",přihlášky!$E$56,přihlášky!$H$56) -> Hasík Juraj | E16: =Startovky!E7 -> ÚO České Budějovice | F16: 19.68 | G16: 18.69 | H16: =IF(AND(F16=0,G16=0),"diskval.",IF(AND(F16>0,G16>0),MIN(F16:G16),IF(F16>0,F16,G16))) -> 18.69 | I16: =IF(F16+G16=0,1000,H16+((IF(F16>0,F16,100)+IF(G16>0,G16,100))/100000)) -> 18.690384 | K16: 43 | M16: 2 | N16: Novák Tomáš | O16: ÚO Tábor | P16: 24.12 | Q16: 25.67 | R16: 24.12 | T16: =R64 -> 144.44
A17: =RANK(I17,$I$3:$I$72,1) -> 15 | C17: 34 | D17: =IF(přihlášky!$F$86="X",přihlášky!$E$86,přihlášky!$H$86) -> Kučera Jan | E17: =Startovky!E37 -> ÚO Jindřichův Hradec | F17: 19.9 | G17: 18.89 | H17: =IF(AND(F17=0,G17=0),"diskval.",IF(AND(F17>0,G17>0),MIN(F17:G17),IF(F17>0,F17,G17))) -> 18.89 | I17: =IF(F17+G17=0,1000,H17+((IF(F17>0,F17,100)+IF(G17>0,G17,100))/100000)) -> 18.890388 | K17: 49 | M17: 37 | N17: Průcha Josef | O17: ÚO Tábor | P17: 27.14 | Q17: 29.2 | R17: 27.14
A18: =RANK(I18,$I$3:$I$72,1) -> 16 | C18: 40 | D18: =IF(přihlášky!$F$74="X",přihlášky!$E$74,přihlášky!$H$74) -> Vaňač Aleš | E18: =Startovky!E46 -> ÚO Strakonice | F18: 19.28 | G18: 19.12 | H18: =IF(AND(F18=0,G18=0),"diskval.",IF(AND(F18>0,G18>0),MIN(F18:G18),IF(F18>0,F18,G18))) -> 19.12 | I18: =IF(F18+G18=0,1000,H18+((IF(F18>0,F18,100)+IF(G18>0,G18,100))/100000)) -> 19.120384 | K18: 51 | M18: 30 | N18: Falada Denis | O18: ÚO Tábor | P18: 34.97 | Q18: 29.53 | R18: 29.53
A19: =RANK(I19,$I$3:$I$72,1) -> 17 | C19: 25 | D19: =IF(přihlášky!$F$59="X",přihlášky!$E$59,přihlášky!$H$59) -> Hájek David | E19: =Startovky!E28 -> ÚO České Budějovice | F19: 21.22 | G19: 19.29 | H19: =IF(AND(F19=0,G19=0),"diskval.",IF(AND(F19>0,G19>0),MIN(F19:G19),IF(F19>0,F19,G19))) -> 19.29 | I19: =IF(F19+G19=0,1000,H19+((IF(F19>0,F19,100)+IF(G19>0,G19,100))/100000)) -> 19.290405 | J19: BODY | K19: =RANK(T11,T10:T16,1) -> 7 | R19: =SUM(R13:R18) -> 144.77 | S19: Čas celkem
A20: =RANK(I20,$I$3:$I$72,1) -> 18 | C20: 38 | D20: =IF(přihlášky!$F$48="X",přihlášky!$E$48,přihlášky!$H$48) -> Motejzík Martin | E20: =Startovky!E44 -> ÚO Písek | F20: 20.7 | G20: 19.45 | H20: =IF(AND(F20=0,G20=0),"diskval.",IF(AND(F20>0,G20>0),MIN(F20:G20),IF(F20>0,F20,G20))) -> 19.45 | I20: =IF(F20+G20=0,1000,H20+((IF(F20>0,F20,100)+IF(G20>0,G20,100))/100000)) -> 19.450401
A21: =RANK(I21,$I$3:$I$72,1) -> 19 | C21: 10 | D21: =IF(přihlášky!$F$44="X",přihlášky!$E$44,přihlášky!$H$44) -> Horský Marek | E21: =Startovky!E13 -> ÚO Písek | F21: 21.1 | G21: 19.47 | H21: =IF(AND(F21=0,G21=0),"diskval.",IF(AND(F21>0,G21>0),MIN(F21:G21),IF(F21>0,F21,G21))) -> 19.47 | I21: =IF(F21+G21=0,1000,H21+((IF(F21>0,F21,100)+IF(G21>0,G21,100))/100000)) -> 19.470406 | M21: =přihlášky!$C$9 -> ÚO Písek
A22: =RANK(I22,$I$3:$I$72,1) -> 20 | C22: 41 | D22: =IF(přihlášky!$F$87="X",přihlášky!$E$87,přihlášky!$H$87) -> Huml Ondřej | E22: =Startovky!E47 -> ÚO Jindřichův Hradec | F22: 19.5 | G22: 19.68 | H22: =IF(AND(F22=0,G22=0),"diskval.",IF(AND(F22>0,G22>0),MIN(F22:G22),IF(F22>0,F22,G22))) -> 19.5 | I22: =IF(F22+G22=0,1000,H22+((IF(F22>0,F22,100)+IF(G22>0,G22,100))/100000)) -> 19.500392 | J22: 3 | K22: 2 | M22: 31 | N22: Píbal Jiří | O22: ÚO Písek | P22: 15.96 | Q22: 16.72 | R22: 15.96
A23: =RANK(I23,$I$3:$I$72,1) -> 21 | C23: 21 | D23: =IF(přihlášky!$F$97="X",přihlášky!$E$97,přihlášky!$H$97) -> Študlar Petr | E23: =Startovky!E24 -> ÚO Prachatice | F23: 19.58 | H23: =IF(AND(F23=0,G23=0),"diskval.",IF(AND(F23>0,G23>0),MIN(F23:G23),IF(F23>0,F23,G23))) -> 19.58 | I23: =IF(F23+G23=0,1000,H23+((IF(F23>0,F23,100)+IF(G23>0,G23,100))/100000)) -> 19.581196 | K23: 7 | M23: 24 | N23: Jirout Patrik | O23: ÚO Písek | P23: 20.62 | Q23: 16.89 | R23: 16.89
A24: =RANK(I24,$I$3:$I$72,1) -> 22 | C24: 17 | D24: =IF(přihlášky!$F$45="X",přihlášky!$E$45,přihlášky!$H$45) -> Trantina Karel | E24: =Startovky!E20 -> ÚO Písek | F24: 19.86 | G24: 22.83 | H24: =IF(AND(F24=0,G24=0),"diskval.",IF(AND(F24>0,G24>0),MIN(F24:G24),IF(F24>0,F24,G24))) -> 19.86 | I24: =IF(F24+G24=0,1000,H24+((IF(F24>0,F24,100)+IF(G24>0,G24,100))/100000)) -> 19.860427 | K24: 18 | M24: 38 | N24: Motejzík Martin | O24: ÚO Písek | P24: 20.7 | Q24: 19.45 | R24: 19.45
A25: =RANK(I25,$I$3:$I$72,1) -> 23 | C25: 48 | D25: =IF(přihlášky!$F$88="X",přihlášky!$E$88,přihlášky!$H$88) -> Šenkýř Marek | E25: =Startovky!E54 -> ÚO Jindřichův Hradec | F25: 21.05 | G25: 20.05 | H25: =IF(AND(F25=0,G25=0),"diskval.",IF(AND(F25>0,G25>0),MIN(F25:G25),IF(F25>0,F25,G25))) -> 20.05 | I25: =IF(F25+G25=0,1000,H25+((IF(F25>0,F25,100)+IF(G25>0,G25,100))/100000)) -> 20.050411 | K25: 19 | M25: 10 | N25: Horský Marek | O25: ÚO Písek | P25: 21.1 | Q25: 19.47 | R25: 19.47
A26: =RANK(I26,$I$3:$I$72,1) -> 24 | C26: 50 | D26: =IF(přihlášky!$F$24="X",přihlášky!$E$24,přihlášky!$H$24) -> Bartuška Jiří | E26: =Startovky!E56 -> ÚO Český Krumlov | F26: 20.09 | H26: =IF(AND(F26=0,G26=0),"diskval.",IF(AND(F26>0,G26>0),MIN(F26:G26),IF(F26>0,F26,G26))) -> 20.09 | I26: =IF(F26+G26=0,1000,H26+((IF(F26>0,F26,100)+IF(G26>0,G26,100))/100000)) -> 20.091201 | K26: 22 | M26: 17 | N26: Trantina Karel | O26: ÚO Písek | P26: 19.86 | Q26: 22.83 | R26: 19.86
A27: =RANK(I27,$I$3:$I$72,1) -> 25 | C27: 19 | D27: =IF(přihlášky!$F$71="X",přihlášky!$E$71,přihlášky!$H$71) -> Muchl Vladimír | E27: =Startovky!E22 -> ÚO Strakonice | F27: 20.45 | H27: =IF(AND(F27=0,G27=0),"diskval.",IF(AND(F27>0,G27>0),MIN(F27:G27),IF(F27>0,F27,G27))) -> 20.45 | I27: =IF(F27+G27=0,1000,H27+((IF(F27>0,F27,100)+IF(G27>0,G27,100))/100000)) -> 20.451204 | K27: 31 | M27: 3 | N27: Šourek Petr | O27: ÚO Písek | P27: 25.53 | Q27: 22.16 | R27: 22.16
A28: =RANK(I28,$I$3:$I$72,1) -> 26 | C28: 12 | D28: =IF(přihlášky!$F$70="X",přihlášky!$E$70,přihlášky!$H$70) -> Stibor Jiří | E28: =Startovky!E15 -> ÚO Strakonice | F28: 21 | G28: 20.56 | H28: =IF(AND(F28=0,G28=0),"diskval.",IF(AND(F28>0,G28>0),MIN(F28:G28),IF(F28>0,F28,G28))) -> 20.56 | I28: =IF(F28+G28=0,1000,H28+((IF(F28>0,F28,100)+IF(G28>0,G28,100))/100000)) -> 20.560416 | J28: BODY | K28: =RANK(T12,T10:T16,1) -> 3 | R28: =SUM(R22:R27) -> 113.79 | S28: Čas celkem
A29: =RANK(I29,$I$3:$I$72,1) -> 27 | C29: 22 | D29: =IF(přihlášky!$F$20="X",přihlášky!$E$20,přihlášky!$H$20) -> Klein Adolf | E29: =Startovky!E25 -> ÚO Český Krumlov | F29: 23.98 | G29: 20.62 | H29: =IF(AND(F29=0,G29=0),"diskval.",IF(AND(F29>0,G29>0),MIN(F29:G29),IF(F29>0,F29,G29))) -> 20.62 | I29: =IF(F29+G29=0,1000,H29+((IF(F29>0,F29,100)+IF(G29>0,G29,100))/100000)) -> 20.620446
A30: =RANK(I30,$I$3:$I$72,1) -> 28 | C30: 26 | D30: =IF(přihlášky!$F$72="X",přihlášky!$E$72,přihlášky!$H$72) -> Božka Martin | E30: =Startovky!E29 -> ÚO Strakonice | F30: 21.5 | G30: 20.67 | H30: =IF(AND(F30=0,G30=0),"diskval.",IF(AND(F30>0,G30>0),MIN(F30:G30),IF(F30>0,F30,G30))) -> 20.67 | I30: =IF(F30+G30=0,1000,H30+((IF(F30>0,F30,100)+IF(G30>0,G30,100))/100000)) -> 20.670422 | M30: =přihlášky!$C$10 -> ÚO České Budějovice
A31: =RANK(I31,$I$3:$I$72,1) -> 29 | C31: 8 | D31: =IF(přihlášky!$F$18="X",přihlášky!$E$18,přihlášky!H17) -> Dvořák Petr | E31: =Startovky!E11 -> ÚO Český Krumlov | F31: 24.67 | G31: 20.96 | H31: =IF(AND(F31=0,G31=0),"diskval.",IF(AND(F31>0,G31>0),MIN(F31:G31),IF(F31>0,F31,G31))) -> 20.96 | I31: =IF(F31+G31=0,1000,H31+((IF(F31>0,F31,100)+IF(G31>0,G31,100))/100000)) -> 20.960456 | J31: 4 | K31: 3 | M31: 11 | N31: Ježek Jan | O31: ÚO České Budějovice | P31: 16.65 | Q31: 16.1 | R31: 16.1
A32: =RANK(I32,$I$3:$I$72,1) -> 30 | C32: 54 | D32: =IF(přihlášky!$F$76="X",přihlášky!$E$76,přihlášky!$H$76) -> Pospíšil Michael (věž jednotlivci) | E32: =Startovky!E60 -> ÚO Strakonice | F32: 22 | H32: =IF(AND(F32=0,G32=0),"diskval.",IF(AND(F32>0,G32>0),MIN(F32:G32),IF(F32>0,F32,G32))) -> 22 | I32: =IF(F32+G32=0,1000,H32+((IF(F32>0,F32,100)+IF(G32>0,G32,100))/100000)) -> 22.00122 | K32: 11 | M32: 39 | N32: Čada Milan | O32: ÚO České Budějovice | P32: 18.07 | Q32: 20.39 | R32: 18.07
A33: =RANK(I33,$I$3:$I$72,1) -> 31 | C33: 3 | D33: =IF(přihlášky!$F$43="X",přihlášky!$E$43,přihlášky!$H$43) -> Šourek Petr | E33: =Startovky!E6 -> ÚO Písek | F33: 25.53 | G33: 22.16 | H33: =IF(AND(F33=0,G33=0),"diskval.",IF(AND(F33>0,G33>0),MIN(F33:G33),IF(F33>0,F33,G33))) -> 22.16 | I33: =IF(F33+G33=0,1000,H33+((IF(F33>0,F33,100)+IF(G33>0,G33,100))/100000)) -> 22.160477 | K33: 12 | M33: 32 | N33: Měřička Michal | O33: ÚO České Budějovice | P33: 18.36 | Q33: 19.31 | R33: 18.36
A34: =RANK(I34,$I$3:$I$72,1) -> 32 | C34: 5 | D34: =IF(přihlášky!$F$69="X",přihlášky!$E$69,přihlášky!$H$69) -> Krupka Luboš | E34: =Startovky!E8 -> ÚO Strakonice | F34: 22.8 | G34: 22.31 | H34: =IF(AND(F34=0,G34=0),"diskval.",IF(AND(F34>0,G34>0),MIN(F34:G34),IF(F34>0,F34,G34))) -> 22.31 | I34: =IF(F34+G34=0,1000,H34+((IF(F34>0,F34,100)+IF(G34>0,G34,100))/100000)) -> 22.310451 | K34: 13 | M34: 18 | N34: Krygar Josef | O34: ÚO České Budějovice | P34: 20.39 | Q34: 18.55 | R34: 18.55
A35: =RANK(I35,$I$3:$I$72,1) -> 33 | C35: 55 | D35: =IF(přihlášky!$F$89="X",přihlášky!$E$89,přihlášky!$H$89) -> Janů František | E35: =Startovky!E61 -> ÚO Jindřichův Hradec | F35: 24.11 | G35: 22.4 | H35: =IF(AND(F35=0,G35=0),"diskval.",IF(AND(F35>0,G35>0),MIN(F35:G35),IF(F35>0,F35,G35))) -> 22.4 | I35: =IF(F35+G35=0,1000,H35+((IF(F35>0,F35,100)+IF(G35>0,G35,100))/100000)) -> 22.400465 | K35: 14 | M35: 4 | N35: Hasík Juraj | O35: ÚO České Budějovice | P35: 19.68 | Q35: 18.69 | R35: 18.69
A36: =RANK(I36,$I$3:$I$72,1) -> 34 | C36: 1 | D36: =IF(přihlášky!$F$17="X",přihlášky!$E$17,přihlášky!H17) -> Čížek David | E36: =Startovky!E4 -> ÚO Český Krumlov | F36: 33.29 | G36: 22.46 | H36: =IF(AND(F36=0,G36=0),"diskval.",IF(AND(F36>0,G36>0),MIN(F36:G36),IF(F36>0,F36,G36))) -> 22.46 | I36: =IF(F36+G36=0,1000,H36+((IF(F36>0,F36,100)+IF(G36>0,G36,100))/100000)) -> 22.460558 | K36: 17 | M36: 25 | N36: Hájek David | O36: ÚO České Budějovice | P36: 21.22 | Q36: 19.29 | R36: 19.29
A37: =RANK(I37,$I$3:$I$72,1) -> 35 | C37: 47 | D37: =IF(přihlášky!$F$75="X",přihlášky!$E$75,přihlášky!$H$75) -> Štolba František (věž jednotlici) | E37: =Startovky!E53 -> ÚO Strakonice | F37: 22.91 | G37: 23.48 | H37: =IF(AND(F37=0,G37=0),"diskval.",IF(AND(F37>0,G37>0),MIN(F37:G37),IF(F37>0,F37,G37))) -> 22.91 | I37: =IF(F37+G37=0,1000,H37+((IF(F37>0,F37,100)+IF(G37>0,G37,100))/100000)) -> 22.910464 | J37: BODY | K37: =RANK(T13,T10:T16,1) -> 2 | R37: =SUM(R31:R36) -> 109.06 | S37: Čas celkem
A38: =RANK(I38,$I$3:$I$72,1) -> 36 | C38: 56 | D38: =IF(přihlášky!$F$102="X",přihlášky!$E$102,přihlášky!$H$102) -> Jiráň Marek | E38: =Startovky!E62 -> ÚO Prachatice | F38: 23.48 | G38: 22.97 | H38: =IF(AND(F38=0,G38=0),"diskval.",IF(AND(F38>0,G38>0),MIN(F38:G38),IF(F38>0,F38,G38))) -> 22.97 | I38: =IF(F38+G38=0,1000,H38+((IF(F38>0,F38,100)+IF(G38>0,G38,100))/100000)) -> 22.970464
A39: =RANK(I39,$I$3:$I$72,1) -> 37 | C39: 43 | D39: =IF(přihlášky!$F$23="X",přihlášky!$E$23,přihlášky!$H$23) -> Klíma Miloslav | E39: =Startovky!E49 -> ÚO Český Krumlov | F39: 23.02 | H39: =IF(AND(F39=0,G39=0),"diskval.",IF(AND(F39>0,G39>0),MIN(F39:G39),IF(F39>0,F39,G39))) -> 23.02 | I39: =IF(F39+G39=0,1000,H39+((IF(F39>0,F39,100)+IF(G39>0,G39,100))/100000)) -> 23.02123 | M39: =přihlášky!$C$11 -> ÚO Strakonice
A40: =RANK(I40,$I$3:$I$72,1) -> 38 | C40: 7 | D40: =IF(přihlášky!$F$95="X",přihlášky!$E$95,přihlášky!$H$95) -> Cais Martin | E40: =Startovky!E10 -> ÚO Prachatice | F40: 23.26 | G40: 23.86 | H40: =IF(AND(F40=0,G40=0),"diskval.",IF(AND(F40>0,G40>0),MIN(F40:G40),IF(F40>0,F40,G40))) -> 23.26 | I40: =IF(F40+G40=0,1000,H40+((IF(F40>0,F40,100)+IF(G40>0,G40,100))/100000)) -> 23.260471 | J40: 5 | K40: 1 | M40: 33 | N40: Pěnča Ivan | O40: ÚO Strakonice | P40: 15.87 | R40: 15.87
...

Sheet 100m
C1: Výsledková listina 100m
A2: Pořadí | C2: Start. č. | D2: Jméno | E2: stanice | F2: 1.pokus 100m | G2: 2.pokus 100m | H2: započ. čas 100m | I2: eliminace stejného pořadí
A3: =RANK(I3,$I$3:$I$72,1) -> 2 | C3: 16 | D3: =IF(přihlášky!$G$32="X",přihlášky!$E$32,přihlášky!$H$32) -> Knotek Radim | E3: =Startovky!E19 -> ÚO Tábor | F3: 17.48 | H3: =IF(AND(F3=0,G3=0),"diskval.",IF(AND(F3>0,G3>0),MIN(F3:G3),IF(F3>0,F3,G3))) -> 17.48 | I3: =IF(F3+G3=0,1000,H3+((IF(F3>0,F3,100)+IF(G3>0,G3,100))/100000)) -> 17.481175 | M3: =přihlášky!$C$7 -> ÚO Český Krumlov
A4: =RANK(I4,$I$3:$I$72,1) -> 1 | C4: 33 | D4: =IF(přihlášky!$G$73="X",přihlášky!$E$73,přihlášky!$H$73) -> Pěnča Ivan | E4: =Startovky!E36 -> ÚO Strakonice | F4: 18.23 | G4: 17.48 | H4: =IF(AND(F4=0,G4=0),"diskval.",IF(AND(F4>0,G4>0),MIN(F4:G4),IF(F4>0,F4,G4))) -> 17.48 | I4: =IF(F4+G4=0,1000,H4+((IF(F4>0,F4,100)+IF(G4>0,G4,100))/100000)) -> 17.480357 | J4: 1 | K4: 15 | M4: 1 | N4: Čížek David | O4: ÚO Český Krumlov | P4: 20.55 | Q4: 19.32 | R4: 19.32
A5: =RANK(I5,$I$3:$I$72,1) -> 3 | C5: 53 | D5: =IF(přihlášky!$G$63="X",přihlášky!$E$63,přihlášky!$H$63) -> Völfel David | E5: =Startovky!E59 -> ÚO České Budějovice | F5: 18.02 | G5: 17.61 | H5: =IF(AND(F5=0,G5=0),"diskval.",IF(AND(F5>0,G5>0),MIN(F5:G5),IF(F5>0,F5,G5))) -> 17.61 | I5: =IF(F5+G5=0,1000,H5+((IF(F5>0,F5,100)+IF(G5>0,G5,100))/100000)) -> 17.610356 | K5: 26 | M5: 22 | N5: Klein Adolf | O5: ÚO Český Krumlov | P5: 20.71 | Q5: 20.35 | R5: 20.35
A6: =RANK(I6,$I$3:$I$72,1) -> 4 | C6: 25 | D6: =IF(přihlášky!$G$59="X",přihlášky!$E$59,přihlášky!$H$59) -> Hájek David | E6: =Startovky!E28 -> ÚO České Budějovice | F6: 19.68 | G6: 17.68 | H6: =IF(AND(F6=0,G6=0),"diskval.",IF(AND(F6>0,G6>0),MIN(F6:G6),IF(F6>0,F6,G6))) -> 17.68 | I6: =IF(F6+G6=0,1000,H6+((IF(F6>0,F6,100)+IF(G6>0,G6,100))/100000)) -> 17.680374 | K6: 27 | M6: 15 | N6: Fučík Jan | O6: ÚO Český Krumlov | P6: 20.6 | Q6: 21.02 | R6: 20.6
A7: =RANK(I7,$I$3:$I$72,1) -> 5 | C7: 60 | D7: =IF(přihlášky!$G$64="X",přihlášky!$E$64,přihlášky!$H$64) -> Nýdl Jakub | E7: =Startovky!E66 -> ÚO České Budějovice | F7: 18.47 | G7: 18.12 | H7: =IF(AND(F7=0,G7=0),"diskval.",IF(AND(F7>0,G7>0),MIN(F7:G7),IF(F7>0,F7,G7))) -> 18.12 | I7: =IF(F7+G7=0,1000,H7+((IF(F7>0,F7,100)+IF(G7>0,G7,100))/100000)) -> 18.120366 | K7: 32 | M7: 36 | N7: Ottenschläger Václav | O7: ÚO Český Krumlov | P7: 21.17 | Q7: 21.74 | R7: 21.17
A8: =RANK(I8,$I$3:$I$72,1) -> 6 | C8: 27 | D8: =IF(přihlášky!$G$85="X",přihlášky!$E$85,přihlášky!$H$85) -> Bašta Vojtěch | E8: =Startovky!E30 -> ÚO Jindřichův Hradec | F8: 18.66 | G8: 18.48 | H8: =IF(AND(F8=0,G8=0),"diskval.",IF(AND(F8>0,G8>0),MIN(F8:G8),IF(F8>0,F8,G8))) -> 18.48 | I8: =IF(F8+G8=0,1000,H8+((IF(F8>0,F8,100)+IF(G8>0,G8,100))/100000)) -> 18.480371 | K8: 33 | M8: 43 | N8: Klíma Miloslav | O8: ÚO Český Krumlov | P8: 21.19 | R8: 21.19
A9: =RANK(I9,$I$3:$I$72,1) -> 7 | C9: 21 | D9: =IF(přihlášky!$G$97="X",přihlášky!$E$97,přihlášky!$H$97) -> Študlar Petr | E9: =Startovky!E24 -> ÚO Prachatice | F9: 19.32 | G9: 18.63 | H9: =IF(AND(F9=0,G9=0),"diskval.",IF(AND(F9>0,G9>0),MIN(F9:G9),IF(F9>0,F9,G9))) -> 18.63 | I9: =IF(F9+G9=0,1000,H9+((IF(F9>0,F9,100)+IF(G9>0,G9,100))/100000)) -> 18.63038 | K9: 34 | M9: 8 | N9: Dvořák Petr | O9: ÚO Český Krumlov | P9: 21.77 | Q9: 21.28 | R9: 21.28 | T9: Pro počítání pořadí družstev
A10: =RANK(I10,$I$3:$I$72,1) -> 8 | C10: 24 | D10: =IF(přihlášky!$G$46="X",přihlášky!$E$46,přihlášky!$H$46) -> Jirout Patrik | E10: =Startovky!E27 -> ÚO Písek | F10: 18.98 | G10: 18.7 | H10: =IF(AND(F10=0,G10=0),"diskval.",IF(AND(F10>0,G10>0),MIN(F10:G10),IF(F10>0,F10,G10))) -> 18.7 | I10: =IF(F10+G10=0,1000,H10+((IF(F10>0,F10,100)+IF(G10>0,G10,100))/100000)) -> 18.700377 | J10: BODY | K10: =RANK(T10,T10:T16,1) -> 5 | R10: =SUM(R4:R9) -> 123.91 | S10: Čas celkem | T10: =R10 -> 123.91
A11: =RANK(I11,$I$3:$I$72,1) -> 9 | C11: 20 | D11: =IF(přihlášky!$G$84="X",přihlášky!$E$84,přihlášky!$H$84) -> Janů Pavel | E11: =Startovky!E23 -> ÚO Jindřichův Hradec | F11: 18.92 | G11: 18.86 | H11: =IF(AND(F11=0,G11=0),"diskval.",IF(AND(F11>0,G11>0),MIN(F11:G11),IF(F11>0,F11,G11))) -> 18.86 | I11: =IF(F11+G11=0,1000,H11+((IF(F11>0,F11,100)+IF(G11>0,G11,100))/100000)) -> 18.860378 | T11: =R19 -> 119.11
A12: =RANK(I12,$I$3:$I$72,1) -> 10 | C12: 34 | D12: =IF(přihlášky!$G$86="X",přihlášky!$E$86,přihlášky!$H$86) -> Kučera Jan | E12: =Startovky!E37 -> ÚO Jindřichův Hradec | F12: 20.65 | G12: 18.86 | H12: =IF(AND(F12=0,G12=0),"diskval.",IF(AND(F12>0,G12>0),MIN(F12:G12),IF(F12>0,F12,G12))) -> 18.86 | I12: =IF(F12+G12=0,1000,H12+((IF(F12>0,F12,100)+IF(G12>0,G12,100))/100000)) -> 18.860395 | M12: =přihlášky!$C$8 -> ÚO Tábor | T12: =R28 -> 120.21
A13: =RANK(I13,$I$3:$I$72,1) -> 11 | C13: 9 | D13: =IF(přihlášky!$G$31="X",přihlášky!$E$31,přihlášky!$H$31) -> Novák Dominik | E13: =Startovky!E12 -> ÚO Tábor | G13: 18.89 | H13: =IF(AND(F13=0,G13=0),"diskval.",IF(AND(F13>0,G13>0),MIN(F13:G13),IF(F13>0,F13,G13))) -> 18.89 | I13: =IF(F13+G13=0,1000,H13+((IF(F13>0,F13,100)+IF(G13>0,G13,100))/100000)) -> 18.891189 | J13: 2 | K13: 2 | M13: 16 | N13: Knotek Radim | O13: ÚO Tábor | P13: 17.48 | R13: 17.48 | T13: =R37 -> 111.62
A14: =RANK(I14,$I$3:$I$72,1) -> 12 | C14: 41 | D14: =IF(přihlášky!$G$87="X",přihlášky!$E$87,přihlášky!$H$87) -> Huml Ondřej | E14: =Startovky!E47 -> ÚO Jindřichův Hradec | F14: 19.95 | G14: 18.97 | H14: =IF(AND(F14=0,G14=0),"diskval.",IF(AND(F14>0,G14>0),MIN(F14:G14),IF(F14>0,F14,G14))) -> 18.97 | I14: =IF(F14+G14=0,1000,H14+((IF(F14>0,F14,100)+IF(G14>0,G14,100))/100000)) -> 18.970389 | K14: 11 | M14: 9 | N14: Novák Dominik | O14: ÚO Tábor | Q14: 18.89 | R14: 18.89 | T14: =R46 -> 124.78
A15: =RANK(I15,$I$3:$I$72,1) -> 13 | C15: 31 | D15: =IF(přihlášky!$G$47="X",přihlášky!$E$47,přihlášky!$H$47) -> Píbal Jiří | E15: =Startovky!E34 -> ÚO Písek | G15: 19.1 | H15: =IF(AND(F15=0,G15=0),"diskval.",IF(AND(F15>0,G15>0),MIN(F15:G15),IF(F15>0,F15,G15))) -> 19.1 | I15: =IF(F15+G15=0,1000,H15+((IF(F15>0,F15,100)+IF(G15>0,G15,100))/100000)) -> 19.101191 | K15: 19 | M15: 23 | N15: Kopecký Jan | O15: ÚO Tábor | P15: 21.24 | Q15: 19.7 | R15: 19.7 | T15: =R55 -> 115.17
A16: =RANK(I16,$I$3:$I$72,1) -> 14 | C16: 11 | D16: =IF(přihlášky!$G$57="X",přihlášky!$E$57,přihlášky!$H$57) -> Ježek Jan | E16: =Startovky!E14 -> ÚO České Budějovice | F16: 20 | G16: 19.31 | H16: =IF(AND(F16=0,G16=0),"diskval.",IF(AND(F16>0,G16>0),MIN(F16:G16),IF(F16>0,F16,G16))) -> 19.31 | I16: =IF(F16+G16=0,1000,H16+((IF(F16>0,F16,100)+IF(G16>0,G16,100))/100000)) -> 19.310393 | K16: 23 | M16: 2 | N16: Novák Tomáš | O16: ÚO Tábor | P16: 20.13 | R16: 20.13 | T16: =R64 -> 134.07
A17: =RANK(I17,$I$3:$I$72,1) -> 15 | C17: 1 | D17: =IF(přihlášky!$G$17="X",přihlášky!$E$17,přihlášky!H17) -> Čížek David | E17: =Startovky!E4 -> ÚO Český Krumlov | F17: 20.55 | G17: 19.32 | H17: =IF(AND(F17=0,G17=0),"diskval.",IF(AND(F17>0,G17>0),MIN(F17:G17),IF(F17>0,F17,G17))) -> 19.32 | I17: =IF(F17+G17=0,1000,H17+((IF(F17>0,F17,100)+IF(G17>0,G17,100))/100000)) -> 19.320399 | K17: 30 | M17: 44 | N17: Mareš Jiří | O17: ÚO Tábor | P17: 20.96 | R17: 20.96
A18: =RANK(I18,$I$3:$I$72,1) -> 16 | C18: 32 | D18: =IF(přihlášky!$G$60="X",přihlášky!$E$60,přihlášky!$H$60) -> Měřička Michal | E18: =Startovky!E35 -> ÚO České Budějovice | F18: 19.91 | G18: 19.37 | H18: =IF(AND(F18=0,G18=0),"diskval.",IF(AND(F18>0,G18>0),MIN(F18:G18),IF(F18>0,F18,G18))) -> 19.37 | I18: =IF(F18+G18=0,1000,H18+((IF(F18>0,F18,100)+IF(G18>0,G18,100))/100000)) -> 19.370393 | K18: 41 | M18: 37 | N18: Průcha Josef | O18: ÚO Tábor | P18: 22.52 | Q18: 21.95 | R18: 21.95
A19: =RANK(I19,$I$3:$I$72,1) -> 17 | C19: 38 | D19: =IF(přihlášky!$G$48="X",přihlášky!$E$48,přihlášky!$H$48) -> Motejzík Martin | E19: =Startovky!E44 -> ÚO Písek | F19: 20.15 | G19: 19.41 | H19: =IF(AND(F19=0,G19=0),"diskval.",IF(AND(F19>0,G19>0),MIN(F19:G19),IF(F19>0,F19,G19))) -> 19.41 | I19: =IF(F19+G19=0,1000,H19+((IF(F19>0,F19,100)+IF(G19>0,G19,100))/100000)) -> 19.410396 | J19: BODY | K19: =RANK(T11,T10:T16,1) -> 3 | R19: =SUM(R13:R18) -> 119.11 | S19: Čas celkem
A20: =RANK(I20,$I$3:$I$72,1) -> 18 | C20: 4 | D20: =IF(přihlášky!$G$56="X",přihlášky!$E$56,přihlášky!$H$56) -> Hasík Juraj | E20: =Startovky!E7 -> ÚO České Budějovice | F20: 19.53 | H20: =IF(AND(F20=0,G20=0),"diskval.",IF(AND(F20>0,G20>0),MIN(F20:G20),IF(F20>0,F20,G20))) -> 19.53 | I20: =IF(F20+G20=0,1000,H20+((IF(F20>0,F20,100)+IF(G20>0,G20,100))/100000)) -> 19.531195
A21: =RANK(I21,$I$3:$I$72,1) -> 19 | C21: 23 | D21: =IF(přihlášky!$G$33="X",přihlášky!$E$33,přihlášky!$H$33) -> Kopecký Jan | E21: =Startovky!E26 -> ÚO Tábor | F21: 21.24 | G21: 19.7 | H21: =IF(AND(F21=0,G21=0),"diskval.",IF(AND(F21>0,G21>0),MIN(F21:G21),IF(F21>0,F21,G21))) -> 19.7 | I21: =IF(F21+G21=0,1000,H21+((IF(F21>0,F21,100)+IF(G21>0,G21,100))/100000)) -> 19.700409 | M21: =přihlášky!$C$9 -> ÚO Písek
A22: =RANK(I22,$I$3:$I$72,1) -> 20 | C22: 39 | D22: =IF(přihlášky!$G$61="X",přihlášky!$E$61,přihlášky!$H$61) -> Čada Milan | E22: =Startovky!E45 -> ÚO České Budějovice | F22: 21.76 | G22: 19.93 | H22: =IF(AND(F22=0,G22=0),"diskval.",IF(AND(F22>0,G22>0),MIN(F22:G22),IF(F22>0,F22,G22))) -> 19.93 | I22: =IF(F22+G22=0,1000,H22+((IF(F22>0,F22,100)+IF(G22>0,G22,100))/100000)) -> 19.930417 | J22: 3 | K22: 8 | M22: 24 | N22: Jirout Patrik | O22: ÚO Písek | P22: 18.98 | Q22: 18.7 | R22: 18.7
A23: =RANK(I23,$I$3:$I$72,1) -> 21 | C23: 6 | D23: =IF(přihlášky!$G$82="X",přihlášky!$E$82,přihlášky!$H$82) -> Šmíd Stanislav | E23: =Startovky!E9 -> ÚO Jindřichův Hradec | F23: 20.21 | G23: 19.96 | H23: =IF(AND(F23=0,G23=0),"diskval.",IF(AND(F23>0,G23>0),MIN(F23:G23),IF(F23>0,F23,G23))) -> 19.96 | I23: =IF(F23+G23=0,1000,H23+((IF(F23>0,F23,100)+IF(G23>0,G23,100))/100000)) -> 19.960402 | K23: 13 | M23: 31 | N23: Píbal Jiří | O23: ÚO Písek | Q23: 19.1 | R23: 19.1
A24: =RANK(I24,$I$3:$I$72,1) -> 22 | C24: 48 | D24: =IF(přihlášky!$G$88="X",přihlášky!$E$88,přihlášky!$H$88) -> Šenkýř Marek | E24: =Startovky!E54 -> ÚO Jindřichův Hradec | F24: 20.2 | G24: 20.04 | H24: =IF(AND(F24=0,G24=0),"diskval.",IF(AND(F24>0,G24>0),MIN(F24:G24),IF(F24>0,F24,G24))) -> 20.04 | I24: =IF(F24+G24=0,1000,H24+((IF(F24>0,F24,100)+IF(G24>0,G24,100))/100000)) -> 20.040402 | K24: 17 | M24: 38 | N24: Motejzík Martin | O24: ÚO Písek | P24: 20.15 | Q24: 19.41 | R24: 19.41
A25: =RANK(I25,$I$3:$I$72,1) -> 23 | C25: 2 | D25: =IF(přihlášky!$G$30="X",přihlášky!$E$30,přihlášky!$H$30) -> Novák Tomáš | E25: =Startovky!E5 -> ÚO Tábor | F25: 20.13 | H25: =IF(AND(F25=0,G25=0),"diskval.",IF(AND(F25>0,G25>0),MIN(F25:G25),IF(F25>0,F25,G25))) -> 20.13 | I25: =IF(F25+G25=0,1000,H25+((IF(F25>0,F25,100)+IF(G25>0,G25,100))/100000)) -> 20.131201 | K25: 24 | M25: 66 | N25: Máška Dominik | O25: ÚO Písek | P25: 20.6 | Q25: 20.15 | R25: 20.15 | AA25: 31.66
A26: =RANK(I26,$I$3:$I$72,1) -> 24 | C26: 66 | D26: =IF(přihlášky!$G$52="X",přihlášky!$E$52,přihlášky!$H$52) -> Máška Dominik | E26: =Startovky!E72 -> ÚO Písek | F26: 20.6 | G26: 20.15 | H26: =IF(AND(F26=0,G26=0),"diskval.",IF(AND(F26>0,G26>0),MIN(F26:G26),IF(F26>0,F26,G26))) -> 20.15 | I26: =IF(F26+G26=0,1000,H26+((IF(F26>0,F26,100)+IF(G26>0,G26,100))/100000)) -> 20.150408 | K26: 35 | M26: 59 | N26: Koller Petr | O26: ÚO Písek | P26: 21.71 | Q26: 21.41 | R26: 21.41
A27: =RANK(I27,$I$3:$I$72,1) -> 25 | C27: 18 | D27: =IF(přihlášky!$G$58="X",přihlášky!$E$58,přihlášky!$H$58) -> Krygar Josef | E27: =Startovky!E21 -> ÚO České Budějovice | F27: 20.17 | G27: 20.19 | H27: =IF(AND(F27=0,G27=0),"diskval.",IF(AND(F27>0,G27>0),MIN(F27:G27),IF(F27>0,F27,G27))) -> 20.17 | I27: =IF(F27+G27=0,1000,H27+((IF(F27>0,F27,100)+IF(G27>0,G27,100))/100000)) -> 20.170404 | K27: 36 | M27: 17 | N27: Trantina Karel | O27: ÚO Písek | P27: 22.59 | Q27: 21.44 | R27: 21.44
A28: =RANK(I28,$I$3:$I$72,1) -> 26 | C28: 22 | D28: =IF(přihlášky!$G$20="X",přihlášky!$E$20,přihlášky!$H$20) -> Klein Adolf | E28: =Startovky!E25 -> ÚO Český Krumlov | F28: 20.71 | G28: 20.35 | H28: =IF(AND(F28=0,G28=0),"diskval.",IF(AND(F28>0,G28>0),MIN(F28:G28),IF(F28>0,F28,G28))) -> 20.35 | I28: =IF(F28+G28=0,1000,H28+((IF(F28>0,F28,100)+IF(G28>0,G28,100))/100000)) -> 20.350411 | J28: BODY | K28: =RANK(T12,T10:T16,1) -> 4 | R28: =SUM(R22:R27) -> 120.21 | S28: Čas celkem
A29: =RANK(I29,$I$3:$I$72,1) -> 27 | C29: 15 | D29: =IF(přihlášky!$G$19="X",přihlášky!$E$19,přihlášky!$H$19) -> Fučík Jan | E29: =Startovky!E18 -> ÚO Český Krumlov | F29: 20.6 | G29: 21.02 | H29: =IF(AND(F29=0,G29=0),"diskval.",IF(AND(F29>0,G29>0),MIN(F29:G29),IF(F29>0,F29,G29))) -> 20.6 | I29: =IF(F29+G29=0,1000,H29+((IF(F29>0,F29,100)+IF(G29>0,G29,100))/100000)) -> 20.600416
A30: =RANK(I30,$I$3:$I$72,1) -> 28 | C30: 19 | D30: =IF(přihlášky!$G$71="X",přihlášky!$E$71,přihlášky!$H$71) -> Muchl Vladimír | E30: =Startovky!E22 -> ÚO Strakonice | F30: 20.64 | H30: =IF(AND(F30=0,G30=0),"diskval.",IF(AND(F30>0,G30>0),MIN(F30:G30),IF(F30>0,F30,G30))) -> 20.64 | I30: =IF(F30+G30=0,1000,H30+((IF(F30>0,F30,100)+IF(G30>0,G30,100))/100000)) -> 20.641206 | M30: =přihlášky!$C$10 -> ÚO České Budějovice
A31: =RANK(I31,$I$3:$I$72,1) -> 29 | C31: 62 | D31: =IF(přihlášky!$G$90="X",přihlášky!$E$90,přihlášky!$H$90) -> Holý Patrik (věž jednotlivci) | E31: =Startovky!E68 -> ÚO Jindřichův Hradec | F31: 20.89 | G31: 21.25 | H31: =IF(AND(F31=0,G31=0),"diskval.",IF(AND(F31>0,G31>0),MIN(F31:G31),IF(F31>0,F31,G31))) -> 20.89 | I31: =IF(F31+G31=0,1000,H31+((IF(F31>0,F31,100)+IF(G31>0,G31,100))/100000)) -> 20.890421 | J31: 4 | K31: 3 | M31: 53 | N31: Völfel David | O31: ÚO České Budějovice | P31: 18.02 | Q31: 17.61 | R31: 17.61
A32: =RANK(I32,$I$3:$I$72,1) -> 30 | C32: 44 | D32: =IF(přihlášky!$G$36="X",přihlášky!$E$36,přihlášky!$H$36) -> Mareš Jiří | E32: =Startovky!E50 -> ÚO Tábor | F32: 20.96 | H32: =IF(AND(F32=0,G32=0),"diskval.",IF(AND(F32>0,G32>0),MIN(F32:G32),IF(F32>0,F32,G32))) -> 20.96 | I32: =IF(F32+G32=0,1000,H32+((IF(F32>0,F32,100)+IF(G32>0,G32,100))/100000)) -> 20.96121 | K32: 4 | M32: 25 | N32: Hájek David | O32: ÚO České Budějovice | P32: 19.68 | Q32: 17.68 | R32: 17.68
A33: =RANK(I33,$I$3:$I$72,1) -> 31 | C33: 12 | D33: =IF(přihlášky!$G$70="X",přihlášky!$E$70,přihlášky!$H$70) -> Stibor Jiří | E33: =Startovky!E15 -> ÚO Strakonice | F33: 21.13 | H33: =IF(AND(F33=0,G33=0),"diskval.",IF(AND(F33>0,G33>0),MIN(F33:G33),IF(F33>0,F33,G33))) -> 21.13 | I33: =IF(F33+G33=0,1000,H33+((IF(F33>0,F33,100)+IF(G33>0,G33,100))/100000)) -> 21.131211 | K33: 5 | M33: 60 | N33: Nýdl Jakub | O33: ÚO České Budějovice | P33: 18.47 | Q33: 18.12 | R33: 18.12
A34: =RANK(I34,$I$3:$I$72,1) -> 32 | C34: 36 | D34: =IF(přihlášky!$G$22="X",přihlášky!$E$22,přihlášky!$H$22) -> Ottenschläger Václav | E34: =Startovky!E39 -> ÚO Český Krumlov | F34: 21.17 | G34: 21.74 | H34: =IF(AND(F34=0,G34=0),"diskval.",IF(AND(F34>0,G34>0),MIN(F34:G34),IF(F34>0,F34,G34))) -> 21.17 | I34: =IF(F34+G34=0,1000,H34+((IF(F34>0,F34,100)+IF(G34>0,G34,100))/100000)) -> 21.170429 | K34: 14 | M34: 11 | N34: Ježek Jan | O34: ÚO České Budějovice | P34: 20 | Q34: 19.31 | R34: 19.31
A35: =RANK(I35,$I$3:$I$72,1) -> 33 | C35: 43 | D35: =IF(přihlášky!$G$23="X",přihlášky!$E$23,přihlášky!$H$23) -> Klíma Miloslav | E35: =Startovky!E49 -> ÚO Český Krumlov | F35: 21.19 | H35: =IF(AND(F35=0,G35=0),"diskval.",IF(AND(F35>0,G35>0),MIN(F35:G35),IF(F35>0,F35,G35))) -> 21.19 | I35: =IF(F35+G35=0,1000,H35+((IF(F35>0,F35,100)+IF(G35>0,G35,100))/100000)) -> 21.191212 | K35: 16 | M35: 32 | N35: Měřička Michal | O35: ÚO České Budějovice | P35: 19.91 | Q35: 19.37 | R35: 19.37
A36: =RANK(I36,$I$3:$I$72,1) -> 34 | C36: 8 | D36: =IF(přihlášky!$G$18="X",přihlášky!$E$18,přihlášky!H17) -> Dvořák Petr | E36: =Startovky!E11 -> ÚO Český Krumlov | F36: 21.77 | G36: 21.28 | H36: =IF(AND(F36=0,G36=0),"diskval.",IF(AND(F36>0,G36>0),MIN(F36:G36),IF(F36>0,F36,G36))) -> 21.28 | I36: =IF(F36+G36=0,1000,H36+((IF(F36>0,F36,100)+IF(G36>0,G36,100))/100000)) -> 21.280431 | K36: 18 | M36: 4 | N36: Hasík Juraj | O36: ÚO České Budějovice | P36: 19.53 | R36: 19.53
A37: =RANK(I37,$I$3:$I$72,1) -> 35 | C37: 59 | D37: =IF(přihlášky!$G$51="X",přihlášky!$E$51,přihlášky!$H$51) -> Koller Petr | E37: =Startovky!E65 -> ÚO Písek | F37: 21.71 | G37: 21.41 | H37: =IF(AND(F37=0,G37=0),"diskval.",IF(AND(F37>0,G37>0),MIN(F37:G37),IF(F37>0,F37,G37))) -> 21.41 | I37: =IF(F37+G37=0,1000,H37+((IF(F37>0,F37,100)+IF(G37>0,G37,100))/100000)) -> 21.410431 | J37: BODY | K37: =RANK(T13,T10:T16,1) -> 1 | R37: =SUM(R31:R36) -> 111.62 | S37: Čas celkem
A38: =RANK(I38,$I$3:$I$72,1) -> 36 | C38: 17 | D38: =IF(přihlášky!$G$45="X",přihlášky!$E$45,přihlášky!$H$45) -> Trantina Karel | E38: =Startovky!E20 -> ÚO Písek | F38: 22.59 | G38: 21.44 | H38: =IF(AND(F38=0,G38=0),"diskval.",IF(AND(F38>0,G38>0),MIN(F38:G38),IF(F38>0,F38,G38))) -> 21.44 | I38: =IF(F38+G38=0,1000,H38+((IF(F38>0,F38,100)+IF(G38>0,G38,100))/100000)) -> 21.44044
A39: =RANK(I39,$I$3:$I$72,1) -> 37 | C39: 40 | D39: =IF(přihlášky!$G$74="X",přihlášky!$E$74,přihlášky!$H$74) -> Vaňač Aleš | E39: =Startovky!E46 -> ÚO Strakonice | F39: 21.48 | H39: =IF(AND(F39=0,G39=0),"diskval.",IF(AND(F39>0,G39>0),MIN(F39:G39),IF(F39>0,F39,G39))) -> 21.48 | I39: =IF(F39+G39=0,1000,H39+((IF(F39>0,F39,100)+IF(G39>0,G39,100))/100000)) -> 21.481215 | M39: =přihlášky!$C$11 -> ÚO Strakonice
A40: =RANK(I40,$I$3:$I$72,1) -> 38 | C40: 45 | D40: =IF(přihlášky!$G$49="X",přihlášky!$E$49,přihlášky!$H$49) -> Bláha Petr | E40: =Startovky!E51 -> ÚO Písek | G40: 21.5 | H40: =IF(AND(F40=0,G40=0),"diskval.",IF(AND(F40>0,G40>0),MIN(F40:G40),IF(F40>0,F40,G40))) -> 21.5 | I40: =IF(F40+G40=0,1000,H40+((IF(F40>0,F40,100)+IF(G40>0,G40,100))/100000)) -> 21.501215 | J40: 5 | K40: 1 | M40: 33 | N40: Pěnča Ivan | O40: ÚO Strakonice | P40: 18.23 | Q40: 17.48 | R40: 17.48
...

Sheet dvojboj
C1: Výsledková listina dvojboj
A2: Pořadí | C2: Start. č. | D2: Jméno | E2: stanice | F2: započ. čas věž | G2: započ. čas 100m | H2: čas dvojboj | I2: horší pok. věž | J2: horší pok. 100m | K2: elimin. stejného pořadí
A3: =RANK(K3,$K$3:$K$72,1) -> 1 | C3: 33 | D3: =IF(přihlášky!$F$73="X",přihlášky!$E$73,přihlášky!$H$73) -> Pěnča Ivan | E3: =Startovky!E36 -> ÚO Strakonice | F3: 15.87 | G3: 17.48 | H3: =IF(OR(F3="diskval.",G3="diskval."),"diskval.",F3+G3) -> 33.35 | I3: =IF(OR(věž!F63=0,věž!G63=0),100,MAX(věž!F63:G63)) -> 100 | J3: =IF(OR('100m'!F63=0,'100m'!G63=0),100,MAX('100m'!F63:G63)) -> 100 | K3: =IF(H3="diskval.",1000,H3+((IF(I3>0,I3,100)+IF(J3>0,J3,100))/100000)) -> 33.352 | M3: Ve dvojboji se stane vítězem soutěžící, který dosáhne nejnižšího součtu časů úspěš-nějších pokusů v disciplínách běh na 100 m s překážkami a výstup do 4. podlaží cvičné věže. V případě, že dva nebo více soutěžících dosáhnou součtu stejných lepších časů, rozhodne o jejich umístění součet časů z horších pokusů v obou disciplínách. Bude-li i tento výsledek stejný, budou soutěžící hodnoceni na stejném pořadí.
A4: =RANK(K4,$K$3:$K$72,1) -> 2 | B4: 25 | C4: 16 | D4: =IF(přihlášky!$F$32="X",přihlášky!$E$32,přihlášky!$H$32) -> Knotek Radim | E4: =Startovky!E19 -> ÚO Tábor | F4: 17.02 | G4: 17.48 | H4: =IF(OR(F4="diskval.",G4="diskval."),"diskval.",F4+G4) -> 34.5 | I4: =IF(OR(věž!F38=0,věž!G38=0),100,MAX(věž!F38:G38)) -> 23.48 | J4: =IF(OR('100m'!F38=0,'100m'!G38=0),100,MAX('100m'!F38:G38)) -> 22.59 | K4: =IF(H4="diskval.",1000,H4+((IF(I4>0,I4,100)+IF(J4>0,J4,100))/100000)) -> 34.500461
A5: =RANK(K5,$K$3:$K$72,1) -> 3 | C5: 31 | D5: =IF(přihlášky!$F$47="X",přihlášky!$E$47,přihlášky!$H$47) -> Píbal Jiří | E5: =Startovky!E34 -> ÚO Písek | F5: 15.96 | G5: 19.1 | H5: =IF(OR(F5="diskval.",G5="diskval."),"diskval.",F5+G5) -> 35.06 | I5: =IF(OR(věž!F11=0,věž!G11=0),100,MAX(věž!F11:G11)) -> 17.97 | J5: =IF(OR('100m'!F11=0,'100m'!G11=0),100,MAX('100m'!F11:G11)) -> 18.92 | K5: =IF(H5="diskval.",1000,H5+((IF(I5>0,I5,100)+IF(J5>0,J5,100))/100000)) -> 35.060369
A6: =RANK(K6,$K$3:$K$72,1) -> 4 | C6: 27 | D6: =IF(přihlášky!$F$85="X",přihlášky!$E$85,přihlášky!$H$85) -> Bašta Vojtěch | E6: =Startovky!E30 -> ÚO Jindřichův Hradec | F6: 16.81 | G6: 18.48 | H6: =IF(OR(F6="diskval.",G6="diskval."),"diskval.",F6+G6) -> 35.29 | I6: =IF(OR(věž!F66=0,věž!G66=0),100,MAX(věž!F66:G66)) -> 100 | J6: =IF(OR('100m'!F66=0,'100m'!G66=0),100,MAX('100m'!F66:G66)) -> 100 | K6: =IF(H6="diskval.",1000,H6+((IF(I6>0,I6,100)+IF(J6>0,J6,100))/100000)) -> 35.292
A7: =RANK(K7,$K$3:$K$72,1) -> 5 | C7: 11 | D7: =IF(přihlášky!$F$57="X",přihlášky!$E$57,přihlášky!$H$57) -> Ježek Jan | E7: =Startovky!E14 -> ÚO České Budějovice | F7: 16.1 | G7: 19.31 | H7: =IF(OR(F7="diskval.",G7="diskval."),"diskval.",F7+G7) -> 35.41 | I7: =IF(OR(věž!F36=0,věž!G36=0),100,MAX(věž!F36:G36)) -> 33.29 | J7: =IF(OR('100m'!F36=0,'100m'!G36=0),100,MAX('100m'!F36:G36)) -> 21.77 | K7: =IF(H7="diskval.",1000,H7+((IF(I7>0,I7,100)+IF(J7>0,J7,100))/100000)) -> 35.410551
A8: =RANK(K8,$K$3:$K$72,1) -> 6 | C8: 24 | D8: =IF(přihlášky!$F$46="X",přihlášky!$E$46,přihlášky!$H$46) -> Jirout Patrik | E8: =Startovky!E27 -> ÚO Písek | F8: 16.89 | G8: 18.7 | H8: =IF(OR(F8="diskval.",G8="diskval."),"diskval.",F8+G8) -> 35.59 | I8: =IF(OR(věž!F58=0,věž!G58=0),100,MAX(věž!F58:G58)) -> 36.53 | J8: =IF(OR('100m'!F58=0,'100m'!G58=0),100,MAX('100m'!F58:G58)) -> 100 | K8: =IF(H8="diskval.",1000,H8+((IF(I8>0,I8,100)+IF(J8>0,J8,100))/100000)) -> 35.591365
A9: =RANK(K9,$K$3:$K$72,1) -> 7 | C9: 20 | D9: =IF(přihlášky!$F$84="X",přihlášky!$E$84,přihlášky!$H$84) -> Janů Pavel | E9: =Startovky!E23 -> ÚO Jindřichův Hradec | F9: 17.55 | G9: 18.86 | H9: =IF(OR(F9="diskval.",G9="diskval."),"diskval.",F9+G9) -> 36.41 | I9: =IF(OR(věž!F25=0,věž!G25=0),100,MAX(věž!F25:G25)) -> 21.05 | J9: =IF(OR('100m'!F25=0,'100m'!G25=0),100,MAX('100m'!F25:G25)) -> 100 | K9: =IF(H9="diskval.",1000,H9+((IF(I9>0,I9,100)+IF(J9>0,J9,100))/100000)) -> 36.41121
A10: =RANK(K10,$K$3:$K$72,1) -> 8 | C10: 6 | D10: =IF(přihlášky!$F$82="X",přihlášky!$E$82,přihlášky!$H$82) -> Šmíd Stanislav | E10: =Startovky!E9 -> ÚO Jindřichův Hradec | F10: 16.61 | G10: 19.96 | H10: =IF(OR(F10="diskval.",G10="diskval."),"diskval.",F10+G10) -> 36.57 | I10: =IF(OR(věž!F49=0,věž!G49=0),100,MAX(věž!F49:G49)) -> 29.82 | J10: =IF(OR('100m'!F49=0,'100m'!G49=0),100,MAX('100m'!F49:G49)) -> 25.11 | K10: =IF(H10="diskval.",1000,H10+((IF(I10>0,I10,100)+IF(J10>0,J10,100))/100000)) -> 36.570549
A11: =RANK(K11,$K$3:$K$72,1) -> 9 | C11: 25 | D11: =IF(přihlášky!$F$59="X",přihlášky!$E$59,přihlášky!$H$59) -> Hájek David | E11: =Startovky!E28 -> ÚO České Budějovice | F11: 19.29 | G11: 17.68 | H11: =IF(OR(F11="diskval.",G11="diskval."),"diskval.",F11+G11) -> 36.97 | I11: =IF(OR(věž!F28=0,věž!G28=0),100,MAX(věž!F28:G28)) -> 21 | J11: =IF(OR('100m'!F28=0,'100m'!G28=0),100,MAX('100m'!F28:G28)) -> 20.71 | K11: =IF(H11="diskval.",1000,H11+((IF(I11>0,I11,100)+IF(J11>0,J11,100))/100000)) -> 36.970417
A12: =RANK(K12,$K$3:$K$72,1) -> 10 | C12: 32 | D12: =IF(přihlášky!$F$60="X",přihlášky!$E$60,přihlášky!$H$60) -> Měřička Michal | E12: =Startovky!E35 -> ÚO České Budějovice | F12: 18.36 | G12: 19.37 | H12: =IF(OR(F12="diskval.",G12="diskval."),"diskval.",F12+G12) -> 37.73 | I12: =IF(OR(věž!F54=0,věž!G54=0),100,MAX(věž!F54:G54)) -> 30.63 | J12: =IF(OR('100m'!F54=0,'100m'!G54=0),100,MAX('100m'!F54:G54)) -> 31.28 | K12: =IF(H12="diskval.",1000,H12+((IF(I12>0,I12,100)+IF(J12>0,J12,100))/100000)) -> 37.730619
A13: =RANK(K13,$K$3:$K$72,1) -> 11 | C13: 34 | D13: =IF(přihlášky!$F$86="X",přihlášky!$E$86,přihlášky!$H$86) -> Kučera Jan | E13: =Startovky!E37 -> ÚO Jindřichův Hradec | F13: 18.89 | G13: 18.86 | H13: =IF(OR(F13="diskval.",G13="diskval."),"diskval.",F13+G13) -> 37.75 | I13: =IF(OR(věž!F23=0,věž!G23=0),100,MAX(věž!F23:G23)) -> 100 | J13: =IF(OR('100m'!F23=0,'100m'!G23=0),100,MAX('100m'!F23:G23)) -> 20.21 | K13: =IF(H13="diskval.",1000,H13+((IF(I13>0,I13,100)+IF(J13>0,J13,100))/100000)) -> 37.751202
A14: =RANK(K14,$K$3:$K$72,1) -> 12 | C14: 39 | D14: =IF(přihlášky!$F$61="X",přihlášky!$E$61,přihlášky!$H$61) -> Čada Milan | E14: =Startovky!E45 -> ÚO České Budějovice | F14: 18.07 | G14: 19.93 | H14: =IF(OR(F14="diskval.",G14="diskval."),"diskval.",F14+G14) -> 38 | I14: =IF(OR(věž!F33=0,věž!G33=0),100,MAX(věž!F33:G33)) -> 25.53 | J14: =IF(OR('100m'!F33=0,'100m'!G33=0),100,MAX('100m'!F33:G33)) -> 100 | K14: =IF(H14="diskval.",1000,H14+((IF(I14>0,I14,100)+IF(J14>0,J14,100))/100000)) -> 38.001255
A15: =RANK(K15,$K$3:$K$72,1) -> 13 | C15: 21 | D15: =IF(přihlášky!$F$97="X",přihlášky!$E$97,přihlášky!$H$97) -> Študlar Petr | E15: =Startovky!E24 -> ÚO Prachatice | F15: 19.58 | G15: 18.63 | H15: =IF(OR(F15="diskval.",G15="diskval."),"diskval.",F15+G15) -> 38.21 | I15: =IF(OR(věž!F13=0,věž!G13=0),100,MAX(věž!F13:G13)) -> 20.39 | J15: =IF(OR('100m'!F13=0,'100m'!G13=0),100,MAX('100m'!F13:G13)) -> 100 | K15: =IF(H15="diskval.",1000,H15+((IF(I15>0,I15,100)+IF(J15>0,J15,100))/100000)) -> 38.211204
A16: =RANK(K16,$K$3:$K$72,1) -> 14 | C16: 4 | D16: =IF(přihlášky!$F$56="X",přihlášky!$E$56,přihlášky!$H$56) -> Hasík Juraj | E16: =Startovky!E7 -> ÚO České Budějovice | F16: 18.69 | G16: 19.53 | H16: =IF(OR(F16="diskval.",G16="diskval."),"diskval.",F16+G16) -> 38.22 | I16: =IF(OR(věž!F18=0,věž!G18=0),100,MAX(věž!F18:G18)) -> 19.28 | J16: =IF(OR('100m'!F18=0,'100m'!G18=0),100,MAX('100m'!F18:G18)) -> 19.91 | K16: =IF(H16="diskval.",1000,H16+((IF(I16>0,I16,100)+IF(J16>0,J16,100))/100000)) -> 38.220392
A17: =RANK(K17,$K$3:$K$72,1) -> 15 | C17: 41 | D17: =IF(přihlášky!$F$87="X",přihlášky!$E$87,přihlášky!$H$87) -> Huml Ondřej | E17: =Startovky!E47 -> ÚO Jindřichův Hradec | F17: 19.5 | G17: 18.97 | H17: =IF(OR(F17="diskval.",G17="diskval."),"diskval.",F17+G17) -> 38.47 | I17: =IF(OR(věž!F44=0,věž!G44=0),100,MAX(věž!F44:G44)) -> 100 | J17: =IF(OR('100m'!F44=0,'100m'!G44=0),100,MAX('100m'!F44:G44)) -> 100 | K17: =IF(H17="diskval.",1000,H17+((IF(I17>0,I17,100)+IF(J17>0,J17,100))/100000)) -> 38.472
A18: =RANK(K18,$K$3:$K$72,1) -> 16 | C18: 18 | D18: =IF(přihlášky!$F$58="X",přihlášky!$E$58,přihlášky!$H$58) -> Krygar Josef | E18: =Startovky!E21 -> ÚO České Budějovice | F18: 18.55 | G18: 20.17 | H18: =IF(OR(F18="diskval.",G18="diskval."),"diskval.",F18+G18) -> 38.72 | I18: =IF(OR(věž!F27=0,věž!G27=0),100,MAX(věž!F27:G27)) -> 100 | J18: =IF(OR('100m'!F27=0,'100m'!G27=0),100,MAX('100m'!F27:G27)) -> 20.19 | K18: =IF(H18="diskval.",1000,H18+((IF(I18>0,I18,100)+IF(J18>0,J18,100))/100000)) -> 38.721202
A19: =RANK(K19,$K$3:$K$72,1) -> 17 | C19: 38 | D19: =IF(přihlášky!$F$48="X",přihlášky!$E$48,přihlášky!$H$48) -> Motejzík Martin | E19: =Startovky!E44 -> ÚO Písek | F19: 19.45 | G19: 19.41 | H19: =IF(OR(F19="diskval.",G19="diskval."),"diskval.",F19+G19) -> 38.86 | I19: =IF(OR(věž!F16=0,věž!G16=0),100,MAX(věž!F16:G16)) -> 19.68 | J19: =IF(OR('100m'!F16=0,'100m'!G16=0),100,MAX('100m'!F16:G16)) -> 20 | K19: =IF(H19="diskval.",1000,H19+((IF(I19>0,I19,100)+IF(J19>0,J19,100))/100000)) -> 38.860397
A20: =RANK(K20,$K$3:$K$72,1) -> 18 | C20: 48 | D20: =IF(přihlášky!$F$88="X",přihlášky!$E$88,přihlášky!$H$88) -> Šenkýř Marek | E20: =Startovky!E54 -> ÚO Jindřichův Hradec | F20: 20.05 | G20: 20.04 | H20: =IF(OR(F20="diskval.",G20="diskval."),"diskval.",F20+G20) -> 40.09 | I20: =IF(OR(věž!F55=0,věž!G55=0),100,MAX(věž!F55:G55)) -> 31.1 | J20: =IF(OR('100m'!F55=0,'100m'!G55=0),100,MAX('100m'!F55:G55)) -> 100 | K20: =IF(H20="diskval.",1000,H20+((IF(I20>0,I20,100)+IF(J20>0,J20,100))/100000)) -> 40.091311
A21: =RANK(K21,$K$3:$K$72,1) -> 19 | C21: 40 | D21: =IF(přihlášky!$F$74="X",přihlášky!$E$74,přihlášky!$H$74) -> Vaňač Aleš | E21: =Startovky!E46 -> ÚO Strakonice | F21: 19.12 | G21: 21.48 | H21: =IF(OR(F21="diskval.",G21="diskval."),"diskval.",F21+G21) -> 40.6 | I21: =IF(OR(věž!F10=0,věž!G10=0),100,MAX(věž!F10:G10)) -> 19.13 | J21: =IF(OR('100m'!F10=0,'100m'!G10=0),100,MAX('100m'!F10:G10)) -> 18.98 | K21: =IF(H21="diskval.",1000,H21+((IF(I21>0,I21,100)+IF(J21>0,J21,100))/100000)) -> 40.600381
A22: =RANK(K22,$K$3:$K$72,1) -> 20 | C22: 22 | D22: =IF(přihlášky!$F$20="X",přihlášky!$E$20,přihlášky!$H$20) -> Klein Adolf | E22: =Startovky!E25 -> ÚO Český Krumlov | F22: 20.62 | G22: 20.35 | H22: =IF(OR(F22="diskval.",G22="diskval."),"diskval.",F22+G22) -> 40.97 | I22: =IF(OR(věž!F45=0,věž!G45=0),100,MAX(věž!F45:G45)) -> 25.67 | J22: =IF(OR('100m'!F45=0,'100m'!G45=0),100,MAX('100m'!F45:G45)) -> 100 | K22: =IF(H22="diskval.",1000,H22+((IF(I22>0,I22,100)+IF(J22>0,J22,100))/100000)) -> 40.971257
A23: =RANK(K23,$K$3:$K$72,1) -> 21 | C23: 19 | D23: =IF(přihlášky!$F$71="X",přihlášky!$E$71,přihlášky!$H$71) -> Muchl Vladimír | E23: =Startovky!E22 -> ÚO Strakonice | F23: 20.45 | G23: 20.64 | H23: =IF(OR(F23="diskval.",G23="diskval."),"diskval.",F23+G23) -> 41.09 | I23: =IF(OR(věž!F20=0,věž!G20=0),100,MAX(věž!F20:G20)) -> 20.7 | J23: =IF(OR('100m'!F20=0,'100m'!G20=0),100,MAX('100m'!F20:G20)) -> 100 | K23: =IF(H23="diskval.",1000,H23+((IF(I23>0,I23,100)+IF(J23>0,J23,100))/100000)) -> 41.091207
A24: =RANK(K24,$K$3:$K$72,1) -> 22 | C24: 53 | D24: =IF(přihlášky!$F$63="X",přihlášky!$E$63,přihlášky!$H$63) -> Völfel David | E24: =Startovky!E59 -> ÚO České Budějovice | F24: 23.56 | G24: 17.61 | H24: =IF(OR(F24="diskval.",G24="diskval."),"diskval.",F24+G24) -> 41.17 | I24: =IF(OR(věž!F47=0,věž!G47=0),100,MAX(věž!F47:G47)) -> 27.53 | J24: =IF(OR('100m'!F47=0,'100m'!G47=0),100,MAX('100m'!F47:G47)) -> 23.36 | K24: =IF(H24="diskval.",1000,H24+((IF(I24>0,I24,100)+IF(J24>0,J24,100))/100000)) -> 41.170509
A25: =RANK(K25,$K$3:$K$72,1) -> 23 | C25: 17 | D25: =IF(přihlášky!$F$45="X",přihlášky!$E$45,přihlášky!$H$45) -> Trantina Karel | E25: =Startovky!E20 -> ÚO Písek | F25: 19.86 | G25: 21.44 | H25: =IF(OR(F25="diskval.",G25="diskval."),"diskval.",F25+G25) -> 41.3 | I25: =IF(OR(věž!F17=0,věž!G17=0),100,MAX(věž!F17:G17)) -> 19.9 | J25: =IF(OR('100m'!F17=0,'100m'!G17=0),100,MAX('100m'!F17:G17)) -> 20.55 | K25: =IF(H25="diskval.",1000,H25+((IF(I25>0,I25,100)+IF(J25>0,J25,100))/100000)) -> 41.300404
A26: =RANK(K26,$K$3:$K$72,1) -> 24 | C26: 10 | D26: =IF(přihlášky!$F$44="X",přihlášky!$E$44,přihlášky!$H$44) -> Horský Marek | E26: =Startovky!E13 -> ÚO Písek | F26: 19.47 | G26: 22.06 | H26: =IF(OR(F26="diskval.",G26="diskval."),"diskval.",F26+G26) -> 41.53 | I26: =IF(OR(věž!F32=0,věž!G32=0),100,MAX(věž!F32:G32)) -> 100 | J26: =IF(OR('100m'!F32=0,'100m'!G32=0),100,MAX('100m'!F32:G32)) -> 100 | K26: =IF(H26="diskval.",1000,H26+((IF(I26>0,I26,100)+IF(J26>0,J26,100))/100000)) -> 41.532
A27: =RANK(K27,$K$3:$K$72,1) -> 25 | C27: 12 | D27: =IF(přihlášky!$F$70="X",přihlášky!$E$70,přihlášky!$H$70) -> Stibor Jiří | E27: =Startovky!E15 -> ÚO Strakonice | F27: 20.56 | G27: 21.13 | H27: =IF(OR(F27="diskval.",G27="diskval."),"diskval.",F27+G27) -> 41.69 | I27: =IF(OR(věž!F7=0,věž!G7=0),100,MAX(věž!F7:G7)) -> 16.97 | J27: =IF(OR('100m'!F7=0,'100m'!G7=0),100,MAX('100m'!F7:G7)) -> 18.47 | K27: =IF(H27="diskval.",1000,H27+((IF(I27>0,I27,100)+IF(J27>0,J27,100))/100000)) -> 41.690354
A28: =RANK(K28,$K$3:$K$72,1) -> 26 | C28: 1 | D28: =IF(přihlášky!$F$17="X",přihlášky!$E$17,přihlášky!H17) -> Čížek David | E28: =Startovky!E4 -> ÚO Český Krumlov | F28: 22.46 | G28: 19.32 | H28: =IF(OR(F28="diskval.",G28="diskval."),"diskval.",F28+G28) -> 41.78 | I28: =IF(OR(věž!F24=0,věž!G24=0),100,MAX(věž!F24:G24)) -> 22.83 | J28: =IF(OR('100m'!F24=0,'100m'!G24=0),100,MAX('100m'!F24:G24)) -> 20.2 | K28: =IF(H28="diskval.",1000,H28+((IF(I28>0,I28,100)+IF(J28>0,J28,100))/100000)) -> 41.78043
A29: =RANK(K29,$K$3:$K$72,1) -> 27 | C29: 50 | D29: =IF(přihlášky!$F$24="X",přihlášky!$E$24,přihlášky!$H$24) -> Bartuška Jiří | E29: =Startovky!E56 -> ÚO Český Krumlov | F29: 20.09 | G29: 21.81 | H29: =IF(OR(F29="diskval.",G29="diskval."),"diskval.",F29+G29) -> 41.9 | I29: =IF(OR(věž!F42=0,věž!G42=0),100,MAX(věž!F42:G42)) -> 25.53 | J29: =IF(OR('100m'!F42=0,'100m'!G42=0),100,MAX('100m'!F42:G42)) -> 21.98 | K29: =IF(H29="diskval.",1000,H29+((IF(I29>0,I29,100)+IF(J29>0,J29,100))/100000)) -> 41.900475
A30: =RANK(K30,$K$3:$K$72,1) -> 28 | C30: 8 | D30: =IF(přihlášky!$F$18="X",přihlášky!$E$18,přihlášky!H17) -> Dvořák Petr | E30: =Startovky!E11 -> ÚO Český Krumlov | F30: 20.96 | G30: 21.28 | H30: =IF(OR(F30="diskval.",G30="diskval."),"diskval.",F30+G30) -> 42.24 | I30: =IF(OR(věž!F6=0,věž!G6=0),100,MAX(věž!F6:G6)) -> 17.04 | J30: =IF(OR('100m'!F6=0,'100m'!G6=0),100,MAX('100m'!F6:G6)) -> 19.68 | K30: =IF(H30="diskval.",1000,H30+((IF(I30>0,I30,100)+IF(J30>0,J30,100))/100000)) -> 42.240367
A31: =RANK(K31,$K$3:$K$72,1) -> 29 | C31: 9 | D31: =IF(přihlášky!$F$31="X",přihlášky!$E$31,přihlášky!$H$31) -> Novák Dominik | E31: =Startovky!E12 -> ÚO Tábor | F31: 23.44 | G31: 18.89 | H31: =IF(OR(F31="diskval.",G31="diskval."),"diskval.",F31+G31) -> 42.33 | I31: =IF(OR(věž!F51=0,věž!G51=0),100,MAX(věž!F51:G51)) -> 29.2 | J31: =IF(OR('100m'!F51=0,'100m'!G51=0),100,MAX('100m'!F51:G51)) -> 100 | K31: =IF(H31="diskval.",1000,H31+((IF(I31>0,I31,100)+IF(J31>0,J31,100))/100000)) -> 42.331292
A32: =RANK(K32,$K$3:$K$72,1) -> 30 | C32: 26 | D32: =IF(přihlášky!$F$72="X",přihlášky!$E$72,přihlášky!$H$72) -> Božka Martin | E32: =Startovky!E29 -> ÚO Strakonice | F32: 20.67 | G32: 21.83 | H32: =IF(OR(F32="diskval.",G32="diskval."),"diskval.",F32+G32) -> 42.5 | I32: =IF(OR(věž!F52=0,věž!G52=0),100,MAX(věž!F52:G52)) -> 31.95 | J32: =IF(OR('100m'!F52=0,'100m'!G52=0),100,MAX('100m'!F52:G52)) -> 23.8 | K32: =IF(H32="diskval.",1000,H32+((IF(I32>0,I32,100)+IF(J32>0,J32,100))/100000)) -> 42.500557
A33: =RANK(K33,$K$3:$K$72,1) -> 31 | C33: 23 | D33: =IF(přihlášky!$F$33="X",přihlášky!$E$33,přihlášky!$H$33) -> Kopecký Jan | E33: =Startovky!E26 -> ÚO Tábor | F33: 23.52 | G33: 19.7 | H33: =IF(OR(F33="diskval.",G33="diskval."),"diskval.",F33+G33) -> 43.22 | I33: =IF(OR(věž!F9=0,věž!G9=0),100,MAX(věž!F9:G9)) -> 20.62 | J33: =IF(OR('100m'!F9=0,'100m'!G9=0),100,MAX('100m'!F9:G9)) -> 19.32 | K33: =IF(H33="diskval.",1000,H33+((IF(I33>0,I33,100)+IF(J33>0,J33,100))/100000)) -> 43.220399
A34: =RANK(K34,$K$3:$K$72,1) -> 32 | C34: 43 | D34: =IF(přihlášky!$F$23="X",přihlášky!$E$23,přihlášky!$H$23) -> Klíma Miloslav | E34: =Startovky!E49 -> ÚO Český Krumlov | F34: 23.02 | G34: 21.19 | H34: =IF(OR(F34="diskval.",G34="diskval."),"diskval.",F34+G34) -> 44.21 | I34: =IF(OR(věž!F19=0,věž!G19=0),100,MAX(věž!F19:G19)) -> 21.22 | J34: =IF(OR('100m'!F19=0,'100m'!G19=0),100,MAX('100m'!F19:G19)) -> 20.15 | K34: =IF(H34="diskval.",1000,H34+((IF(I34>0,I34,100)+IF(J34>0,J34,100))/100000)) -> 44.210414
A35: =RANK(K35,$K$3:$K$72,1) -> 33 | C35: 2 | D35: =IF(přihlášky!$F$30="X",přihlášky!$E$30,přihlášky!$H$30) -> Novák Tomáš | E35: =Startovky!E5 -> ÚO Tábor | F35: 24.12 | G35: 20.13 | H35: =IF(OR(F35="diskval.",G35="diskval."),"diskval.",F35+G35) -> 44.25 | I35: =IF(OR(věž!F14=0,věž!G14=0),100,MAX(věž!F14:G14)) -> 19.31 | J35: =IF(OR('100m'!F14=0,'100m'!G14=0),100,MAX('100m'!F14:G14)) -> 19.95 | K35: =IF(H35="diskval.",1000,H35+((IF(I35>0,I35,100)+IF(J35>0,J35,100))/100000)) -> 44.250393
A36: =RANK(K36,$K$3:$K$72,1) -> 34 | C36: 5 | D36: =IF(přihlášky!$F$69="X",přihlášky!$E$69,přihlášky!$H$69) -> Krupka Luboš | E36: =Startovky!E8 -> ÚO Strakonice | F36: 22.31 | G36: 22.22 | H36: =IF(OR(F36="diskval.",G36="diskval."),"diskval.",F36+G36) -> 44.53 | I36: =IF(OR(věž!F15=0,věž!G15=0),100,MAX(věž!F15:G15)) -> 20.39 | J36: =IF(OR('100m'!F15=0,'100m'!G15=0),100,MAX('100m'!F15:G15)) -> 100 | K36: =IF(H36="diskval.",1000,H36+((IF(I36>0,I36,100)+IF(J36>0,J36,100))/100000)) -> 44.531204
A37: =RANK(K37,$K$3:$K$72,1) -> 35 | C37: 36 | D37: =IF(přihlášky!$F$22="X",přihlášky!$E$22,přihlášky!$H$22) -> Ottenschläger Václav | E37: =Startovky!E39 -> ÚO Český Krumlov | F37: 24.95 | G37: 21.17 | H37: =IF(OR(F37="diskval.",G37="diskval."),"diskval.",F37+G37) -> 46.12 | I37: =IF(OR(věž!F59=0,věž!G59=0),100,MAX(věž!F59:G59)) -> 42.16 | J37: =IF(OR('100m'!F59=0,'100m'!G59=0),100,MAX('100m'!F59:G59)) -> 100 | K37: =IF(H37="diskval.",1000,H37+((IF(I37>0,I37,100)+IF(J37>0,J37,100))/100000)) -> 46.121422
A38: =RANK(K38,$K$3:$K$72,1) -> 36 | C38: 7 | D38: =IF(přihlášky!$F$95="X",přihlášky!$E$95,přihlášky!$H$95) -> Cais Martin | E38: =Startovky!E10 -> ÚO Prachatice | F38: 23.26 | G38: 22.89 | H38: =IF(OR(F38="diskval.",G38="diskval."),"diskval.",F38+G38) -> 46.15 | I38: =IF(OR(věž!F39=0,věž!G39=0),100,MAX(věž!F39:G39)) -> 100 | J38: =IF(OR('100m'!F39=0,'100m'!G39=0),100,MAX('100m'!F39:G39)) -> 100 | K38: =IF(H38="diskval.",1000,H38+((IF(I38>0,I38,100)+IF(J38>0,J38,100))/100000)) -> 46.152
A39: =RANK(K39,$K$3:$K$72,1) -> 37 | C39: 47 | D39: =IF(přihlášky!$F$75="X",přihlášky!$E$75,přihlášky!$H$75) -> Štolba František (věž jednotlici) | E39: =Startovky!E53 -> ÚO Strakonice | F39: 22.91 | G39: 23.84 | H39: =IF(OR(F39="diskval.",G39="diskval."),"diskval.",F39+G39) -> 46.75 | I39: =IF(OR(věž!F50=0,věž!G50=0),100,MAX(věž!F50:G50)) -> 28.09 | J39: =IF(OR('100m'!F50=0,'100m'!G50=0),100,MAX('100m'!F50:G50)) -> 24.03 | K39: =IF(H39="diskval.",1000,H39+((IF(I39>0,I39,100)+IF(J39>0,J39,100))/100000)) -> 46.750521
A40: =RANK(K40,$K$3:$K$72,1) -> 38 | C40: 15 | D40: =IF(přihlášky!$F$19="X",přihlášky!$E$19,přihlášky!$H$19) -> Fučík Jan | E40: =Startovky!E18 -> ÚO Český Krumlov | F40: 26.72 | G40: 20.6 | H40: =IF(OR(F40="diskval.",G40="diskval."),"diskval.",F40+G40) -> 47.32 | I40: =IF(OR(věž!F40=0,věž!G40=0),100,MAX(věž!F40:G40)) -> 23.86 | J40: =IF(OR('100m'!F40=0,'100m'!G40=0),100,MAX('100m'!F40:G40)) -> 100 | K40: =IF(H40="diskval.",1000,H40+((IF(I40>0,I40,100)+IF(J40>0,J40,100))/100000)) -> 47.321239
...

Sheet štafeta
C3: Štafeta | I3: elimin. stejného pořadí
D5: Družstvo | E5: 1.pokus | F5: 2.pokus | G5: započtený | H5: body
C6: 1 | D6: =přihlášky!C7 -> ÚO Český Krumlov | E6: 69.85 | F6: 67.43 | G6: =IF(AND(E6=0,F6=0),"diskval.",IF(AND(E6>0,F6>0),MIN(E6:F6),IF(E6>0,E6,F6))) -> 67.43 | H6: =RANK(I6,$I$6:$I$12,1) -> 7 | I6: =IF(E6+F6=MIN(E6:F6),G6+0.0005,G6+0.0001) -> 67.4301
C7: 2 | D7: =přihlášky!C8 -> ÚO Tábor | E7: 69.64 | F7: 62.53 | G7: =IF(AND(E7=0,F7=0),"diskval.",IF(AND(E7>0,F7>0),MIN(E7:F7),IF(E7>0,E7,F7))) -> 62.53 | H7: =RANK(I7,$I$6:$I$12,1) -> 3 | I7: =IF(E7+F7=MIN(E7:F7),G7+0.0005,G7+0.0001) -> 62.5301
C8: 3 | D8: =přihlášky!C9 -> ÚO Písek | E8: 62.86 | G8: =IF(AND(E8=0,F8=0),"diskval.",IF(AND(E8>0,F8>0),MIN(E8:F8),IF(E8>0,E8,F8))) -> 62.86 | H8: =RANK(I8,$I$6:$I$12,1) -> 4 | I8: =IF(E8+F8=MIN(E8:F8),G8+0.0005,G8+0.0001) -> 62.8605
C9: 4 | D9: =přihlášky!C10 -> ÚO České Budějovice | E9: 64.28 | F9: 59.72 | G9: =IF(AND(E9=0,F9=0),"diskval.",IF(AND(E9>0,F9>0),MIN(E9:F9),IF(E9>0,E9,F9))) -> 59.72 | H9: =RANK(I9,$I$6:$I$12,1) -> 1 | I9: =IF(E9+F9=MIN(E9:F9),G9+0.0005,G9+0.0001) -> 59.7201
C10: 5 | D10: =přihlášky!C11 -> ÚO Strakonice | E10: 66.8 | G10: =IF(AND(E10=0,F10=0),"diskval.",IF(AND(E10>0,F10>0),MIN(E10:F10),IF(E10>0,E10,F10))) -> 66.8 | H10: =RANK(I10,$I$6:$I$12,1) -> 6 | I10: =IF(E10+F10=MIN(E10:F10),G10+0.0005,G10+0.0001) -> 66.8005
C11: 6 | D11: =přihlášky!C12 -> ÚO Jindřichův Hradec | E11: 63.55 | F11: 59.88 | G11: =IF(AND(E11=0,F11=0),"diskval.",IF(AND(E11>0,F11>0),MIN(E11:F11),IF(E11>0,E11,F11))) -> 59.88 | H11: =RANK(I11,$I$6:$I$12,1) -> 2 | I11: =IF(E11+F11=MIN(E11:F11),G11+0.0005,G11+0.0001) -> 59.8801
C12: 7 | D12: =přihlášky!C13 -> ÚO Prachatice | E12: 65.7 | F12: 73.31 | G12: =IF(AND(E12=0,F12=0),"diskval.",IF(AND(E12>0,F12>0),MIN(E12:F12),IF(E12>0,E12,F12))) -> 65.7 | H12: =RANK(I12,$I$6:$I$12,1) -> 5 | I12: =IF(E12+F12=MIN(E12:F12),G12+0.0005,G12+0.0001) -> 65.7001
C14: V disciplíně štafeta 4x100 m s překážkami rozhodne o pořadí družstva dosažený čas lépe umístěné štafety družstva. Pokud jsou dosažené časy lepších štafet stejné, pak o pořadí družstva rozhoduje součet časů obou štafet. lépe umístěné štafety družstva. Pokud jsou dosažené časy lepších štafet stejné, pak o pořadí družstva rozhoduje součet časů obou štafet.

Sheet útok
C3: POŽÁRNÍ ÚTOK | I3: elimin. stejného pořadí
D5: Družstvo | E5: 1.pokus | F5: 2.pokus | G5: započtený | H5: body
C6: 1 | D6: =přihlášky!C7 -> ÚO Český Krumlov | E6: 29.52 | F6: 24.19 | G6: =IF(AND(E6=0,F6=0),"diskval.",IF(AND(E6>0,F6>0),MIN(E6:F6),IF(E6>0,E6,F6))) -> 24.19 | H6: =RANK(I6,I6:I12,1) -> 3 | I6: =IF(E6+F6=MIN(E6:F6),G6+0.0005,G6+0.0001) -> 24.1901
C7: 2 | D7: =přihlášky!C8 -> ÚO Tábor | E7: 27.98 | F7: 25.74 | G7: =IF(AND(E7=0,F7=0),"diskval.",IF(AND(E7>0,F7>0),MIN(E7:F7),IF(E7>0,E7,F7))) -> 25.74 | H7: =RANK(I7,I6:I12,1) -> 6 | I7: =IF(E7+F7=MIN(E7:F7),G7+0.0005,G7+0.0001) -> 25.7401
C8: 3 | D8: =přihlášky!C9 -> ÚO Písek | E8: 31.58 | F8: 35.54 | G8: =IF(AND(E8=0,F8=0),"diskval.",IF(AND(E8>0,F8>0),MIN(E8:F8),IF(E8>0,E8,F8))) -> 31.58 | H8: =RANK(I8,I6:I12,1) -> 7 | I8: =IF(E8+F8=MIN(E8:F8),G8+0.0005,G8+0.0001) -> 31.5801
C9: 4 | D9: =přihlášky!C10 -> ÚO České Budějovice | E9: 24.56 | F9: 27.98 | G9: =IF(AND(E9=0,F9=0),"diskval.",IF(AND(E9>0,F9>0),MIN(E9:F9),IF(E9>0,E9,F9))) -> 24.56 | H9: =RANK(I9,I6:I12,1) -> 4 | I9: =IF(E9+F9=MIN(E9:F9),G9+0.0005,G9+0.0001) -> 24.5601
C10: 5 | D10: =přihlášky!C11 -> ÚO Strakonice | E10: 25.95 | F10: 23.49 | G10: =IF(AND(E10=0,F10=0),"diskval.",IF(AND(E10>0,F10>0),MIN(E10:F10),IF(E10>0,E10,F10))) -> 23.49 | H10: =RANK(I10,I6:I12,1) -> 2 | I10: =IF(E10+F10=MIN(E10:F10),G10+0.0005,G10+0.0001) -> 23.4901
C11: 6 | D11: =přihlášky!C12 -> ÚO Jindřichův Hradec | E11: 27.07 | F11: 21.82 | G11: =IF(AND(E11=0,F11=0),"diskval.",IF(AND(E11>0,F11>0),MIN(E11:F11),IF(E11>0,E11,F11))) -> 21.82 | H11: =RANK(I11,I6:I12,1) -> 1 | I11: =IF(E11+F11=MIN(E11:F11),G11+0.0005,G11+0.0001) -> 21.8201
C12: 7 | D12: =přihlášky!C13 -> ÚO Prachatice | F12: 25.46 | G12: =IF(AND(E12=0,F12=0),"diskval.",IF(AND(E12>0,F12>0),MIN(E12:F12),IF(E12>0,E12,F12))) -> 25.46 | H12: =RANK(I12,I6:I12,1) -> 5 | I12: =IF(E12+F12=MIN(E12:F12),G12+0.0005,G12+0.0001) -> 25.4605
C14: V disciplíně požární útok se hodnotí umístění podle dosažených časů. Pokud se dle propozic provádí v požárním útoku dva pokusy, pak o pořadí rozhoduje při stejném čase v lepších pokusech součet obou pokusů.

Sheet družstva
J3: elimin. stejného pořadí
A5: pořadí | C5: Družstvo | D5: věž | E5: 100m | F5: štafeta | G5: útok | H5: Celkem bodů | I5: Umístění
A6: 1 | C6: =přihlášky!C7 -> ÚO Český Krumlov | D6: =věž!K10 -> 5 | E6: ='100m'!K10 -> 5 | F6: =štafeta!H6 -> 7 | G6: =útok!H6 -> 3 | H6: =SUM(D6:G6) -> 20 | I6: =RANK(J6,J6:J12,1) -> 6 | J6: =H6+(G6/10000) -> 20.0003
A7: 2 | C7: =přihlášky!C8 -> ÚO Tábor | D7: =věž!K19 -> 7 | E7: ='100m'!K19 -> 3 | F7: =štafeta!H7 -> 3 | G7: =útok!H7 -> 6 | H7: =SUM(D7:G7) -> 19 | I7: =RANK(J7,J6:J12,1) -> 5 | J7: =H7+(G7/10000) -> 19.0006
