Workbook

Sheet věž
C1: Výsledková listina věž
A2: Pořadí | C2: Start. č. | D2: Jméno | E2: stanice | F2: 1.pokus věž | G2: 2.pokus věž | H2: započ. čas věž | I2: eliminace stejného pořadí
A3: =RANK(I3,$I$3:$I$72,1) -> 1 | C3: 33 | D3: =IF(přihlášky!$F$73="X",přihlášky!$E$73,přihlášky!$H$73) -> Pěnča Ivan | E3: =Startovky!E36 -> ÚO Strakonice | F3: 15.87 | H3: =IF(AND(F3=0,G3=0),"diskval.",IF(AND(F3>0,G3>0),MIN(F3:G3),IF(F3>0,F3,G3))) -> 15.87 | I3: =IF(F3+G3=0,1000,H3+((IF(F3>0,F3,100)+IF(G3>0,G3,100))/100000)) -> 15.871159 | J3: x | M3: =přihlášky!$C$7 -> ÚO Český Krumlov
A4: =RANK(I4,$I$3:$I$72,1) -> 2 | C4: 31 | D4: =IF(přihlášky!$F$47="X",přihlášky!$E$47,přihlášky!$H$47) -> Píbal Jiří | E4: =Startovky!E34 -> ÚO Písek | F4: 15.96 | G4: 16.72 | H4: =IF(AND(F4=0,G4=0),"diskval.",IF(AND(F4>0,G4>0),MIN(F4:G4),IF(F4>0,F4,G4))) -> 15.96 | I4: =IF(F4+G4=0,1000,H4+((IF(F4>0,F4,100)+IF(G4>0,G4,100))/100000)) -> 15.960327 | J4: 1 | K4: 24 | M4: 50 | N4: Bartuška Jiří | O4: ÚO Český Krumlov | P4: 20.09 | R4: 20.09
A5: =RANK(I5,$I$3:$I$72,1) -> 3 | C5: 11 | D5: =IF(přihlášky!$F$57="X",přihlášky!$E$57,přihlášky!$H$57) -> Ježek Jan | E5: =Startovky!E14 -> ÚO České Budějovice | F5: 16.65 | G5: 16.1 | H5: =IF(AND(F5=0,G5=0),"diskval.",IF(AND(F5>0,G5>0),MIN(F5:G5),IF(F5>0,F5,G5))) -> 16.1 | I5: =IF(F5+G5=0,1000,H5+((IF(F5>0,F5,100)+IF(G5>0,G5,100))/100000)) -> 16.100328 | K5: 27 | M5: 22 | N5: Klein Adolf | O5: ÚO Český Krumlov | P5: 23.98 | Q5: 20.62 | R5: 20.62
A6: =RANK(I6,$I$3:$I$72,1) -> 4 | C6: 13 | D6: =IF(přihlášky!$F$83="X",přihlášky!$E$83,přihlášky!$H$83) -> Doktor Michal | E6: =Startovky!E16 -> ÚO Jindřichův Hradec | F6: 17.04 | G6: 16.38 | H6: =IF(AND(F6=0,G6=0),"diskval.",IF(AND(F6>0,G6>0),MIN(F6:G6),IF(F6>0,F6,G6))) -> 16.38 | I6: =IF(F6+G6=0,1000,H6+((IF(F6>0,F6,100)+IF(G6>0,G6,100))/100000)) -> 16.380334 | K6: 29 | M6: 8 | N6: Dvořák Petr | O6: ÚO Český Krumlov | P6: 24.67 | Q6: 20.96 | R6: 20.96
A7: =RANK(I7,$I$3:$I$72,1) -> 5 | C7: 6 | D7: =IF(přihlášky!$F$82="X",přihlášky!$E$82,přihlášky!$H$82) -> Šmíd Stanislav | E7: =Startovky!E9 -> ÚO Jindřichův Hradec | F7: 16.97 | G7: 16.61 | H7: =IF(AND(F7=0,G7=0),"diskval.",IF(AND(F7>0,G7>0),MIN(F7:G7),IF(F7>0,F7,G7))) -> 16.61 | I7: =IF(F7+G7=0,1000,H7+((IF(F7>0,F7,100)+IF(G7>0,G7,100))/100000)) -> 16.610336 | K7: 34 | M7: 1 | N7: Čížek David | O7: ÚO Český Krumlov | P7: 33.29 | Q7: 22.46 | R7: 22.46
A8: =RANK(I8,$I$3:$I$72,1) -> 6 | C8: 27 | D8: =IF(přihlášky!$F$85="X",přihlášky!$E$85,přihlášky!$H$85) -> Bašta Vojtěch | E8: =Startovky!E30 -> ÚO Jindřichův Hradec | F8: 19.21 | G8: 16.81 | H8: =IF(AND(F8=0,G8=0),"diskval.",IF(AND(F8>0,G8>0),MIN(F8:G8),IF(F8>0,F8,G8))) -> 16.81 | I8: =IF(F8+G8=0,1000,H8+((IF(F8>0,F8,100)+IF(G8>0,G8,100))/100000)) -> 16.81036 | K8: 37 | M8: 43 | N8: Klíma Miloslav | O8: ÚO Český Krumlov | P8: 23.02 | R8: 23.02
A9: =RANK(I9,$I$3:$I$72,1) -> 7 | C9: 24 | D9: =IF(přihlášky!$F$46="X",přihlášky!$E$46,přihlášky!$H$46) -> Jirout Patrik | E9: =Startovky!E27 -> ÚO Písek | F9: 20.62 | G9: 16.89 | H9: =IF(AND(F9=0,G9=0),"diskval.",IF(AND(F9>0,G9>0),MIN(F9:G9),IF(F9>0,F9,G9))) -> 16.89 | I9: =IF(F9+G9=0,1000,H9+((IF(F9>0,F9,100)+IF(G9>0,G9,100))/100000)) -> 16.890375 | K9: 44 | M9: 36 | N9: Ottenschläger Václav | O9: ÚO Český Krumlov | P9: 26.44 | Q9: 24.95 | R9: 24.95 | T9: Pro počítání pořadí družstev
A10: =RANK(I10,$I$3:$I$72,1) -> 8 | C10: 16 | D10: =IF(přihlášky!$F$32="X",přihlášky!$E$32,přihlášky!$H$32) -> Knotek Radim | E10: =Startovky!E19 -> ÚO Tábor | F10: 17.02 | G10: 19.13 | H10: =IF(AND(F10=0,G10=0),"diskval.",IF(AND(F10>0,G10>0),MIN(F10:G10),IF(F10>0,F10,G10))) -> 17.02 | I10: =IF(F10+G10=0,1000,H10+((IF(F10>0,F10,100)+IF(G10>0,G10,100))/100000)) -> 17.020361 | J10: BODY | K10: =RANK(T10,T10:T16,1) -> 5 | R10: =SUM(R4:R9) -> 132.1 | S10: Čas celkem | T10: =R10 -> 132.1
A11: =RANK(I11,$I$3:$I$72,1) -> 9 | C11: 20 | D11: =IF(přihlášky!$F$84="X",přihlášky!$E$84,přihlášky!$H$84) -> Janů Pavel | E11: =Startovky!E23 -> ÚO Jindřichův Hradec | F11: 17.97 | G11: 17.55 | H11: =IF(AND(F11=0,G11=0),"diskval.",IF(AND(F11>0,G11>0),MIN(F11:G11),IF(F11>0,F11,G11))) -> 17.55 | I11: =IF(F11+G11=0,1000,H11+((IF(F11>0,F11,100)+IF(G11>0,G11,100))/100000)) -> 17.550355 | T11: =R19 -> 144.77
A12: =RANK(I12,$I$3:$I$72,1) -> 10 | C12: 68 | D12: =IF(přihlášky!$F$78="X",přihlášky!$E$78,přihlášky!$H$78) -> Černovský Michal | E12: =Startovky!E74 -> ÚO Strakonice | F12: 17.7 | G12: 17.6 | H12: =IF(AND(F12=0,G12=0),"diskval.",IF(AND(F12>0,G12>0),MIN(F12:G12),IF(F12>0,F12,G12))) -> 17.6 | I12: =IF(F12+G12=0,1000,H12+((IF(F12>0,F12,100)+IF(G12>0,G12,100))/100000)) -> 17.600353 | M12: =přihlášky!$C$8 -> ÚO Tábor | T12: =R28 -> 113.79
A13: =RANK(I13,$I$3:$I$72,1) -> 11 | C13: 39 | D13: =IF(přihlášky!$F$61="X",přihlášky!$E$61,přihlášky!$H$61) -> Čada Milan | E13: =Startovky!E45 -> ÚO České Budějovice | F13: 18.07 | G13: 20.39 | H13: =IF(AND(F13=0,G13=0),"diskval.",IF(AND(F13>0,G13>0),MIN(F13:G13),IF(F13>0,F13,G13))) -> 18.07 | I13: =IF(F13+G13=0,1000,H13+((IF(F13>0,F13,100)+IF(G13>0,G13,100))/100000)) -> 18.070385 | J13: 2 | K13: 8 | M13: 16 | N13: Knotek Radim | O13: ÚO Tábor | P13: 17.02 | Q13: 19.13 | R13: 17.02 | T13: =R37 -> 109.06
A14: =RANK(I14,$I$3:$I$72,1) -> 12 | C14: 32 | D14: =IF(přihlášky!$F$60="X",přihlášky!$E$60,přihlášky!$H$60) -> Měřička Michal | E14: =Startovky!E35 -> ÚO České Budějovice | F14: 18.36 | G14: 19.31 | H14: =IF(AND(F14=0,G14=0),"diskval.",IF(AND(F14>0,G14>0),MIN(F14:G14),IF(F14>0,F14,G14))) -> 18.36 | I14: =IF(F14+G14=0,1000,H14+((IF(F14>0,F14,100)+IF(G14>0,G14,100))/100000)) -> 18.360377 | K14: 39 | M14: 9 | N14: Novák Dominik | O14: ÚO Tábor | P14: 29.55 | Q14: 23.44 | R14: 23.44 | T14: =R46 -> 114.27
A15: =RANK(I15,$I$3:$I$72,1) -> 13 | C15: 18 | D15: =IF(přihlášky!$F$58="X",přihlášky!$E$58,přihlášky!$H$58) -> Krygar Josef | E15: =Startovky!E21 -> ÚO České Budějovice | F15: 20.39 | G15: 18.55 | H15: =IF(AND(F15=0,G15=0),"diskval.",IF(AND(F15>0,G15>0),MIN(F15:G15),IF(F15>0,F15,G15))) -> 18.55 | I15: =IF(F15+G15=0,1000,H15+((IF(F15>0,F15,100)+IF(G15>0,G15,100))/100000)) -> 18.550389 | K15: 40 | M15: 23 | N15: Kopecký Jan | O15: ÚO Tábor | P15: 25.53 | Q15: 23.52 | R15: 23.52 | T15: =R55 -> 105.74
A16: =RANK(I16,$I$3:$I$72,1) -> 14 | C16: 4 | D16: =IF(přihlášky!$F$56="X",přihlášky!$E$56,přihlášky!$H$56) -> Hasík Juraj | E16: =Startovky!E7 -> ÚO České Budějovice | F16: 19.68 | G16: 18.69 | H16: =IF(AND(F16=0,G16=0),"diskval.",IF(AND(F16>0,G16>0),MIN(F16:G16),IF(F16>0,F16,G16))) -> 18.69 | I16: =IF(F16+G16=0,1000,H16+((IF(F16>0,F16,100)+IF(G16>0,G16,100))/100000)) -> 18.690384 | K16: 43 | M16: 2 | N16: Novák Tomáš | O16: ÚO Tábor | P16: 24.12 | Q16: 25.67 | R16: 24.12 | T16: =R64 -> 144.44
A17: =RANK(I17,$I$3:$I$72,1) -> 15 | C17: 34 | D17: =IF(přihlášky!$F$86="X",přihlášky!$E$86,přihlášky!$H$86) -> Kučera Jan | E17: =Startovky!E37 -> ÚO Jindřichův Hradec | F17: 19.9 | G17: 18.89 | H17: =IF(AND(F17=0,G17=0),"diskval.",IF(AND(F17>0,G17>0),MIN(F17:G17),IF(F17>0,F17,G17))) -> 18.89 | I17: =IF(F17+G17=0,1000,H17+((IF(F17>0,F17,100)+IF(G17>0,G17,100))/100000)) -> 18.890388 | K17: 49 | M17: 37 | N17: Průcha Josef | O17: ÚO Tábor | P17: 27.14 | Q17: 29.2 | R17: 27.14
A18: =RANK(I18,$I$3:$I$72,1) -> 16 | C18: 40 | D18: =IF(přihlášky!$F$74="X",přihlášky!$E$74,přihlášky!$H$74) -> Vaňač Aleš | E18: =Startovky!E46 -> ÚO Strakonice | F18: 19.28 | G18: 19.12 | H18: =IF(AND(F18=0,G18=0),"diskval.",IF(AND(F18>0,G18>0),MIN(F18:G18),IF(F18>0,F18,G18))) -> 19.12 | I18: =IF(F18+G18=0,1000,H18+((IF(F18>0,F18,100)+IF(G18>0,G18,100))/100000)) -> 19.120384 | K18: 51 | M18: 30 | N18: Falada Denis | O18: ÚO Tábor | P18: 34.97 | Q18: 29.53 | R18: 29.53
A19: =RANK(I19,$I$3:$I$72,1) -> 17 | C19: 25 | D19: =IF(přihlášky!$F$59="X",přihlášky!$E$59,přihlášky!$H$59) -> Hájek David | E19: =Startovky!E28 -> ÚO České Budějovice | F19: 21.22 | G19: 19.29 | H19: =IF(AND(F19=0,G19=0),"diskval.",IF(AND(F19>0,G19>0),MIN(F19:G19),IF(F19>0,F19,G19))) -> 19.29 | I19: =IF(F19+G19=0,1000,H19+((IF(F19>0,F19,100)+IF(G19>0,G19,100))/100000)) -> 19.290405 | J19: BODY | K19: =RANK(T11,T10:T16,1) -> 7 | R19: =SUM(R13:R18) -> 144.77 | S19: Čas celkem
A20: =RANK(I20,$I$3:$I$72,1) -> 18 | C20: 38 | D20: =IF(přihlášky!$F$48="X",přihlášky!$E$48,přihlášky!$H$48) -> Motejzík Martin | E20: =Startovky!E44 -> ÚO Písek | F20: 20.7 | G20: 19.45 | H20: =IF(AND(F20=0,G20=0),"diskval.",IF(AND(F20>0,G20>0),MIN(F20:G20),IF(F20>0,F20,G20))) -> 19.45 | I20: =IF(F20+G20=0,1000,H20+((IF(F20>0,F20,100)+IF(G20>0,G20,100))/100000)) -> 19.450401
A21: =RANK(I21,$I$3:$I$72,1) -> 19 | C21: 10 | D21: =IF(přihlášky!$F$44="X",přihlášky!$E$44,přihlášky!$H$44) -> Horský Marek | E21: =Startovky!E13 -> ÚO Písek | F21: 21.1 | G21: 19.47 | H21: =IF(AND(F21=0,G21=0),"diskval.",IF(AND(F21>0,G21>0),MIN(F21:G21),IF(F21>0,F21,G21))) -> 19.47 | I21: =IF(F21+G21=0,1000,H21+((IF(F21>0,F21,100)+IF(G21>0,G21,100))/100000)) -> 19.470406 | M21: =přihlášky!$C$9 -> ÚO Písek
A22: =RANK(I22,$I$3:$I$72,1) -> 20 | C22: 41 | D22: =IF(přihlášky!$F$87="X",přihlášky!$E$87,přihlášky!$H$87) -> Huml Ondřej | E22: =Startovky!E47 -> ÚO Jindřichův Hradec | F22: 19.5 | G22: 19.68 | H22: =IF(AND(F22=0,G22=0),"diskval.",IF(AND(F22>0,G22>0),MIN(F22:G22),IF(F22>0,F22,G22))) -> 19.5 | I22: =IF(F22+G22=0,1000,H22+((IF(F22>0,F22,100)+IF(G22>0,G22,100))/100000)) -> 19.500392 | J22: 3 | K22: 2 | M22: 31 | N22: Píbal Jiří | O22: ÚO Písek | P22: 15.96 | Q22: 16.72 | R22: 15.96
A23: =RANK(I23,$I$3:$I$72,1) -> 21 | C23: 21 | D23: =IF(přihlášky!$F$97="X",přihlášky!$E$97,přihlášky!$H$97) -> Študlar Petr | E23: =Startovky!E24 -> ÚO Prachatice | F23: 19.58 | H23: =IF(AND(F23=0,G23=0),"diskval.",IF(AND(F23>0,G23>0),MIN(F23:G23),IF(F23>0,F23,G23))) -> 19.58 | I23: =IF(F23+G23=0,1000,H23+((IF(F23>0,F23,100)+IF(G23>0,G23,100))/100000)) -> 19.581196 | K23: 7 | M23: 24 | N23: Jirout Patrik | O23: ÚO Písek | P23: 20.62 | Q23: 16.89 | R23: 16.89
A24: =RANK(I24,$I$3:$I$72,1) -> 22 | C24: 17 | D24: =IF(přihlášky!$F$45="X",přihlášky!$E$45,přihlášky!$H$45) -> Trantina Karel | E24: =Startovky!E20 -> ÚO Písek | F24: 19.86 | G24: 22.83 | H24: =IF(AND(F24=0,G24=0),"diskval.",IF(AND(F24>0,G24>0),MIN(F24:G24),IF(F24>0,F24,G24))) -> 19.86 | I24: =IF(F24+G24=0,1000,H24+((IF(F24>0,F24,100)+IF(G24>0,G24,100))/100000)) -> 19.860427 | K24: 18 | M24: 38 | N24: Motejzík Martin | O24: ÚO Písek | P24: 20.7 | Q24: 19.45 | R24: 19.45
A25: =RANK(I25,$I$3:$I$72,1) -> 23 | C25: 48 | D25: =IF(přihlášky!$F$88="X",přihlášky!$E$88,přihlášky!$H$88) -> Šenkýř Marek | E25: =Startovky!E54 -> ÚO Jindřichův Hradec | F25: 21.05 | G25: 20.05 | H25: =IF(AND(F25=0,G25=0),"diskval.",IF(AND(F25>0,G25>0),MIN(F25:G25),IF(F25>0,F25,G25))) -> 20.05 | I25: =IF(F25+G25=0,1000,H25+((IF(F25>0,F25,100)+IF(G25>0,G25,100))/100000)) -> 20.050411 | K25: 19 | M25: 10 | N25: Horský Marek | O25: ÚO Písek | P25: 21.1 | Q25: 19.47 | R25: 19.47
A26: =RANK(I26,$I$3:$I$72,1) -> 24 | C26: 50 | D26: =IF(přihlášky!$F$24="X",přihlášky!$E$24,přihlášky!$H$24) -> Bartuška Jiří | E26: =Startovky!E56 -> ÚO Český Krumlov | F26: 20.09 | H26: =IF(AND(F26=0,G26=0),"diskval.",IF(AND(F26>0,G26>0),MIN(F26:G26),IF(F26>0,F26,G26))) -> 20.09 | I26: =IF(F26+G26=0,1000,H26+((IF(F26>0,F26,100)+IF(G26>0,G26,100))/100000)) -> 20.091201 | K26: 22 | M26: 17 | N26: Trantina Karel | O26: ÚO Písek | P26: 19.86 | Q26: 22.83 | R26: 19.86
A27: =RANK(I27,$I$3:$I$72,1) -> 25 | C27: 19 | D27: =IF(přihlášky!$F$71="X",přihlášky!$E$71,přihlášky!$H$71) -> Muchl Vladimír | E27: =Startovky!E22 -> ÚO Strakonice | F27: 20.45 | H27: =IF(AND(F27=0,G27=0),"diskval.",IF(AND(F27>0,G27>0),MIN(F27:G27),IF(F27>0,F27,G27))) -> 20.45 | I27: =IF(F27+G27=0,1000,H27+((IF(F27>0,F27,100)+IF(G27>0,G27,100))/100000)) -> 20.451204 | K27: 31 | M27: 3 | N27: Šourek Petr | O27: ÚO Písek | P27: 25.53 | Q27: 22.16 | R27: 22.16
A28: =RANK(I28,$I$3:$I$72,1) -> 26 | C28: 12 | D28: =IF(přihlášky!$F$70="X",přihlášky!$E$70,přihlášky!$H$70) -> Stibor Jiří | E28: =Startovky!E15 -> ÚO Strakonice | F28: 21 | G28: 20.56 | H28: =IF(AND(F28=0,G28=0),"diskval.",IF(AND(F28>0,G28>0),MIN(F28:G28),IF(F28>0,F28,G28))) -> 20.56 | I28: =IF(F28+G28=0,1000,H28+((IF(F28>0,F28,100)+IF(G28>0,G28,100))/100000)) -> 20.560416 | J28: BODY | K28: =RANK(T12,T10:T16,1) -> 3 | R28: =SUM(R22:R27) -> 113.79 | S28: Čas celkem
A29: =RANK(I29,$I$3:$I$72,1) -> 27 | C29: 22 | D29: =IF(přihlášky!$F$20="X",přihlášky!$E$20,přihlášky!$H$20) -> Klein Adolf | E29: =Startovky!E25 -> ÚO Český Krumlov | F29: 23.98 | G29: 20.62 | H29: =IF(AND(F29=0,G29=0),"diskval.",IF(AND(F29>0,G29>0),MIN(F29:G29),IF(F29>0,F29,G29))) -> 20.62 | I29: =IF(F29+G29=0,1000,H29+((IF(F29>0,F29,100)+IF(G29>0,G29,100))/100000)) -> 20.620446
A30: =RANK(I30,$I$3:$I$72,1) -> 28 | C30: 26 | D30: =IF(přihlášky!$F$72="X",přihlášky!$E$72,přihlášky!$H$72) -> Božka Martin | E30: =Startovky!E29 -> ÚO Strakonice | F30: 21.5 | G30: 20.67 | H30: =IF(AND(F30=0,G30=0),"diskval.",IF(AND(F30>0,G30>0),MIN(F30:G30),IF(F30>0,F30,G30))) -> 20.67 | I30: =IF(F30+G30=0,1000,H30+((IF(F30>0,F30,100)+IF(G30>0,G30,100))/100000)) -> 20.670422 | M30: =přihlášky!$C$10 -> ÚO České Budějovice
A31: =RANK(I31,$I$3:$I$72,1) -> 29 | C31: 8 | D31: =IF(přihlášky!$F$18="X",přihlášky!$E$18,přihlášky!H17) -> Dvořák Petr | E31: =Startovky!E11 -> ÚO Český Krumlov | F31: 24.67 | G31: 20.96 | H31: =IF(AND(F31=0,G31=0),"diskval.",IF(AND(F31>0,G31>0),MIN(F31:G31),IF(F31>0,F31,G31))) -> 20.96 | I31: =IF(F31+G31=0,1000,H31+((IF(F31>0,F31,100)+IF(G31>0,G31,100))/100000)) -> 20.960456 | J31: 4 | K31: 3 | M31: 11 | N31: Ježek Jan | O31: ÚO České Budějovice | P31: 16.65 | Q31: 16.1 | R31: 16.1
A32: =RANK(I32,$I$3:$I$72,1) -> 30 | C32: 54 | D32: =IF(přihlášky!$F$76="X",přihlášky!$E$76,přihlášky!$H$76) -> Pospíšil Michael (věž jednotlivci) | E32: =Startovky!E60 -> ÚO Strakonice | F32: 22 | H32: =IF(AND(F32=0,G32=0),"diskval.",IF(AND(F32>0,G32>0),MIN(F32:G32),IF(F32>0,F32,G32))) -> 22 | I32: =IF(F32+G32=0,1000,H32+((IF(F32>0,F32,100)+IF(G32>0,G32,100))/100000)) -> 22.00122 | K32: 11 | M32: 39 | N32: Čada Milan | O32: ÚO České Budějovice | P32: 18.07 | Q32: 20.39 | R32: 18.07
A33: =RANK(I33,$I$3:$I$72,1) -> 31 | C33: 3 | D33: =IF(přihlášky!$F$43="X",přihlášky!$E$43,přihlášky!$H$43) -> Šourek Petr | E33: =Startovky!E6 -> ÚO Písek | F33: 25.53 | G33: 22.16 | H33: =IF(AND(F33=0,G33=0),"diskval.",IF(AND(F33>0,G33>0),MIN(F33:G33),IF(F33>0,F33,G33))) -> 22.16 | I33: =IF(F33+G33=0,1000,H33+((IF(F33>0,F33,100)+IF(G33>0,G33,100))/100000)) -> 22.160477 | K33: 12 | M33: 32 | N33: Měřička Michal | O33: ÚO České Budějovice | P33: 18.36 | Q33: 19.31 | R33: 18.36
A34: =RANK(I34,$I$3:$I$72,1) -> 32 | C34: 5 | D34: =IF(přihlášky!$F$69="X",přihlášky!$E$69,přihlášky!$H$69) -> Krupka Luboš | E34: =Startovky!E8 -> ÚO Strakonice | F34: 22.8 | G34: 22.31 | H34: =IF(AND(F34=0,G34=0),"diskval.",IF(AND(F34>0,G34>0),MIN(F34:G34),IF(F34>0,F34,G34))) -> 22.31 | I34: =IF(F34+G34=0,1000,H34+((IF(F34>0,F34,100)+IF(G34>0,G34,100))/100000)) -> 22.310451 | K34: 13 | M34: 18 | N34: Krygar Josef | O34: ÚO České Budějovice | P34: 20.39 | Q34: 18.55 | R34: 18.55
A35: =RANK(I35,$I$3:$I$72,1) -> 33 | C35: 55 | D35: =IF(přihlášky!$F$89="X",přihlášky!$E$89,přihlášky!$H$89) -> Janů František | E35: =Startovky!E61 -> ÚO Jindřichův Hradec | F35: 24.11 | G35: 22.4 | H35: =IF(AND(F35=0,G35=0),"diskval.",IF(AND(F35>0,G35>0),MIN(F35:G35),IF(F35>0,F35,G35))) -> 22.4 | I35: =IF(F35+G35=0,1000,H35+((IF(F35>0,F35,100)+IF(G35>0,G35,100))/100000)) -> 22.400465 | K35: 14 | M35: 4 | N35: Hasík Juraj | O35: ÚO České Budějovice | P35: 19.68 | Q35: 18.69 | R35: 18.69
A36: =RANK(I36,$I$3:$I$72,1) -> 34 | C36: 1 | D36: =IF(přihlášky!$F$17="X",přihlášky!$E$17,přihlášky!H17) -> Čížek David | E36: =Startovky!E4 -> ÚO Český Krumlov | F36: 33.29 | G36: 22.46 | H36: =IF(AND(F36=0,G36=0),"diskval.",IF(AND(F36>0,G36>0),MIN(F36:G36),IF(F36>0,F36,G36))) -> 22.46 | I36: =IF(F36+G36=0,1000,H36+((IF(F36>0,F36,100)+IF(G36>0,G36,100))/100000)) -> 22.460558 | K36: 17 | M36: 25 | N36: Hájek David | O36: ÚO České Budějovice | P36: 21.22 | Q36: 19.29 | R36: 19.29
A37: =RANK(I37,$I$3:$I$72,1) -> 35 | C37: 47 | D37: =IF(přihlášky!$F$75="X",přihlášky!$E$75,přihlášky!$H$75) -> Štolba František (věž jednotlici) | E37: =Startovky!E53 -> ÚO Strakonice | F37: 22.91 | G37: 23.48 | H37: =IF(AND(F37=0,G37=0),"diskval.",IF(AND(F37>0,G37>0),MIN(F37:G37),IF(F37>0,F37,G37))) -> 22.91 | I37: =IF(F37+G37=0,1000,H37+((IF(F37>0,F37,100)+IF(G37>0,G37,100))/100000)) -> 22.910464 | J37: BODY | K37: =RANK(T13,T10:T16,1) -> 2 | R37: =SUM(R31:R36) -> 109.06 | S37: Čas celkem
A38: =RANK(I38,$I$3:$I$72,1) -> 36 | C38: 56 | D38: =IF(přihlášky!$F$102="X",přihlášky!$E$102,přihlášky!$H$102) -> Jiráň Marek | E38: =Startovky!E62 -> ÚO Prachatice | F38: 23.48 | G38: 22.97 | H38: =IF(AND(F38=0,G38=0),"diskval.",IF(AND(F38>0,G38>0),MIN(F38:G38),IF(F38>0,F38,G38))) -> 22.97 | I38: =IF(F38+G38=0,1000,H38+((IF(F38>0,F38,100)+IF(G38>0,G38,100))/100000)) -> 22.970464
A39: =RANK(I39,$I$3:$I$72,1) -> 37 | C39: 43 | D39: =IF(přihlášky!$F$23="X",přihlášky!$E$23,přihlášky!$H$23) -> Klíma Miloslav | E39: =Startovky!E49 -> ÚO Český Krumlov | F39: 23.02 | H39: =IF(AND(F39=0,G39=0),"diskval.",IF(AND(F39>0,G39>0),MIN(F39:G39),IF(F39>0,F39,G39))) -> 23.02 | I39: =IF(F39+G39=0,1000,H39+((IF(F39>0,F39,100)+IF(G39>0,G39,100))/100000)) -> 23.02123 | M39: =přihlášky!$C$11 -> ÚO Strakonice
A40: =RANK(I40,$I$3:$I$72,1) -> 38 | C40: 7 | D40: =IF(přihlášky!$F$95="X",přihlášky!$E$95,přihlášky!$H$95) -> Cais Martin | E40: =Startovky!E10 -> ÚO Prachatice | F40: 23.26 | G40: 23.86 | H40: =IF(AND(F40=0,G40=0),"diskval.",IF(AND(F40>0,G40>0),MIN(F40:G40),IF(F40>0,F40,G40))) -> 23.26 | I40: =IF(F40+G40=0,1000,H40+((IF(F40>0,F40,100)+IF(G40>0,G40,100))/100000)) -> 23.260471 | J40: 5 | K40: 1 | M40: 33 | N40: Pěnča Ivan | O40: ÚO Strakonice | P40: 15.87 | R40: 15.87
A41: =RANK(I41,$I$3:$I$72,1) -> 39 | C41: 9 | D41: =IF(přihlášky!$F$31="X",přihlášky!$E$31,přihlášky!$H$31) -> Novák Dominik | E41: =Startovky!E12 -> ÚO Tábor | F41: 29.55 | G41: 23.44 | H41: =IF(AND(F41=0,G41=0),"diskval.",IF(AND(F41>0,G41>0),MIN(F41:G41),IF(F41>0,F41,G41))) -> 23.44 | I41: =IF(F41+G41=0,1000,H41+((IF(F41>0,F41,100)+IF(G41>0,G41,100))/100000)) -> 23.44053 | K41: 10 | M41: 68 | N41: Černovský Michal | O41: ÚO Strakonice | P41: 17.7 | Q41: 17.6 | R41: 17.6
A42: =RANK(I42,$I$3:$I$72,1) -> 40 | C42: 23 | D42: =IF(přihlášky!$F$33="X",přihlášky!$E$33,přihlášky!$H$33) -> Kopecký Jan | E42: =Startovky!E26 -> ÚO Tábor | F42: 25.53 | G42: 23.52 | H42: =IF(AND(F42=0,G42=0),"diskval.",IF(AND(F42>0,G42>0),MIN(F42:G42),IF(F42>0,F42,G42))) -> 23.52 | I42: =IF(F42+G42=0,1000,H42+((IF(F42>0,F42,100)+IF(G42>0,G42,100))/100000)) -> 23.520491 | K42: 16 | M42: 40 | N42: Vaňač Aleš | O42: ÚO Strakonice | P42: 19.28 | Q42: 19.12 | R42: 19.12
A43: =RANK(I43,$I$3:$I$72,1) -> 41 | C43: 53 | D43: =IF(přihlášky!$F$63="X",přihlášky!$E$63,přihlášky!$H$63) -> Völfel David | E43: =Startovky!E59 -> ÚO České Budějovice | F43: 28.72 | G43: 23.56 | H43: =IF(AND(F43=0,G43=0),"diskval.",IF(AND(F43>0,G43>0),MIN(F43:G43),IF(F43>0,F43,G43))) -> 23.56 | I43: =IF(F43+G43=0,1000,H43+((IF(F43>0,F43,100)+IF(G43>0,G43,100))/100000)) -> 23.560523 | K43: 25 | M43: 19 | N43: Muchl Vladimír | O43: ÚO Strakonice | P43: 20.45 | R43: 20.45
A44: =RANK(I44,$I$3:$I$72,1) -> 42 | C44: 61 | D44: =IF(přihlášky!$F$77="X",přihlášky!$E$77,přihlášky!$H$77) -> Suchopár Jiří | E44: =Startovky!E67 -> ÚO Strakonice | F44: 23.59 | H44: =IF(AND(F44=0,G44=0),"diskval.",IF(AND(F44>0,G44>0),MIN(F44:G44),IF(F44>0,F44,G44))) -> 23.59 | I44: =IF(F44+G44=0,1000,H44+((IF(F44>0,F44,100)+IF(G44>0,G44,100))/100000)) -> 23.591236 | K44: 26 | M44: 12 | N44: Stibor Jiří | O44: ÚO Strakonice | P44: 21 | Q44: 20.56 | R44: 20.56
A45: =RANK(I45,$I$3:$I$72,1) -> 43 | C45: 2 | D45: =IF(přihlášky!$F$30="X",přihlášky!$E$30,přihlášky!$H$30) -> Novák Tomáš | E45: =Startovky!E5 -> ÚO Tábor | F45: 24.12 | G45: 25.67 | H45: =IF(AND(F45=0,G45=0),"diskval.",IF(AND(F45>0,G45>0),MIN(F45:G45),IF(F45>0,F45,G45))) -> 24.12 | I45: =IF(F45+G45=0,1000,H45+((IF(F45>0,F45,100)+IF(G45>0,G45,100))/100000)) -> 24.120498 | K45: 28 | M45: 26 | N45: Božka Martin | O45: ÚO Strakonice | P45: 21.5 | Q45: 20.67 | R45: 20.67
A46: =RANK(I46,$I$3:$I$72,1) -> 44 | C46: 36 | D46: =IF(přihlášky!$F$22="X",přihlášky!$E$22,přihlášky!$H$22) -> Ottenschläger Václav | E46: =Startovky!E39 -> ÚO Český Krumlov | F46: 26.44 | G46: 24.95 | H46: =IF(AND(F46=0,G46=0),"diskval.",IF(AND(F46>0,G46>0),MIN(F46:G46),IF(F46>0,F46,G46))) -> 24.95 | I46: =IF(F46+G46=0,1000,H46+((IF(F46>0,F46,100)+IF(G46>0,G46,100))/100000)) -> 24.950514 | J46: BODY | K46: =RANK(T14,T10:T16,1) -> 4 | R46: =SUM(R40:R45) -> 114.27 | S46: Čas celkem
A47: =RANK(I47,$I$3:$I$72,1) -> 45 | C47: 14 | D47: =IF(přihlášky!$F$96="X",přihlášky!$E$96,přihlášky!$H$96) -> Šmajcl František | E47: =Startovky!E17 -> ÚO Prachatice | F47: 27.53 | G47: 25.04 | H47: =IF(AND(F47=0,G47=0),"diskval.",IF(AND(F47>0,G47>0),MIN(F47:G47),IF(F47>0,F47,G47))) -> 25.04 | I47: =IF(F47+G47=0,1000,H47+((IF(F47>0,F47,100)+IF(G47>0,G47,100))/100000)) -> 25.040526
A48: =RANK(I48,$I$3:$I$72,1) -> 46 | C48: 28 | D48: =IF(přihlášky!$F$98="X",přihlášky!$E$98,přihlášky!$H$98) -> Vodrášek Josef | E48: =Startovky!E31 -> ÚO Prachatice | F48: 29.62 | G48: 26.62 | H48: =IF(AND(F48=0,G48=0),"diskval.",IF(AND(F48>0,G48>0),MIN(F48:G48),IF(F48>0,F48,G48))) -> 26.62 | I48: =IF(F48+G48=0,1000,H48+((IF(F48>0,F48,100)+IF(G48>0,G48,100))/100000)) -> 26.620562 | M48: =přihlášky!$C$12 -> ÚO Jindřichův Hradec
A49: =RANK(I49,$I$3:$I$72,1) -> 47 | C49: 15 | D49: =IF(přihlášky!$F$19="X",přihlášky!$E$19,přihlášky!$H$19) -> Fučík Jan | E49: =Startovky!E18 -> ÚO Český Krumlov | F49: 29.82 | G49: 26.72 | H49: =IF(AND(F49=0,G49=0),"diskval.",IF(AND(F49>0,G49>0),MIN(F49:G49),IF(F49>0,F49,G49))) -> 26.72 | I49: =IF(F49+G49=0,1000,H49+((IF(F49>0,F49,100)+IF(G49>0,G49,100))/100000)) -> 26.720565 | J49: 6 | K49: 4 | M49: 13 | N49: Doktor Michal | O49: ÚO Jindřichův Hradec | P49: 17.04 | Q49: 16.38 | R49: 16.38
A50: =RANK(I50,$I$3:$I$72,1) -> 48 | C50: 35 | D50: =IF(přihlášky!$F$99="X",přihlášky!$E$99,přihlášky!$H$99) -> Uhlíř Josef | E50: =Startovky!E38 -> ÚO Prachatice | F50: 28.09 | G50: 26.97 | H50: =IF(AND(F50=0,G50=0),"diskval.",IF(AND(F50>0,G50>0),MIN(F50:G50),IF(F50>0,F50,G50))) -> 26.97 | I50: =IF(F50+G50=0,1000,H50+((IF(F50>0,F50,100)+IF(G50>0,G50,100))/100000)) -> 26.970551 | K50: 5 | M50: 6 | N50: Šmíd Stanislav | O50: ÚO Jindřichův Hradec | P50: 16.97 | Q50: 16.61 | R50: 16.61
A51: =RANK(I51,$I$3:$I$72,1) -> 49 | C51: 37 | D51: =IF(přihlášky!$F$35="X",přihlášky!$E$35,přihlášky!$H$35) -> Průcha Josef | E51: =Startovky!E43 -> ÚO Tábor | F51: 27.14 | G51: 29.2 | H51: =IF(AND(F51=0,G51=0),"diskval.",IF(AND(F51>0,G51>0),MIN(F51:G51),IF(F51>0,F51,G51))) -> 27.14 | I51: =IF(F51+G51=0,1000,H51+((IF(F51>0,F51,100)+IF(G51>0,G51,100))/100000)) -> 27.140563 | K51: 6 | M51: 27 | N51: Bašta Vojtěch | O51: ÚO Jindřichův Hradec | P51: 19.21 | Q51: 16.81 | R51: 16.81
A52: =RANK(I52,$I$3:$I$72,1) -> 50 | C52: 70 | D52: =IF(přihlášky!$F$104="X",přihlášky!$E$104,přihlášky!$H$104) -> Stuchel Miroslav | E52: =Startovky!E76 -> ÚO Prachatice | F52: 31.95 | G52: 29.51 | H52: =IF(AND(F52=0,G52=0),"diskval.",IF(AND(F52>0,G52>0),MIN(F52:G52),IF(F52>0,F52,G52))) -> 29.51 | I52: =IF(F52+G52=0,1000,H52+((IF(F52>0,F52,100)+IF(G52>0,G52,100))/100000)) -> 29.510615 | K52: 9 | M52: 20 | N52: Janů Pavel | O52: ÚO Jindřichův Hradec | P52: 17.97 | Q52: 17.55 | R52: 17.55
A53: =RANK(I53,$I$3:$I$72,1) -> 51 | C53: 30 | D53: =IF(přihlášky!$F$34="X",přihlášky!$E$34,přihlášky!$H$34) -> Falada Denis | E53: =Startovky!E33 -> ÚO Tábor | F53: 34.97 | G53: 29.53 | H53: =IF(AND(F53=0,G53=0),"diskval.",IF(AND(F53>0,G53>0),MIN(F53:G53),IF(F53>0,F53,G53))) -> 29.53 | I53: =IF(F53+G53=0,1000,H53+((IF(F53>0,F53,100)+IF(G53>0,G53,100))/100000)) -> 29.530645 | K53: 15 | M53: 34 | N53: Kučera Jan | O53: ÚO Jindřichův Hradec | P53: 19.9 | Q53: 18.89 | R53: 18.89
A54: =RANK(I54,$I$3:$I$72,1) -> 52 | C54: 29 | D54: =IF(přihlášky!$F$21="X",přihlášky!$E$21,přihlášky!$H$21) -> Dudák Jakub | E54: =Startovky!E32 -> ÚO Český Krumlov | F54: 29.57 | G54: 30.63 | H54: =IF(AND(F54=0,G54=0),"diskval.",IF(AND(F54>0,G54>0),MIN(F54:G54),IF(F54>0,F54,G54))) -> 29.57 | I54: =IF(F54+G54=0,1000,H54+((IF(F54>0,F54,100)+IF(G54>0,G54,100))/100000)) -> 29.570602 | K54: 20 | M54: 41 | N54: Huml Ondřej | O54: ÚO Jindřichův Hradec | P54: 19.5 | Q54: 19.68 | R54: 19.5
A55: =RANK(I55,$I$3:$I$72,1) -> 53 | C55: 62 | D55: =IF(přihlášky!$F$90="X",přihlášky!$E$90,přihlášky!$H$90) -> Holý Patrik (věž jednotlivci) | E55: =Startovky!E68 -> ÚO Jindřichův Hradec | F55: 29.75 | G55: 31.1 | H55: =IF(AND(F55=0,G55=0),"diskval.",IF(AND(F55>0,G55>0),MIN(F55:G55),IF(F55>0,F55,G55))) -> 29.75 | I55: =IF(F55+G55=0,1000,H55+((IF(F55>0,F55,100)+IF(G55>0,G55,100))/100000)) -> 29.750608 | J55: BODY | K55: =RANK(T15,T10:T16,1) -> 1 | R55: =SUM(R49:R54) -> 105.74 | S55: Čas celkem
A56: =RANK(I56,$I$3:$I$72,1) -> 54 | C56: 51 | D56: =IF(přihlášky!$F$37="X",přihlášky!$E$37,přihlášky!$H$37) -> Havelka Mikuláš | E56: =Startovky!E57 -> ÚO Tábor | F56: 30.5 | G56: 32.03 | H56: =IF(AND(F56=0,G56=0),"diskval.",IF(AND(F56>0,G56>0),MIN(F56:G56),IF(F56>0,F56,G56))) -> 30.5 | I56: =IF(F56+G56=0,1000,H56+((IF(F56>0,F56,100)+IF(G56>0,G56,100))/100000)) -> 30.500625
A57: =RANK(I57,$I$3:$I$72,1) -> 55 | C57: 45 | D57: =IF(přihlášky!$F$49="X",přihlášky!$E$49,přihlášky!$H$49) -> Bláha Petr | E57: =Startovky!E51 -> ÚO Písek | F57: 32 | H57: =IF(AND(F57=0,G57=0),"diskval.",IF(AND(F57>0,G57>0),MIN(F57:G57),IF(F57>0,F57,G57))) -> 32 | I57: =IF(F57+G57=0,1000,H57+((IF(F57>0,F57,100)+IF(G57>0,G57,100))/100000)) -> 32.00132 | M57: =přihlášky!$C$13 -> ÚO Prachatice
A58: =RANK(I58,$I$3:$I$72,1) -> 56 | C58: 49 | D58: =IF(přihlášky!$F$101="X",přihlášky!$E$101,přihlášky!$H$101) -> Vozandych Petr | E58: =Startovky!E55 -> ÚO Prachatice | F58: 36.53 | G58: 32.19 | H58: =IF(AND(F58=0,G58=0),"diskval.",IF(AND(F58>0,G58>0),MIN(F58:G58),IF(F58>0,F58,G58))) -> 32.19 | I58: =IF(F58+G58=0,1000,H58+((IF(F58>0,F58,100)+IF(G58>0,G58,100))/100000)) -> 32.190687 | J58: 7 | K58: 21 | M58: 21 | N58: Študlar Petr | O58: ÚO Prachatice | P58: 19.58 | R58: 19.58
A59: =RANK(I59,$I$3:$I$72,1) -> 57 | C59: 57 | D59: =IF(přihlášky!$F$25="X",přihlášky!$E$25,přihlášky!$H$25) -> Marek Jakub (jednotlivci) | E59: =Startovky!E63 -> ÚO Český Krumlov | F59: 32.51 | G59: 42.16 | H59: =IF(AND(F59=0,G59=0),"diskval.",IF(AND(F59>0,G59>0),MIN(F59:G59),IF(F59>0,F59,G59))) -> 32.51 | I59: =IF(F59+G59=0,1000,H59+((IF(F59>0,F59,100)+IF(G59>0,G59,100))/100000)) -> 32.510747 | K59: 36 | M59: 56 | N59: Jiráň Marek | O59: ÚO Prachatice | P59: 23.48 | Q59: 22.97 | R59: 22.97
A60: =RANK(I60,$I$3:$I$72,1) -> 58 | C60: 58 | D60: =IF(přihlášky!$F$38="X",přihlášky!$E$38,přihlášky!$H$38) -> Baránek Václav (100m jednotlivci) | E60: =Startovky!E64 -> ÚO Tábor | F60: 35.13 | G60: 33.13 | H60: =IF(AND(F60=0,G60=0),"diskval.",IF(AND(F60>0,G60>0),MIN(F60:G60),IF(F60>0,F60,G60))) -> 33.13 | I60: =IF(F60+G60=0,1000,H60+((IF(F60>0,F60,100)+IF(G60>0,G60,100))/100000)) -> 33.130683 | K60: 38 | M60: 7 | N60: Cais Martin | O60: ÚO Prachatice | P60: 23.26 | Q60: 23.86 | R60: 23.26
A61: =RANK(I61,$I$3:$I$72,1) -> 59 | C61: 46 | D61: =IF(přihlášky!$F$62="X",přihlášky!$E$62,přihlášky!$H$62) -> Míchal Martin | E61: =Startovky!E52 -> ÚO České Budějovice | F61: 34.49 | G61: 33.3 | H61: =IF(AND(F61=0,G61=0),"diskval.",IF(AND(F61>0,G61>0),MIN(F61:G61),IF(F61>0,F61,G61))) -> 33.3 | I61: =IF(F61+G61=0,1000,H61+((IF(F61>0,F61,100)+IF(G61>0,G61,100))/100000)) -> 33.300678 | K61: 45 | M61: 14 | N61: Šmajcl František | O61: ÚO Prachatice | P61: 27.53 | Q61: 25.04 | R61: 25.04
A62: =RANK(I62,$I$3:$I$72,1) -> 60 | C62: 42 | D62: =IF(přihlášky!$F$100="X",přihlášky!$E$100,přihlášky!$H$100) -> Nestartuje | E62: =Startovky!E48 -> ÚO Prachatice | H62: =IF(AND(F62=0,G62=0),"diskval.",IF(AND(F62>0,G62>0),MIN(F62:G62),IF(F62>0,F62,G62))) -> diskval. | I62: =IF(F62+G62=0,1000,H62+((IF(F62>0,F62,100)+IF(G62>0,G62,100))/100000)) -> 1000 | K62: 46 | M62: 28 | N62: Vodrášek Josef | O62: ÚO Prachatice | P62: 29.62 | Q62: 26.62 | R62: 26.62
A63: =RANK(I63,$I$3:$I$72,1) -> 60 | C63: 44 | D63: =IF(přihlášky!$F$36="X",přihlášky!$E$36,přihlášky!$H$36) -> Nestartuje | E63: =Startovky!E50 -> ÚO Tábor | H63: =IF(AND(F63=0,G63=0),"diskval.",IF(AND(F63>0,G63>0),MIN(F63:G63),IF(F63>0,F63,G63))) -> diskval. | I63: =IF(F63+G63=0,1000,H63+((IF(F63>0,F63,100)+IF(G63>0,G63,100))/100000)) -> 1000 | K63: 48 | M63: 35 | N63: Uhlíř Josef | O63: ÚO Prachatice | P63: 28.09 | Q63: 26.97 | R63: 26.97
A64: =RANK(I64,$I$3:$I$72,1) -> 60 | C64: 52 | D64: =IF(přihlášky!$F$50="X",přihlášky!$E$50,přihlášky!$H$50) -> Nestartuje | E64: =Startovky!E58 -> ÚO Písek | H64: =IF(AND(F64=0,G64=0),"diskval.",IF(AND(F64>0,G64>0),MIN(F64:G64),IF(F64>0,F64,G64))) -> diskval. | I64: =IF(F64+G64=0,1000,H64+((IF(F64>0,F64,100)+IF(G64>0,G64,100))/100000)) -> 1000 | J64: BODY | K64: =RANK(T16,T10:T16,1) -> 6 | R64: =SUM(R58:R63) -> 144.44 | S64: Čas celkem
A65: =RANK(I65,$I$3:$I$72,1) -> 60 | C65: 59 | D65: =IF(přihlášky!$F$51="X",přihlášky!$E$51,přihlášky!$H$51) -> Nestartuje | E65: =Startovky!E65 -> ÚO Písek | H65: =IF(AND(F65=0,G65=0),"diskval.",IF(AND(F65>0,G65>0),MIN(F65:G65),IF(F65>0,F65,G65))) -> diskval. | I65: =IF(F65+G65=0,1000,H65+((IF(F65>0,F65,100)+IF(G65>0,G65,100))/100000)) -> 1000 | M65: V disciplínách běh na 100 m s překážkami a výstup do 4. podlaží cvičné věže rozhod-ne o pořadí družstva součet lepších časů šesti nejlépe umístěných členů družstva. V disciplíně běh na 100 m s překážkami a výstup do 4. podlaží cvičné věže se stane vítězem soutěžící, který dosáhne nejlepšího času. V případě, že dva nebo více soutěžících dosáhnou stejných lepších časů, rozhodne o jejich umístění součet časů z obou pokusů. Bude-li i tento výsledek stejný, budou soutěžící hodnoceni na stejném pořadí.Pokud o umístění rozhoduje součet časů z více pokusů, jsou hodnoceni lépe soutěžící, kteří splní více pokusů.
A66: =RANK(I66,$I$3:$I$72,1) -> 60 | C66: 60 | D66: =IF(přihlášky!$F$64="X",přihlášky!$E$64,přihlášky!$H$64) -> Nestartuje | E66: =Startovky!E66 -> ÚO České Budějovice | H66: =IF(AND(F66=0,G66=0),"diskval.",IF(AND(F66>0,G66>0),MIN(F66:G66),IF(F66>0,F66,G66))) -> diskval. | I66: =IF(F66+G66=0,1000,H66+((IF(F66>0,F66,100)+IF(G66>0,G66,100))/100000)) -> 1000
A67: =RANK(I67,$I$3:$I$72,1) -> 60 | C67: 63 | D67: =IF(přihlášky!$F$103="X",přihlášky!$E$103,přihlášky!$H$103) -> Nestartuje | E67: =Startovky!E69 -> ÚO Prachatice | H67: =IF(AND(F67=0,G67=0),"diskval.",IF(AND(F67>0,G67>0),MIN(F67:G67),IF(F67>0,F67,G67))) -> diskval. | I67: =IF(F67+G67=0,1000,H67+((IF(F67>0,F67,100)+IF(G67>0,G67,100))/100000)) -> 1000
A68: =RANK(I68,$I$3:$I$72,1) -> 60 | C68: 64 | D68: =IF(přihlášky!$F$26="X",přihlášky!$E$26,přihlášky!$H$26) -> Nestartuje | E68: =Startovky!E70 -> ÚO Strakonice | H68: =IF(AND(F68=0,G68=0),"diskval.",IF(AND(F68>0,G68>0),MIN(F68:G68),IF(F68>0,F68,G68))) -> diskval. | I68: =IF(F68+G68=0,1000,H68+((IF(F68>0,F68,100)+IF(G68>0,G68,100))/100000)) -> 1000
A69: =RANK(I69,$I$3:$I$72,1) -> 60 | C69: 65 | D69: =IF(přihlášky!$F$39="X",přihlášky!$E$39,přihlášky!$H$39) -> Nestartuje | E69: =Startovky!E71 -> ÚO Tábor | H69: =IF(AND(F69=0,G69=0),"diskval.",IF(AND(F69>0,G69>0),MIN(F69:G69),IF(F69>0,F69,G69))) -> diskval. | I69: =IF(F69+G69=0,1000,H69+((IF(F69>0,F69,100)+IF(G69>0,G69,100))/100000)) -> 1000
A70: =RANK(I70,$I$3:$I$72,1) -> 60 | C70: 66 | D70: =IF(přihlášky!$F$52="X",přihlášky!$E$52,přihlášky!$H$52) -> Nestartuje | E70: =Startovky!E72 -> ÚO Písek | H70: =IF(AND(F70=0,G70=0),"diskval.",IF(AND(F70>0,G70>0),MIN(F70:G70),IF(F70>0,F70,G70))) -> diskval. | I70: =IF(F70+G70=0,1000,H70+((IF(F70>0,F70,100)+IF(G70>0,G70,100))/100000)) -> 1000
A71: =RANK(I71,$I$3:$I$72,1) -> 60 | C71: 67 | D71: =IF(přihlášky!$F$65="X",přihlášky!$E$65,přihlášky!$H$65) -> Nestartuje | E71: =Startovky!E73 -> ÚO České Budějovice | H71: =IF(AND(F71=0,G71=0),"diskval.",IF(AND(F71>0,G71>0),MIN(F71:G71),IF(F71>0,F71,G71))) -> diskval. | I71: =IF(F71+G71=0,1000,H71+((IF(F71>0,F71,100)+IF(G71>0,G71,100))/100000)) -> 1000
A72: =RANK(I72,$I$3:$I$72,1) -> 60 | C72: 69 | D72: =IF(přihlášky!$F$91="X",přihlášky!$E$91,přihlášky!$H$91) -> Nestartuje | E72: =Startovky!E75 -> ÚO Jindřichův Hradec | H72: =IF(AND(F72=0,G72=0),"diskval.",IF(AND(F72>0,G72>0),MIN(F72:G72),IF(F72>0,F72,G72))) -> diskval. | I72: =IF(F72+G72=0,1000,H72+((IF(F72>0,F72,100)+IF(G72>0,G72,100))/100000)) -> 1000

Sheet 100m
C1: Výsledková listina 100m
A2: Pořadí | C2: Start. č. | D2: Jméno | E2: stanice | F2: 1.pokus 100m | G2: 2.pokus 100m | H2: započ. čas 100m | I2: eliminace stejného pořadí
A3: =RANK(I3,$I$3:$I$72,1) -> 2 | C3: 16 | D3: =IF(přihlášky!$G$32="X",přihlášky!$E$32,přihlášky!$H$32) -> Knotek Radim | E3: =Startovky!E19 -> ÚO Tábor | F3: 17.48 | H3: =IF(AND(F3=0,G3=0),"diskval.",IF(AND(F3>0,G3>0),MIN(F3:G3),IF(F3>0,F3,G3))) -> 17.48 | I3: =IF(F3+G3=0,1000,H3+((IF(F3>0,F3,100)+IF(G3>0,G3,100))/100000)) -> 17.481175 | M3: =přihlášky!$C$7 -> ÚO Český Krumlov
A4: =RANK(I4,$I$3:$I$72,1) -> 1 | C4: 33 | D4: =IF(přihlášky!$G$73="X",přihlášky!$E$73,přihlášky!$H$73) -> Pěnča Ivan | E4: =Startovky!E36 -> ÚO Strakonice | F4: 18.23 | G4: 17.48 | H4: =IF(AND(F4=0,G4=0),"diskval.",IF(AND(F4>0,G4>0),MIN(F4:G4),IF(F4>0,F4,G4))) -> 17.48 | I4: =IF(F4+G4=0,1000,H4+((IF(F4>0,F4,100)+IF(G4>0,G4,100))/100000)) -> 17.480357 | J4: 1 | K4: 15 | M4: 1 | N4: Čížek David | O4: ÚO Český Krumlov | P4: 20.55 | Q4: 19.32 | R4: 19.32
A5: =RANK(I5,$I$3:$I$72,1) -> 3 | C5: 53 | D5: =IF(přihlášky!$G$63="X",přihlášky!$E$63,přihlášky!$H$63) -> Völfel David | E5: =Startovky!E59 -> ÚO České Budějovice | F5: 18.02 | G5: 17.61 | H5: =IF(AND(F5=0,G5=0),"diskval.",IF(AND(F5>0,G5>0),MIN(F5:G5),IF(F5>0,F5,G5))) -> 17.61 | I5: =IF(F5+G5=0,1000,H5+((IF(F5>0,F5,100)+IF(G5>0,G5,100))/100000)) -> 17.610356 | K5: 26 | M5: 22 | N5: Klein Adolf | O5: ÚO Český Krumlov | P5: 20.71 | Q5: 20.35 | R5: 20.35
A6: =RANK(I6,$I$3:$I$72,1) -> 4 | C6: 25 | D6: =IF(přihlášky!$G$59="X",přihlášky!$E$59,přihlášky!$H$59) -> Hájek David | E6: =Startovky!E28 -> ÚO České Budějovice | F6: 19.68 | G6: 17.68 | H6: =IF(AND(F6=0,G6=0),"diskval.",IF(AND(F6>0,G6>0),MIN(F6:G6),IF(F6>0,F6,G6))) -> 17.68 | I6: =IF(F6+G6=0,1000,H6+((IF(F6>0,F6,100)+IF(G6>0,G6,100))/100000)) -> 17.680374 | K6: 27 | M6: 15 | N6: Fučík Jan | O6: ÚO Český Krumlov | P6: 20.6 | Q6: 21.02 | R6: 20.6
A7: =RANK(I7,$I$3:$I$72,1) -> 5 | C7: 60 | D7: =IF(přihlášky!$G$64="X",přihlášky!$E$64,přihlášky!$H$64) -> Nýdl Jakub | E7: =Startovky!E66 -> ÚO České Budějovice | F7: 18.47 | G7: 18.12 | H7: =IF(AND(F7=0,G7=0),"diskval.",IF(AND(F7>0,G7>0),MIN(F7:G7),IF(F7>0,F7,G7))) -> 18.12 | I7: =IF(F7+G7=0,1000,H7+((IF(F7>0,F7,100)+IF(G7>0,G7,100))/100000)) -> 18.120366 | K7: 32 | M7: 36 | N7: Ottenschläger Václav | O7: ÚO Český Krumlov | P7: 21.17 | Q7: 21.74 | R7: 21.17
A8: =RANK(I8,$I$3:$I$72,1) -> 6 | C8: 27 | D8: =IF(přihlášky!$G$85="X",přihlášky!$E$85,přihlášky!$H$85) -> Bašta Vojtěch | E8: =Startovky!E30 -> ÚO Jindřichův Hradec | F8: 18.66 | G8: 18.48 | H8: =IF(AND(F8=0,G8=0),"diskval.",IF(AND(F8>0,G8>0),MIN(F8:G8),IF(F8>0,F8,G8))) -> 18.48 | I8: =IF(F8+G8=0,1000,H8+((IF(F8>0,F8,100)+IF(G8>0,G8,100))/100000)) -> 18.480371 | K8: 33 | M8: 43 | N8: Klíma Miloslav | O8: ÚO Český Krumlov | P8: 21.19 | R8: 21.19
A9: =RANK(I9,$I$3:$I$72,1) -> 7 | C9: 21 | D9: =IF(přihlášky!$G$97="X",přihlášky!$E$97,přihlášky!$H$97) -> Študlar Petr | E9: =Startovky!E24 -> ÚO Prachatice | F9: 19.32 | G9: 18.63 | H9: =IF(AND(F9=0,G9=0),"diskval.",IF(AND(F9>0,G9>0),MIN(F9:G9),IF(F9>0,F9,G9))) -> 18.63 | I9: =IF(F9+G9=0,1000,H9+((IF(F9>0,F9,100)+IF(G9>0,G9,100))/100000)) -> 18.63038 | K9: 34 | M9: 8 | N9: Dvořák Petr | O9: ÚO Český Krumlov | P9: 21.77 | Q9: 21.28 | R9: 21.28 | T9: Pro počítání pořadí družstev
A10: =RANK(I10,$I$3:$I$72,1) -> 8 | C10: 24 | D10: =IF(přihlášky!$G$46="X",přihlášky!$E$46,přihlášky!$H$46) -> Jirout Patrik | E10: =Startovky!E27 -> ÚO Písek | F10: 18.98 | G10: 18.7 | H10: =IF(AND(F10=0,G10=0),"diskval.",IF(AND(F10>0,G10>0),MIN(F10:G10),IF(F10>0,F10,G10))) -> 18.7 | I10: =IF(F10+G10=0,1000,H10+((IF(F10>0,F10,100)+IF(G10>0,G10,100))/100000)) -> 18.700377 | J10: BODY | K10: =RANK(T10,T10:T16,1) -> 5 | R10: =SUM(R4:R9) -> 123.91 | S10: Čas celkem | T10: =R10 -> 123.91
A11: =RANK(I11,$I$3:$I$72,1) -> 9 | C11: 20 | D11: =IF(přihlášky!$G$84="X",přihlášky!$E$84,přihlášky!$H$84) -> Janů Pavel | E11: =Startovky!E23 -> ÚO Jindřichův Hradec | F11: 18.92 | G11: 18.86 | H11: =IF(AND(F11=0,G11=0),"diskval.",IF(AND(F11>0,G11>0),MIN(F11:G11),IF(F11>0,F11,G11))) -> 18.86 | I11: =IF(F11+G11=0,1000,H11+((IF(F11>0,F11,100)+IF(G11>0,G11,100))/100000)) -> 18.860378 | T11: =R19 -> 119.11
A12: =RANK(I12,$I$3:$I$72,1) -> 10 | C12: 34 | D12: =IF(přihlášky!$G$86="X",přihlášky!$E$86,přihlášky!$H$86) -> Kučera Jan | E12: =Startovky!E37 -> ÚO Jindřichův Hradec | F12: 20.65 | G12: 18.86 | H12: =IF(AND(F12=0,G12=0),"diskval.",IF(AND(F12>0,G12>0),MIN(F12:G12),IF(F12>0,F12,G12))) -> 18.86 | I12: =IF(F12+G12=0,1000,H12+((IF(F12>0,F12,100)+IF(G12>0,G12,100))/100000)) -> 18.860395 | M12: =přihlášky!$C$8 -> ÚO Tábor | T12: =R28 -> 120.21
A13: =RANK(I13,$I$3:$I$72,1) -> 11 | C13: 9 | D13: =IF(přihlášky!$G$31="X",přihlášky!$E$31,přihlášky!$H$31) -> Novák Dominik | E13: =Startovky!E12 -> ÚO Tábor | G13: 18.89 | H13: =IF(AND(F13=0,G13=0),"diskval.",IF(AND(F13>0,G13>0),MIN(F13:G13),IF(F13>0,F13,G13))) -> 18.89 | I13: =IF(F13+G13=0,1000,H13+((IF(F13>0,F13,100)+IF(G13>0,G13,100))/100000)) -> 18.891189 | J13: 2 | K13: 2 | M13: 16 | N13: Knotek Radim | O13: ÚO Tábor | P13: 17.48 | R13: 17.48 | T13: =R37 -> 111.62
A14: =RANK(I14,$I$3:$I$72,1) -> 12 | C14: 41 | D14: =IF(přihlášky!$G$87="X",přihlášky!$E$87,přihlášky!$H$87) -> Huml Ondřej | E14: =Startovky!E47 -> ÚO Jindřichův Hradec | F14: 19.95 | G14: 18.97 | H14: =IF(AND(F14=0,G14=0),"diskval.",IF(AND(F14>0,G14>0),MIN(F14:G14),IF(F14>0,F14,G14))) -> 18.97 | I14: =IF(F14+G14=0,1000,H14+((IF(F14>0,F14,100)+IF(G14>0,G14,100))/100000)) -> 18.970389 | K14: 11 | M14: 9 | N14: Novák Dominik | O14: ÚO Tábor | Q14: 18.89 | R14: 18.89 | T14: =R46 -> 124.78
A15: =RANK(I15,$I$3:$I$72,1) -> 13 | C15: 31 | D15: =IF(přihlášky!$G$47="X",přihlášky!$E$47,přihlášky!$H$47) -> Píbal Jiří | E15: =Startovky!E34 -> ÚO Písek | G15: 19.1 | H15: =IF(AND(F15=0,G15=0),"diskval.",IF(AND(F15>0,G15>0),MIN(F15:G15),IF(F15>0,F15,G15))) -> 19.1 | I15: =IF(F15+G15=0,1000,H15+((IF(F15>0,F15,100)+IF(G15>0,G15,100))/100000)) -> 19.101191 | K15: 19 | M15: 23 | N15: Kopecký Jan | O15: ÚO Tábor | P15: 21.24 | Q15: 19.7 | R15: 19.7 | T15: =R55 -> 115.17
A16: =RANK(I16,$I$3:$I$72,1) -> 14 | C16: 11 | D16: =IF(přihlášky!$G$57="X",přihlášky!$E$57,přihlášky!$H$57) -> Ježek Jan | E16: =Startovky!E14 -> ÚO České Budějovice | F16: 20 | G16: 19.31 | H16: =IF(AND(F16=0,G16=0),"diskval.",IF(AND(F16>0,G16>0),MIN(F16:G16),IF(F16>0,F16,G16))) -> 19.31 | I16: =IF(F16+G16=0,1000,H16+((IF(F16>0,F16,100)+IF(G16>0,G16,100))/100000)) -> 19.310393 | K16: 23 | M16: 2 | N16: Novák Tomáš | O16: ÚO Tábor | P16: 20.13 | R16: 20.13 | T16: =R64 -> 134.07
A17: =RANK(I17,$I$3:$I$72,1) -> 15 | C17: 1 | D17: =IF(přihlášky!$G$17="X",přihlášky!$E$17,přihlášky!H17) -> Čížek David | E17: =Startovky!E4 -> ÚO Český Krumlov | F17: 20.55 | G17: 19.32 | H17: =IF(AND(F17=0,G17=0),"diskval.",IF(AND(F17>0,G17>0),MIN(F17:G17),IF(F17>0,F17,G17))) -> 19.32 | I17: =IF(F17+G17=0,1000,H17+((IF(F17>0,F17,100)+IF(G17>0,G17,100))/100000)) -> 19.320399 | K17: 30 | M17: 44 | N17: Mareš Jiří | O17: ÚO Tábor | P17: 20.96 | R17: 20.96
A18: =RANK(I18,$I$3:$I$72,1) -> 16 | C18: 32 | D18: =IF(přihlášky!$G$60="X",přihlášky!$E$60,přihlášky!$H$60) -> Měřička Michal | E18: =Startovky!E35 -> ÚO České Budějovice | F18: 19.91 | G18: 19.37 | H18: =IF(AND(F18=0,G18=0),"diskval.",IF(AND(F18>0,G18>0),MIN(F18:G18),IF(F18>0,F18,G18))) -> 19.37 | I18: =IF(F18+G18=0,1000,H18+((IF(F18>0,F18,100)+IF(G18>0,G18,100))/100000)) -> 19.370393 | K18: 41 | M18: 37 | N18: Průcha Josef | O18: ÚO Tábor | P18: 22.52 | Q18: 21.95 | R18: 21.95
A19: =RANK(I19,$I$3:$I$72,1) -> 17 | C19: 38 | D19: =IF(přihlášky!$G$48="X",přihlášky!$E$48,přihlášky!$H$48) -> Motejzík Martin | E19: =Startovky!E44 -> ÚO Písek | F19: 20.15 | G19: 19.41 | H19: =IF(AND(F19=0,G19=0),"diskval.",IF(AND(F19>0,G19>0),MIN(F19:G19),IF(F19>0,F19,G19))) -> 19.41 | I19: =IF(F19+G19=0,1000,H19+((IF(F19>0,F19,100)+IF(G19>0,G19,100))/100000)) -> 19.410396 | J19: BODY | K19: =RANK(T11,T10:T16,1) -> 3 | R19: =SUM(R13:R18) -> 119.11 | S19: Čas celkem
A20: =RANK(I20,$I$3:$I$72,1) -> 18 | C20: 4 | D20: =IF(přihlášky!$G$56="X",přihlášky!$E$56,přihlášky!$H$56) -> Hasík Juraj | E20: =Startovky!E7 -> ÚO České Budějovice | F20: 19.53 | H20: =IF(AND(F20=0,G20=0),"diskval.",IF(AND(F20>0,G20>0),MIN(F20:G20),IF(F20>0,F20,G20))) -> 19.53 | I20: =IF(F20+G20=0,1000,H20+((IF(F20>0,F20,100)+IF(G20>0,G20,100))/100000)) -> 19.531195
A21: =RANK(I21,$I$3:$I$72,1) -> 19 | C21: 23 | D21: =IF(přihlášky!$G$33="X",přihlášky!$E$33,přihlášky!$H$33) -> Kopecký Jan | E21: =Startovky!E26 -> ÚO Tábor | F21: 21.24 | G21: 19.7 | H21: =IF(AND(F21=0,G21=0),"diskval.",IF(AND(F21>0,G21>0),MIN(F21:G21),IF(F21>0,F21,G21))) -> 19.7 | I21: =IF(F21+G21=0,1000,H21+((IF(F21>0,F21,100)+IF(G21>0,G21,100))/100000)) -> 19.700409 | M21: =přihlášky!$C$9 -> ÚO Písek
A22: =RANK(I22,$I$3:$I$72,1) -> 20 | C22: 39 | D22: =IF(přihlášky!$G$61="X",přihlášky!$E$61,přihlášky!$H$61) -> Čada Milan | E22: =Startovky!E45 -> ÚO České Budějovice | F22: 21.76 | G22: 19.93 | H22: =IF(AND(F22=0,G22=0),"diskval.",IF(AND(F22>0,G22>0),MIN(F22:G22),IF(F22>0,F22,G22))) -> 19.93 | I22: =IF(F22+G22=0,1000,H22+((IF(F22>0,F22,100)+IF(G22>0,G22,100))/100000)) -> 19.930417 | J22: 3 | K22: 8 | M22: 24 | N22: Jirout Patrik | O22: ÚO Písek | P22: 18.98 | Q22: 18.7 | R22: 18.7
A23: =RANK(I23,$I$3:$I$72,1) -> 21 | C23: 6 | D23: =IF(přihlášky!$G$82="X",přihlášky!$E$82,přihlášky!$H$82) -> Šmíd Stanislav | E23: =Startovky!E9 -> ÚO Jindřichův Hradec | F23: 20.21 | G23: 19.96 | H23: =IF(AND(F23=0,G23=0),"diskval.",IF(AND(F23>0,G23>0),MIN(F23:G23),IF(F23>0,F23,G23))) -> 19.96 | I23: =IF(F23+G23=0,1000,H23+((IF(F23>0,F23,100)+IF(G23>0,G23,100))/100000)) -> 19.960402 | K23: 13 | M23: 31 | N23: Píbal Jiří | O23: ÚO Písek | Q23: 19.1 | R23: 19.1
A24: =RANK(I24,$I$3:$I$72,1) -> 22 | C24: 48 | D24: =IF(přihlášky!$G$88="X",přihlášky!$E$88,přihlášky!$H$88) -> Šenkýř Marek | E24: =Startovky!E54 -> ÚO Jindřichův Hradec | F24: 20.2 | G24: 20.04 | H24: =IF(AND(F24=0,G24=0),"diskval.",IF(AND(F24>0,G24>0),MIN(F24:G24),IF(F24>0,F24,G24))) -> 20.04 | I24: =IF(F24+G24=0,1000,H24+((IF(F24>0,F24,100)+IF(G24>0,G24,100))/100000)) -> 20.040402 | K24: 17 | M24: 38 | N24: Motejzík Martin | O24: ÚO Písek | P24: 20.15 | Q24: 19.41 | R24: 19.41
A25: =RANK(I25,$I$3:$I$72,1) -> 23 | C25: 2 | D25: =IF(přihlášky!$G$30="X",přihlášky!$E$30,přihlášky!$H$30) -> Novák Tomáš | E25: =Startovky!E5 -> ÚO Tábor | F25: 20.13 | H25: =IF(AND(F25=0,G25=0),"diskval.",IF(AND(F25>0,G25>0),MIN(F25:G25),IF(F25>0,F25,G25))) -> 20.13 | I25: =IF(F25+G25=0,1000,H25+((IF(F25>0,F25,100)+IF(G25>0,G25,100))/100000)) -> 20.131201 | K25: 24 | M25: 66 | N25: Máška Dominik | O25: ÚO Písek | P25: 20.6 | Q25: 20.15 | R25: 20.15 | AA25: 31.66
A26: =RANK(I26,$I$3:$I$72,1) -> 24 | C26: 66 | D26: =IF(přihlášky!$G$52="X",přihlášky!$E$52,přihlášky!$H$52) -> Máška Dominik | E26: =Startovky!E72 -> ÚO Písek | F26: 20.6 | G26: 20.15 | H26: =IF(AND(F26=0,G26=0),"diskval.",IF(AND(F26>0,G26>0),MIN(F26:G26),IF(F26>0,F26,G26))) -> 20.15 | I26: =IF(F26+G26=0,1000,H26+((IF(F26>0,F26,100)+IF(G26>0,G26,100))/100000)) -> 20.150408 | K26: 35 | M26: 59 | N26: Koller Petr | O26: ÚO Písek | P26: 21.71 | Q26: 21.41 | R26: 21.41
A27: =RANK(I27,$I$3:$I$72,1) -> 25 | C27: 18 | D27: =IF(přihlášky!$G$58="X",přihlášky!$E$58,přihlášky!$H$58) -> Krygar Josef | E27: =Startovky!E21 -> ÚO České Budějovice | F27: 20.17 | G27: 20.19 | H27: =IF(AND(F27=0,G27=0),"diskval.",IF(AND(F27>0,G27>0),MIN(F27:G27),IF(F27>0,F27,G27))) -> 20.17 | I27: =IF(F27+G27=0,1000,H27+((IF(F27>0,F27,100)+IF(G27>0,G27,100))/100000)) -> 20.170404 | K27: 36 | M27: 17 | N27: Trantina Karel | O27: ÚO Písek | P27: 22.59 | Q27: 21.44 | R27: 21.44
A28: =RANK(I28,$I$3:$I$72,1) -> 26 | C28: 22 | D28: =IF(přihlášky!$G$20="X",přihlášky!$E$20,přihlášky!$H$20) -> Klein Adolf | E28: =Startovky!E25 -> ÚO Český Krumlov | F28: 20.71 | G28: 20.35 | H28: =IF(AND(F28=0,G28=0),"diskval.",IF(AND(F28>0,G28>0),MIN(F28:G28),IF(F28>0,F28,G28))) -> 20.35 | I28: =IF(F28+G28=0,1000,H28+((IF(F28>0,F28,100)+IF(G28>0,G28,100))/100000)) -> 20.350411 | J28: BODY | K28: =RANK(T12,T10:T16,1) -> 4 | R28: =SUM(R22:R27) -> 120.21 | S28: Čas celkem
A29: =RANK(I29,$I$3:$I$72,1) -> 27 | C29: 15 | D29: =IF(přihlášky!$G$19="X",přihlášky!$E$19,přihlášky!$H$19) -> Fučík Jan | E29: =Startovky!E18 -> ÚO Český Krumlov | F29: 20.6 | G29: 21.02 | H29: =IF(AND(F29=0,G29=0),"diskval.",IF(AND(F29>0,G29>0),MIN(F29:G29),IF(F29>0,F29,G29))) -> 20.6 | I29: =IF(F29+G29=0,1000,H29+((IF(F29>0,F29,100)+IF(G29>0,G29,100))/100000)) -> 20.600416
A30: =RANK(I30,$I$3:$I$72,1) -> 28 | C30: 19 | D30: =IF(přihlášky!$G$71="X",přihlášky!$E$71,přihlášky!$H$71) -> Muchl Vladimír | E30: =Startovky!E22 -> ÚO Strakonice | F30: 20.64 | H30: =IF(AND(F30=0,G30=0),"diskval.",IF(AND(F30>0,G30>0),MIN(F30:G30),IF(F30>0,F30,G30))) -> 20.64 | I30: =IF(F30+G30=0,1000,H30+((IF(F30>0,F30,100)+IF(G30>0,G30,100))/100000)) -> 20.641206 | M30: =přihlášky!$C$10 -> ÚO České Budějovice
A31: =RANK(I31,$I$3:$I$72,1) -> 29 | C31: 62 | D31: =IF(přihlášky!$G$90="X",přihlášky!$E$90,přihlášky!$H$90) -> Holý Patrik (věž jednotlivci) | E31: =Startovky!E68 -> ÚO Jindřichův Hradec | F31: 20.89 | G31: 21.25 | H31: =IF(AND(F31=0,G31=0),"diskval.",IF(AND(F31>0,G31>0),MIN(F31:G31),IF(F31>0,F31,G31))) -> 20.89 | I31: =IF(F31+G31=0,1000,H31+((IF(F31>0,F31,100)+IF(G31>0,G31,100))/100000)) -> 20.890421 | J31: 4 | K31: 3 | M31: 53 | N31: Völfel David | O31: ÚO České Budějovice | P31: 18.02 | Q31: 17.61 | R31: 17.61
A32: =RANK(I32,$I$3:$I$72,1) -> 30 | C32: 44 | D32: =IF(přihlášky!$G$36="X",přihlášky!$E$36,přihlášky!$H$36) -> Mareš Jiří | E32: =Startovky!E50 -> ÚO Tábor | F32: 20.96 | H32: =IF(AND(F32=0,G32=0),"diskval.",IF(AND(F32>0,G32>0),MIN(F32:G32),IF(F32>0,F32,G32))) -> 20.96 | I32: =IF(F32+G32=0,1000,H32+((IF(F32>0,F32,100)+IF(G32>0,G32,100))/100000)) -> 20.96121 | K32: 4 | M32: 25 | N32: Hájek David | O32: ÚO České Budějovice | P32: 19.68 | Q32: 17.68 | R32: 17.68
A33: =RANK(I33,$I$3:$I$72,1) -> 31 | C33: 12 | D33: =IF(přihlášky!$G$70="X",přihlášky!$E$70,přihlášky!$H$70) -> Stibor Jiří | E33: =Startovky!E15 -> ÚO Strakonice | F33: 21.13 | H33: =IF(AND(F33=0,G33=0),"diskval.",IF(AND(F33>0,G33>0),MIN(F33:G33),IF(F33>0,F33,G33))) -> 21.13 | I33: =IF(F33+G33=0,1000,H33+((IF(F33>0,F33,100)+IF(G33>0,G33,100))/100000)) -> 21.131211 | K33: 5 | M33: 60 | N33: Nýdl Jakub | O33: ÚO České Budějovice | P33: 18.47 | Q33: 18.12 | R33: 18.12
A34: =RANK(I34,$I$3:$I$72,1) -> 32 | C34: 36 | D34: =IF(přihlášky!$G$22="X",přihlášky!$E$22,přihlášky!$H$22) -> Ottenschläger Václav | E34: =Startovky!E39 -> ÚO Český Krumlov | F34: 21.17 | G34: 21.74 | H34: =IF(AND(F34=0,G34=0),"diskval.",IF(AND(F34>0,G34>0),MIN(F34:G34),IF(F34>0,F34,G34))) -> 21.17 | I34: =IF(F34+G34=0,1000,H34+((IF(F34>0,F34,100)+IF(G34>0,G34,100))/100000)) -> 21.170429 | K34: 14 | M34: 11 | N34: Ježek Jan | O34: ÚO České Budějovice | P34: 20 | Q34: 19.31 | R34: 19.31
A35: =RANK(I35,$I$3:$I$72,1) -> 33 | C35: 43 | D35: =IF(přihlášky!$G$23="X",přihlášky!$E$23,přihlášky!$H$23) -> Klíma Miloslav | E35: =Startovky!E49 -> ÚO Český Krumlov | F35: 21.19 | H35: =IF(AND(F35=0,G35=0),"diskval.",IF(AND(F35>0,G35>0),MIN(F35:G35),IF(F35>0,F35,G35))) -> 21.19 | I35: =IF(F35+G35=0,1000,H35+((IF(F35>0,F35,100)+IF(G35>0,G35,100))/100000)) -> 21.191212 | K35: 16 | M35: 32 | N35: Měřička Michal | O35: ÚO České Budějovice | P35: 19.91 | Q35: 19.37 | R35: 19.37
A36: =RANK(I36,$I$3:$I$72,1) -> 34 | C36: 8 | D36: =IF(přihlášky!$G$18="X",přihlášky!$E$18,přihlášky!H17) -> Dvořák Petr | E36: =Startovky!E11 -> ÚO Český Krumlov | F36: 21.77 | G36: 21.28 | H36: =IF(AND(F36=0,G36=0),"diskval.",IF(AND(F36>0,G36>0),MIN(F36:G36),IF(F36>0,F36,G36))) -> 21.28 | I36: =IF(F36+G36=0,1000,H36+((IF(F36>0,F36,100)+IF(G36>0,G36,100))/100000)) -> 21.280431 | K36: 18 | M36: 4 | N36: Hasík Juraj | O36: ÚO České Budějovice | P36: 19.53 | R36: 19.53
A37: =RANK(I37,$I$3:$I$72,1) -> 35 | C37: 59 | D37: =IF(přihlášky!$G$51="X",přihlášky!$E$51,přihlášky!$H$51) -> Koller Petr | E37: =Startovky!E65 -> ÚO Písek | F37: 21.71 | G37: 21.41 | H37: =IF(AND(F37=0,G37=0),"diskval.",IF(AND(F37>0,G37>0),MIN(F37:G37),IF(F37>0,F37,G37))) -> 21.41 | I37: =IF(F37+G37=0,1000,H37+((IF(F37>0,F37,100)+IF(G37>0,G37,100))/100000)) -> 21.410431 | J37: BODY | K37: =RANK(T13,T10:T16,1) -> 1 | R37: =SUM(R31:R36) -> 111.62 | S37: Čas celkem
A38: =RANK(I38,$I$3:$I$72,1) -> 36 | C38: 17 | D38: =IF(přihlášky!$G$45="X",přihlášky!$E$45,přihlášky!$H$45) -> Trantina Karel | E38: =Startovky!E20 -> ÚO Písek | F38: 22.59 | G38: 21.44 | H38: =IF(AND(F38=0,G38=0),"diskval.",IF(AND(F38>0,G38>0),MIN(F38:G38),IF(F38>0,F38,G38))) -> 21.44 | I38: =IF(F38+G38=0,1000,H38+((IF(F38>0,F38,100)+IF(G38>0,G38,100))/100000)) -> 21.44044
A39: =RANK(I39,$I$3:$I$72,1) -> 37 | C39: 40 | D39: =IF(přihlášky!$G$74="X",přihlášky!$E$74,přihlášky!$H$74) -> Vaňač Aleš | E39: =Startovky!E46 -> ÚO Strakonice | F39: 21.48 | H39: =IF(AND(F39=0,G39=0),"diskval.",IF(AND(F39>0,G39>0),MIN(F39:G39),IF(F39>0,F39,G39))) -> 21.48 | I39: =IF(F39+G39=0,1000,H39+((IF(F39>0,F39,100)+IF(G39>0,G39,100))/100000)) -> 21.481215 | M39: =přihlášky!$C$11 -> ÚO Strakonice
A40: =RANK(I40,$I$3:$I$72,1) -> 38 | C40: 45 | D40: =IF(přihlášky!$G$49="X",přihlášky!$E$49,přihlášky!$H$49) -> Bláha Petr | E40: =Startovky!E51 -> ÚO Písek | G40: 21.5 | H40: =IF(AND(F40=0,G40=0),"diskval.",IF(AND(F40>0,G40>0),MIN(F40:G40),IF(F40>0,F40,G40))) -> 21.5 | I40: =IF(F40+G40=0,1000,H40+((IF(F40>0,F40,100)+IF(G40>0,G40,100))/100000)) -> 21.501215 | J40: 5 | K40: 1 | M40: 33 | N40: Pěnča Ivan | O40: ÚO Strakonice | P40: 18.23 | Q40: 17.48 | R40: 17.48
A41: =RANK(I41,$I$3:$I$72,1) -> 39 | C41: 50 | D41: =IF(přihlášky!$G$24="X",přihlášky!$E$24,přihlášky!$H$24) -> Bartuška Jiří | E41: =Startovky!E56 -> ÚO Český Krumlov | G41: 21.81 | H41: =IF(AND(F41=0,G41=0),"diskval.",IF(AND(F41>0,G41>0),MIN(F41:G41),IF(F41>0,F41,G41))) -> 21.81 | I41: =IF(F41+G41=0,1000,H41+((IF(F41>0,F41,100)+IF(G41>0,G41,100))/100000)) -> 21.811218 | K41: 28 | M41: 19 | N41: Muchl Vladimír | O41: ÚO Strakonice | P41: 20.64 | R41: 20.64
A42: =RANK(I42,$I$3:$I$72,1) -> 40 | C42: 26 | D42: =IF(přihlášky!$G$72="X",přihlášky!$E$72,přihlášky!$H$72) -> Božka Martin | E42: =Startovky!E29 -> ÚO Strakonice | F42: 21.98 | G42: 21.83 | H42: =IF(AND(F42=0,G42=0),"diskval.",IF(AND(F42>0,G42>0),MIN(F42:G42),IF(F42>0,F42,G42))) -> 21.83 | I42: =IF(F42+G42=0,1000,H42+((IF(F42>0,F42,100)+IF(G42>0,G42,100))/100000)) -> 21.830438 | K42: 31 | M42: 12 | N42: Stibor Jiří | O42: ÚO Strakonice | P42: 21.13 | R42: 21.13
A43: =RANK(I43,$I$3:$I$72,1) -> 41 | C43: 37 | D43: =IF(přihlášky!$G$35="X",přihlášky!$E$35,přihlášky!$H$35) -> Průcha Josef | E43: =Startovky!E43 -> ÚO Tábor | F43: 22.52 | G43: 21.95 | H43: =IF(AND(F43=0,G43=0),"diskval.",IF(AND(F43>0,G43>0),MIN(F43:G43),IF(F43>0,F43,G43))) -> 21.95 | I43: =IF(F43+G43=0,1000,H43+((IF(F43>0,F43,100)+IF(G43>0,G43,100))/100000)) -> 21.950445 | K43: 37 | M43: 40 | N43: Vaňač Aleš | O43: ÚO Strakonice | P43: 21.48 | R43: 21.48
A44: =RANK(I44,$I$3:$I$72,1) -> 42 | C44: 10 | D44: =IF(přihlášky!$G$44="X",přihlášky!$E$44,přihlášky!$H$44) -> Horský Marek | E44: =Startovky!E13 -> ÚO Písek | F44: 22.06 | H44: =IF(AND(F44=0,G44=0),"diskval.",IF(AND(F44>0,G44>0),MIN(F44:G44),IF(F44>0,F44,G44))) -> 22.06 | I44: =IF(F44+G44=0,1000,H44+((IF(F44>0,F44,100)+IF(G44>0,G44,100))/100000)) -> 22.061221 | K44: 40 | M44: 26 | N44: Božka Martin | O44: ÚO Strakonice | P44: 21.98 | Q44: 21.83 | R44: 21.83
A45: =RANK(I45,$I$3:$I$72,1) -> 43 | C45: 30 | D45: =IF(přihlášky!$G$34="X",přihlášky!$E$34,přihlášky!$H$34) -> Falada Denis | E45: =Startovky!E33 -> ÚO Tábor | G45: 22.18 | H45: =IF(AND(F45=0,G45=0),"diskval.",IF(AND(F45>0,G45>0),MIN(F45:G45),IF(F45>0,F45,G45))) -> 22.18 | I45: =IF(F45+G45=0,1000,H45+((IF(F45>0,F45,100)+IF(G45>0,G45,100))/100000)) -> 22.181222 | K45: 44 | M45: 5 | N45: Krupka Luboš | O45: ÚO Strakonice | P45: 22.22 | R45: 22.22
A46: =RANK(I46,$I$3:$I$72,1) -> 44 | C46: 5 | D46: =IF(přihlášky!$G$69="X",přihlášky!$E$69,přihlášky!$H$69) -> Krupka Luboš | E46: =Startovky!E8 -> ÚO Strakonice | F46: 22.22 | H46: =IF(AND(F46=0,G46=0),"diskval.",IF(AND(F46>0,G46>0),MIN(F46:G46),IF(F46>0,F46,G46))) -> 22.22 | I46: =IF(F46+G46=0,1000,H46+((IF(F46>0,F46,100)+IF(G46>0,G46,100))/100000)) -> 22.221222 | J46: BODY | K46: =RANK(T14,T10:T16,1) -> 6 | R46: =SUM(R40:R45) -> 124.78 | S46: Čas celkem
A47: =RANK(I47,$I$3:$I$72,1) -> 45 | C47: 49 | D47: =IF(přihlášky!$G$101="X",přihlášky!$E$101,přihlášky!$H$101) -> Vozandych Petr | E47: =Startovky!E55 -> ÚO Prachatice | F47: 23.36 | G47: 22.83 | H47: =IF(AND(F47=0,G47=0),"diskval.",IF(AND(F47>0,G47>0),MIN(F47:G47),IF(F47>0,F47,G47))) -> 22.83 | I47: =IF(F47+G47=0,1000,H47+((IF(F47>0,F47,100)+IF(G47>0,G47,100))/100000)) -> 22.830462
A48: =RANK(I48,$I$3:$I$72,1) -> 46 | C48: 7 | D48: =IF(přihlášky!$G$95="X",přihlášky!$E$95,přihlášky!$H$95) -> Cais Martin | E48: =Startovky!E10 -> ÚO Prachatice | F48: 26.61 | G48: 22.89 | H48: =IF(AND(F48=0,G48=0),"diskval.",IF(AND(F48>0,G48>0),MIN(F48:G48),IF(F48>0,F48,G48))) -> 22.89 | I48: =IF(F48+G48=0,1000,H48+((IF(F48>0,F48,100)+IF(G48>0,G48,100))/100000)) -> 22.890495 | M48: =přihlášky!$C$12 -> ÚO Jindřichův Hradec
A49: =RANK(I49,$I$3:$I$72,1) -> 47 | C49: 63 | D49: =IF(přihlášky!$G$103="X",přihlášky!$E$103,přihlášky!$H$103) -> Beneš Petr | E49: =Startovky!E69 -> ÚO Prachatice | F49: 25.11 | G49: 23.05 | H49: =IF(AND(F49=0,G49=0),"diskval.",IF(AND(F49>0,G49>0),MIN(F49:G49),IF(F49>0,F49,G49))) -> 23.05 | I49: =IF(F49+G49=0,1000,H49+((IF(F49>0,F49,100)+IF(G49>0,G49,100))/100000)) -> 23.050482 | J49: 6 | K49: 6 | M49: 27 | N49: Bašta Vojtěch | O49: ÚO Jindřichův Hradec | P49: 18.66 | Q49: 18.48 | R49: 18.48
A50: =RANK(I50,$I$3:$I$72,1) -> 48 | C50: 42 | D50: =IF(přihlášky!$G$100="X",přihlášky!$E$100,přihlášky!$H$100) -> Myslivec Jan | E50: =Startovky!E48 -> ÚO Prachatice | F50: 23.13 | G50: 24.03 | H50: =IF(AND(F50=0,G50=0),"diskval.",IF(AND(F50>0,G50>0),MIN(F50:G50),IF(F50>0,F50,G50))) -> 23.13 | I50: =IF(F50+G50=0,1000,H50+((IF(F50>0,F50,100)+IF(G50>0,G50,100))/100000)) -> 23.130472 | K50: 9 | M50: 20 | N50: Janů Pavel | O50: ÚO Jindřichův Hradec | P50: 18.92 | Q50: 18.86 | R50: 18.86
A51: =RANK(I51,$I$3:$I$72,1) -> 49 | C51: 29 | D51: =IF(přihlášky!$G$21="X",přihlášky!$E$21,přihlášky!$H$21) -> Dudák Jakub | E51: =Startovky!E32 -> ÚO Český Krumlov | G51: 23.49 | H51: =IF(AND(F51=0,G51=0),"diskval.",IF(AND(F51>0,G51>0),MIN(F51:G51),IF(F51>0,F51,G51))) -> 23.49 | I51: =IF(F51+G51=0,1000,H51+((IF(F51>0,F51,100)+IF(G51>0,G51,100))/100000)) -> 23.491235 | K51: 10 | M51: 34 | N51: Kučera Jan | O51: ÚO Jindřichův Hradec | P51: 20.65 | Q51: 18.86 | R51: 18.86
A52: =RANK(I52,$I$3:$I$72,1) -> 50 | C52: 35 | D52: =IF(přihlášky!$G$99="X",přihlášky!$E$99,přihlášky!$H$99) -> Uhlíř Josef | E52: =Startovky!E38 -> ÚO Prachatice | F52: 23.54 | G52: 23.8 | H52: =IF(AND(F52=0,G52=0),"diskval.",IF(AND(F52>0,G52>0),MIN(F52:G52),IF(F52>0,F52,G52))) -> 23.54 | I52: =IF(F52+G52=0,1000,H52+((IF(F52>0,F52,100)+IF(G52>0,G52,100))/100000)) -> 23.540473 | K52: 12 | M52: 41 | N52: Huml Ondřej | O52: ÚO Jindřichův Hradec | P52: 19.95 | Q52: 18.97 | R52: 18.97
A53: =RANK(I53,$I$3:$I$72,1) -> 51 | C53: 58 | D53: =IF(přihlášky!$G$38="X",přihlášky!$E$38,přihlášky!$H$38) -> Baránek Václav (100m jednotlivci) | E53: =Startovky!E64 -> ÚO Tábor | F53: 23.64 | H53: =IF(AND(F53=0,G53=0),"diskval.",IF(AND(F53>0,G53>0),MIN(F53:G53),IF(F53>0,F53,G53))) -> 23.64 | I53: =IF(F53+G53=0,1000,H53+((IF(F53>0,F53,100)+IF(G53>0,G53,100))/100000)) -> 23.641236 | K53: 21 | M53: 6 | N53: Šmíd Stanislav | O53: ÚO Jindřichův Hradec | P53: 20.21 | Q53: 19.96 | R53: 19.96
A54: =RANK(I54,$I$3:$I$72,1) -> 52 | C54: 47 | D54: =IF(přihlášky!$G$75="X",přihlášky!$E$75,přihlášky!$H$75) -> Štolba František (věž jednotlici) | E54: =Startovky!E53 -> ÚO Strakonice | F54: 31.28 | G54: 23.84 | H54: =IF(AND(F54=0,G54=0),"diskval.",IF(AND(F54>0,G54>0),MIN(F54:G54),IF(F54>0,F54,G54))) -> 23.84 | I54: =IF(F54+G54=0,1000,H54+((IF(F54>0,F54,100)+IF(G54>0,G54,100))/100000)) -> 23.840551 | K54: 22 | M54: 48 | N54: Šenkýř Marek | O54: ÚO Jindřichův Hradec | P54: 20.2 | Q54: 20.04 | R54: 20.04
A55: =RANK(I55,$I$3:$I$72,1) -> 53 | C55: 14 | D55: =IF(přihlášky!$G$96="X",přihlášky!$E$96,přihlášky!$H$96) -> Šmajcl František | E55: =Startovky!E17 -> ÚO Prachatice | F55: 23.98 | H55: =IF(AND(F55=0,G55=0),"diskval.",IF(AND(F55>0,G55>0),MIN(F55:G55),IF(F55>0,F55,G55))) -> 23.98 | I55: =IF(F55+G55=0,1000,H55+((IF(F55>0,F55,100)+IF(G55>0,G55,100))/100000)) -> 23.98124 | J55: BODY | K55: =RANK(T15,T10:T16,1) -> 2 | R55: =SUM(R49:R54) -> 115.17 | S55: Čas celkem
A56: =RANK(I56,$I$3:$I$72,1) -> 54 | C56: 51 | D56: =IF(přihlášky!$G$37="X",přihlášky!$E$37,přihlášky!$H$37) -> Havelka Mikuláš | E56: =Startovky!E57 -> ÚO Tábor | F56: 28.7 | G56: 25.69 | H56: =IF(AND(F56=0,G56=0),"diskval.",IF(AND(F56>0,G56>0),MIN(F56:G56),IF(F56>0,F56,G56))) -> 25.69 | I56: =IF(F56+G56=0,1000,H56+((IF(F56>0,F56,100)+IF(G56>0,G56,100))/100000)) -> 25.690544
A57: =RANK(I57,$I$3:$I$72,1) -> 55 | C57: 3 | D57: =IF(přihlášky!$G$43="X",přihlášky!$E$43,přihlášky!$H$43) -> Nestartuje | E57: =Startovky!E6 -> ÚO Písek | H57: =IF(AND(F57=0,G57=0),"diskval.",IF(AND(F57>0,G57>0),MIN(F57:G57),IF(F57>0,F57,G57))) -> diskval. | I57: =IF(F57+G57=0,1000,H57+((IF(F57>0,F57,100)+IF(G57>0,G57,100))/100000)) -> 1000 | M57: =přihlášky!$C$13 -> ÚO Prachatice
A58: =RANK(I58,$I$3:$I$72,1) -> 55 | C58: 13 | D58: =IF(přihlášky!$G$83="X",přihlášky!$E$83,přihlášky!$H$83) -> Nestartuje | E58: =Startovky!E16 -> ÚO Jindřichův Hradec | H58: =IF(AND(F58=0,G58=0),"diskval.",IF(AND(F58>0,G58>0),MIN(F58:G58),IF(F58>0,F58,G58))) -> diskval. | I58: =IF(F58+G58=0,1000,H58+((IF(F58>0,F58,100)+IF(G58>0,G58,100))/100000)) -> 1000 | J58: 7 | K58: 7 | M58: 21 | N58: Študlar Petr | O58: ÚO Prachatice | P58: 19.32 | Q58: 18.63 | R58: 18.63
A59: =RANK(I59,$I$3:$I$72,1) -> 55 | C59: 28 | D59: =IF(přihlášky!$G$98="X",přihlášky!$E$98,přihlášky!$H$98) -> Vodrášek Josef | E59: =Startovky!E31 -> ÚO Prachatice | H59: =IF(AND(F59=0,G59=0),"diskval.",IF(AND(F59>0,G59>0),MIN(F59:G59),IF(F59>0,F59,G59))) -> diskval. | I59: =IF(F59+G59=0,1000,H59+((IF(F59>0,F59,100)+IF(G59>0,G59,100))/100000)) -> 1000 | K59: 45 | M59: 49 | N59: Vozandych Petr | O59: ÚO Prachatice | P59: 23.36 | Q59: 22.83 | R59: 22.83
A60: =RANK(I60,$I$3:$I$72,1) -> 55 | C60: 46 | D60: =IF(přihlášky!$G$62="X",přihlášky!$E$62,přihlášky!$H$62) -> Nestartuje | E60: =Startovky!E52 -> ÚO České Budějovice | H60: =IF(AND(F60=0,G60=0),"diskval.",IF(AND(F60>0,G60>0),MIN(F60:G60),IF(F60>0,F60,G60))) -> diskval. | I60: =IF(F60+G60=0,1000,H60+((IF(F60>0,F60,100)+IF(G60>0,G60,100))/100000)) -> 1000 | K60: 46 | M60: 7 | N60: Cais Martin | O60: ÚO Prachatice | P60: 26.61 | Q60: 22.89 | R60: 22.89
A61: =RANK(I61,$I$3:$I$72,1) -> 55 | C61: 52 | D61: =IF(přihlášky!$G$50="X",přihlášky!$E$50,přihlášky!$H$50) -> Brož Lukáš | E61: =Startovky!E58 -> ÚO Písek | H61: =IF(AND(F61=0,G61=0),"diskval.",IF(AND(F61>0,G61>0),MIN(F61:G61),IF(F61>0,F61,G61))) -> diskval. | I61: =IF(F61+G61=0,1000,H61+((IF(F61>0,F61,100)+IF(G61>0,G61,100))/100000)) -> 1000 | K61: 47 | M61: 63 | N61: Beneš Petr | O61: ÚO Prachatice | P61: 25.11 | Q61: 23.05 | R61: 23.05
A62: =RANK(I62,$I$3:$I$72,1) -> 55 | C62: 54 | D62: =IF(přihlášky!$G$76="X",přihlášky!$E$76,přihlášky!$H$76) -> Nestartuje | E62: =Startovky!E60 -> ÚO Strakonice | H62: =IF(AND(F62=0,G62=0),"diskval.",IF(AND(F62>0,G62>0),MIN(F62:G62),IF(F62>0,F62,G62))) -> diskval. | I62: =IF(F62+G62=0,1000,H62+((IF(F62>0,F62,100)+IF(G62>0,G62,100))/100000)) -> 1000 | K62: 48 | M62: 42 | N62: Myslivec Jan | O62: ÚO Prachatice | P62: 23.13 | Q62: 24.03 | R62: 23.13
A63: =RANK(I63,$I$3:$I$72,1) -> 55 | C63: 55 | D63: =IF(přihlášky!$G$89="X",přihlášky!$E$89,přihlášky!$H$89) -> Janů František | E63: =Startovky!E61 -> ÚO Jindřichův Hradec | H63: =IF(AND(F63=0,G63=0),"diskval.",IF(AND(F63>0,G63>0),MIN(F63:G63),IF(F63>0,F63,G63))) -> diskval. | I63: =IF(F63+G63=0,1000,H63+((IF(F63>0,F63,100)+IF(G63>0,G63,100))/100000)) -> 1000 | K63: 50 | M63: 35 | N63: Uhlíř Josef | O63: ÚO Prachatice | P63: 23.54 | Q63: 23.8 | R63: 23.54
A64: =RANK(I64,$I$3:$I$72,1) -> 55 | C64: 56 | D64: =IF(přihlášky!$G$102="X",přihlášky!$E$102,přihlášky!$H$102) -> Nestartuje | E64: =Startovky!E62 -> ÚO Prachatice | H64: =IF(AND(F64=0,G64=0),"diskval.",IF(AND(F64>0,G64>0),MIN(F64:G64),IF(F64>0,F64,G64))) -> diskval. | I64: =IF(F64+G64=0,1000,H64+((IF(F64>0,F64,100)+IF(G64>0,G64,100))/100000)) -> 1000 | J64: BODY | K64: =RANK(T16,T10:T16,1) -> 7 | R64: =SUM(R58:R63) -> 134.07 | S64: Čas celkem
A65: =RANK(I65,$I$3:$I$72,1) -> 55 | C65: 57 | D65: =IF(přihlášky!$G$25="X",přihlášky!$E$25,přihlášky!$H$25) -> Marek Jakub (jednotlivci) | E65: =Startovky!E63 -> ÚO Český Krumlov | H65: =IF(AND(F65=0,G65=0),"diskval.",IF(AND(F65>0,G65>0),MIN(F65:G65),IF(F65>0,F65,G65))) -> diskval. | I65: =IF(F65+G65=0,1000,H65+((IF(F65>0,F65,100)+IF(G65>0,G65,100))/100000)) -> 1000 | M65: V disciplínách běh na 100 m s překážkami a výstup do 4. podlaží cvičné věže rozhod-ne o pořadí družstva součet lepších časů šesti nejlépe umístěných členů družstva. V disciplíně běh na 100 m s překážkami a výstup do 4. podlaží cvičné věže se stane vítězem soutěžící, který dosáhne nejlepšího času. V případě, že dva nebo více soutěžících dosáhnou stejných lepších časů, rozhodne o jejich umístění součet časů z obou pokusů. Bude-li i tento výsledek stejný, budou soutěžící hodnoceni na stejném pořadí.Pokud o umístění rozhoduje součet časů z více pokusů, jsou hodnoceni lépe soutěžící, kteří splní více pokusů.
A66: =RANK(I66,$I$3:$I$72,1) -> 55 | C66: 61 | D66: =IF(přihlášky!$G$77="X",přihlášky!$E$77,přihlášky!$H$77) -> Nestartuje | E66: =Startovky!E67 -> ÚO Strakonice | H66: =IF(AND(F66=0,G66=0),"diskval.",IF(AND(F66>0,G66>0),MIN(F66:G66),IF(F66>0,F66,G66))) -> diskval. | I66: =IF(F66+G66=0,1000,H66+((IF(F66>0,F66,100)+IF(G66>0,G66,100))/100000)) -> 1000
A67: =RANK(I67,$I$3:$I$72,1) -> 55 | C67: 64 | D67: =IF(přihlášky!$G$26="X",přihlášky!$E$26,přihlášky!$H$26) -> Balog Jiří (ÚO ST - jednotlivci) | E67: =Startovky!E70 -> ÚO Strakonice | H67: =IF(AND(F67=0,G67=0),"diskval.",IF(AND(F67>0,G67>0),MIN(F67:G67),IF(F67>0,F67,G67))) -> diskval. | I67: =IF(F67+G67=0,1000,H67+((IF(F67>0,F67,100)+IF(G67>0,G67,100))/100000)) -> 1000
A68: =RANK(I68,$I$3:$I$72,1) -> 55 | C68: 65 | D68: =IF(přihlášky!$G$39="X",přihlášky!$E$39,přihlášky!$H$39) -> Nestartuje | E68: =Startovky!E71 -> ÚO Tábor | H68: =IF(AND(F68=0,G68=0),"diskval.",IF(AND(F68>0,G68>0),MIN(F68:G68),IF(F68>0,F68,G68))) -> diskval. | I68: =IF(F68+G68=0,1000,H68+((IF(F68>0,F68,100)+IF(G68>0,G68,100))/100000)) -> 1000
A69: =RANK(I69,$I$3:$I$72,1) -> 55 | C69: 67 | D69: =IF(přihlášky!$G$65="X",přihlášky!$E$65,přihlášky!$H$65) -> Nestartuje | E69: =Startovky!E73 -> ÚO České Budějovice | H69: =IF(AND(F69=0,G69=0),"diskval.",IF(AND(F69>0,G69>0),MIN(F69:G69),IF(F69>0,F69,G69))) -> diskval. | I69: =IF(F69+G69=0,1000,H69+((IF(F69>0,F69,100)+IF(G69>0,G69,100))/100000)) -> 1000
A70: =RANK(I70,$I$3:$I$72,1) -> 55 | C70: 68 | D70: =IF(přihlášky!$G$78="X",přihlášky!$E$78,přihlášky!$H$78) -> Nestartuje | E70: =Startovky!E74 -> ÚO Strakonice | H70: =IF(AND(F70=0,G70=0),"diskval.",IF(AND(F70>0,G70>0),MIN(F70:G70),IF(F70>0,F70,G70))) -> diskval. | I70: =IF(F70+G70=0,1000,H70+((IF(F70>0,F70,100)+IF(G70>0,G70,100))/100000)) -> 1000
A71: =RANK(I71,$I$3:$I$72,1) -> 55 | C71: 69 | D71: =IF(přihlášky!$G$91="X",přihlášky!$E$91,přihlášky!$H$91) -> Nestartuje | E71: =Startovky!E75 -> ÚO Jindřichův Hradec | H71: =IF(AND(F71=0,G71=0),"diskval.",IF(AND(F71>0,G71>0),MIN(F71:G71),IF(F71>0,F71,G71))) -> diskval. | I71: =IF(F71+G71=0,1000,H71+((IF(F71>0,F71,100)+IF(G71>0,G71,100))/100000)) -> 1000
A72: =RANK(I72,$I$3:$I$72,1) -> 55 | C72: 70 | D72: =IF(přihlášky!$G$104="X",přihlášky!$E$104,přihlášky!$H$104) -> Nestartuje | E72: =Startovky!E76 -> ÚO Prachatice | H72: =IF(AND(F72=0,G72=0),"diskval.",IF(AND(F72>0,G72>0),MIN(F72:G72),IF(F72>0,F72,G72))) -> diskval. | I72: =IF(F72+G72=0,1000,H72+((IF(F72>0,F72,100)+IF(G72>0,G72,100))/100000)) -> 1000

Sheet dvojboj
C1: Výsledková listina dvojboj
A2: Pořadí | C2: Start. č. | D2: Jméno | E2: stanice | F2: započ. čas věž | G2: započ. čas 100m | H2: čas dvojboj | I2: horší pok. věž | J2: horší pok. 100m | K2: elimin. stejného pořadí
A3: =RANK(K3,$K$3:$K$72,1) -> 1 | C3: 33 | D3: =IF(přihlášky!$F$73="X",přihlášky!$E$73,přihlášky!$H$73) -> Pěnča Ivan | E3: =Startovky!E36 -> ÚO Strakonice | F3: 15.87 | G3: 17.48 | H3: =IF(OR(F3="diskval.",G3="diskval."),"diskval.",F3+G3) -> 33.35 | I3: =IF(OR(věž!F63=0,věž!G63=0),100,MAX(věž!F63:G63)) -> 100 | J3: =IF(OR('100m'!F63=0,'100m'!G63=0),100,MAX('100m'!F63:G63)) -> 100 | K3: =IF(H3="diskval.",1000,H3+((IF(I3>0,I3,100)+IF(J3>0,J3,100))/100000)) -> 33.352 | M3: Ve dvojboji se stane vítězem soutěžící, který dosáhne nejnižšího součtu časů úspěš-nějších pokusů v disciplínách běh na 100 m s překážkami a výstup do 4. podlaží cvičné věže. V případě, že dva nebo více soutěžících dosáhnou součtu stejných lepších časů, rozhodne o jejich umístění součet časů z horších pokusů v obou disciplínách. Bude-li i tento výsledek stejný, budou soutěžící hodnoceni na stejném pořadí.
A4: =RANK(K4,$K$3:$K$72,1) -> 2 | B4: 25 | C4: 16 | D4: =IF(přihlášky!$F$32="X",přihlášky!$E$32,přihlášky!$H$32) -> Knotek Radim | E4: =Startovky!E19 -> ÚO Tábor | F4: 17.02 | G4: 17.48 | H4: =IF(OR(F4="diskval.",G4="diskval."),"diskval.",F4+G4) -> 34.5 | I4: =IF(OR(věž!F38=0,věž!G38=0),100,MAX(věž!F38:G38)) -> 23.48 | J4: =IF(OR('100m'!F38=0,'100m'!G38=0),100,MAX('100m'!F38:G38)) -> 22.59 | K4: =IF(H4="diskval.",1000,H4+((IF(I4>0,I4,100)+IF(J4>0,J4,100))/100000)) -> 34.500461
A5: =RANK(K5,$K$3:$K$72,1) -> 3 | C5: 31 | D5: =IF(přihlášky!$F$47="X",přihlášky!$E$47,přihlášky!$H$47) -> Píbal Jiří | E5: =Startovky!E34 -> ÚO Písek | F5: 15.96 | G5: 19.1 | H5: =IF(OR(F5="diskval.",G5="diskval."),"diskval.",F5+G5) -> 35.06 | I5: =IF(OR(věž!F11=0,věž!G11=0),100,MAX(věž!F11:G11)) -> 17.97 | J5: =IF(OR('100m'!F11=0,'100m'!G11=0),100,MAX('100m'!F11:G11)) -> 18.92 | K5: =IF(H5="diskval.",1000,H5+((IF(I5>0,I5,100)+IF(J5>0,J5,100))/100000)) -> 35.060369
A6: =RANK(K6,$K$3:$K$72,1) -> 4 | C6: 27 | D6: =IF(přihlášky!$F$85="X",přihlášky!$E$85,přihlášky!$H$85) -> Bašta Vojtěch | E6: =Startovky!E30 -> ÚO Jindřichův Hradec | F6: 16.81 | G6: 18.48 | H6: =IF(OR(F6="diskval.",G6="diskval."),"diskval.",F6+G6) -> 35.29 | I6: =IF(OR(věž!F66=0,věž!G66=0),100,MAX(věž!F66:G66)) -> 100 | J6: =IF(OR('100m'!F66=0,'100m'!G66=0),100,MAX('100m'!F66:G66)) -> 100 | K6: =IF(H6="diskval.",1000,H6+((IF(I6>0,I6,100)+IF(J6>0,J6,100))/100000)) -> 35.292
A7: =RANK(K7,$K$3:$K$72,1) -> 5 | C7: 11 | D7: =IF(přihlášky!$F$57="X",přihlášky!$E$57,přihlášky!$H$57) -> Ježek Jan | E7: =Startovky!E14 -> ÚO České Budějovice | F7: 16.1 | G7: 19.31 | H7: =IF(OR(F7="diskval.",G7="diskval."),"diskval.",F7+G7) -> 35.41 | I7: =IF(OR(věž!F36=0,věž!G36=0),100,MAX(věž!F36:G36)) -> 33.29 | J7: =IF(OR('100m'!F36=0,'100m'!G36=0),100,MAX('100m'!F36:G36)) -> 21.77 | K7: =IF(H7="diskval.",1000,H7+((IF(I7>0,I7,100)+IF(J7>0,J7,100))/100000)) -> 35.410551
A8: =RANK(K8,$K$3:$K$72,1) -> 6 | C8: 24 | D8: =IF(přihlášky!$F$46="X",přihlášky!$E$46,přihlášky!$H$46) -> Jirout Patrik | E8: =Startovky!E27 -> ÚO Písek | F8: 16.89 | G8: 18.7 | H8: =IF(OR(F8="diskval.",G8="diskval."),"diskval.",F8+G8) -> 35.59 | I8: =IF(OR(věž!F58=0,věž!G58=0),100,MAX(věž!F58:G58)) -> 36.53 | J8: =IF(OR('100m'!F58=0,'100m'!G58=0),100,MAX('100m'!F58:G58)) -> 100 | K8: =IF(H8="diskval.",1000,H8+((IF(I8>0,I8,100)+IF(J8>0,J8,100))/100000)) -> 35.591365
A9: =RANK(K9,$K$3:$K$72,1) -> 7 | C9: 20 | D9: =IF(přihlášky!$F$84="X",přihlášky!$E$84,přihlášky!$H$84) -> Janů Pavel | E9: =Startovky!E23 -> ÚO Jindřichův Hradec | F9: 17.55 | G9: 18.86 | H9: =IF(OR(F9="diskval.",G9="diskval."),"diskval.",F9+G9) -> 36.41 | I9: =IF(OR(věž!F25=0,věž!G25=0),100,MAX(věž!F25:G25)) -> 21.05 | J9: =IF(OR('100m'!F25=0,'100m'!G25=0),100,MAX('100m'!F25:G25)) -> 100 | K9: =IF(H9="diskval.",1000,H9+((IF(I9>0,I9,100)+IF(J9>0,J9,100))/100000)) -> 36.41121
A10: =RANK(K10,$K$3:$K$72,1) -> 8 | C10: 6 | D10: =IF(přihlášky!$F$82="X",přihlášky!$E$82,přihlášky!$H$82) -> Šmíd Stanislav | E10: =Startovky!E9 -> ÚO Jindřichův Hradec | F10: 16.61 | G10: 19.96 | H10: =IF(OR(F10="diskval.",G10="diskval."),"diskval.",F10+G10) -> 36.57 | I10: =IF(OR(věž!F49=0,věž!G49=0),100,MAX(věž!F49:G49)) -> 29.82 | J10: =IF(OR('100m'!F49=0,'100m'!G49=0),100,MAX('100m'!F49:G49)) -> 25.11 | K10: =IF(H10="diskval.",1000,H10+((IF(I10>0,I10,100)+IF(J10>0,J10,100))/100000)) -> 36.570549
A11: =RANK(K11,$K$3:$K$72,1) -> 9 | C11: 25 | D11: =IF(přihlášky!$F$59="X",přihlášky!$E$59,přihlášky!$H$59) -> Hájek David | E11: =Startovky!E28 -> ÚO České Budějovice | F11: 19.29 | G11: 17.68 | H11: =IF(OR(F11="diskval.",G11="diskval."),"diskval.",F11+G11) -> 36.97 | I11: =IF(OR(věž!F28=0,věž!G28=0),100,MAX(věž!F28:G28)) -> 21 | J11: =IF(OR('100m'!F28=0,'100m'!G28=0),100,MAX('100m'!F28:G28)) -> 20.71 | K11: =IF(H11="diskval.",1000,H11+((IF(I11>0,I11,100)+IF(J11>0,J11,100))/100000)) -> 36.970417
A12: =RANK(K12,$K$3:$K$72,1) -> 10 | C12: 32 | D12: =IF(přihlášky!$F$60="X",přihlášky!$E$60,přihlášky!$H$60) -> Měřička Michal | E12: =Startovky!E35 -> ÚO České Budějovice | F12: 18.36 | G12: 19.37 | H12: =IF(OR(F12="diskval.",G12="diskval."),"diskval.",F12+G12) -> 37.73 | I12: =IF(OR(věž!F54=0,věž!G54=0),100,MAX(věž!F54:G54)) -> 30.63 | J12: =IF(OR('100m'!F54=0,'100m'!G54=0),100,MAX('100m'!F54:G54)) -> 31.28 | K12: =IF(H12="diskval.",1000,H12+((IF(I12>0,I12,100)+IF(J12>0,J12,100))/100000)) -> 37.730619
A13: =RANK(K13,$K$3:$K$72,1) -> 11 | C13: 34 | D13: =IF(přihlášky!$F$86="X",přihlášky!$E$86,přihlášky!$H$86) -> Kučera Jan | E13: =Startovky!E37 -> ÚO Jindřichův Hradec | F13: 18.89 | G13: 18.86 | H13: =IF(OR(F13="diskval.",G13="diskval."),"diskval.",F13+G13) -> 37.75 | I13: =IF(OR(věž!F23=0,věž!G23=0),100,MAX(věž!F23:G23)) -> 100 | J13: =IF(OR('100m'!F23=0,'100m'!G23=0),100,MAX('100m'!F23:G23)) -> 20.21 | K13: =IF(H13="diskval.",1000,H13+((IF(I13>0,I13,100)+IF(J13>0,J13,100))/100000)) -> 37.751202
A14: =RANK(K14,$K$3:$K$72,1) -> 12 | C14: 39 | D14: =IF(přihlášky!$F$61="X",přihlášky!$E$61,přihlášky!$H$61) -> Čada Milan | E14: =Startovky!E45 -> ÚO České Budějovice | F14: 18.07 | G14: 19.93 | H14: =IF(OR(F14="diskval.",G14="diskval."),"diskval.",F14+G14) -> 38 | I14: =IF(OR(věž!F33=0,věž!G33=0),100,MAX(věž!F33:G33)) -> 25.53 | J14: =IF(OR('100m'!F33=0,'100m'!G33=0),100,MAX('100m'!F33:G33)) -> 100 | K14: =IF(H14="diskval.",1000,H14+((IF(I14>0,I14,100)+IF(J14>0,J14,100))/100000)) -> 38.001255
A15: =RANK(K15,$K$3:$K$72,1) -> 13 | C15: 21 | D15: =IF(přihlášky!$F$97="X",přihlášky!$E$97,přihlášky!$H$97) -> Študlar Petr | E15: =Startovky!E24 -> ÚO Prachatice | F15: 19.58 | G15: 18.63 | H15: =IF(OR(F15="diskval.",G15="diskval."),"diskval.",F15+G15) -> 38.21 | I15: =IF(OR(věž!F13=0,věž!G13=0),100,MAX(věž!F13:G13)) -> 20.39 | J15: =IF(OR('100m'!F13=0,'100m'!G13=0),100,MAX('100m'!F13:G13)) -> 100 | K15: =IF(H15="diskval.",1000,H15+((IF(I15>0,I15,100)+IF(J15>0,J15,100))/100000)) -> 38.211204
A16: =RANK(K16,$K$3:$K$72,1) -> 14 | C16: 4 | D16: =IF(přihlášky!$F$56="X",přihlášky!$E$56,přihlášky!$H$56) -> Hasík Juraj | E16: =Startovky!E7 -> ÚO České Budějovice | F16: 18.69 | G16: 19.53 | H16: =IF(OR(F16="diskval.",G16="diskval."),"diskval.",F16+G16) -> 38.22 | I16: =IF(OR(věž!F18=0,věž!G18=0),100,MAX(věž!F18:G18)) -> 19.28 | J16: =IF(OR('100m'!F18=0,'100m'!G18=0),100,MAX('100m'!F18:G18)) -> 19.91 | K16: =IF(H16="diskval.",1000,H16+((IF(I16>0,I16,100)+IF(J16>0,J16,100))/100000)) -> 38.220392
A17: =RANK(K17,$K$3:$K$72,1) -> 15 | C17: 41 | D17: =IF(přihlášky!$F$87="X",přihlášky!$E$87,přihlášky!$H$87) -> Huml Ondřej | E17: =Startovky!E47 -> ÚO Jindřichův Hradec | F17: 19.5 | G17: 18.97 | H17: =IF(OR(F17="diskval.",G17="diskval."),"diskval.",F17+G17) -> 38.47 | I17: =IF(OR(věž!F44=0,věž!G44=0),100,MAX(věž!F44:G44)) -> 100 | J17: =IF(OR('100m'!F44=0,'100m'!G44=0),100,MAX('100m'!F44:G44)) -> 100 | K17: =IF(H17="diskval.",1000,H17+((IF(I17>0,I17,100)+IF(J17>0,J17,100))/100000)) -> 38.472
A18: =RANK(K18,$K$3:$K$72,1) -> 16 | C18: 18 | D18: =IF(přihlášky!$F$58="X",přihlášky!$E$58,přihlášky!$H$58) -> Krygar Josef | E18: =Startovky!E21 -> ÚO České Budějovice | F18: 18.55 | G18: 20.17 | H18: =IF(OR(F18="diskval.",G18="diskval."),"diskval.",F18+G18) -> 38.72 | I18: =IF(OR(věž!F27=0,věž!G27=0),100,MAX(věž!F27:G27)) -> 100 | J18: =IF(OR('100m'!F27=0,'100m'!G27=0),100,MAX('100m'!F27:G27)) -> 20.19 | K18: =IF(H18="diskval.",1000,H18+((IF(I18>0,I18,100)+IF(J18>0,J18,100))/100000)) -> 38.721202
A19: =RANK(K19,$K$3:$K$72,1) -> 17 | C19: 38 | D19: =IF(přihlášky!$F$48="X",přihlášky!$E$48,přihlášky!$H$48) -> Motejzík Martin | E19: =Startovky!E44 -> ÚO Písek | F19: 19.45 | G19: 19.41 | H19: =IF(OR(F19="diskval.",G19="diskval."),"diskval.",F19+G19) -> 38.86 | I19: =IF(OR(věž!F16=0,věž!G16=0),100,MAX(věž!F16:G16)) -> 19.68 | J19: =IF(OR('100m'!F16=0,'100m'!G16=0),100,MAX('100m'!F16:G16)) -> 20 | K19: =IF(H19="diskval.",1000,H19+((IF(I19>0,I19,100)+IF(J19>0,J19,100))/100000)) -> 38.860397
A20: =RANK(K20,$K$3:$K$72,1) -> 18 | C20: 48 | D20: =IF(přihlášky!$F$88="X",přihlášky!$E$88,přihlášky!$H$88) -> Šenkýř Marek | E20: =Startovky!E54 -> ÚO Jindřichův Hradec | F20: 20.05 | G20: 20.04 | H20: =IF(OR(F20="diskval.",G20="diskval."),"diskval.",F20+G20) -> 40.09 | I20: =IF(OR(věž!F55=0,věž!G55=0),100,MAX(věž!F55:G55)) -> 31.1 | J20: =IF(OR('100m'!F55=0,'100m'!G55=0),100,MAX('100m'!F55:G55)) -> 100 | K20: =IF(H20="diskval.",1000,H20+((IF(I20>0,I20,100)+IF(J20>0,J20,100))/100000)) -> 40.091311
A21: =RANK(K21,$K$3:$K$72,1) -> 19 | C21: 40 | D21: =IF(přihlášky!$F$74="X",přihlášky!$E$74,přihlášky!$H$74) -> Vaňač Aleš | E21: =Startovky!E46 -> ÚO Strakonice | F21: 19.12 | G21: 21.48 | H21: =IF(OR(F21="diskval.",G21="diskval."),"diskval.",F21+G21) -> 40.6 | I21: =IF(OR(věž!F10=0,věž!G10=0),100,MAX(věž!F10:G10)) -> 19.13 | J21: =IF(OR('100m'!F10=0,'100m'!G10=0),100,MAX('100m'!F10:G10)) -> 18.98 | K21: =IF(H21="diskval.",1000,H21+((IF(I21>0,I21,100)+IF(J21>0,J21,100))/100000)) -> 40.600381
A22: =RANK(K22,$K$3:$K$72,1) -> 20 | C22: 22 | D22: =IF(přihlášky!$F$20="X",přihlášky!$E$20,přihlášky!$H$20) -> Klein Adolf | E22: =Startovky!E25 -> ÚO Český Krumlov | F22: 20.62 | G22: 20.35 | H22: =IF(OR(F22="diskval.",G22="diskval."),"diskval.",F22+G22) -> 40.97 | I22: =IF(OR(věž!F45=0,věž!G45=0),100,MAX(věž!F45:G45)) -> 25.67 | J22: =IF(OR('100m'!F45=0,'100m'!G45=0),100,MAX('100m'!F45:G45)) -> 100 | K22: =IF(H22="diskval.",1000,H22+((IF(I22>0,I22,100)+IF(J22>0,J22,100))/100000)) -> 40.971257
A23: =RANK(K23,$K$3:$K$72,1) -> 21 | C23: 19 | D23: =IF(přihlášky!$F$71="X",přihlášky!$E$71,přihlášky!$H$71) -> Muchl Vladimír | E23: =Startovky!E22 -> ÚO Strakonice | F23: 20.45 | G23: 20.64 | H23: =IF(OR(F23="diskval.",G23="diskval."),"diskval.",F23+G23) -> 41.09 | I23: =IF(OR(věž!F20=0,věž!G20=0),100,MAX(věž!F20:G20)) -> 20.7 | J23: =IF(OR('100m'!F20=0,'100m'!G20=0),100,MAX('100m'!F20:G20)) -> 100 | K23: =IF(H23="diskval.",1000,H23+((IF(I23>0,I23,100)+IF(J23>0,J23,100))/100000)) -> 41.091207
A24: =RANK(K24,$K$3:$K$72,1) -> 22 | C24: 53 | D24: =IF(přihlášky!$F$63="X",přihlášky!$E$63,přihlášky!$H$63) -> Völfel David | E24: =Startovky!E59 -> ÚO České Budějovice | F24: 23.56 | G24: 17.61 | H24: =IF(OR(F24="diskval.",G24="diskval."),"diskval.",F24+G24) -> 41.17 | I24: =IF(OR(věž!F47=0,věž!G47=0),100,MAX(věž!F47:G47)) -> 27.53 | J24: =IF(OR('100m'!F47=0,'100m'!G47=0),100,MAX('100m'!F47:G47)) -> 23.36 | K24: =IF(H24="diskval.",1000,H24+((IF(I24>0,I24,100)+IF(J24>0,J24,100))/100000)) -> 41.170509
A25: =RANK(K25,$K$3:$K$72,1) -> 23 | C25: 17 | D25: =IF(přihlášky!$F$45="X",přihlášky!$E$45,přihlášky!$H$45) -> Trantina Karel | E25: =Startovky!E20 -> ÚO Písek | F25: 19.86 | G25: 21.44 | H25: =IF(OR(F25="diskval.",G25="diskval."),"diskval.",F25+G25) -> 41.3 | I25: =IF(OR(věž!F17=0,věž!G17=0),100,MAX(věž!F17:G17)) -> 19.9 | J25: =IF(OR('100m'!F17=0,'100m'!G17=0),100,MAX('100m'!F17:G17)) -> 20.55 | K25: =IF(H25="diskval.",1000,H25+((IF(I25>0,I25,100)+IF(J25>0,J25,100))/100000)) -> 41.300404
A26: =RANK(K26,$K$3:$K$72,1) -> 24 | C26: 10 | D26: =IF(přihlášky!$F$44="X",přihlášky!$E$44,přihlášky!$H$44) -> Horský Marek | E26: =Startovky!E13 -> ÚO Písek | F26: 19.47 | G26: 22.06 | H26: =IF(OR(F26="diskval.",G26="diskval."),"diskval.",F26+G26) -> 41.53 | I26: =IF(OR(věž!F32=0,věž!G32=0),100,MAX(věž!F32:G32)) -> 100 | J26: =IF(OR('100m'!F32=0,'100m'!G32=0),100,MAX('100m'!F32:G32)) -> 100 | K26: =IF(H26="diskval.",1000,H26+((IF(I26>0,I26,100)+IF(J26>0,J26,100))/100000)) -> 41.532
A27: =RANK(K27,$K$3:$K$72,1) -> 25 | C27: 12 | D27: =IF(přihlášky!$F$70="X",přihlášky!$E$70,přihlášky!$H$70) -> Stibor Jiří | E27: =Startovky!E15 -> ÚO Strakonice | F27: 20.56 | G27: 21.13 | H27: =IF(OR(F27="diskval.",G27="diskval."),"diskval.",F27+G27) -> 41.69 | I27: =IF(OR(věž!F7=0,věž!G7=0),100,MAX(věž!F7:G7)) -> 16.97 | J27: =IF(OR('100m'!F7=0,'100m'!G7=0),100,MAX('100m'!F7:G7)) -> 18.47 | K27: =IF(H27="diskval.",1000,H27+((IF(I27>0,I27,100)+IF(J27>0,J27,100))/100000)) -> 41.690354
A28: =RANK(K28,$K$3:$K$72,1) -> 26 | C28: 1 | D28: =IF(přihlášky!$F$17="X",přihlášky!$E$17,přihlášky!H17) -> Čížek David | E28: =Startovky!E4 -> ÚO Český Krumlov | F28: 22.46 | G28: 19.32 | H28: =IF(OR(F28="diskval.",G28="diskval."),"diskval.",F28+G28) -> 41.78 | I28: =IF(OR(věž!F24=0,věž!G24=0),100,MAX(věž!F24:G24)) -> 22.83 | J28: =IF(OR('100m'!F24=0,'100m'!G24=0),100,MAX('100m'!F24:G24)) -> 20.2 | K28: =IF(H28="diskval.",1000,H28+((IF(I28>0,I28,100)+IF(J28>0,J28,100))/100000)) -> 41.78043
A29: =RANK(K29,$K$3:$K$72,1) -> 27 | C29: 50 | D29: =IF(přihlášky!$F$24="X",přihlášky!$E$24,přihlášky!$H$24) -> Bartuška Jiří | E29: =Startovky!E56 -> ÚO Český Krumlov | F29: 20.09 | G29: 21.81 | H29: =IF(OR(F29="diskval.",G29="diskval."),"diskval.",F29+G29) -> 41.9 | I29: =IF(OR(věž!F42=0,věž!G42=0),100,MAX(věž!F42:G42)) -> 25.53 | J29: =IF(OR('100m'!F42=0,'100m'!G42=0),100,MAX('100m'!F42:G42)) -> 21.98 | K29: =IF(H29="diskval.",1000,H29+((IF(I29>0,I29,100)+IF(J29>0,J29,100))/100000)) -> 41.900475
A30: =RANK(K30,$K$3:$K$72,1) -> 28 | C30: 8 | D30: =IF(přihlášky!$F$18="X",přihlášky!$E$18,přihlášky!H17) -> Dvořák Petr | E30: =Startovky!E11 -> ÚO Český Krumlov | F30: 20.96 | G30: 21.28 | H30: =IF(OR(F30="diskval.",G30="diskval."),"diskval.",F30+G30) -> 42.24 | I30: =IF(OR(věž!F6=0,věž!G6=0),100,MAX(věž!F6:G6)) -> 17.04 | J30: =IF(OR('100m'!F6=0,'100m'!G6=0),100,MAX('100m'!F6:G6)) -> 19.68 | K30: =IF(H30="diskval.",1000,H30+((IF(I30>0,I30,100)+IF(J30>0,J30,100))/100000)) -> 42.240367
A31: =RANK(K31,$K$3:$K$72,1) -> 29 | C31: 9 | D31: =IF(přihlášky!$F$31="X",přihlášky!$E$31,přihlášky!$H$31) -> Novák Dominik | E31: =Startovky!E12 -> ÚO Tábor | F31: 23.44 | G31: 18.89 | H31: =IF(OR(F31="diskval.",G31="diskval."),"diskval.",F31+G31) -> 42.33 | I31: =IF(OR(věž!F51=0,věž!G51=0),100,MAX(věž!F51:G51)) -> 29.2 | J31: =IF(OR('100m'!F51=0,'100m'!G51=0),100,MAX('100m'!F51:G51)) -> 100 | K31: =IF(H31="diskval.",1000,H31+((IF(I31>0,I31,100)+IF(J31>0,J31,100))/100000)) -> 42.331292
A32: =RANK(K32,$K$3:$K$72,1) -> 30 | C32: 26 | D32: =IF(přihlášky!$F$72="X",přihlášky!$E$72,přihlášky!$H$72) -> Božka Martin | E32: =Startovky!E29 -> ÚO Strakonice | F32: 20.67 | G32: 21.83 | H32: =IF(OR(F32="diskval.",G32="diskval."),"diskval.",F32+G32) -> 42.5 | I32: =IF(OR(věž!F52=0,věž!G52=0),100,MAX(věž!F52:G52)) -> 31.95 | J32: =IF(OR('100m'!F52=0,'100m'!G52=0),100,MAX('100m'!F52:G52)) -> 23.8 | K32: =IF(H32="diskval.",1000,H32+((IF(I32>0,I32,100)+IF(J32>0,J32,100))/100000)) -> 42.500557
A33: =RANK(K33,$K$3:$K$72,1) -> 31 | C33: 23 | D33: =IF(přihlášky!$F$33="X",přihlášky!$E$33,přihlášky!$H$33) -> Kopecký Jan | E33: =Startovky!E26 -> ÚO Tábor | F33: 23.52 | G33: 19.7 | H33: =IF(OR(F33="diskval.",G33="diskval."),"diskval.",F33+G33) -> 43.22 | I33: =IF(OR(věž!F9=0,věž!G9=0),100,MAX(věž!F9:G9)) -> 20.62 | J33: =IF(OR('100m'!F9=0,'100m'!G9=0),100,MAX('100m'!F9:G9)) -> 19.32 | K33: =IF(H33="diskval.",1000,H33+((IF(I33>0,I33,100)+IF(J33>0,J33,100))/100000)) -> 43.220399
A34: =RANK(K34,$K$3:$K$72,1) -> 32 | C34: 43 | D34: =IF(přihlášky!$F$23="X",přihlášky!$E$23,přihlášky!$H$23) -> Klíma Miloslav | E34: =Startovky!E49 -> ÚO Český Krumlov | F34: 23.02 | G34: 21.19 | H34: =IF(OR(F34="diskval.",G34="diskval."),"diskval.",F34+G34) -> 44.21 | I34: =IF(OR(věž!F19=0,věž!G19=0),100,MAX(věž!F19:G19)) -> 21.22 | J34: =IF(OR('100m'!F19=0,'100m'!G19=0),100,MAX('100m'!F19:G19)) -> 20.15 | K34: =IF(H34="diskval.",1000,H34+((IF(I34>0,I34,100)+IF(J34>0,J34,100))/100000)) -> 44.210414
A35: =RANK(K35,$K$3:$K$72,1) -> 33 | C35: 2 | D35: =IF(přihlášky!$F$30="X",přihlášky!$E$30,přihlášky!$H$30) -> Novák Tomáš | E35: =Startovky!E5 -> ÚO Tábor | F35: 24.12 | G35: 20.13 | H35: =IF(OR(F35="diskval.",G35="diskval."),"diskval.",F35+G35) -> 44.25 | I35: =IF(OR(věž!F14=0,věž!G14=0),100,MAX(věž!F14:G14)) -> 19.31 | J35: =IF(OR('100m'!F14=0,'100m'!G14=0),100,MAX('100m'!F14:G14)) -> 19.95 | K35: =IF(H35="diskval.",1000,H35+((IF(I35>0,I35,100)+IF(J35>0,J35,100))/100000)) -> 44.250393
A36: =RANK(K36,$K$3:$K$72,1) -> 34 | C36: 5 | D36: =IF(přihlášky!$F$69="X",přihlášky!$E$69,přihlášky!$H$69) -> Krupka Luboš | E36: =Startovky!E8 -> ÚO Strakonice | F36: 22.31 | G36: 22.22 | H36: =IF(OR(F36="diskval.",G36="diskval."),"diskval.",F36+G36) -> 44.53 | I36: =IF(OR(věž!F15=0,věž!G15=0),100,MAX(věž!F15:G15)) -> 20.39 | J36: =IF(OR('100m'!F15=0,'100m'!G15=0),100,MAX('100m'!F15:G15)) -> 100 | K36: =IF(H36="diskval.",1000,H36+((IF(I36>0,I36,100)+IF(J36>0,J36,100))/100000)) -> 44.531204
A37: =RANK(K37,$K$3:$K$72,1) -> 35 | C37: 36 | D37: =IF(přihlášky!$F$22="X",přihlášky!$E$22,přihlášky!$H$22) -> Ottenschläger Václav | E37: =Startovky!E39 -> ÚO Český Krumlov | F37: 24.95 | G37: 21.17 | H37: =IF(OR(F37="diskval.",G37="diskval."),"diskval.",F37+G37) -> 46.12 | I37: =IF(OR(věž!F59=0,věž!G59=0),100,MAX(věž!F59:G59)) -> 42.16 | J37: =IF(OR('100m'!F59=0,'100m'!G59=0),100,MAX('100m'!F59:G59)) -> 100 | K37: =IF(H37="diskval.",1000,H37+((IF(I37>0,I37,100)+IF(J37>0,J37,100))/100000)) -> 46.121422
A38: =RANK(K38,$K$3:$K$72,1) -> 36 | C38: 7 | D38: =IF(přihlášky!$F$95="X",přihlášky!$E$95,přihlášky!$H$95) -> Cais Martin | E38: =Startovky!E10 -> ÚO Prachatice | F38: 23.26 | G38: 22.89 | H38: =IF(OR(F38="diskval.",G38="diskval."),"diskval.",F38+G38) -> 46.15 | I38: =IF(OR(věž!F39=0,věž!G39=0),100,MAX(věž!F39:G39)) -> 100 | J38: =IF(OR('100m'!F39=0,'100m'!G39=0),100,MAX('100m'!F39:G39)) -> 100 | K38: =IF(H38="diskval.",1000,H38+((IF(I38>0,I38,100)+IF(J38>0,J38,100))/100000)) -> 46.152
A39: =RANK(K39,$K$3:$K$72,1) -> 37 | C39: 47 | D39: =IF(přihlášky!$F$75="X",přihlášky!$E$75,přihlášky!$H$75) -> Štolba František (věž jednotlici) | E39: =Startovky!E53 -> ÚO Strakonice | F39: 22.91 | G39: 23.84 | H39: =IF(OR(F39="diskval.",G39="diskval."),"diskval.",F39+G39) -> 46.75 | I39: =IF(OR(věž!F50=0,věž!G50=0),100,MAX(věž!F50:G50)) -> 28.09 | J39: =IF(OR('100m'!F50=0,'100m'!G50=0),100,MAX('100m'!F50:G50)) -> 24.03 | K39: =IF(H39="diskval.",1000,H39+((IF(I39>0,I39,100)+IF(J39>0,J39,100))/100000)) -> 46.750521
A40: =RANK(K40,$K$3:$K$72,1) -> 38 | C40: 15 | D40: =IF(přihlášky!$F$19="X",přihlášky!$E$19,přihlášky!$H$19) -> Fučík Jan | E40: =Startovky!E18 -> ÚO Český Krumlov | F40: 26.72 | G40: 20.6 | H40: =IF(OR(F40="diskval.",G40="diskval."),"diskval.",F40+G40) -> 47.32 | I40: =IF(OR(věž!F40=0,věž!G40=0),100,MAX(věž!F40:G40)) -> 23.86 | J40: =IF(OR('100m'!F40=0,'100m'!G40=0),100,MAX('100m'!F40:G40)) -> 100 | K40: =IF(H40="diskval.",1000,H40+((IF(I40>0,I40,100)+IF(J40>0,J40,100))/100000)) -> 47.321239
A41: =RANK(K41,$K$3:$K$72,1) -> 39 | C41: 14 | D41: =IF(přihlášky!$F$96="X",přihlášky!$E$96,přihlášky!$H$96) -> Šmajcl František | E41: =Startovky!E17 -> ÚO Prachatice | F41: 25.04 | G41: 23.98 | H41: =IF(OR(F41="diskval.",G41="diskval."),"diskval.",F41+G41) -> 49.02 | I41: =IF(OR(věž!F26=0,věž!G26=0),100,MAX(věž!F26:G26)) -> 100 | J41: =IF(OR('100m'!F26=0,'100m'!G26=0),100,MAX('100m'!F26:G26)) -> 20.6 | K41: =IF(H41="diskval.",1000,H41+((IF(I41>0,I41,100)+IF(J41>0,J41,100))/100000)) -> 49.021206
A42: =RANK(K42,$K$3:$K$72,1) -> 40 | C42: 37 | D42: =IF(přihlášky!$F$35="X",přihlášky!$E$35,přihlášky!$H$35) -> Průcha Josef | E42: =Startovky!E43 -> ÚO Tábor | F42: 27.14 | G42: 21.95 | H42: =IF(OR(F42="diskval.",G42="diskval."),"diskval.",F42+G42) -> 49.09 | I42: =IF(OR(věž!F37=0,věž!G37=0),100,MAX(věž!F37:G37)) -> 23.48 | J42: =IF(OR('100m'!F37=0,'100m'!G37=0),100,MAX('100m'!F37:G37)) -> 21.71 | K42: =IF(H42="diskval.",1000,H42+((IF(I42>0,I42,100)+IF(J42>0,J42,100))/100000)) -> 49.090452
A43: =RANK(K43,$K$3:$K$72,1) -> 41 | C43: 35 | D43: =IF(přihlášky!$F$99="X",přihlášky!$E$99,přihlášky!$H$99) -> Uhlíř Josef | E43: =Startovky!E38 -> ÚO Prachatice | F43: 26.97 | G43: 23.54 | H43: =IF(OR(F43="diskval.",G43="diskval."),"diskval.",F43+G43) -> 50.51 | I43: =IF(OR(věž!F22=0,věž!G22=0),100,MAX(věž!F22:G22)) -> 19.68 | J43: =IF(OR('100m'!F22=0,'100m'!G22=0),100,MAX('100m'!F22:G22)) -> 21.76 | K43: =IF(H43="diskval.",1000,H43+((IF(I43>0,I43,100)+IF(J43>0,J43,100))/100000)) -> 50.510414
A44: =RANK(K44,$K$3:$K$72,1) -> 42 | C44: 62 | D44: =IF(přihlášky!$F$90="X",přihlášky!$E$90,přihlášky!$H$90) -> Holý Patrik (věž jednotlivci) | E44: =Startovky!E68 -> ÚO Jindřichův Hradec | F44: 29.75 | G44: 20.89 | H44: =IF(OR(F44="diskval.",G44="diskval."),"diskval.",F44+G44) -> 50.64 | I44: =IF(OR(věž!F60=0,věž!G60=0),100,MAX(věž!F60:G60)) -> 35.13 | J44: =IF(OR('100m'!F60=0,'100m'!G60=0),100,MAX('100m'!F60:G60)) -> 100 | K44: =IF(H44="diskval.",1000,H44+((IF(I44>0,I44,100)+IF(J44>0,J44,100))/100000)) -> 50.641351
A45: =RANK(K45,$K$3:$K$72,1) -> 43 | C45: 30 | D45: =IF(přihlášky!$F$34="X",přihlášky!$E$34,přihlášky!$H$34) -> Falada Denis | E45: =Startovky!E33 -> ÚO Tábor | F45: 29.53 | G45: 22.18 | H45: =IF(OR(F45="diskval.",G45="diskval."),"diskval.",F45+G45) -> 51.71 | I45: =IF(OR(věž!F31=0,věž!G31=0),100,MAX(věž!F31:G31)) -> 24.67 | J45: =IF(OR('100m'!F31=0,'100m'!G31=0),100,MAX('100m'!F31:G31)) -> 21.25 | K45: =IF(H45="diskval.",1000,H45+((IF(I45>0,I45,100)+IF(J45>0,J45,100))/100000)) -> 51.710459
A46: =RANK(K46,$K$3:$K$72,1) -> 44 | C46: 29 | D46: =IF(přihlášky!$F$21="X",přihlášky!$E$21,přihlášky!$H$21) -> Dudák Jakub | E46: =Startovky!E32 -> ÚO Český Krumlov | F46: 29.57 | G46: 23.49 | H46: =IF(OR(F46="diskval.",G46="diskval."),"diskval.",F46+G46) -> 53.06 | I46: =IF(OR(věž!F21=0,věž!G21=0),100,MAX(věž!F21:G21)) -> 21.1 | J46: =IF(OR('100m'!F21=0,'100m'!G21=0),100,MAX('100m'!F21:G21)) -> 21.24 | K46: =IF(H46="diskval.",1000,H46+((IF(I46>0,I46,100)+IF(J46>0,J46,100))/100000)) -> 53.060423
A47: =RANK(K47,$K$3:$K$72,1) -> 45 | C47: 45 | D47: =IF(přihlášky!$F$49="X",přihlášky!$E$49,přihlášky!$H$49) -> Bláha Petr | E47: =Startovky!E51 -> ÚO Písek | F47: 32 | G47: 21.5 | H47: =IF(OR(F47="diskval.",G47="diskval."),"diskval.",F47+G47) -> 53.5 | I47: =IF(OR(věž!F34=0,věž!G34=0),100,MAX(věž!F34:G34)) -> 22.8 | J47: =IF(OR('100m'!F34=0,'100m'!G34=0),100,MAX('100m'!F34:G34)) -> 21.74 | K47: =IF(H47="diskval.",1000,H47+((IF(I47>0,I47,100)+IF(J47>0,J47,100))/100000)) -> 53.500445
A48: =RANK(K48,$K$3:$K$72,1) -> 46 | C48: 49 | D48: =IF(přihlášky!$F$101="X",přihlášky!$E$101,přihlášky!$H$101) -> Vozandych Petr | E48: =Startovky!E55 -> ÚO Prachatice | F48: 32.19 | G48: 22.83 | H48: =IF(OR(F48="diskval.",G48="diskval."),"diskval.",F48+G48) -> 55.02 | I48: =IF(OR(věž!F8=0,věž!G8=0),100,MAX(věž!F8:G8)) -> 19.21 | J48: =IF(OR('100m'!F8=0,'100m'!G8=0),100,MAX('100m'!F8:G8)) -> 18.66 | K48: =IF(H48="diskval.",1000,H48+((IF(I48>0,I48,100)+IF(J48>0,J48,100))/100000)) -> 55.020379
A49: =RANK(K49,$K$3:$K$72,1) -> 47 | C49: 51 | D49: =IF(přihlášky!$F$37="X",přihlášky!$E$37,přihlášky!$H$37) -> Havelka Mikuláš | E49: =Startovky!E57 -> ÚO Tábor | F49: 30.5 | G49: 25.69 | H49: =IF(OR(F49="diskval.",G49="diskval."),"diskval.",F49+G49) -> 56.19 | I49: =IF(OR(věž!F71=0,věž!G71=0),100,MAX(věž!F71:G71)) -> 100 | J49: =IF(OR('100m'!F71=0,'100m'!G71=0),100,MAX('100m'!F71:G71)) -> 100 | K49: =IF(H49="diskval.",1000,H49+((IF(I49>0,I49,100)+IF(J49>0,J49,100))/100000)) -> 56.192
A50: =RANK(K50,$K$3:$K$72,1) -> 48 | C50: 58 | D50: =IF(přihlášky!$F$38="X",přihlášky!$E$38,přihlášky!$H$38) -> Baránek Václav (100m jednotlivci) | E50: =Startovky!E64 -> ÚO Tábor | F50: 33.13 | G50: 23.64 | H50: =IF(OR(F50="diskval.",G50="diskval."),"diskval.",F50+G50) -> 56.77 | I50: =IF(OR(věž!F56=0,věž!G56=0),100,MAX(věž!F56:G56)) -> 32.03 | J50: =IF(OR('100m'!F56=0,'100m'!G56=0),100,MAX('100m'!F56:G56)) -> 28.7 | K50: =IF(H50="diskval.",1000,H50+((IF(I50>0,I50,100)+IF(J50>0,J50,100))/100000)) -> 56.770607
A51: =RANK(K51,$K$3:$K$72,1) -> 49 | C51: 3 | D51: =IF(přihlášky!$F$43="X",přihlášky!$E$43,přihlášky!$H$43) -> Šourek Petr | E51: =Startovky!E6 -> ÚO Písek | F51: 22.16 | G51: diskval. | H51: =IF(OR(F51="diskval.",G51="diskval."),"diskval.",F51+G51) -> diskval. | I51: =IF(OR(věž!F35=0,věž!G35=0),100,MAX(věž!F35:G35)) -> 24.11 | J51: =IF(OR('100m'!F35=0,'100m'!G35=0),100,MAX('100m'!F35:G35)) -> 100 | K51: =IF(H51="diskval.",1000,H51+((IF(I51>0,I51,100)+IF(J51>0,J51,100))/100000)) -> 1000
A52: =RANK(K52,$K$3:$K$72,1) -> 49 | C52: 13 | D52: =IF(přihlášky!$F$83="X",přihlášky!$E$83,přihlášky!$H$83) -> Doktor Michal | E52: =Startovky!E16 -> ÚO Jindřichův Hradec | F52: 16.38 | G52: diskval. | H52: =IF(OR(F52="diskval.",G52="diskval."),"diskval.",F52+G52) -> diskval. | I52: =IF(OR(věž!F4=0,věž!G4=0),100,MAX(věž!F4:G4)) -> 16.72 | J52: =IF(OR('100m'!F4=0,'100m'!G4=0),100,MAX('100m'!F4:G4)) -> 18.23 | K52: =IF(H52="diskval.",1000,H52+((IF(I52>0,I52,100)+IF(J52>0,J52,100))/100000)) -> 1000
A53: =RANK(K53,$K$3:$K$72,1) -> 49 | C53: 28 | D53: =IF(přihlášky!$F$98="X",přihlášky!$E$98,přihlášky!$H$98) -> Vodrášek Josef | E53: =Startovky!E31 -> ÚO Prachatice | F53: 26.62 | G53: diskval. | H53: =IF(OR(F53="diskval.",G53="diskval."),"diskval.",F53+G53) -> diskval. | I53: =IF(OR(věž!F29=0,věž!G29=0),100,MAX(věž!F29:G29)) -> 23.98 | J53: =IF(OR('100m'!F29=0,'100m'!G29=0),100,MAX('100m'!F29:G29)) -> 21.02 | K53: =IF(H53="diskval.",1000,H53+((IF(I53>0,I53,100)+IF(J53>0,J53,100))/100000)) -> 1000
A54: =RANK(K54,$K$3:$K$72,1) -> 49 | C54: 42 | D54: =IF(přihlášky!$F$100="X",přihlášky!$E$100,přihlášky!$H$100) -> Nestartuje | E54: =Startovky!E48 -> ÚO Prachatice | F54: diskval. | G54: 23.13 | H54: =IF(OR(F54="diskval.",G54="diskval."),"diskval.",F54+G54) -> diskval. | I54: =IF(OR(věž!F48=0,věž!G48=0),100,MAX(věž!F48:G48)) -> 29.62 | J54: =IF(OR('100m'!F48=0,'100m'!G48=0),100,MAX('100m'!F48:G48)) -> 26.61 | K54: =IF(H54="diskval.",1000,H54+((IF(I54>0,I54,100)+IF(J54>0,J54,100))/100000)) -> 1000
A55: =RANK(K55,$K$3:$K$72,1) -> 49 | C55: 44 | D55: =IF(přihlášky!$F$36="X",přihlášky!$E$36,přihlášky!$H$36) -> Nestartuje | E55: =Startovky!E50 -> ÚO Tábor | F55: diskval. | G55: 20.96 | H55: =IF(OR(F55="diskval.",G55="diskval."),"diskval.",F55+G55) -> diskval. | I55: =IF(OR(věž!F57=0,věž!G57=0),100,MAX(věž!F57:G57)) -> 100 | J55: =IF(OR('100m'!F57=0,'100m'!G57=0),100,MAX('100m'!F57:G57)) -> 100 | K55: =IF(H55="diskval.",1000,H55+((IF(I55>0,I55,100)+IF(J55>0,J55,100))/100000)) -> 1000
A56: =RANK(K56,$K$3:$K$72,1) -> 49 | C56: 46 | D56: =IF(přihlášky!$F$62="X",přihlášky!$E$62,přihlášky!$H$62) -> Míchal Martin | E56: =Startovky!E52 -> ÚO České Budějovice | F56: 33.3 | G56: diskval. | H56: =IF(OR(F56="diskval.",G56="diskval."),"diskval.",F56+G56) -> diskval. | I56: =IF(OR(věž!F43=0,věž!G43=0),100,MAX(věž!F43:G43)) -> 28.72 | J56: =IF(OR('100m'!F43=0,'100m'!G43=0),100,MAX('100m'!F43:G43)) -> 22.52 | K56: =IF(H56="diskval.",1000,H56+((IF(I56>0,I56,100)+IF(J56>0,J56,100))/100000)) -> 1000
A57: =RANK(K57,$K$3:$K$72,1) -> 49 | C57: 52 | D57: =IF(přihlášky!$F$50="X",přihlášky!$E$50,přihlášky!$H$50) -> Nestartuje | E57: =Startovky!E58 -> ÚO Písek | F57: diskval. | G57: diskval. | H57: =IF(OR(F57="diskval.",G57="diskval."),"diskval.",F57+G57) -> diskval. | I57: =IF(OR(věž!F30=0,věž!G30=0),100,MAX(věž!F30:G30)) -> 21.5 | J57: =IF(OR('100m'!F30=0,'100m'!G30=0),100,MAX('100m'!F30:G30)) -> 100 | K57: =IF(H57="diskval.",1000,H57+((IF(I57>0,I57,100)+IF(J57>0,J57,100))/100000)) -> 1000
A58: =RANK(K58,$K$3:$K$72,1) -> 49 | C58: 54 | D58: =IF(přihlášky!$F$76="X",přihlášky!$E$76,přihlášky!$H$76) -> Pospíšil Michael (věž jednotlivci) | E58: =Startovky!E60 -> ÚO Strakonice | F58: 22 | G58: diskval. | H58: =IF(OR(F58="diskval.",G58="diskval."),"diskval.",F58+G58) -> diskval. | I58: =IF(OR(věž!F68=0,věž!G68=0),100,MAX(věž!F68:G68)) -> 100 | J58: =IF(OR('100m'!F68=0,'100m'!G68=0),100,MAX('100m'!F68:G68)) -> 100 | K58: =IF(H58="diskval.",1000,H58+((IF(I58>0,I58,100)+IF(J58>0,J58,100))/100000)) -> 1000
A59: =RANK(K59,$K$3:$K$72,1) -> 49 | C59: 55 | D59: =IF(přihlášky!$F$89="X",přihlášky!$E$89,přihlášky!$H$89) -> Janů František | E59: =Startovky!E61 -> ÚO Jindřichův Hradec | F59: 22.4 | G59: diskval. | H59: =IF(OR(F59="diskval.",G59="diskval."),"diskval.",F59+G59) -> diskval. | I59: =IF(OR(věž!F12=0,věž!G12=0),100,MAX(věž!F12:G12)) -> 17.7 | J59: =IF(OR('100m'!F12=0,'100m'!G12=0),100,MAX('100m'!F12:G12)) -> 20.65 | K59: =IF(H59="diskval.",1000,H59+((IF(I59>0,I59,100)+IF(J59>0,J59,100))/100000)) -> 1000
A60: =RANK(K60,$K$3:$K$72,1) -> 49 | C60: 56 | D60: =IF(přihlášky!$F$102="X",přihlášky!$E$102,přihlášky!$H$102) -> Jiráň Marek | E60: =Startovky!E62 -> ÚO Prachatice | F60: 22.97 | G60: diskval. | H60: =IF(OR(F60="diskval.",G60="diskval."),"diskval.",F60+G60) -> diskval. | I60: =IF(OR(věž!F46=0,věž!G46=0),100,MAX(věž!F46:G46)) -> 26.44 | J60: =IF(OR('100m'!F46=0,'100m'!G46=0),100,MAX('100m'!F46:G46)) -> 100 | K60: =IF(H60="diskval.",1000,H60+((IF(I60>0,I60,100)+IF(J60>0,J60,100))/100000)) -> 1000
A61: =RANK(K61,$K$3:$K$72,1) -> 49 | C61: 57 | D61: =IF(přihlášky!$F$25="X",přihlášky!$E$25,přihlášky!$H$25) -> Marek Jakub (jednotlivci) | E61: =Startovky!E63 -> ÚO Český Krumlov | F61: 32.51 | G61: diskval. | H61: =IF(OR(F61="diskval.",G61="diskval."),"diskval.",F61+G61) -> diskval. | I61: =IF(OR(věž!F5=0,věž!G5=0),100,MAX(věž!F5:G5)) -> 16.65 | J61: =IF(OR('100m'!F5=0,'100m'!G5=0),100,MAX('100m'!F5:G5)) -> 18.02 | K61: =IF(H61="diskval.",1000,H61+((IF(I61>0,I61,100)+IF(J61>0,J61,100))/100000)) -> 1000
A62: =RANK(K62,$K$3:$K$72,1) -> 49 | C62: 59 | D62: =IF(přihlášky!$F$51="X",přihlášky!$E$51,přihlášky!$H$51) -> Nestartuje | E62: =Startovky!E65 -> ÚO Písek | F62: diskval. | G62: 21.41 | H62: =IF(OR(F62="diskval.",G62="diskval."),"diskval.",F62+G62) -> diskval. | I62: =IF(OR(věž!F3=0,věž!G3=0),100,MAX(věž!F3:G3)) -> 100 | J62: =IF(OR('100m'!F3=0,'100m'!G3=0),100,MAX('100m'!F3:G3)) -> 100 | K62: =IF(H62="diskval.",1000,H62+((IF(I62>0,I62,100)+IF(J62>0,J62,100))/100000)) -> 1000
A63: =RANK(K63,$K$3:$K$72,1) -> 49 | C63: 60 | D63: =IF(přihlášky!$F$64="X",přihlášky!$E$64,přihlášky!$H$64) -> Nestartuje | E63: =Startovky!E66 -> ÚO České Budějovice | F63: diskval. | G63: 18.12 | H63: =IF(OR(F63="diskval.",G63="diskval."),"diskval.",F63+G63) -> diskval. | I63: =IF(OR(věž!F41=0,věž!G41=0),100,MAX(věž!F41:G41)) -> 29.55 | J63: =IF(OR('100m'!F41=0,'100m'!G41=0),100,MAX('100m'!F41:G41)) -> 100 | K63: =IF(H63="diskval.",1000,H63+((IF(I63>0,I63,100)+IF(J63>0,J63,100))/100000)) -> 1000
A64: =RANK(K64,$K$3:$K$72,1) -> 49 | C64: 61 | D64: =IF(přihlášky!$F$77="X",přihlášky!$E$77,přihlášky!$H$77) -> Suchopár Jiří | E64: =Startovky!E67 -> ÚO Strakonice | F64: 23.59 | G64: diskval. | H64: =IF(OR(F64="diskval.",G64="diskval."),"diskval.",F64+G64) -> diskval. | I64: =IF(OR(věž!F53=0,věž!G53=0),100,MAX(věž!F53:G53)) -> 34.97 | J64: =IF(OR('100m'!F53=0,'100m'!G53=0),100,MAX('100m'!F53:G53)) -> 100 | K64: =IF(H64="diskval.",1000,H64+((IF(I64>0,I64,100)+IF(J64>0,J64,100))/100000)) -> 1000
A65: =RANK(K65,$K$3:$K$72,1) -> 49 | C65: 63 | D65: =IF(přihlášky!$F$103="X",přihlášky!$E$103,přihlášky!$H$103) -> Nestartuje | E65: =Startovky!E69 -> ÚO Prachatice | F65: diskval. | G65: 23.05 | H65: =IF(OR(F65="diskval.",G65="diskval."),"diskval.",F65+G65) -> diskval. | I65: =IF(OR(věž!F61=0,věž!G61=0),100,MAX(věž!F61:G61)) -> 34.49 | J65: =IF(OR('100m'!F61=0,'100m'!G61=0),100,MAX('100m'!F61:G61)) -> 100 | K65: =IF(H65="diskval.",1000,H65+((IF(I65>0,I65,100)+IF(J65>0,J65,100))/100000)) -> 1000
A66: =RANK(K66,$K$3:$K$72,1) -> 49 | C66: 64 | D66: =IF(přihlášky!$F$26="X",přihlášky!$E$26,přihlášky!$H$26) -> Nestartuje | E66: =Startovky!E70 -> ÚO Strakonice | F66: diskval. | G66: diskval. | H66: =IF(OR(F66="diskval.",G66="diskval."),"diskval.",F66+G66) -> diskval. | I66: =IF(OR(věž!F62=0,věž!G62=0),100,MAX(věž!F62:G62)) -> 100 | J66: =IF(OR('100m'!F62=0,'100m'!G62=0),100,MAX('100m'!F62:G62)) -> 100 | K66: =IF(H66="diskval.",1000,H66+((IF(I66>0,I66,100)+IF(J66>0,J66,100))/100000)) -> 1000
A67: =RANK(K67,$K$3:$K$72,1) -> 49 | C67: 65 | D67: =IF(přihlášky!$F$39="X",přihlášky!$E$39,přihlášky!$H$39) -> Nestartuje | E67: =Startovky!E71 -> ÚO Tábor | F67: diskval. | G67: diskval. | H67: =IF(OR(F67="diskval.",G67="diskval."),"diskval.",F67+G67) -> diskval. | I67: =IF(OR(věž!F64=0,věž!G64=0),100,MAX(věž!F64:G64)) -> 100 | J67: =IF(OR('100m'!F64=0,'100m'!G64=0),100,MAX('100m'!F64:G64)) -> 100 | K67: =IF(H67="diskval.",1000,H67+((IF(I67>0,I67,100)+IF(J67>0,J67,100))/100000)) -> 1000
A68: =RANK(K68,$K$3:$K$72,1) -> 49 | C68: 66 | D68: =IF(přihlášky!$F$52="X",přihlášky!$E$52,přihlášky!$H$52) -> Nestartuje | E68: =Startovky!E72 -> ÚO Písek | F68: diskval. | G68: 20.15 | H68: =IF(OR(F68="diskval.",G68="diskval."),"diskval.",F68+G68) -> diskval. | I68: =IF(OR(věž!F65=0,věž!G65=0),100,MAX(věž!F65:G65)) -> 100 | J68: =IF(OR('100m'!F65=0,'100m'!G65=0),100,MAX('100m'!F65:G65)) -> 100 | K68: =IF(H68="diskval.",1000,H68+((IF(I68>0,I68,100)+IF(J68>0,J68,100))/100000)) -> 1000
A69: =RANK(K69,$K$3:$K$72,1) -> 49 | C69: 67 | D69: =IF(přihlášky!$F$65="X",přihlášky!$E$65,přihlášky!$H$65) -> Nestartuje | E69: =Startovky!E73 -> ÚO České Budějovice | F69: diskval. | G69: diskval. | H69: =IF(OR(F69="diskval.",G69="diskval."),"diskval.",F69+G69) -> diskval. | I69: =IF(OR(věž!F67=0,věž!G67=0),100,MAX(věž!F67:G67)) -> 100 | J69: =IF(OR('100m'!F67=0,'100m'!G67=0),100,MAX('100m'!F67:G67)) -> 100 | K69: =IF(H69="diskval.",1000,H69+((IF(I69>0,I69,100)+IF(J69>0,J69,100))/100000)) -> 1000
A70: =RANK(K70,$K$3:$K$72,1) -> 49 | C70: 68 | D70: =IF(přihlášky!$F$78="X",přihlášky!$E$78,přihlášky!$H$78) -> Černovský Michal | E70: =Startovky!E74 -> ÚO Strakonice | F70: 17.6 | G70: diskval. | H70: =IF(OR(F70="diskval.",G70="diskval."),"diskval.",F70+G70) -> diskval. | I70: =IF(OR(věž!F69=0,věž!G69=0),100,MAX(věž!F69:G69)) -> 100 | J70: =IF(OR('100m'!F69=0,'100m'!G69=0),100,MAX('100m'!F69:G69)) -> 100 | K70: =IF(H70="diskval.",1000,H70+((IF(I70>0,I70,100)+IF(J70>0,J70,100))/100000)) -> 1000
A71: =RANK(K71,$K$3:$K$72,1) -> 49 | C71: 69 | D71: =IF(přihlášky!$F$91="X",přihlášky!$E$91,přihlášky!$H$91) -> Nestartuje | E71: =Startovky!E75 -> ÚO Jindřichův Hradec | F71: diskval. | G71: diskval. | H71: =IF(OR(F71="diskval.",G71="diskval."),"diskval.",F71+G71) -> diskval. | I71: =IF(OR(věž!F70=0,věž!G70=0),100,MAX(věž!F70:G70)) -> 100 | J71: =IF(OR('100m'!F70=0,'100m'!G70=0),100,MAX('100m'!F70:G70)) -> 100 | K71: =IF(H71="diskval.",1000,H71+((IF(I71>0,I71,100)+IF(J71>0,J71,100))/100000)) -> 1000
A72: =RANK(K72,$K$3:$K$72,1) -> 49 | C72: 70 | D72: =IF(přihlášky!$F$104="X",přihlášky!$E$104,přihlášky!$H$104) -> Stuchel Miroslav | E72: =Startovky!E76 -> ÚO Prachatice | F72: 29.51 | G72: diskval. | H72: =IF(OR(F72="diskval.",G72="diskval."),"diskval.",F72+G72) -> diskval. | I72: =IF(OR(věž!F72=0,věž!G72=0),100,MAX(věž!F72:G72)) -> 100 | J72: =IF(OR('100m'!F72=0,'100m'!G72=0),100,MAX('100m'!F72:G72)) -> 100 | K72: =IF(H72="diskval.",1000,H72+((IF(I72>0,I72,100)+IF(J72>0,J72,100))/100000)) -> 1000

Sheet štafeta
C3: Štafeta | I3: elimin. stejného pořadí
D5: Družstvo | E5: 1.pokus | F5: 2.pokus | G5: započtený | H5: body
C6: 1 | D6: =přihlášky!C7 -> ÚO Český Krumlov | E6: 69.85 | F6: 67.43 | G6: =IF(AND(E6=0,F6=0),"diskval.",IF(AND(E6>0,F6>0),MIN(E6:F6),IF(E6>0,E6,F6))) -> 67.43 | H6: =RANK(I6,$I$6:$I$12,1) -> 7 | I6: =IF(E6+F6=MIN(E6:F6),G6+0.0005,G6+0.0001) -> 67.4301
C7: 2 | D7: =přihlášky!C8 -> ÚO Tábor | E7: 69.64 | F7: 62.53 | G7: =IF(AND(E7=0,F7=0),"diskval.",IF(AND(E7>0,F7>0),MIN(E7:F7),IF(E7>0,E7,F7))) -> 62.53 | H7: =RANK(I7,$I$6:$I$12,1) -> 3 | I7: =IF(E7+F7=MIN(E7:F7),G7+0.0005,G7+0.0001) -> 62.5301
C8: 3 | D8: =přihlášky!C9 -> ÚO Písek | E8: 62.86 | G8: =IF(AND(E8=0,F8=0),"diskval.",IF(AND(E8>0,F8>0),MIN(E8:F8),IF(E8>0,E8,F8))) -> 62.86 | H8: =RANK(I8,$I$6:$I$12,1) -> 4 | I8: =IF(E8+F8=MIN(E8:F8),G8+0.0005,G8+0.0001) -> 62.8605
C9: 4 | D9: =přihlášky!C10 -> ÚO České Budějovice | E9: 64.28 | F9: 59.72 | G9: =IF(AND(E9=0,F9=0),"diskval.",IF(AND(E9>0,F9>0),MIN(E9:F9),IF(E9>0,E9,F9))) -> 59.72 | H9: =RANK(I9,$I$6:$I$12,1) -> 1 | I9: =IF(E9+F9=MIN(E9:F9),G9+0.0005,G9+0.0001) -> 59.7201
C10: 5 | D10: =přihlášky!C11 -> ÚO Strakonice | E10: 66.8 | G10: =IF(AND(E10=0,F10=0),"diskval.",IF(AND(E10>0,F10>0),MIN(E10:F10),IF(E10>0,E10,F10))) -> 66.8 | H10: =RANK(I10,$I$6:$I$12,1) -> 6 | I10: =IF(E10+F10=MIN(E10:F10),G10+0.0005,G10+0.0001) -> 66.8005
C11: 6 | D11: =přihlášky!C12 -> ÚO Jindřichův Hradec | E11: 63.55 | F11: 59.88 | G11: =IF(AND(E11=0,F11=0),"diskval.",IF(AND(E11>0,F11>0),MIN(E11:F11),IF(E11>0,E11,F11))) -> 59.88 | H11: =RANK(I11,$I$6:$I$12,1) -> 2 | I11: =IF(E11+F11=MIN(E11:F11),G11+0.0005,G11+0.0001) -> 59.8801
C12: 7 | D12: =přihlášky!C13 -> ÚO Prachatice | E12: 65.7 | F12: 73.31 | G12: =IF(AND(E12=0,F12=0),"diskval.",IF(AND(E12>0,F12>0),MIN(E12:F12),IF(E12>0,E12,F12))) -> 65.7 | H12: =RANK(I12,$I$6:$I$12,1) -> 5 | I12: =IF(E12+F12=MIN(E12:F12),G12+0.0005,G12+0.0001) -> 65.7001
C14: V disciplíně štafeta 4x100 m s překážkami rozhodne o pořadí družstva dosažený čas lépe umístěné štafety družstva. Pokud jsou dosažené časy lepších štafet stejné, pak o pořadí družstva rozhoduje součet časů obou štafet. lépe umístěné štafety družstva. Pokud jsou dosažené časy lepších štafet stejné, pak o pořadí družstva rozhoduje součet časů obou štafet.

Sheet útok
C3: POŽÁRNÍ ÚTOK | I3: elimin. stejného pořadí
D5: Družstvo | E5: 1.pokus | F5: 2.pokus | G5: započtený | H5: body
C6: 1 | D6: =přihlášky!C7 -> ÚO Český Krumlov | E6: 29.52 | F6: 24.19 | G6: =IF(AND(E6=0,F6=0),"diskval.",IF(AND(E6>0,F6>0),MIN(E6:F6),IF(E6>0,E6,F6))) -> 24.19 | H6: =RANK(I6,I6:I12,1) -> 3 | I6: =IF(E6+F6=MIN(E6:F6),G6+0.0005,G6+0.0001) -> 24.1901
C7: 2 | D7: =přihlášky!C8 -> ÚO Tábor | E7: 27.98 | F7: 25.74 | G7: =IF(AND(E7=0,F7=0),"diskval.",IF(AND(E7>0,F7>0),MIN(E7:F7),IF(E7>0,E7,F7))) -> 25.74 | H7: =RANK(I7,I6:I12,1) -> 6 | I7: =IF(E7+F7=MIN(E7:F7),G7+0.0005,G7+0.0001) -> 25.7401
C8: 3 | D8: =přihlášky!C9 -> ÚO Písek | E8: 31.58 | F8: 35.54 | G8: =IF(AND(E8=0,F8=0),"diskval.",IF(AND(E8>0,F8>0),MIN(E8:F8),IF(E8>0,E8,F8))) -> 31.58 | H8: =RANK(I8,I6:I12,1) -> 7 | I8: =IF(E8+F8=MIN(E8:F8),G8+0.0005,G8+0.0001) -> 31.5801
C9: 4 | D9: =přihlášky!C10 -> ÚO České Budějovice | E9: 24.56 | F9: 27.98 | G9: =IF(AND(E9=0,F9=0),"diskval.",IF(AND(E9>0,F9>0),MIN(E9:F9),IF(E9>0,E9,F9))) -> 24.56 | H9: =RANK(I9,I6:I12,1) -> 4 | I9: =IF(E9+F9=MIN(E9:F9),G9+0.0005,G9+0.0001) -> 24.5601
C10: 5 | D10: =přihlášky!C11 -> ÚO Strakonice | E10: 25.95 | F10: 23.49 | G10: =IF(AND(E10=0,F10=0),"diskval.",IF(AND(E10>0,F10>0),MIN(E10:F10),IF(E10>0,E10,F10))) -> 23.49 | H10: =RANK(I10,I6:I12,1) -> 2 | I10: =IF(E10+F10=MIN(E10:F10),G10+0.0005,G10+0.0001) -> 23.4901
C11: 6 | D11: =přihlášky!C12 -> ÚO Jindřichův Hradec | E11: 27.07 | F11: 21.82 | G11: =IF(AND(E11=0,F11=0),"diskval.",IF(AND(E11>0,F11>0),MIN(E11:F11),IF(E11>0,E11,F11))) -> 21.82 | H11: =RANK(I11,I6:I12,1) -> 1 | I11: =IF(E11+F11=MIN(E11:F11),G11+0.0005,G11+0.0001) -> 21.8201
C12: 7 | D12: =přihlášky!C13 -> ÚO Prachatice | F12: 25.46 | G12: =IF(AND(E12=0,F12=0),"diskval.",IF(AND(E12>0,F12>0),MIN(E12:F12),IF(E12>0,E12,F12))) -> 25.46 | H12: =RANK(I12,I6:I12,1) -> 5 | I12: =IF(E12+F12=MIN(E12:F12),G12+0.0005,G12+0.0001) -> 25.4605
C14: V disciplíně požární útok se hodnotí umístění podle dosažených časů. Pokud se dle propozic provádí v požárním útoku dva pokusy, pak o pořadí rozhoduje při stejném čase v lepších pokusech součet obou pokusů.

Sheet družstva
J3: elimin. stejného pořadí
A5: pořadí | C5: Družstvo | D5: věž | E5: 100m | F5: štafeta | G5: útok | H5: Celkem bodů | I5: Umístění
A6: 1 | C6: =přihlášky!C7 -> ÚO Český Krumlov | D6: =věž!K10 -> 5 | E6: ='100m'!K10 -> 5 | F6: =štafeta!H6 -> 7 | G6: =útok!H6 -> 3 | H6: =SUM(D6:G6) -> 20 | I6: =RANK(J6,J6:J12,1) -> 6 | J6: =H6+(G6/10000) -> 20.0003
A7: 2 | C7: =přihlášky!C8 -> ÚO Tábor | D7: =věž!K19 -> 7 | E7: ='100m'!K19 -> 3 | F7: =štafeta!H7 -> 3 | G7: =útok!H7 -> 6 | H7: =SUM(D7:G7) -> 19 | I7: =RANK(J7,J6:J12,1) -> 5 | J7: =H7+(G7/10000) -> 19.0006
A8: 3 | C8: =přihlášky!C9 -> ÚO Písek | D8: =věž!K28 -> 3 | E8: ='100m'!K28 -> 4 | F8: =štafeta!H8 -> 4 | G8: =útok!H8 -> 7 | H8: =SUM(D8:G8) -> 18 | I8: =RANK(J8,J6:J12,1) -> 4 | J8: =H8+(G8/10000) -> 18.0007
A9: 4 | C9: =přihlášky!C10 -> ÚO České Budějovice | D9: =věž!K37 -> 2 | E9: ='100m'!K37 -> 1 | F9: =štafeta!H9 -> 1 | G9: =útok!H9 -> 4 | H9: =SUM(D9:G9) -> 8 | I9: =RANK(J9,J6:J12,1) -> 2 | J9: =H9+(G9/10000) -> 8.0004
A10: 5 | C10: =přihlášky!C11 -> ÚO Strakonice | D10: =věž!K46 -> 4 | E10: ='100m'!K46 -> 6 | F10: =štafeta!H10 -> 6 | G10: =útok!H10 -> 2 | H10: =SUM(D10:G10) -> 18 | I10: =RANK(J10,J6:J12,1) -> 3 | J10: =H10+(G10/10000) -> 18.0002
A11: 6 | C11: =přihlášky!C12 -> ÚO Jindřichův Hradec | D11: =věž!K55 -> 1 | E11: ='100m'!K55 -> 2 | F11: =štafeta!H11 -> 2 | G11: =útok!H11 -> 1 | H11: =SUM(D11:G11) -> 6 | I11: =RANK(J11,J6:J12,1) -> 1 | J11: =H11+(G11/10000) -> 6.0001
A12: 7 | C12: =přihlášky!C13 -> ÚO Prachatice | D12: =věž!K64 -> 6 | E12: ='100m'!K64 -> 7 | F12: =štafeta!H12 -> 5 | G12: =útok!H12 -> 5 | H12: =SUM(D12:G12) -> 23 | I12: =RANK(J12,J6:J12,1) -> 7 | J12: =H12+(G12/10000) -> 23.0005
A14: O celkovém pořadí dvou nebo více družstev se stejným součtem bodů rozhoduje lepší umístění v požárním útoku. Pokud umístění těchto družstev budou stejná i v požárním útoku, budou v celkovém pořadí shodně hodnocena na dvou nebo více po sobě následujících místech. Pro všechny disciplíny platí, že v případě umístění dvou nebo více družstev na stejném pořadí, budou družstvům započítány do celkového umístění body odpovídající dosaženému pořadí (následující umístění se nepřiřazuje). Družstvu, které nesplní disciplínu, se přiřazuje bodové ohodnocení družstva na poslední pozici (rovnající se počtu soutěžních družstev). Toto platí pro všechna družstva, která danou disciplínu nesplnila.

Sheet přihlášky
C4: Počet Družstev | D4: 7
B6: Pořadí družstev
B7: 1 | C7: ÚO Český Krumlov
B8: 2 | C8: ÚO Tábor
B9: 3 | C9: ÚO Písek
B10: 4 | C10: ÚO České Budějovice
B11: 5 | C11: ÚO Strakonice
B12: 6 | C12: ÚO Jindřichův Hradec
B13: 7 | C13: ÚO Prachatice
D15: 1 | E15: =C7 -> ÚO Český Krumlov
D16: start.č. | E16: Jméno | F16: Věž | G16: 100m
D17: =D15 -> 1 | E17: Čížek David | F17: x | G17: x | H17: Nestartuje
D18: =D17+D4 -> 8 | E18: Dvořák Petr | F18: x | G18: x | H18: Nestartuje
D19: =D18+D4 -> 15 | E19: Fučík Jan | F19: x | G19: x | H19: Nestartuje
D20: =D19+D4 -> 22 | E20: Klein Adolf | F20: x | G20: x | H20: Nestartuje
D21: =D20+D4 -> 29 | E21: Dudák Jakub | F21: x | G21: x | H21: Nestartuje
D22: =D21+D4 -> 36 | E22: Ottenschläger Václav | F22: x | G22: x | H22: Nestartuje
D23: =D22+D4 -> 43 | E23: Klíma Miloslav | F23: x | G23: x | H23: Nestartuje
D24: =D23+D4 -> 50 | E24: Bartuška Jiří | F24: x | G24: x | H24: Nestartuje
D25: =D24+D4 -> 57 | E25: Marek Jakub (jednotlivci) | F25: x | G25: x | H25: Nestartuje
D26: =D25+D4 -> 64 | E26: Balog Jiří (ÚO ST - jednotlivci) | G26: x | H26: Nestartuje
D28: 2 | E28: =C8 -> ÚO Tábor
D29: start.č. | E29: Jméno | F29: Věž | G29: 100m
D30: =D28 -> 2 | E30: Novák Tomáš | F30: x | G30: x | H30: Nestartuje
D31: =D30+D4 -> 9 | E31: Novák Dominik | F31: x | G31: x | H31: Nestartuje
D32: =D31+D4 -> 16 | E32: Knotek Radim | F32: x | G32: x | H32: Nestartuje
D33: =D32+D4 -> 23 | E33: Kopecký Jan | F33: x | G33: x | H33: Nestartuje
D34: =D33+D4 -> 30 | E34: Falada Denis | F34: x | G34: x | H34: Nestartuje
D35: =D34+D4 -> 37 | E35: Průcha Josef | F35: x | G35: x | H35: Nestartuje
D36: =D35+D4 -> 44 | E36: Mareš Jiří | G36: x | H36: Nestartuje
D37: =D36+D4 -> 51 | E37: Havelka Mikuláš | F37: x | G37: x | H37: Nestartuje
D38: =D37+D4 -> 58 | E38: Baránek Václav (100m jednotlivci) | F38: x | G38: x | H38: Nestartuje
D39: =D38+D4 -> 65 | H39: Nestartuje
D41: 3 | E41: =C9 -> ÚO Písek
D42: start.č. | E42: Jméno | F42: Věž | G42: 100m
D43: =D41 -> 3 | E43: Šourek Petr | F43: x | H43: Nestartuje
D44: =D43+D4 -> 10 | E44: Horský Marek | F44: x | G44: x | H44: Nestartuje
D45: =D44+D4 -> 17 | E45: Trantina Karel | F45: x | G45: x | H45: Nestartuje
D46: =D45+D4 -> 24 | E46: Jirout Patrik | F46: x | G46: x | H46: Nestartuje
D47: =D46+D4 -> 31 | E47: Píbal Jiří | F47: x | G47: x | H47: Nestartuje
D48: =D47+D4 -> 38 | E48: Motejzík Martin | F48: x | G48: x | H48: Nestartuje
D49: =D48+D4 -> 45 | E49: Bláha Petr | F49: x | G49: x | H49: Nestartuje
D50: =D49+D4 -> 52 | E50: Brož Lukáš | G50: x | H50: Nestartuje
D51: =D50+D4 -> 59 | E51: Koller Petr | G51: x | H51: Nestartuje
D52: =D51+D4 -> 66 | E52: Máška Dominik | G52: x | H52: Nestartuje
D54: 4 | E54: =C10 -> ÚO České Budějovice
D55: start.č. | E55: Jméno | F55: Věž | G55: 100m
D56: =D54 -> 4 | E56: Hasík Juraj | F56: x | G56: x | H56: Nestartuje
D57: =D56+D4 -> 11 | E57: Ježek Jan | F57: x | G57: x | H57: Nestartuje
D58: =D57+D4 -> 18 | E58: Krygar Josef | F58: x | G58: x | H58: Nestartuje
D59: =D58+D4 -> 25 | E59: Hájek David | F59: x | G59: x | H59: Nestartuje
D60: =D59+D4 -> 32 | E60: Měřička Michal | F60: x | G60: x | H60: Nestartuje
D61: =D60+D4 -> 39 | E61: Čada Milan | F61: x | G61: x | H61: Nestartuje
D62: =D61+D4 -> 46 | E62: Míchal Martin | F62: x | H62: Nestartuje
D63: =D62+D4 -> 53 | E63: Völfel David | F63: x | G63: x | H63: Nestartuje
D64: =D63+D4 -> 60 | E64: Nýdl Jakub | G64: x | H64: Nestartuje
D65: =D64+D4 -> 67 | H65: Nestartuje
D67: 5 | E67: =C11 -> ÚO Strakonice
D68: start.č. | E68: Jméno | F68: Věž | G68: 100m
D69: =D67 -> 5 | E69: Krupka Luboš | F69: x | G69: x | H69: Nestartuje
D70: =D69+D4 -> 12 | E70: Stibor Jiří | F70: x | G70: x | H70: Nestartuje
D71: =D70+D4 -> 19 | E71: Muchl Vladimír | F71: x | G71: x | H71: Nestartuje
D72: =D71+D4 -> 26 | E72: Božka Martin | F72: x | G72: x | H72: Nestartuje
D73: =D72+D4 -> 33 | E73: Pěnča Ivan | F73: x | G73: x | H73: Nestartuje
D74: =D73+D4 -> 40 | E74: Vaňač Aleš | F74: x | G74: x | H74: Nestartuje
D75: =D74+D4 -> 47 | E75: Štolba František (věž jednotlici) | F75: x | G75: x | H75: Nestartuje
D76: =D75+D4 -> 54 | E76: Pospíšil Michael (věž jednotlivci) | F76: x | H76: Nestartuje
D77: =D76+D4 -> 61 | E77: Suchopár Jiří | F77: x | H77: Nestartuje
D78: =D77+D4 -> 68 | E78: Černovský Michal | F78: x | H78: Nestartuje
D80: 6 | E80: =C12 -> ÚO Jindřichův Hradec
D81: start.č. | E81: Jméno | F81: Věž | G81: 100m
D82: =D80 -> 6 | E82: Šmíd Stanislav | F82: x | G82: x | H82: Nestartuje
D83: =D82+D4 -> 13 | E83: Doktor Michal | F83: x | H83: Nestartuje
D84: =D83+D4 -> 20 | E84: Janů Pavel | F84: x | G84: x | H84: Nestartuje
D85: =D84+D4 -> 27 | E85: Bašta Vojtěch | F85: x | G85: x | H85: Nestartuje
D86: =D85+D4 -> 34 | E86: Kučera Jan | F86: x | G86: x | H86: Nestartuje
D87: =D86+D4 -> 41 | E87: Huml Ondřej | F87: x | G87: x | H87: Nestartuje
D88: =D87+D4 -> 48 | E88: Šenkýř Marek | F88: x | G88: x | H88: Nestartuje
D89: =D88+D4 -> 55 | E89: Janů František | F89: x | G89: x | H89: Nestartuje
D90: =D89+D4 -> 62 | E90: Holý Patrik (věž jednotlivci) | F90: x | G90: x | H90: Nestartuje
D91: =D90+D4 -> 69 | H91: Nestartuje
D93: 7 | E93: =C13 -> ÚO Prachatice
D94: start.č. | E94: Jméno | F94: Věž | G94: 100m
D95: =D93 -> 7 | E95: Cais Martin | F95: x | G95: x | H95: Nestartuje
D96: =D95+D4 -> 14 | E96: Šmajcl František | F96: x | G96: x | H96: Nestartuje
D97: =D96+D4 -> 21 | E97: Študlar Petr | F97: x | G97: x | H97: Nestartuje
D98: =D97+D4 -> 28 | E98: Vodrášek Josef | F98: x | G98: x | H98: Nestartuje
D99: =D98+D4 -> 35 | E99: Uhlíř Josef | F99: x | G99: x | H99: Nestartuje
D100: =D99+D4 -> 42 | E100: Myslivec Jan | G100: x | H100: Nestartuje
D101: =D100+D4 -> 49 | E101: Vozandych Petr | F101: x | G101: x | H101: Nestartuje
D102: =D101+D4 -> 56 | E102: Jiráň Marek | F102: x | H102: Nestartuje
D103: =D102+D4 -> 63 | E103: Beneš Petr | G103: x | H103: Nestartuje
D104: =D103+D4 -> 70 | E104: Stuchel Miroslav | F104: x | H104: Nestartuje

Sheet Startovky
A1: 1.POKUSY VĚŽ | F1: 1.ŠTAFETA
A3: Rozběh | B3: Dráha | C3: Start. č. | D3: Jméno | E3: stanice | F3: Rozběh | G3: Dráha | H3: Start. č. | I3: stanice | J3: ČAS
A4: 1 | B4: 1 | C4: 1 | D4: =IF(přihlášky!$F$17="X",přihlášky!$E$17,přihlášky!H17) -> Čížek David | E4: =přihlášky!C7 -> ÚO Český Krumlov | F4: 1 | G4: 1 | H4: 1 | I4: =přihlášky!C7 -> ÚO Český Krumlov
B5: 2 | C5: 2 | D5: =IF(přihlášky!$F$30="X",přihlášky!$E$30,přihlášky!$H$30) -> Novák Tomáš | E5: =přihlášky!C8 -> ÚO Tábor | G5: 2 | H5: 2 | I5: =přihlášky!C8 -> ÚO Tábor
A6: 2 | B6: 1 | C6: 3 | D6: =IF(přihlášky!$F$43="X",přihlášky!$E$43,přihlášky!$H$43) -> Šourek Petr | E6: =přihlášky!C9 -> ÚO Písek | F6: =1+F4 -> 2 | G6: 1 | H6: 3 | I6: =přihlášky!C9 -> ÚO Písek
B7: 2 | C7: 4 | D7: =IF(přihlášky!$F$56="X",přihlášky!$E$56,přihlášky!$H$56) -> Hasík Juraj | E7: =přihlášky!C10 -> ÚO České Budějovice | G7: 2 | H7: 4 | I7: =přihlášky!C10 -> ÚO České Budějovice
A8: 3 | B8: 1 | C8: 5 | D8: =IF(přihlášky!$F$69="X",přihlášky!$E$69,přihlášky!$H$69) -> Krupka Luboš | E8: =přihlášky!C11 -> ÚO Strakonice | F8: =1+F6 -> 3 | G8: 1 | H8: 5 | I8: =přihlášky!C11 -> ÚO Strakonice
B9: 2 | C9: 6 | D9: =IF(přihlášky!$F$82="X",přihlášky!$E$82,přihlášky!$H$82) -> Šmíd Stanislav | E9: =přihlášky!C12 -> ÚO Jindřichův Hradec | G9: 2 | H9: 6 | I9: =přihlášky!C12 -> ÚO Jindřichův Hradec
A10: 4 | B10: 1 | C10: 7 | D10: =IF(přihlášky!$F$95="X",přihlášky!$E$95,přihlášky!$H$95) -> Cais Martin | E10: =přihlášky!C13 -> ÚO Prachatice | F10: =1+F8 -> 4 | G10: 1 | H10: 7 | I10: =přihlášky!C13 -> ÚO Prachatice
B11: 2 | C11: 8 | D11: =IF(přihlášky!$F$18="X",přihlášky!$E$18,přihlášky!H18) -> Dvořák Petr | E11: =přihlášky!C7 -> ÚO Český Krumlov | G11: 2 | H11: 8
A12: 5 | B12: 1 | C12: 9 | D12: =IF(přihlášky!$F$31="X",přihlášky!$E$31,přihlášky!$H$31) -> Novák Dominik | E12: =přihlášky!C8 -> ÚO Tábor
B13: 2 | C13: 10 | D13: =IF(přihlášky!$F$44="X",přihlášky!$E$44,přihlášky!$H$44) -> Horský Marek | E13: =přihlášky!C9 -> ÚO Písek | F13: 2.ŠTAFETA
A14: 6 | B14: 1 | C14: 11 | D14: =IF(přihlášky!$F$57="X",přihlášky!$E$57,přihlášky!$H$57) -> Ježek Jan | E14: =přihlášky!C10 -> ÚO České Budějovice
B15: 2 | C15: 12 | D15: =IF(přihlášky!$F$70="X",přihlášky!$E$70,přihlášky!$H$70) -> Stibor Jiří | E15: =přihlášky!C11 -> ÚO Strakonice | F15: Rozběh | G15: Dráha | H15: Start. č. | I15: stanice | J15: ČAS
A16: 7 | B16: 1 | C16: 13 | D16: =IF(přihlášky!$F$83="X",přihlášky!$E$83,přihlášky!$H$83) -> Doktor Michal | E16: =přihlášky!C12 -> ÚO Jindřichův Hradec | F16: 1 | G16: 2 | H16: 1 | I16: =přihlášky!C7 -> ÚO Český Krumlov
B17: 2 | C17: 14 | D17: =IF(přihlášky!$F$96="X",přihlášky!$E$96,přihlášky!$H$96) -> Šmajcl František | E17: =přihlášky!C13 -> ÚO Prachatice | G17: 1 | H17: 2 | I17: =přihlášky!C8 -> ÚO Tábor
A18: 8 | B18: 1 | C18: 15 | D18: =IF(přihlášky!$F$19="X",přihlášky!$E$19,přihlášky!$H$19) -> Fučík Jan | E18: =přihlášky!C7 -> ÚO Český Krumlov | F18: =1+F16 -> 2 | G18: 2 | H18: 3 | I18: =přihlášky!C9 -> ÚO Písek
B19: 2 | C19: 16 | D19: =IF(přihlášky!$F$32="X",přihlášky!$E$32,přihlášky!$H$32) -> Knotek Radim | E19: =přihlášky!C8 -> ÚO Tábor | G19: 1 | H19: 4 | I19: =přihlášky!C10 -> ÚO České Budějovice
A20: 9 | B20: 1 | C20: 17 | D20: =IF(přihlášky!$F$45="X",přihlášky!$E$45,přihlášky!$H$45) -> Trantina Karel | E20: =přihlášky!C9 -> ÚO Písek | F20: =1+F18 -> 3 | G20: 2 | H20: 5 | I20: =přihlášky!C11 -> ÚO Strakonice
B21: 2 | C21: 18 | D21: =IF(přihlášky!$F$58="X",přihlášky!$E$58,přihlášky!$H$58) -> Krygar Josef | E21: =přihlášky!C10 -> ÚO České Budějovice | G21: 1 | H21: 6 | I21: =přihlášky!C12 -> ÚO Jindřichův Hradec
A22: 10 | B22: 1 | C22: 19 | D22: =IF(přihlášky!$F$71="X",přihlášky!$E$71,přihlášky!$H$71) -> Muchl Vladimír | E22: =přihlášky!C11 -> ÚO Strakonice | F22: =1+F20 -> 4 | G22: 2 | H22: 7 | I22: =přihlášky!C13 -> ÚO Prachatice
B23: 2 | C23: 20 | D23: =IF(přihlášky!$F$84="X",přihlášky!$E$84,přihlášky!$H$84) -> Janů Pavel | E23: =přihlášky!C12 -> ÚO Jindřichův Hradec | G23: 1 | H23: 8
A24: 11 | B24: 1 | C24: 21 | D24: =IF(přihlášky!$F$97="X",přihlášky!$E$97,přihlášky!$H$97) -> Študlar Petr | E24: =přihlášky!C13 -> ÚO Prachatice
B25: 2 | C25: 22 | D25: =IF(přihlášky!$F$20="X",přihlášky!$E$20,přihlášky!$H$20) -> Klein Adolf | E25: =přihlášky!C7 -> ÚO Český Krumlov
A26: 12 | B26: 1 | C26: 23 | D26: =IF(přihlášky!$F$33="X",přihlášky!$E$33,přihlášky!$H$33) -> Kopecký Jan | E26: =přihlášky!C8 -> ÚO Tábor
B27: 2 | C27: 24 | D27: =IF(přihlášky!$F$46="X",přihlášky!$E$46,přihlášky!$H$46) -> Jirout Patrik | E27: =přihlášky!C9 -> ÚO Písek
A28: 13 | B28: 1 | C28: 25 | D28: =IF(přihlášky!$F$59="X",přihlášky!$E$59,přihlášky!$H$59) -> Hájek David | E28: =přihlášky!C10 -> ÚO České Budějovice
B29: 2 | C29: 26 | D29: =IF(přihlášky!$F$72="X",přihlášky!$E$72,přihlášky!$H$72) -> Božka Martin | E29: =přihlášky!C11 -> ÚO Strakonice
A30: 14 | B30: 1 | C30: 27 | D30: =IF(přihlášky!$F$85="X",přihlášky!$E$85,přihlášky!$H$85) -> Bašta Vojtěch | E30: =přihlášky!C12 -> ÚO Jindřichův Hradec
B31: 2 | C31: 28 | D31: =IF(přihlášky!$F$98="X",přihlášky!$E$98,přihlášky!$H$98) -> Vodrášek Josef | E31: =přihlášky!C13 -> ÚO Prachatice
A32: 15 | B32: 1 | C32: 29 | D32: =IF(přihlášky!$F$21="X",přihlášky!$E$21,přihlášky!$H$21) -> Dudák Jakub | E32: =přihlášky!C7 -> ÚO Český Krumlov
B33: 2 | C33: 30 | D33: =IF(přihlášky!$F$34="X",přihlášky!$E$34,přihlášky!$H$34) -> Falada Denis | E33: =přihlášky!C8 -> ÚO Tábor
A34: 16 | B34: 1 | C34: 31 | D34: =IF(přihlášky!$F$47="X",přihlášky!$E$47,přihlášky!$H$47) -> Píbal Jiří | E34: =přihlášky!C9 -> ÚO Písek
B35: 2 | C35: 32 | D35: =IF(přihlášky!$F$60="X",přihlášky!$E$60,přihlášky!$H$60) -> Měřička Michal | E35: =přihlášky!C10 -> ÚO České Budějovice
A36: 17 | B36: 1 | C36: 33 | D36: =IF(přihlášky!$F$73="X",přihlášky!$E$73,přihlášky!$H$73) -> Pěnča Ivan | E36: =přihlášky!C11 -> ÚO Strakonice
B37: 2 | C37: 34 | D37: =IF(přihlášky!$F$86="X",přihlášky!$E$86,přihlášky!$H$86) -> Kučera Jan | E37: =přihlášky!C12 -> ÚO Jindřichův Hradec
A38: 18 | B38: 1 | C38: 35 | D38: =IF(přihlášky!$F$99="X",přihlášky!$E$99,přihlášky!$H$99) -> Uhlíř Josef | E38: =přihlášky!C13 -> ÚO Prachatice
B39: 2 | C39: 36 | D39: =IF(přihlášky!$F$22="X",přihlášky!$E$22,přihlášky!$H$22) -> Ottenschläger Václav | E39: =přihlášky!C7 -> ÚO Český Krumlov
A40: 1.POKUSY VĚŽ | H40: 1.POKUS ÚTOK
A42: Rozběh | B42: Dráha | C42: Start. č. | D42: Jméno | E42: stanice | H42: Start. č. | I42: stanice | J42: ČAS
A43: 19 | B43: 1 | C43: 37 | D43: =IF(přihlášky!$F$35="X",přihlášky!$E$35,přihlášky!$H$35) -> Průcha Josef | E43: =přihlášky!C8 -> ÚO Tábor | H43: 1 | I43: =přihlášky!C7 -> ÚO Český Krumlov
B44: 2 | C44: 38 | D44: =IF(přihlášky!$F$48="X",přihlášky!$E$48,přihlášky!$H$48) -> Motejzík Martin | E44: =přihlášky!C9 -> ÚO Písek | H44: 2 | I44: =přihlášky!C8 -> ÚO Tábor
A45: 20 | B45: 1 | C45: 39 | D45: =IF(přihlášky!$F$61="X",přihlášky!$E$61,přihlášky!$H$61) -> Čada Milan | E45: =přihlášky!C10 -> ÚO České Budějovice | H45: 3 | I45: =přihlášky!C9 -> ÚO Písek
B46: 2 | C46: 40 | D46: =IF(přihlášky!$F$74="X",přihlášky!$E$74,přihlášky!$H$74) -> Vaňač Aleš | E46: =přihlášky!C11 -> ÚO Strakonice | H46: 4 | I46: =přihlášky!C10 -> ÚO České Budějovice
A47: 21 | B47: 1 | C47: 41 | D47: =IF(přihlášky!$F$87="X",přihlášky!$E$87,přihlášky!$H$87) -> Huml Ondřej | E47: =přihlášky!C12 -> ÚO Jindřichův Hradec | H47: 5 | I47: =přihlášky!C11 -> ÚO Strakonice
B48: 2 | C48: 42 | D48: =IF(přihlášky!$F$100="X",přihlášky!$E$100,přihlášky!$H$100) -> Nestartuje | E48: =přihlášky!C13 -> ÚO Prachatice | H48: 6 | I48: =přihlášky!C12 -> ÚO Jindřichův Hradec
A49: 22 | B49: 1 | C49: 43 | D49: =IF(přihlášky!$F$23="X",přihlášky!$E$23,přihlášky!$H$23) -> Klíma Miloslav | E49: =přihlášky!C7 -> ÚO Český Krumlov | H49: 7 | I49: =přihlášky!C13 -> ÚO Prachatice
B50: 2 | C50: 44 | D50: =IF(přihlášky!$F$36="X",přihlášky!$E$36,přihlášky!$H$36) -> Nestartuje | E50: =přihlášky!C8 -> ÚO Tábor
A51: 23 | B51: 1 | C51: 45 | D51: =IF(přihlášky!$F$49="X",přihlášky!$E$49,přihlášky!$H$49) -> Bláha Petr | E51: =přihlášky!C9 -> ÚO Písek
B52: 2 | C52: 46 | D52: =IF(přihlášky!$F$62="X",přihlášky!$E$62,přihlášky!$H$62) -> Míchal Martin | E52: =přihlášky!C10 -> ÚO České Budějovice | H52: 2.POKUS ÚTOK
A53: 24 | B53: 1 | C53: 47 | D53: =IF(přihlášky!$F$75="X",přihlášky!$E$75,přihlášky!$H$75) -> Štolba František (věž jednotlici) | E53: =přihlášky!C11 -> ÚO Strakonice
B54: 2 | C54: 48 | D54: =IF(přihlášky!$F$88="X",přihlášky!$E$88,přihlášky!$H$88) -> Šenkýř Marek | E54: =přihlášky!C12 -> ÚO Jindřichův Hradec | H54: Start. č. | I54: stanice | J54: ČAS
A55: 25 | B55: 1 | C55: 49 | D55: =IF(přihlášky!$F$101="X",přihlášky!$E$101,přihlášky!$H$101) -> Vozandych Petr | E55: =přihlášky!C13 -> ÚO Prachatice | H55: 1 | I55: =přihlášky!C7 -> ÚO Český Krumlov
B56: 2 | C56: 50 | D56: =IF(přihlášky!$F$24="X",přihlášky!$E$24,přihlášky!$H$24) -> Bartuška Jiří | E56: =přihlášky!C7 -> ÚO Český Krumlov | H56: 2 | I56: =přihlášky!C8 -> ÚO Tábor
A57: 26 | B57: 1 | C57: 51 | D57: =IF(přihlášky!$F$37="X",přihlášky!$E$37,přihlášky!$H$37) -> Havelka Mikuláš | E57: =přihlášky!C8 -> ÚO Tábor | H57: 3 | I57: =přihlášky!C9 -> ÚO Písek
B58: 2 | C58: 52 | D58: =IF(přihlášky!$F$50="X",přihlášky!$E$50,přihlášky!$H$50) -> Nestartuje | E58: =přihlášky!C9 -> ÚO Písek | H58: 4 | I58: =přihlášky!C10 -> ÚO České Budějovice
A59: 27 | B59: 1 | C59: 53 | D59: =IF(přihlášky!$F$63="X",přihlášky!$E$63,přihlášky!$H$63) -> Völfel David | E59: =přihlášky!C10 -> ÚO České Budějovice | H59: 5 | I59: =přihlášky!C11 -> ÚO Strakonice
B60: 2 | C60: 54 | D60: =IF(přihlášky!$F$76="X",přihlášky!$E$76,přihlášky!$H$76) -> Pospíšil Michael (věž jednotlivci) | E60: =přihlášky!C11 -> ÚO Strakonice | H60: 6 | I60: =přihlášky!C12 -> ÚO Jindřichův Hradec
A61: 28 | B61: 1 | C61: 55 | D61: =IF(přihlášky!$F$89="X",přihlášky!$E$89,přihlášky!$H$89) -> Janů František | E61: =přihlášky!C12 -> ÚO Jindřichův Hradec | H61: 7 | I61: =přihlášky!C13 -> ÚO Prachatice
B62: 2 | C62: 56 | D62: =IF(přihlášky!$F$102="X",přihlášky!$E$102,přihlášky!$H$102) -> Jiráň Marek | E62: =přihlášky!C13 -> ÚO Prachatice
A63: 29 | B63: 1 | C63: 57 | D63: =IF(přihlášky!$F$25="X",přihlášky!$E$25,přihlášky!$H$25) -> Marek Jakub (jednotlivci) | E63: =přihlášky!C7 -> ÚO Český Krumlov
B64: 2 | C64: 58 | D64: =IF(přihlášky!$F$38="X",přihlášky!$E$38,přihlášky!$H$38) -> Baránek Václav (100m jednotlivci) | E64: =přihlášky!C8 -> ÚO Tábor
A65: 30 | B65: 1 | C65: 59 | D65: =IF(přihlášky!$F$51="X",přihlášky!$E$51,přihlášky!$H$51) -> Nestartuje | E65: =přihlášky!C9 -> ÚO Písek
B66: 2 | C66: 60 | D66: =IF(přihlášky!$F$64="X",přihlášky!$E$64,přihlášky!$H$64) -> Nestartuje | E66: =přihlášky!C10 -> ÚO České Budějovice
A67: 31 | B67: 1 | C67: 61 | D67: =IF(přihlášky!$F$77="X",přihlášky!$E$77,přihlášky!$H$77) -> Suchopár Jiří | E67: =přihlášky!C11 -> ÚO Strakonice
B68: 2 | C68: 62 | D68: =IF(přihlášky!$F$90="X",přihlášky!$E$90,přihlášky!$H$90) -> Holý Patrik (věž jednotlivci) | E68: =přihlášky!C12 -> ÚO Jindřichův Hradec
A69: 32 | B69: 1 | C69: 63 | D69: =IF(přihlášky!$F$103="X",přihlášky!$E$103,přihlášky!$H$103) -> Nestartuje | E69: =přihlášky!C13 -> ÚO Prachatice
B70: 2 | C70: 64 | D70: =IF(přihlášky!$F$26="X",přihlášky!$E$26,přihlášky!$H$26) -> Nestartuje | E70: ÚO Strakonice
A71: 33 | B71: 1 | C71: 65 | D71: =IF(přihlášky!$F$39="X",přihlášky!$E$39,přihlášky!$H$39) -> Nestartuje | E71: =přihlášky!C8 -> ÚO Tábor
B72: 2 | C72: 66 | D72: =IF(přihlášky!$F$52="X",přihlášky!$E$52,přihlášky!$H$52) -> Nestartuje | E72: =přihlášky!C9 -> ÚO Písek
A73: 34 | B73: 1 | C73: 67 | D73: =IF(přihlášky!$F$65="X",přihlášky!$E$65,přihlášky!$H$65) -> Nestartuje | E73: =přihlášky!C10 -> ÚO České Budějovice
B74: 2 | C74: 68 | D74: =IF(přihlášky!$F$78="X",přihlášky!$E$78,přihlášky!$H$78) -> Černovský Michal | E74: =přihlášky!C11 -> ÚO Strakonice
A75: 35 | B75: 1 | C75: 69 | D75: =IF(přihlášky!$F$91="X",přihlášky!$E$91,přihlášky!$H$91) -> Nestartuje | E75: =přihlášky!C12 -> ÚO Jindřichův Hradec
B76: 2 | C76: 70 | D76: =IF(přihlášky!$F$104="X",přihlášky!$E$104,přihlášky!$H$104) -> Stuchel Miroslav | E76: =přihlášky!C13 -> ÚO Prachatice
A77: 2.POKUSY VĚŽ
A79: Rozběh | B79: Dráha | C79: Start. č. | D79: Jméno | E79: stanice
A80: 1 | B80: 2 | C80: 1 | D80: =IF(přihlášky!$F$17="X",přihlášky!$E$17,přihlášky!H93) -> Čížek David | E80: =přihlášky!C7 -> ÚO Český Krumlov
B81: 1 | C81: 2 | D81: =IF(přihlášky!$F$30="X",přihlášky!$E$30,přihlášky!$H$30) -> Novák Tomáš | E81: =přihlášky!C8 -> ÚO Tábor
A82: 2 | B82: 2 | C82: 3 | D82: =IF(přihlášky!$F$43="X",přihlášky!$E$43,přihlášky!$H$43) -> Šourek Petr | E82: =přihlášky!C9 -> ÚO Písek
B83: 1 | C83: 4 | D83: =IF(přihlášky!$F$56="X",přihlášky!$E$56,přihlášky!$H$56) -> Hasík Juraj | E83: =přihlášky!C10 -> ÚO České Budějovice
A84: 3 | B84: 2 | C84: 5 | D84: =IF(přihlášky!$F$69="X",přihlášky!$E$69,přihlášky!$H$69) -> Krupka Luboš | E84: =přihlášky!C11 -> ÚO Strakonice
B85: 1 | C85: 6 | D85: =IF(přihlášky!$F$82="X",přihlášky!$E$82,přihlášky!$H$82) -> Šmíd Stanislav | E85: =přihlášky!C12 -> ÚO Jindřichův Hradec
A86: 4 | B86: 2 | C86: 7 | D86: =IF(přihlášky!$F$95="X",přihlášky!$E$95,přihlášky!$H$95) -> Cais Martin | E86: =přihlášky!C13 -> ÚO Prachatice
B87: 1 | C87: 8 | D87: =IF(přihlášky!$F$18="X",přihlášky!$E$18,přihlášky!H94) -> Dvořák Petr | E87: =přihlášky!C7 -> ÚO Český Krumlov
A88: 5 | B88: 2 | C88: 9 | D88: =IF(přihlášky!$F$31="X",přihlášky!$E$31,přihlášky!$H$31) -> Novák Dominik | E88: =přihlášky!C8 -> ÚO Tábor
B89: 1 | C89: 10 | D89: =IF(přihlášky!$F$44="X",přihlášky!$E$44,přihlášky!$H$44) -> Horský Marek | E89: =přihlášky!C9 -> ÚO Písek
A90: 6 | B90: 2 | C90: 11 | D90: =IF(přihlášky!$F$57="X",přihlášky!$E$57,přihlášky!$H$57) -> Ježek Jan | E90: =přihlášky!C10 -> ÚO České Budějovice
B91: 1 | C91: 12 | D91: =IF(přihlášky!$F$70="X",přihlášky!$E$70,přihlášky!$H$70) -> Stibor Jiří | E91: =přihlášky!C11 -> ÚO Strakonice
A92: 7 | B92: 2 | C92: 13 | D92: =IF(přihlášky!$F$83="X",přihlášky!$E$83,přihlášky!$H$83) -> Doktor Michal | E92: =přihlášky!C12 -> ÚO Jindřichův Hradec
B93: 1 | C93: 14 | D93: =IF(přihlášky!$F$96="X",přihlášky!$E$96,přihlášky!$H$96) -> Šmajcl František | E93: =přihlášky!C13 -> ÚO Prachatice
A94: 8 | B94: 2 | C94: 15 | D94: =IF(přihlášky!$F$19="X",přihlášky!$E$19,přihlášky!$H$19) -> Fučík Jan | E94: =přihlášky!C7 -> ÚO Český Krumlov
B95: 1 | C95: 16 | D95: =IF(přihlášky!$F$32="X",přihlášky!$E$32,přihlášky!$H$32) -> Knotek Radim | E95: =přihlášky!C8 -> ÚO Tábor
A96: 9 | B96: 2 | C96: 17 | D96: =IF(přihlášky!$F$45="X",přihlášky!$E$45,přihlášky!$H$45) -> Trantina Karel | E96: =přihlášky!C9 -> ÚO Písek
B97: 1 | C97: 18 | D97: =IF(přihlášky!$F$58="X",přihlášky!$E$58,přihlášky!$H$58) -> Krygar Josef | E97: =přihlášky!C10 -> ÚO České Budějovice
A98: 10 | B98: 2 | C98: 19 | D98: =IF(přihlášky!$F$71="X",přihlášky!$E$71,přihlášky!$H$71) -> Muchl Vladimír | E98: =přihlášky!C11 -> ÚO Strakonice
B99: 1 | C99: 20 | D99: =IF(přihlášky!$F$84="X",přihlášky!$E$84,přihlášky!$H$84) -> Janů Pavel | E99: =přihlášky!C12 -> ÚO Jindřichův Hradec
A100: 11 | B100: 2 | C100: 21 | D100: =IF(přihlášky!$F$97="X",přihlášky!$E$97,přihlášky!$H$97) -> Študlar Petr | E100: =přihlášky!C13 -> ÚO Prachatice
B101: 1 | C101: 22 | D101: =IF(přihlášky!$F$20="X",přihlášky!$E$20,přihlášky!$H$20) -> Klein Adolf | E101: =přihlášky!C7 -> ÚO Český Krumlov
A102: 12 | B102: 2 | C102: 23 | D102: =IF(přihlášky!$F$33="X",přihlášky!$E$33,přihlášky!$H$33) -> Kopecký Jan | E102: =přihlášky!C8 -> ÚO Tábor
B103: 1 | C103: 24 | D103: =IF(přihlášky!$F$46="X",přihlášky!$E$46,přihlášky!$H$46) -> Jirout Patrik | E103: =přihlášky!C9 -> ÚO Písek
...

Sheet Ruční měření
A1: 1.POKUSY VĚŽ | G1: 1.ŠTAFETA
A3: Rozběh | B3: Dráha | C3: Start. č. | D3: Jméno | E3: stanice | F3: Čas | G3: Rozběh | H3: Dráha | I3: Start. č. | J3: stanice | K3: ČAS
A4: 1 | B4: 1 | C4: 1 | D4: =IF(přihlášky!$F$17="X",přihlášky!$E$17,přihlášky!H17) -> Čížek David | E4: =přihlášky!C7 -> ÚO Český Krumlov | G4: 1 | H4: 1 | I4: 1 | J4: =přihlášky!C7 -> ÚO Český Krumlov
B5: 2 | C5: 2 | D5: =IF(přihlášky!$F$30="X",přihlášky!$E$30,přihlášky!$H$30) -> Novák Tomáš | E5: =přihlášky!C8 -> ÚO Tábor | H5: 2 | I5: 2 | J5: =přihlášky!C8 -> ÚO Tábor
A6: 2 | B6: 1 | C6: 3 | D6: =IF(přihlášky!$F$43="X",přihlášky!$E$43,přihlášky!$H$43) -> Šourek Petr | E6: =přihlášky!C9 -> ÚO Písek | G6: =1+G4 -> 2 | H6: 1 | I6: 3 | J6: =přihlášky!C9 -> ÚO Písek
B7: 2 | C7: 4 | D7: =IF(přihlášky!$F$56="X",přihlášky!$E$56,přihlášky!$H$56) -> Hasík Juraj | E7: =přihlášky!C10 -> ÚO České Budějovice | H7: 2 | I7: 4 | J7: =přihlášky!C10 -> ÚO České Budějovice
A8: 3 | B8: 1 | C8: 5 | D8: =IF(přihlášky!$F$69="X",přihlášky!$E$69,přihlášky!$H$69) -> Krupka Luboš | E8: =přihlášky!C11 -> ÚO Strakonice | G8: =1+G6 -> 3 | H8: 1 | I8: 5 | J8: =přihlášky!C11 -> ÚO Strakonice
B9: 2 | C9: 6 | D9: =IF(přihlášky!$F$82="X",přihlášky!$E$82,přihlášky!$H$82) -> Šmíd Stanislav | E9: =přihlášky!C12 -> ÚO Jindřichův Hradec | H9: 2 | I9: 6 | J9: =přihlášky!C12 -> ÚO Jindřichův Hradec
A10: 4 | B10: 1 | C10: 7 | D10: =IF(přihlášky!$F$95="X",přihlášky!$E$95,přihlášky!$H$95) -> Cais Martin | E10: =přihlášky!C13 -> ÚO Prachatice | G10: =1+G8 -> 4 | H10: 1 | I10: 7 | J10: =přihlášky!C13 -> ÚO Prachatice
B11: 2 | C11: 8 | D11: =IF(přihlášky!$F$18="X",přihlášky!$E$18,přihlášky!H18) -> Dvořák Petr | E11: =přihlášky!C7 -> ÚO Český Krumlov | H11: 2 | I11: 8
A12: 5 | B12: 1 | C12: 9 | D12: =IF(přihlášky!$F$31="X",přihlášky!$E$31,přihlášky!$H$31) -> Novák Dominik | E12: =přihlášky!C8 -> ÚO Tábor
B13: 2 | C13: 10 | D13: =IF(přihlášky!$F$44="X",přihlášky!$E$44,přihlášky!$H$44) -> Horský Marek | E13: =přihlášky!C9 -> ÚO Písek | G13: 2.ŠTAFETA
A14: 6 | B14: 1 | C14: 11 | D14: =IF(přihlášky!$F$57="X",přihlášky!$E$57,přihlášky!$H$57) -> Ježek Jan | E14: =přihlášky!C10 -> ÚO České Budějovice
B15: 2 | C15: 12 | D15: =IF(přihlášky!$F$70="X",přihlášky!$E$70,přihlášky!$H$70) -> Stibor Jiří | E15: =přihlášky!C11 -> ÚO Strakonice | G15: Rozběh | H15: Dráha | I15: Start. č. | J15: stanice | K15: ČAS
A16: 7 | B16: 1 | C16: 13 | D16: =IF(přihlášky!$F$83="X",přihlášky!$E$83,přihlášky!$H$83) -> Doktor Michal | E16: =přihlášky!C12 -> ÚO Jindřichův Hradec | G16: 1 | H16: 2 | I16: 1 | J16: =přihlášky!C7 -> ÚO Český Krumlov
B17: 2 | C17: 14 | D17: =IF(přihlášky!$F$96="X",přihlášky!$E$96,přihlášky!$H$96) -> Šmajcl František | E17: =přihlášky!C13 -> ÚO Prachatice | H17: 1 | I17: 2 | J17: =přihlášky!C8 -> ÚO Tábor
A18: 8 | B18: 1 | C18: 15 | D18: =IF(přihlášky!$F$19="X",přihlášky!$E$19,přihlášky!$H$19) -> Fučík Jan | E18: =přihlášky!C7 -> ÚO Český Krumlov | G18: =1+G16 -> 2 | H18: 2 | I18: 3 | J18: =přihlášky!C9 -> ÚO Písek
B19: 2 | C19: 16 | D19: =IF(přihlášky!$F$32="X",přihlášky!$E$32,přihlášky!$H$32) -> Knotek Radim | E19: =přihlášky!C8 -> ÚO Tábor | H19: 1 | I19: 4 | J19: =přihlášky!C10 -> ÚO České Budějovice
A20: 9 | B20: 1 | C20: 17 | D20: =IF(přihlášky!$F$45="X",přihlášky!$E$45,přihlášky!$H$45) -> Trantina Karel | E20: =přihlášky!C9 -> ÚO Písek | G20: =1+G18 -> 3 | H20: 2 | I20: 5 | J20: =přihlášky!C11 -> ÚO Strakonice
B21: 2 | C21: 18 | D21: =IF(přihlášky!$F$58="X",přihlášky!$E$58,přihlášky!$H$58) -> Krygar Josef | E21: =přihlášky!C10 -> ÚO České Budějovice | H21: 1 | I21: 6 | J21: =přihlášky!C12 -> ÚO Jindřichův Hradec
A22: 10 | B22: 1 | C22: 19 | D22: =IF(přihlášky!$F$71="X",přihlášky!$E$71,přihlášky!$H$71) -> Muchl Vladimír | E22: =přihlášky!C11 -> ÚO Strakonice | G22: =1+G20 -> 4 | H22: 2 | I22: 7 | J22: =přihlášky!C13 -> ÚO Prachatice
B23: 2 | C23: 20 | D23: =IF(přihlášky!$F$84="X",přihlášky!$E$84,přihlášky!$H$84) -> Janů Pavel | E23: =přihlášky!C12 -> ÚO Jindřichův Hradec | H23: 1 | I23: 8
A24: 11 | B24: 1 | C24: 21 | D24: =IF(přihlášky!$F$97="X",přihlášky!$E$97,přihlášky!$H$97) -> Študlar Petr | E24: =přihlášky!C13 -> ÚO Prachatice
B25: 2 | C25: 22 | D25: =IF(přihlášky!$F$20="X",přihlášky!$E$20,přihlášky!$H$20) -> Klein Adolf | E25: =přihlášky!C7 -> ÚO Český Krumlov
A26: 12 | B26: 1 | C26: 23 | D26: =IF(přihlášky!$F$33="X",přihlášky!$E$33,přihlášky!$H$33) -> Kopecký Jan | E26: =přihlášky!C8 -> ÚO Tábor
B27: 2 | C27: 24 | D27: =IF(přihlášky!$F$46="X",přihlášky!$E$46,přihlášky!$H$46) -> Jirout Patrik | E27: =přihlášky!C9 -> ÚO Písek
A28: 13 | B28: 1 | C28: 25 | D28: =IF(přihlášky!$F$59="X",přihlášky!$E$59,přihlášky!$H$59) -> Hájek David | E28: =přihlášky!C10 -> ÚO České Budějovice
B29: 2 | C29: 26 | D29: =IF(přihlášky!$F$72="X",přihlášky!$E$72,přihlášky!$H$72) -> Božka Martin | E29: =přihlášky!C11 -> ÚO Strakonice
A30: 14 | B30: 1 | C30: 27 | D30: =IF(přihlášky!$F$85="X",přihlášky!$E$85,přihlášky!$H$85) -> Bašta Vojtěch | E30: =přihlášky!C12 -> ÚO Jindřichův Hradec
B31: 2 | C31: 28 | D31: =IF(přihlášky!$F$98="X",přihlášky!$E$98,přihlášky!$H$98) -> Vodrášek Josef | E31: =přihlášky!C13 -> ÚO Prachatice
A32: 15 | B32: 1 | C32: 29 | D32: =IF(přihlášky!$F$21="X",přihlášky!$E$21,přihlášky!$H$21) -> Dudák Jakub | E32: =přihlášky!C7 -> ÚO Český Krumlov
B33: 2 | C33: 30 | D33: =IF(přihlášky!$F$34="X",přihlášky!$E$34,přihlášky!$H$34) -> Falada Denis | E33: =přihlášky!C8 -> ÚO Tábor
A34: 16 | B34: 1 | C34: 31 | D34: =IF(přihlášky!$F$47="X",přihlášky!$E$47,přihlášky!$H$47) -> Píbal Jiří | E34: =přihlášky!C9 -> ÚO Písek
B35: 2 | C35: 32 | D35: =IF(přihlášky!$F$60="X",přihlášky!$E$60,přihlášky!$H$60) -> Měřička Michal | E35: =přihlášky!C10 -> ÚO České Budějovice
A36: 17 | B36: 1 | C36: 33 | D36: =IF(přihlášky!$F$73="X",přihlášky!$E$73,přihlášky!$H$73) -> Pěnča Ivan | E36: =přihlášky!C11 -> ÚO Strakonice
B37: 2 | C37: 34 | D37: =IF(přihlášky!$F$86="X",přihlášky!$E$86,přihlášky!$H$86) -> Kučera Jan | E37: =přihlášky!C12 -> ÚO Jindřichův Hradec
A38: 18 | B38: 1 | C38: 35 | D38: =IF(přihlášky!$F$99="X",přihlášky!$E$99,přihlášky!$H$99) -> Uhlíř Josef | E38: =přihlášky!C13 -> ÚO Prachatice
B39: 2 | C39: 36 | D39: =IF(přihlášky!$F$22="X",přihlášky!$E$22,přihlášky!$H$22) -> Ottenschläger Václav | E39: =přihlášky!C7 -> ÚO Český Krumlov
A40: 1.POKUSY VĚŽ | I40: 1.POKUS ÚTOK
A42: Rozběh | B42: Dráha | C42: Start. č. | D42: Jméno | E42: stanice | F42: Čas | I42: Start. č. | J42: stanice | K42: ČAS
A43: 19 | B43: 1 | C43: 37 | D43: =IF(přihlášky!$F$35="X",přihlášky!$E$35,přihlášky!$H$35) -> Průcha Josef | E43: =přihlášky!C8 -> ÚO Tábor | I43: 1 | J43: =přihlášky!C7 -> ÚO Český Krumlov
B44: 2 | C44: 38 | D44: =IF(přihlášky!$F$48="X",přihlášky!$E$48,přihlášky!$H$48) -> Motejzík Martin | E44: =přihlášky!C9 -> ÚO Písek | I44: 2 | J44: =přihlášky!C8 -> ÚO Tábor
A45: 20 | B45: 1 | C45: 39 | D45: =IF(přihlášky!$F$61="X",přihlášky!$E$61,přihlášky!$H$61) -> Čada Milan | E45: =přihlášky!C10 -> ÚO České Budějovice | I45: 3 | J45: =přihlášky!C9 -> ÚO Písek
B46: 2 | C46: 40 | D46: =IF(přihlášky!$F$74="X",přihlášky!$E$74,přihlášky!$H$74) -> Vaňač Aleš | E46: =přihlášky!C11 -> ÚO Strakonice | I46: 4 | J46: =přihlášky!C10 -> ÚO České Budějovice
A47: 21 | B47: 1 | C47: 41 | D47: =IF(přihlášky!$F$87="X",přihlášky!$E$87,přihlášky!$H$87) -> Huml Ondřej | E47: =přihlášky!C12 -> ÚO Jindřichův Hradec | I47: 5 | J47: =přihlášky!C11 -> ÚO Strakonice
B48: 2 | C48: 42 | D48: =IF(přihlášky!$F$100="X",přihlášky!$E$100,přihlášky!$H$100) -> Nestartuje | E48: =přihlášky!C13 -> ÚO Prachatice | I48: 6 | J48: =přihlášky!C12 -> ÚO Jindřichův Hradec
A49: 22 | B49: 1 | C49: 43 | D49: =IF(přihlášky!$F$23="X",přihlášky!$E$23,přihlášky!$H$23) -> Klíma Miloslav | E49: =přihlášky!C7 -> ÚO Český Krumlov | I49: 7 | J49: =přihlášky!C13 -> ÚO Prachatice
B50: 2 | C50: 44 | D50: =IF(přihlášky!$F$36="X",přihlášky!$E$36,přihlášky!$H$36) -> Nestartuje | E50: =přihlášky!C8 -> ÚO Tábor
A51: 23 | B51: 1 | C51: 45 | D51: =IF(přihlášky!$F$49="X",přihlášky!$E$49,přihlášky!$H$49) -> Bláha Petr | E51: =přihlášky!C9 -> ÚO Písek
B52: 2 | C52: 46 | D52: =IF(přihlášky!$F$62="X",přihlášky!$E$62,přihlášky!$H$62) -> Míchal Martin | E52: =přihlášky!C10 -> ÚO České Budějovice | I52: 2.POKUS ÚTOK
A53: 24 | B53: 1 | C53: 47 | D53: =IF(přihlášky!$F$75="X",přihlášky!$E$75,přihlášky!$H$75) -> Štolba František (věž jednotlici) | E53: =přihlášky!C11 -> ÚO Strakonice
B54: 2 | C54: 48 | D54: =IF(přihlášky!$F$88="X",přihlášky!$E$88,přihlášky!$H$88) -> Šenkýř Marek | E54: =přihlášky!C12 -> ÚO Jindřichův Hradec | I54: Start. č. | J54: stanice | K54: ČAS
A55: 25 | B55: 1 | C55: 49 | D55: =IF(přihlášky!$F$101="X",přihlášky!$E$101,přihlášky!$H$101) -> Vozandych Petr | E55: =přihlášky!C13 -> ÚO Prachatice | I55: 1 | J55: =přihlášky!C7 -> ÚO Český Krumlov
B56: 2 | C56: 50 | D56: =IF(přihlášky!$F$24="X",přihlášky!$E$24,přihlášky!$H$24) -> Bartuška Jiří | E56: =přihlášky!C7 -> ÚO Český Krumlov | I56: 2 | J56: =přihlášky!C8 -> ÚO Tábor
A57: 26 | B57: 1 | C57: 51 | D57: =IF(přihlášky!$F$37="X",přihlášky!$E$37,přihlášky!$H$37) -> Havelka Mikuláš | E57: =přihlášky!C8 -> ÚO Tábor | I57: 3 | J57: =přihlášky!C9 -> ÚO Písek
B58: 2 | C58: 52 | D58: =IF(přihlášky!$F$50="X",přihlášky!$E$50,přihlášky!$H$50) -> Nestartuje | E58: =přihlášky!C9 -> ÚO Písek | I58: 4 | J58: =přihlášky!C10 -> ÚO České Budějovice
A59: 27 | B59: 1 | C59: 53 | D59: =IF(přihlášky!$F$63="X",přihlášky!$E$63,přihlášky!$H$63) -> Völfel David | E59: =přihlášky!C10 -> ÚO České Budějovice | I59: 5 | J59: =přihlášky!C11 -> ÚO Strakonice
B60: 2 | C60: 54 | D60: =IF(přihlášky!$F$76="X",přihlášky!$E$76,přihlášky!$H$76) -> Pospíšil Michael (věž jednotlivci) | E60: =přihlášky!C11 -> ÚO Strakonice | I60: 6 | J60: =přihlášky!C12 -> ÚO Jindřichův Hradec
A61: 28 | B61: 1 | C61: 55 | D61: =IF(přihlášky!$F$89="X",přihlášky!$E$89,přihlášky!$H$89) -> Janů František | E61: =přihlášky!C12 -> ÚO Jindřichův Hradec | I61: 7 | J61: =přihlášky!C13 -> ÚO Prachatice
B62: 2 | C62: 56 | D62: =IF(přihlášky!$F$102="X",přihlášky!$E$102,přihlášky!$H$102) -> Jiráň Marek | E62: =přihlášky!C13 -> ÚO Prachatice
A63: 29 | B63: 1 | C63: 57 | D63: =IF(přihlášky!$F$25="X",přihlášky!$E$25,přihlášky!$H$25) -> Marek Jakub (jednotlivci) | E63: =přihlášky!C7 -> ÚO Český Krumlov
B64: 2 | C64: 58 | D64: =IF(přihlášky!$F$38="X",přihlášky!$E$38,přihlášky!$H$38) -> Baránek Václav (100m jednotlivci) | E64: =přihlášky!C8 -> ÚO Tábor
A65: 30 | B65: 1 | C65: 59 | D65: =IF(přihlášky!$F$51="X",přihlášky!$E$51,přihlášky!$H$51) -> Nestartuje | E65: =přihlášky!C9 -> ÚO Písek
B66: 2 | C66: 60 | D66: =IF(přihlášky!$F$64="X",přihlášky!$E$64,přihlášky!$H$64) -> Nestartuje | E66: =přihlášky!C10 -> ÚO České Budějovice
A67: 31 | B67: 1 | C67: 61 | D67: =IF(přihlášky!$F$77="X",přihlášky!$E$77,přihlášky!$H$77) -> Suchopár Jiří | E67: =přihlášky!C11 -> ÚO Strakonice
B68: 2 | C68: 62 | D68: =IF(přihlášky!$F$90="X",přihlášky!$E$90,přihlášky!$H$90) -> Holý Patrik (věž jednotlivci) | E68: =přihlášky!C12 -> ÚO Jindřichův Hradec
A69: 32 | B69: 1 | C69: 63 | D69: =IF(přihlášky!$F$103="X",přihlášky!$E$103,přihlášky!$H$103) -> Nestartuje | E69: =přihlášky!C13 -> ÚO Prachatice
B70: 2 | C70: 64 | D70: =IF(přihlášky!$F$26="X",přihlášky!$E$26,přihlášky!$H$26) -> Nestartuje | E70: ÚO Strakonice
A71: 33 | B71: 1 | C71: 65 | D71: =IF(přihlášky!$F$39="X",přihlášky!$E$39,přihlášky!$H$39) -> Nestartuje | E71: =přihlášky!C8 -> ÚO Tábor
B72: 2 | C72: 66 | D72: =IF(přihlášky!$F$52="X",přihlášky!$E$52,přihlášky!$H$52) -> Nestartuje | E72: =přihlášky!C9 -> ÚO Písek
A73: 34 | B73: 1 | C73: 67 | D73: =IF(přihlášky!$F$65="X",přihlášky!$E$65,přihlášky!$H$65) -> Nestartuje | E73: =přihlášky!C10 -> ÚO České Budějovice
B74: 2 | C74: 68 | D74: =IF(přihlášky!$F$78="X",přihlášky!$E$78,přihlášky!$H$78) -> Černovský Michal | E74: =přihlášky!C11 -> ÚO Strakonice
A75: 35 | B75: 1 | C75: 69 | D75: =IF(přihlášky!$F$91="X",přihlášky!$E$91,přihlášky!$H$91) -> Nestartuje | E75: =přihlášky!C12 -> ÚO Jindřichův Hradec
B76: 2 | C76: 70 | D76: =IF(přihlášky!$F$104="X",přihlášky!$E$104,přihlášky!$H$104) -> Stuchel Miroslav | E76: =přihlášky!C13 -> ÚO Prachatice
A77: 2.POKUSY VĚŽ
A79: Rozběh | B79: Dráha | C79: Start. č. | D79: Jméno | E79: stanice | F79: Čas
A80: 1 | B80: 2 | C80: 1 | D80: =IF(přihlášky!$F$17="X",přihlášky!$E$17,přihlášky!H17) -> Čížek David | E80: =přihlášky!C7 -> ÚO Český Krumlov
B81: 1 | C81: 2 | D81: =IF(přihlášky!$F$30="X",přihlášky!$E$30,přihlášky!$H$30) -> Novák Tomáš | E81: =přihlášky!C8 -> ÚO Tábor
A82: 2 | B82: 2 | C82: 3 | D82: =IF(přihlášky!$F$43="X",přihlášky!$E$43,přihlášky!$H$43) -> Šourek Petr | E82: =přihlášky!C9 -> ÚO Písek
B83: 1 | C83: 4 | D83: =IF(přihlášky!$F$56="X",přihlášky!$E$56,přihlášky!$H$56) -> Hasík Juraj | E83: =přihlášky!C10 -> ÚO České Budějovice
A84: 3 | B84: 2 | C84: 5 | D84: =IF(přihlášky!$F$69="X",přihlášky!$E$69,přihlášky!$H$69) -> Krupka Luboš | E84: =přihlášky!C11 -> ÚO Strakonice
B85: 1 | C85: 6 | D85: =IF(přihlášky!$F$82="X",přihlášky!$E$82,přihlášky!$H$82) -> Šmíd Stanislav | E85: =přihlášky!C12 -> ÚO Jindřichův Hradec
A86: 4 | B86: 2 | C86: 7 | D86: =IF(přihlášky!$F$95="X",přihlášky!$E$95,přihlášky!$H$95) -> Cais Martin | E86: =přihlášky!C13 -> ÚO Prachatice
B87: 1 | C87: 8 | D87: =IF(přihlášky!$F$18="X",přihlášky!$E$18,přihlášky!H17) -> Dvořák Petr | E87: =přihlášky!C7 -> ÚO Český Krumlov
A88: 5 | B88: 2 | C88: 9 | D88: =IF(přihlášky!$F$31="X",přihlášky!$E$31,přihlášky!$H$31) -> Novák Dominik | E88: =přihlášky!C8 -> ÚO Tábor
B89: 1 | C89: 10 | D89: =IF(přihlášky!$F$44="X",přihlášky!$E$44,přihlášky!$H$44) -> Horský Marek | E89: =přihlášky!C9 -> ÚO Písek
A90: 6 | B90: 2 | C90: 11 | D90: =IF(přihlášky!$F$57="X",přihlášky!$E$57,přihlášky!$H$57) -> Ježek Jan | E90: =přihlášky!C10 -> ÚO České Budějovice
B91: 1 | C91: 12 | D91: =IF(přihlášky!$F$70="X",přihlášky!$E$70,přihlášky!$H$70) -> Stibor Jiří | E91: =přihlášky!C11 -> ÚO Strakonice
A92: 7 | B92: 2 | C92: 13 | D92: =IF(přihlášky!$F$83="X",přihlášky!$E$83,přihlášky!$H$83) -> Doktor Michal | E92: =přihlášky!C12 -> ÚO Jindřichův Hradec
B93: 1 | C93: 14 | D93: =IF(přihlášky!$F$96="X",přihlášky!$E$96,přihlášky!$H$96) -> Šmajcl František | E93: =přihlášky!C13 -> ÚO Prachatice
A94: 8 | B94: 2 | C94: 15 | D94: =IF(přihlášky!$F$19="X",přihlášky!$E$19,přihlášky!$H$19) -> Fučík Jan | E94: =přihlášky!C7 -> ÚO Český Krumlov
B95: 1 | C95: 16 | D95: =IF(přihlášky!$F$32="X",přihlášky!$E$32,přihlášky!$H$32) -> Knotek Radim | E95: =přihlášky!C8 -> ÚO Tábor
A96: 9 | B96: 2 | C96: 17 | D96: =IF(přihlášky!$F$45="X",přihlášky!$E$45,přihlášky!$H$45) -> Trantina Karel | E96: =přihlášky!C9 -> ÚO Písek
B97: 1 | C97: 18 | D97: =IF(přihlášky!$F$58="X",přihlášky!$E$58,přihlášky!$H$58) -> Krygar Josef | E97: =přihlášky!C10 -> ÚO České Budějovice
A98: 10 | B98: 2 | C98: 19 | D98: =IF(přihlášky!$F$71="X",přihlášky!$E$71,přihlášky!$H$71) -> Muchl Vladimír | E98: =přihlášky!C11 -> ÚO Strakonice
B99: 1 | C99: 20 | D99: =IF(přihlášky!$F$84="X",přihlášky!$E$84,přihlášky!$H$84) -> Janů Pavel | E99: =přihlášky!C12 -> ÚO Jindřichův Hradec
A100: 11 | B100: 2 | C100: 21 | D100: =IF(přihlášky!$F$97="X",přihlášky!$E$97,přihlášky!$H$97) -> Študlar Petr | E100: =přihlášky!C13 -> ÚO Prachatice
B101: 1 | C101: 22 | D101: =IF(přihlášky!$F$20="X",přihlášky!$E$20,přihlášky!$H$20) -> Klein Adolf | E101: =přihlášky!C7 -> ÚO Český Krumlov
A102: 12 | B102: 2 | C102: 23 | D102: =IF(přihlášky!$F$33="X",přihlášky!$E$33,přihlášky!$H$33) -> Kopecký Jan | E102: =přihlášky!C8 -> ÚO Tábor
B103: 1 | C103: 24 | D103: =IF(přihlášky!$F$46="X",přihlášky!$E$46,přihlášky!$H$46) -> Jirout Patrik | E103: =přihlášky!C9 -> ÚO Písek
...
