Workbook

Sheet 100m
A1: Výsledková listina 100m Memoriál plk. JUDR Josefa Blažka 2.6. 2022
A2: Pořadí | C2: Start. č. | D2: Příjmení | E2: Jméno | F2: ÚO/SDH | G2: 1.pokus 100m | H2: 2.pokus 100m | I2: započ. čas 100m | J2: eliminace stejného pořadí
A3: 1 | C3: 1 | D3: Štolba | E3: František | F3: Jihočeský (UO Strakonice) | G3: 23.95 | H3: 22.92 | I3: =IF(AND(G3=0,H3=0),"diskval.",IF(AND(G3>0,H3>0),MIN(G3:H3),IF(G3>0,G3,H3))) -> 22.92 | J3: =IF(G3+H3=0,1000,I3+((IF(G3>0,G3,100)+IF(H3>0,H3,100))/100000)) -> 22.920469
A4: 2 | C4: 2 | D4: Šourek | E4: Petr | F4: Jihočeský (Písek) | G4: 31.53 | H4: 23.97 | I4: =IF(AND(G4=0,H4=0),"diskval.",IF(AND(G4>0,H4>0),MIN(G4:H4),IF(G4>0,G4,H4))) -> 23.97 | J4: =IF(G4+H4=0,1000,I4+((IF(G4>0,G4,100)+IF(H4>0,H4,100))/100000)) -> 23.970555
A5: 3 | C5: 3 | D5: Vašíček | E5: Richard | F5: SDH Horní Slavkov | G5: 24.29 | H5: 24.84 | I5: =IF(AND(G5=0,H5=0),"diskval.",IF(AND(G5>0,H5>0),MIN(G5:H5),IF(G5>0,G5,H5))) -> 24.29 | J5: =IF(G5+H5=0,1000,I5+((IF(G5>0,G5,100)+IF(H5>0,H5,100))/100000)) -> 24.290491 | L5: jen 100m
A6: 4 | C6: 4 | D6: Soukup | E6: Dominik | F6: SDH Žebnice | G6: 17.07 | H6: 16.76 | I6: =IF(AND(G6=0,H6=0),"diskval.",IF(AND(G6>0,H6>0),MIN(G6:H6),IF(G6>0,G6,H6))) -> 16.76 | J6: =IF(G6+H6=0,1000,I6+((IF(G6>0,G6,100)+IF(H6>0,H6,100))/100000)) -> 16.760338
A7: 5 | C7: 5 | D7: Divoš | E7: Václav | F7: Královéhradecký (Hradec Králové) | I7: =IF(AND(G7=0,H7=0),"diskval.",IF(AND(G7>0,H7>0),MIN(G7:H7),IF(G7>0,G7,H7))) -> diskval. | J7: =IF(G7+H7=0,1000,I7+((IF(G7>0,G7,100)+IF(H7>0,H7,100))/100000)) -> 1000 | L7: jen věž
A8: 6 | C8: 6 | D8: Plíhal | E8: Jiří | F8: Jihomoravský (Blansko) | G8: 18.91 | H8: 18.52 | I8: =IF(AND(G8=0,H8=0),"diskval.",IF(AND(G8>0,H8>0),MIN(G8:H8),IF(G8>0,G8,H8))) -> 18.52 | J8: =IF(G8+H8=0,1000,I8+((IF(G8>0,G8,100)+IF(H8>0,H8,100))/100000)) -> 18.520374
A9: 7 | C9: 7 | D9: Smutný | E9: Martin | F9: Plzeňský (Plzeň) | G9: 19.19 | I9: =IF(AND(G9=0,H9=0),"diskval.",IF(AND(G9>0,H9>0),MIN(G9:H9),IF(G9>0,G9,H9))) -> 19.19 | J9: =IF(G9+H9=0,1000,I9+((IF(G9>0,G9,100)+IF(H9>0,H9,100))/100000)) -> 19.191192
A10: 8 | C10: 8 | D10: Völfel | E10: David | F10: Jihočeský (ČB) | G10: 31.72 | H10: 18.54 | I10: =IF(AND(G10=0,H10=0),"diskval.",IF(AND(G10>0,H10>0),MIN(G10:H10),IF(G10>0,G10,H10))) -> 18.54 | J10: =IF(G10+H10=0,1000,I10+((IF(G10>0,G10,100)+IF(H10>0,H10,100))/100000)) -> 18.540503 | L10: jen 100m
A11: 9 | C11: 9 | D11: Jirout | E11: Patrik | F11: Jihočeský (Písek) | G11: 19.72 | H11: 18.78 | I11: =IF(AND(G11=0,H11=0),"diskval.",IF(AND(G11>0,H11>0),MIN(G11:H11),IF(G11>0,G11,H11))) -> 18.78 | J11: =IF(G11+H11=0,1000,I11+((IF(G11>0,G11,100)+IF(H11>0,H11,100))/100000)) -> 18.780385
A12: 10 | C12: 10 | D12: Kubeš | E12: Ondřej | F12: SDH Dynín | H12: 22.6 | I12: =IF(AND(G12=0,H12=0),"diskval.",IF(AND(G12>0,H12>0),MIN(G12:H12),IF(G12>0,G12,H12))) -> 22.6 | J12: =IF(G12+H12=0,1000,I12+((IF(G12>0,G12,100)+IF(H12>0,H12,100))/100000)) -> 22.601226
A13: 11 | C13: 11 | D13: Paulíček | E13: Jakub | F13: Pardubický (Ústí nad Orlicí) | G13: 17.15 | H13: 16.74 | I13: =IF(AND(G13=0,H13=0),"diskval.",IF(AND(G13>0,H13>0),MIN(G13:H13),IF(G13>0,G13,H13))) -> 16.74 | J13: =IF(G13+H13=0,1000,I13+((IF(G13>0,G13,100)+IF(H13>0,H13,100))/100000)) -> 16.740339
A14: 12 | C14: 12 | D14: Fryč | E14: Tomáš | F14: Jihomoravský (Blansko) | G14: 20.43 | H14: 17.93 | I14: =IF(AND(G14=0,H14=0),"diskval.",IF(AND(G14>0,H14>0),MIN(G14:H14),IF(G14>0,G14,H14))) -> 17.93 | J14: =IF(G14+H14=0,1000,I14+((IF(G14>0,G14,100)+IF(H14>0,H14,100))/100000)) -> 17.930384
A15: 13 | C15: 13 | D15: Tomášek | E15: Jan | F15: Plzeňský (Plzeň) | G15: 18.26 | H15: 25.19 | I15: =IF(AND(G15=0,H15=0),"diskval.",IF(AND(G15>0,H15>0),MIN(G15:H15),IF(G15>0,G15,H15))) -> 18.26 | J15: =IF(G15+H15=0,1000,I15+((IF(G15>0,G15,100)+IF(H15>0,H15,100))/100000)) -> 18.260435
A16: 14 | C16: 14 | D16: Viktora | E16: Martin | F16: Středočeský (Kutná Hora) | G16: 19.86 | I16: =IF(AND(G16=0,H16=0),"diskval.",IF(AND(G16>0,H16>0),MIN(G16:H16),IF(G16>0,G16,H16))) -> 19.86 | J16: =IF(G16+H16=0,1000,I16+((IF(G16>0,G16,100)+IF(H16>0,H16,100))/100000)) -> 19.861199
A17: 14 | C17: 15 | D17: Daněk | E17: Tomáš | F17: hl.m. Prahy | H17: 19.2 | I17: =IF(AND(G17=0,H17=0),"diskval.",IF(AND(G17>0,H17>0),MIN(G17:H17),IF(G17>0,G17,H17))) -> 19.2 | J17: =IF(G17+H17=0,1000,I17+((IF(G17>0,G17,100)+IF(H17>0,H17,100))/100000)) -> 19.201192
A18: 16 | C18: 16 | D18: Kligl | E18: Patrik | F18: Královéhradecký (Hradec Králové) | G18: 16.85 | I18: =IF(AND(G18=0,H18=0),"diskval.",IF(AND(G18>0,H18>0),MIN(G18:H18),IF(G18>0,G18,H18))) -> 16.85 | J18: =IF(G18+H18=0,1000,I18+((IF(G18>0,G18,100)+IF(H18>0,H18,100))/100000)) -> 16.851168
A19: 17 | C19: 17 | D19: Nýdl | E19: Jakub | F19: Jihočeský (KŘ HZS) | G19: 28.38 | H19: 18.42 | I19: =IF(AND(G19=0,H19=0),"diskval.",IF(AND(G19>0,H19>0),MIN(G19:H19),IF(G19>0,G19,H19))) -> 18.42 | J19: =IF(G19+H19=0,1000,I19+((IF(G19>0,G19,100)+IF(H19>0,H19,100))/100000)) -> 18.420468 | L19: jen 100m
A20: 18 | C20: 18 | D20: Caha | E20: Martin | F20: Vysočina (Třebíč) | G20: 18.24 | I20: =IF(AND(G20=0,H20=0),"diskval.",IF(AND(G20>0,H20>0),MIN(G20:H20),IF(G20>0,G20,H20))) -> 18.24 | J20: =IF(G20+H20=0,1000,I20+((IF(G20>0,G20,100)+IF(H20>0,H20,100))/100000)) -> 18.241182
A21: 19 | C21: 19 | D21: Balog | E21: Jiří | F21: Jihočeský (Strakonice) | G21: 23.75 | H21: 21.87 | I21: =IF(AND(G21=0,H21=0),"diskval.",IF(AND(G21>0,H21>0),MIN(G21:H21),IF(G21>0,G21,H21))) -> 21.87 | J21: =IF(G21+H21=0,1000,I21+((IF(G21>0,G21,100)+IF(H21>0,H21,100))/100000)) -> 21.870456
A22: 20 | C22: 20 | D22: Motejzík | E22: Martin | F22: Jihočeský (Písek) | G22: 20.34 | H22: 25.46 | I22: =IF(AND(G22=0,H22=0),"diskval.",IF(AND(G22>0,H22>0),MIN(G22:H22),IF(G22>0,G22,H22))) -> 20.34 | J22: =IF(G22+H22=0,1000,I22+((IF(G22>0,G22,100)+IF(H22>0,H22,100))/100000)) -> 20.340458
A23: 21 | C23: 21 | D23: Žižka | E23: Patrik | F23: Karlovarský (Cheb) | G23: 25.01 | H23: 18.27 | I23: =IF(AND(G23=0,H23=0),"diskval.",IF(AND(G23>0,H23>0),MIN(G23:H23),IF(G23>0,G23,H23))) -> 18.27 | J23: =IF(G23+H23=0,1000,I23+((IF(G23>0,G23,100)+IF(H23>0,H23,100))/100000)) -> 18.270433
A24: 22 | C24: 22 | D24: Šenkýř | E24: Marek | F24: Jihočeský (Jindřichův Hradec) | G24: 20.33 | H24: 19.08 | I24: =IF(AND(G24=0,H24=0),"diskval.",IF(AND(G24>0,H24>0),MIN(G24:H24),IF(G24>0,G24,H24))) -> 19.08 | J24: =IF(G24+H24=0,1000,I24+((IF(G24>0,G24,100)+IF(H24>0,H24,100))/100000)) -> 19.080394
A25: 23 | C25: 23 | D25: Klimeš | E25: Martin | F25: Vysočina (Havlíčkův Brod) | G25: 20.78 | H25: 18.31 | I25: =IF(AND(G25=0,H25=0),"diskval.",IF(AND(G25>0,H25>0),MIN(G25:H25),IF(G25>0,G25,H25))) -> 18.31 | J25: =IF(G25+H25=0,1000,I25+((IF(G25>0,G25,100)+IF(H25>0,H25,100))/100000)) -> 18.310391 | L25: jen 100m
A26: 24 | C26: 24 | D26: Píbal | E26: Jiří | F26: Jihočeský (Písek) | G26: 19.1 | I26: =IF(AND(G26=0,H26=0),"diskval.",IF(AND(G26>0,H26>0),MIN(G26:H26),IF(G26>0,G26,H26))) -> 19.1 | J26: =IF(G26+H26=0,1000,I26+((IF(G26>0,G26,100)+IF(H26>0,H26,100))/100000)) -> 19.101191
A27: 25 | C27: 25 | D27: Krygar | E27: Josef | F27: Jihočeský (ČB) | H27: 22.46 | I27: =IF(AND(G27=0,H27=0),"diskval.",IF(AND(G27>0,H27>0),MIN(G27:H27),IF(G27>0,G27,H27))) -> 22.46 | J27: =IF(G27+H27=0,1000,I27+((IF(G27>0,G27,100)+IF(H27>0,H27,100))/100000)) -> 22.461225
A28: 26 | C28: 26 | D28: Hladík | E28: Stanislav | F28: Vysočina (Třebíč) | G28: 17.55 | I28: =IF(AND(G28=0,H28=0),"diskval.",IF(AND(G28>0,H28>0),MIN(G28:H28),IF(G28>0,G28,H28))) -> 17.55 | J28: =IF(G28+H28=0,1000,I28+((IF(G28>0,G28,100)+IF(H28>0,H28,100))/100000)) -> 17.551175
A29: 27 | C29: 27 | D29: Šmíd | E29: Stanislav | F29: Jihočeský (Jindřichův Hradec) | H29: 20.81 | I29: =IF(AND(G29=0,H29=0),"diskval.",IF(AND(G29>0,H29>0),MIN(G29:H29),IF(G29>0,G29,H29))) -> 20.81 | J29: =IF(G29+H29=0,1000,I29+((IF(G29>0,G29,100)+IF(H29>0,H29,100))/100000)) -> 20.811208
A30: 28 | C30: 28 | D30: Vyhnánek | E30: Jan | F30: Středočeský Kutná Hora) | I30: =IF(AND(G30=0,H30=0),"diskval.",IF(AND(G30>0,H30>0),MIN(G30:H30),IF(G30>0,G30,H30))) -> diskval. | J30: =IF(G30+H30=0,1000,I30+((IF(G30>0,G30,100)+IF(H30>0,H30,100))/100000)) -> 1000
A31: 29 | C31: 29 | D31: Kasal | E31: Jakub | F31: Vysočina (Havlíčkův Brod) | G31: 17.35 | I31: =IF(AND(G31=0,H31=0),"diskval.",IF(AND(G31>0,H31>0),MIN(G31:H31),IF(G31>0,G31,H31))) -> 17.35 | J31: =IF(G31+H31=0,1000,I31+((IF(G31>0,G31,100)+IF(H31>0,H31,100))/100000)) -> 17.351174
A32: 30 | C32: 30 | D32: Koller | E32: Petr | F32: Jihočeský (Písek) | G32: 24.47 | I32: =IF(AND(G32=0,H32=0),"diskval.",IF(AND(G32>0,H32>0),MIN(G32:H32),IF(G32>0,G32,H32))) -> 24.47 | J32: =IF(G32+H32=0,1000,I32+((IF(G32>0,G32,100)+IF(H32>0,H32,100))/100000)) -> 24.471245 | L32: jen 100m
A33: 31 | C33: 31 | D33: Bašta | E33: Vojtěch | F33: Jihočeský (Jindřichův Hradec) | G33: 18.5 | H33: 18.43 | I33: =IF(AND(G33=0,H33=0),"diskval.",IF(AND(G33>0,H33>0),MIN(G33:H33),IF(G33>0,G33,H33))) -> 18.43 | J33: =IF(G33+H33=0,1000,I33+((IF(G33>0,G33,100)+IF(H33>0,H33,100))/100000)) -> 18.430369
A34: 32 | C34: 32 | D34: Pospíšil | E34: Michael | F34: Jihočeský (UO strakonice) | I34: =IF(AND(G34=0,H34=0),"diskval.",IF(AND(G34>0,H34>0),MIN(G34:H34),IF(G34>0,G34,H34))) -> diskval. | J34: =IF(G34+H34=0,1000,I34+((IF(G34>0,G34,100)+IF(H34>0,H34,100))/100000)) -> 1000 | L34: jen věž
A35: 33 | C35: 33 | D35: Hůla | E35: Jan | F35: Plzeň | G35: 18.25 | I35: =IF(AND(G35=0,H35=0),"diskval.",IF(AND(G35>0,H35>0),MIN(G35:H35),IF(G35>0,G35,H35))) -> 18.25 | J35: =IF(G35+H35=0,1000,I35+((IF(G35>0,G35,100)+IF(H35>0,H35,100))/100000)) -> 18.251182
A36: 34 | B36: 33 | C36: 34 | D36: Hladil | E36: Vojtěch | F36: Jihomoravský (Blansko) | G36: 21.94 | H36: 20.66 | I36: =IF(AND(G36=0,H36=0),"diskval.",IF(AND(G36>0,H36>0),MIN(G36:H36),IF(G36>0,G36,H36))) -> 20.66 | J36: =IF(G36+H36=0,1000,I36+((IF(G36>0,G36,100)+IF(H36>0,H36,100))/100000)) -> 20.660426
A37: 35 | C37: 35 | D37: Paulíček | E37: Stanislav | F37: Pardubický (Ústí nad Orlicí) | G37: 28.1 | I37: =IF(AND(G37=0,H37=0),"diskval.",IF(AND(G37>0,H37>0),MIN(G37:H37),IF(G37>0,G37,H37))) -> 28.1 | J37: =IF(G37+H37=0,1000,I37+((IF(G37>0,G37,100)+IF(H37>0,H37,100))/100000)) -> 28.101281
A38: 36 | C38: 36 | D38: Němec | E38: Patrik | F38: Jihomoravský (Blansko) | G38: 19.24 | H38: 18.96 | I38: =IF(AND(G38=0,H38=0),"diskval.",IF(AND(G38>0,H38>0),MIN(G38:H38),IF(G38>0,G38,H38))) -> 18.96 | J38: =IF(G38+H38=0,1000,I38+((IF(G38>0,G38,100)+IF(H38>0,H38,100))/100000)) -> 18.960382
A39: 37 | C39: 37 | D39: Janko | E39: Vladimír | F39: Vysočina (Pelhřimov) | G39: 18.68 | H39: 18.42 | I39: =IF(AND(G39=0,H39=0),"diskval.",IF(AND(G39>0,H39>0),MIN(G39:H39),IF(G39>0,G39,H39))) -> 18.42 | J39: =IF(G39+H39=0,1000,I39+((IF(G39>0,G39,100)+IF(H39>0,H39,100))/100000)) -> 18.420371 | L39: nad 35
A40: 38 | C40: 38 | D40: Klenka | E40: Vojtěch | F40: Královéhradecký (Hradec Králové) | G40: 16.04 | H40: 15.79 | I40: =IF(AND(G40=0,H40=0),"diskval.",IF(AND(G40>0,H40>0),MIN(G40:H40),IF(G40>0,G40,H40))) -> 15.79 | J40: =IF(G40+H40=0,1000,I40+((IF(G40>0,G40,100)+IF(H40>0,H40,100))/100000)) -> 15.790318
A41: 39 | C41: 39 | D41: Hájek | E41: David | F41: Jihočeský (ČB) | G41: 17.67 | I41: =IF(AND(G41=0,H41=0),"diskval.",IF(AND(G41>0,H41>0),MIN(G41:H41),IF(G41>0,G41,H41))) -> 17.67 | J41: =IF(G41+H41=0,1000,I41+((IF(G41>0,G41,100)+IF(H41>0,H41,100))/100000)) -> 17.671177
A42: 40 | C42: 40 | D42: Horský | E42: Marek | F42: Jihočeský (Písek) | H42: 25.773 | I42: =IF(AND(G42=0,H42=0),"diskval.",IF(AND(G42>0,H42>0),MIN(G42:H42),IF(G42>0,G42,H42))) -> 25.773 | J42: =IF(G42+H42=0,1000,I42+((IF(G42>0,G42,100)+IF(H42>0,H42,100))/100000)) -> 25.774258
A43: 41 | C43: 41 | D43: Janů | E43: Pavel | F43: Jihočeský (Jindřichův Hradec) | G43: 24.32 | H43: 19.45 | I43: =IF(AND(G43=0,H43=0),"diskval.",IF(AND(G43>0,H43>0),MIN(G43:H43),IF(G43>0,G43,H43))) -> 19.45 | J43: =IF(G43+H43=0,1000,I43+((IF(G43>0,G43,100)+IF(H43>0,H43,100))/100000)) -> 19.450438
A44: 42 | C44: 42 | D44: Picmaus | E44: Milan | F44: Vysočina (Třebíč) | G44: 22.64 | H44: 19.24 | I44: =IF(AND(G44=0,H44=0),"diskval.",IF(AND(G44>0,H44>0),MIN(G44:H44),IF(G44>0,G44,H44))) -> 19.24 | J44: =IF(G44+H44=0,1000,I44+((IF(G44>0,G44,100)+IF(H44>0,H44,100))/100000)) -> 19.240419
A45: 43 | C45: 43 | D45: Ježek | E45: Miloš | F45: Středočeský (Benešov) | G45: 17.55 | H45: 17.43 | I45: =IF(AND(G45=0,H45=0),"diskval.",IF(AND(G45>0,H45>0),MIN(G45:H45),IF(G45>0,G45,H45))) -> 17.43 | J45: =IF(G45+H45=0,1000,I45+((IF(G45>0,G45,100)+IF(H45>0,H45,100))/100000)) -> 17.43035
A46: 44 | C46: 44 | D46: Hons | E46: Lukáš | F46: Vysočina (Třebíč) | G46: 19.96 | H46: 17.66 | I46: =IF(AND(G46=0,H46=0),"diskval.",IF(AND(G46>0,H46>0),MIN(G46:H46),IF(G46>0,G46,H46))) -> 17.66 | J46: =IF(G46+H46=0,1000,I46+((IF(G46>0,G46,100)+IF(H46>0,H46,100))/100000)) -> 17.660376 | L46: nad 35
A47: 45 | C47: 45 | D47: Šváb | E47: Jan | F47: SDH Dobřany (Plzeň Jih) | G47: 17.45 | H47: 17.01 | I47: =IF(AND(G47=0,H47=0),"diskval.",IF(AND(G47>0,H47>0),MIN(G47:H47),IF(G47>0,G47,H47))) -> 17.01 | J47: =IF(G47+H47=0,1000,I47+((IF(G47>0,G47,100)+IF(H47>0,H47,100))/100000)) -> 17.010345
A48: 46 | C48: 46 | D48: Krupka | E48: Luboš | F48: Jihočeský (Strakonice) | G48: 23.09 | H48: 22.81 | I48: =IF(AND(G48=0,H48=0),"diskval.",IF(AND(G48>0,H48>0),MIN(G48:H48),IF(G48>0,G48,H48))) -> 22.81 | J48: =IF(G48+H48=0,1000,I48+((IF(G48>0,G48,100)+IF(H48>0,H48,100))/100000)) -> 22.810459
A49: 47 | C49: 47 | D49: Měřička | E49: Michal | F49: Jihočeský (ČB) | H49: 20.07 | I49: =IF(AND(G49=0,H49=0),"diskval.",IF(AND(G49>0,H49>0),MIN(G49:H49),IF(G49>0,G49,H49))) -> 20.07 | J49: =IF(G49+H49=0,1000,I49+((IF(G49>0,G49,100)+IF(H49>0,H49,100))/100000)) -> 20.071201
A50: 48 | C50: 48 | D50: Janů | E50: František | F50: Jihočeský (Jindřichův Hradec) | H50: 20.48 | I50: =IF(AND(G50=0,H50=0),"diskval.",IF(AND(G50>0,H50>0),MIN(G50:H50),IF(G50>0,G50,H50))) -> 20.48 | J50: =IF(G50+H50=0,1000,I50+((IF(G50>0,G50,100)+IF(H50>0,H50,100))/100000)) -> 20.481205
A51: 49 | C51: 49 | D51: Senohrábek | E51: Bojislav | F51: Středočeský (Mladá Boleslav) | G51: 19.13 | H51: 17.98 | I51: =IF(AND(G51=0,H51=0),"diskval.",IF(AND(G51>0,H51>0),MIN(G51:H51),IF(G51>0,G51,H51))) -> 17.98 | J51: =IF(G51+H51=0,1000,I51+((IF(G51>0,G51,100)+IF(H51>0,H51,100))/100000)) -> 17.980371
A52: 50 | C52: 50 | D52: Holý | E52: Patrik | F52: Jihočeský (Jindřichův Hradec) | H52: 21.78 | I52: =IF(AND(G52=0,H52=0),"diskval.",IF(AND(G52>0,H52>0),MIN(G52:H52),IF(G52>0,G52,H52))) -> 21.78 | J52: =IF(G52+H52=0,1000,I52+((IF(G52>0,G52,100)+IF(H52>0,H52,100))/100000)) -> 21.781218
A53: 51 | C53: 51 | D53: Diviš | E53: David | F53: Vysočina (Třebíč) | H53: 24.88 | I53: =IF(AND(G53=0,H53=0),"diskval.",IF(AND(G53>0,H53>0),MIN(G53:H53),IF(G53>0,G53,H53))) -> 24.88 | J53: =IF(G53+H53=0,1000,I53+((IF(G53>0,G53,100)+IF(H53>0,H53,100))/100000)) -> 24.881249
A54: 52 | C54: 52 | D54: Zouhar | E54: Jaroslav | F54: Jihomoravský (Blansko) | G54: 20.93 | H54: 22.75 | I54: =IF(AND(G54=0,H54=0),"diskval.",IF(AND(G54>0,H54>0),MIN(G54:H54),IF(G54>0,G54,H54))) -> 20.93 | J54: =IF(G54+H54=0,1000,I54+((IF(G54>0,G54,100)+IF(H54>0,H54,100))/100000)) -> 20.930437
A55: 53 | C55: 53 | D55: Pokruta | E55: Jakub | F55: Jihomoravský (Blansko) | G55: 22.07 | H55: 26.38 | I55: =IF(AND(G55=0,H55=0),"diskval.",IF(AND(G55>0,H55>0),MIN(G55:H55),IF(G55>0,G55,H55))) -> 22.07 | J55: =IF(G55+H55=0,1000,I55+((IF(G55>0,G55,100)+IF(H55>0,H55,100))/100000)) -> 22.070484
A56: 54 | C56: 54 | D56: Čada | E56: Milan | F56: Jihočeský (ČB) | G56: 20.33 | H56: 19.84 | I56: =IF(AND(G56=0,H56=0),"diskval.",IF(AND(G56>0,H56>0),MIN(G56:H56),IF(G56>0,G56,H56))) -> 19.84 | J56: =IF(G56+H56=0,1000,I56+((IF(G56>0,G56,100)+IF(H56>0,H56,100))/100000)) -> 19.840402 | L56: nad 35
A57: 55 | C57: 55 | D57: Pěnča | E57: Ivan | F57: Jihočeský (Strakonice) | G57: 18.43 | H57: 17.67 | I57: =IF(AND(G57=0,H57=0),"diskval.",IF(AND(G57>0,H57>0),MIN(G57:H57),IF(G57>0,G57,H57))) -> 17.67 | J57: =IF(G57+H57=0,1000,I57+((IF(G57>0,G57,100)+IF(H57>0,H57,100))/100000)) -> 17.670361
A58: 56 | C58: 56 | D58: Kováč | E58: Zbyněk | F58: Plzeňský (Domažlice) | G58: 24.26 | H58: 19.87 | I58: =IF(AND(G58=0,H58=0),"diskval.",IF(AND(G58>0,H58>0),MIN(G58:H58),IF(G58>0,G58,H58))) -> 19.87 | J58: =IF(G58+H58=0,1000,I58+((IF(G58>0,G58,100)+IF(H58>0,H58,100))/100000)) -> 19.870441
A59: 57 | C59: 57 | D59: Hradil | E59: Zbyněk | F59: Olomoucký kraj | I59: =IF(AND(G59=0,H59=0),"diskval.",IF(AND(G59>0,H59>0),MIN(G59:H59),IF(G59>0,G59,H59))) -> diskval. | J59: =IF(G59+H59=0,1000,I59+((IF(G59>0,G59,100)+IF(H59>0,H59,100))/100000)) -> 1000 | L59: nad 35, jen věž
A60: 58 | C60: 58 | D60: Bláha | E60: Petr | F60: Jihočeský (Písek) | G60: 23.09 | H60: 21.85 | I60: =IF(AND(G60=0,H60=0),"diskval.",IF(AND(G60>0,H60>0),MIN(G60:H60),IF(G60>0,G60,H60))) -> 21.85 | J60: =IF(G60+H60=0,1000,I60+((IF(G60>0,G60,100)+IF(H60>0,H60,100))/100000)) -> 21.850449
A61: 59 | C61: 59 | D61: Škodný | E61: Jiří | F61: Hradec Králové | G61: 24.46 | I61: =IF(AND(G61=0,H61=0),"diskval.",IF(AND(G61>0,H61>0),MIN(G61:H61),IF(G61>0,G61,H61))) -> 24.46 | J61: =IF(G61+H61=0,1000,I61+((IF(G61>0,G61,100)+IF(H61>0,H61,100))/100000)) -> 24.461245
A62: 60 | C62: 60 | D62: Vaňač | E62: Aleš | F62: Jihočeský (Strakonice) | G62: 21.73 | H62: 21.57 | I62: =IF(AND(G62=0,H62=0),"diskval.",IF(AND(G62>0,H62>0),MIN(G62:H62),IF(G62>0,G62,H62))) -> 21.57 | J62: =IF(G62+H62=0,1000,I62+((IF(G62>0,G62,100)+IF(H62>0,H62,100))/100000)) -> 21.570433 | L62: nad 35
A63: 61 | C63: 61 | D63: Huml | E63: Ondřej | F63: Jihočeský (Jindřichův Hradec) | G63: 19.86 | H63: 19.57 | I63: =IF(AND(G63=0,H63=0),"diskval.",IF(AND(G63>0,H63>0),MIN(G63:H63),IF(G63>0,G63,H63))) -> 19.57 | J63: =IF(G63+H63=0,1000,I63+((IF(G63>0,G63,100)+IF(H63>0,H63,100))/100000)) -> 19.570394
A64: 62 | C64: 62 | D64: Hrdlička | E64: Jaroslav | F64: Plzeňský (Domažlice) | G64: 20.67 | H64: 19.99 | I64: =IF(AND(G64=0,H64=0),"diskval.",IF(AND(G64>0,H64>0),MIN(G64:H64),IF(G64>0,G64,H64))) -> 19.99 | J64: =IF(G64+H64=0,1000,I64+((IF(G64>0,G64,100)+IF(H64>0,H64,100))/100000)) -> 19.990407 | L64: nad 35
A65: 63 | C65: 63 | D65: Říha | E65: Václav | F65: Středočeský (Kutná Hora) | G65: 19.85 | H65: 18.97 | I65: =IF(AND(G65=0,H65=0),"diskval.",IF(AND(G65>0,H65>0),MIN(G65:H65),IF(G65>0,G65,H65))) -> 18.97 | J65: =IF(G65+H65=0,1000,I65+((IF(G65>0,G65,100)+IF(H65>0,H65,100))/100000)) -> 18.970388
A66: 64 | C66: 64 | D66: Ježek | E66: Jan | F66: Jihočeský (ČB) | G66: 19.18 | H66: 19.34 | I66: =IF(AND(G66=0,H66=0),"diskval.",IF(AND(G66>0,H66>0),MIN(G66:H66),IF(G66>0,G66,H66))) -> 19.18 | J66: =IF(G66+H66=0,1000,I66+((IF(G66>0,G66,100)+IF(H66>0,H66,100))/100000)) -> 19.180385
A67: 65 | C67: 65 | D67: Bělský | E67: Dominik | F67: Královéhradecký (Hradec Králové) | G67: 17.67 | I67: =IF(AND(G67=0,H67=0),"diskval.",IF(AND(G67>0,H67>0),MIN(G67:H67),IF(G67>0,G67,H67))) -> 17.67 | J67: =IF(G67+H67=0,1000,I67+((IF(G67>0,G67,100)+IF(H67>0,H67,100))/100000)) -> 17.671177
A68: 66 | C68: 66 | D68: Stibor | E68: Jiří | F68: Jihočeský (Strakonice) | G68: 21.65 | H68: 21.04 | I68: =IF(AND(G68=0,H68=0),"diskval.",IF(AND(G68>0,H68>0),MIN(G68:H68),IF(G68>0,G68,H68))) -> 21.04 | J68: =IF(G68+H68=0,1000,I68+((IF(G68>0,G68,100)+IF(H68>0,H68,100))/100000)) -> 21.040427
A69: 67 | C69: 67 | D69: Vladislav | E69: Filip | F69: Středočeský (Kolín) | H69: 17.43 | I69: =IF(AND(G69=0,H69=0),"diskval.",IF(AND(G69>0,H69>0),MIN(G69:H69),IF(G69>0,G69,H69))) -> 17.43 | J69: =IF(G69+H69=0,1000,I69+((IF(G69>0,G69,100)+IF(H69>0,H69,100))/100000)) -> 17.431174
A70: 68 | C70: 68 | D70: Hnízdil | E70: Pavel | F70: Vysočina (Třebíč) | I70: =IF(AND(G70=0,H70=0),"diskval.",IF(AND(G70>0,H70>0),MIN(G70:H70),IF(G70>0,G70,H70))) -> diskval. | J70: =IF(G70+H70=0,1000,I70+((IF(G70>0,G70,100)+IF(H70>0,H70,100))/100000)) -> 1000 | L70: jen věž + nad 35
A71: 69 | C71: 69 | D71: Špaček | E71: Michal | F71: Vysočina (Třebíč) | G71: 17.27 | I71: =IF(AND(G71=0,H71=0),"diskval.",IF(AND(G71>0,H71>0),MIN(G71:H71),IF(G71>0,G71,H71))) -> 17.27 | J71: =IF(G71+H71=0,1000,I71+((IF(G71>0,G71,100)+IF(H71>0,H71,100))/100000)) -> 17.271173
A72: 70 | C72: 70 | D72: Kučera | E72: Jan | F72: Jihočeský (Jindřichův Hradec) | G72: 18.83 | H72: 18.76 | I72: =IF(AND(G72=0,H72=0),"diskval.",IF(AND(G72>0,H72>0),MIN(G72:H72),IF(G72>0,G72,H72))) -> 18.76 | J72: =IF(G72+H72=0,1000,I72+((IF(G72>0,G72,100)+IF(H72>0,H72,100))/100000)) -> 18.760376
A73: 71 | C73: 71 | D73: Roháč | E73: Martin | F73: Plzeňský (Plzeň) | G73: 17.69 | I73: =IF(AND(G73=0,H73=0),"diskval.",IF(AND(G73>0,H73>0),MIN(G73:H73),IF(G73>0,G73,H73))) -> 17.69 | J73: =IF(G73+H73=0,1000,I73+((IF(G73>0,G73,100)+IF(H73>0,H73,100))/100000)) -> 17.691177 | L73: nad 35
A74: 72 | C74: 72 | D74: Nechvátal | E74: Radek | F74: Vysočina (Třebíč) | G74: 17.45 | I74: =IF(AND(G74=0,H74=0),"diskval.",IF(AND(G74>0,H74>0),MIN(G74:H74),IF(G74>0,G74,H74))) -> 17.45 | J74: =IF(G74+H74=0,1000,I74+((IF(G74>0,G74,100)+IF(H74>0,H74,100))/100000)) -> 17.451175
A75: 73 | C75: 73 | D75: Suchopár | E75: Jiří | F75: Jihočeský (Strakonice) | I75: =IF(AND(G75=0,H75=0),"diskval.",IF(AND(G75>0,H75>0),MIN(G75:H75),IF(G75>0,G75,H75))) -> diskval. | J75: =IF(G75+H75=0,1000,I75+((IF(G75>0,G75,100)+IF(H75>0,H75,100))/100000)) -> 1000 | L75: jen věž
A76: 74 | C76: 74 | D76: Mareček | E76: Miroslav | F76: Královéhradecký (Trutnov) | G76: 24.87 | H76: 27.67 | I76: =IF(AND(G76=0,H76=0),"diskval.",IF(AND(G76>0,H76>0),MIN(G76:H76),IF(G76>0,G76,H76))) -> 24.87 | J76: =IF(G76+H76=0,1000,I76+((IF(G76>0,G76,100)+IF(H76>0,H76,100))/100000)) -> 24.870525 | L76: jen 100m
A77: 75 | C77: 75 | I77: =IF(AND(G77=0,H77=0),"diskval.",IF(AND(G77>0,H77>0),MIN(G77:H77),IF(G77>0,G77,H77))) -> diskval. | J77: =IF(G77+H77=0,1000,I77+((IF(G77>0,G77,100)+IF(H77>0,H77,100))/100000)) -> 1000
A78: 76 | C78: 76 | I78: =IF(AND(G78=0,H78=0),"diskval.",IF(AND(G78>0,H78>0),MIN(G78:H78),IF(G78>0,G78,H78))) -> diskval. | J78: =IF(G78+H78=0,1000,I78+((IF(G78>0,G78,100)+IF(H78>0,H78,100))/100000)) -> 1000
A79: 77 | C79: 77 | D79: Lidmila | E79: Martin | F79: Královéhradecký (Hradec Králové) | I79: =IF(AND(G79=0,H79=0),"diskval.",IF(AND(G79>0,H79>0),MIN(G79:H79),IF(G79>0,G79,H79))) -> diskval. | J79: =IF(G79+H79=0,1000,I79+((IF(G79>0,G79,100)+IF(H79>0,H79,100))/100000)) -> 1000
A80: 78 | C80: 78 | D80: Netrval | E80: Milan | F80: Plzeňský (Plzeň) | G80: 23.99 | I80: =IF(AND(G80=0,H80=0),"diskval.",IF(AND(G80>0,H80>0),MIN(G80:H80),IF(G80>0,G80,H80))) -> 23.99 | J80: =IF(G80+H80=0,1000,I80+((IF(G80>0,G80,100)+IF(H80>0,H80,100))/100000)) -> 23.99124
A81: 79 | C81: 79 | I81: =IF(AND(G81=0,H81=0),"diskval.",IF(AND(G81>0,H81>0),MIN(G81:H81),IF(G81>0,G81,H81))) -> diskval. | J81: =IF(G81+H81=0,1000,I81+((IF(G81>0,G81,100)+IF(H81>0,H81,100))/100000)) -> 1000
A82: 80 | C82: 80 | I82: =IF(AND(G82=0,H82=0),"diskval.",IF(AND(G82>0,H82>0),MIN(G82:H82),IF(G82>0,G82,H82))) -> diskval. | J82: =IF(G82+H82=0,1000,I82+((IF(G82>0,G82,100)+IF(H82>0,H82,100))/100000)) -> 1000
A83: 81 | C83: 81 | I83: =IF(AND(G83=0,H83=0),"diskval.",IF(AND(G83>0,H83>0),MIN(G83:H83),IF(G83>0,G83,H83))) -> diskval. | J83: =IF(G83+H83=0,1000,I83+((IF(G83>0,G83,100)+IF(H83>0,H83,100))/100000)) -> 1000
A84: 82 | C84: 82 | I84: =IF(AND(G84=0,H84=0),"diskval.",IF(AND(G84>0,H84>0),MIN(G84:H84),IF(G84>0,G84,H84))) -> diskval. | J84: =IF(G84+H84=0,1000,I84+((IF(G84>0,G84,100)+IF(H84>0,H84,100))/100000)) -> 1000
A85: 83 | C85: 83 | I85: =IF(AND(G85=0,H85=0),"diskval.",IF(AND(G85>0,H85>0),MIN(G85:H85),IF(G85>0,G85,H85))) -> diskval. | J85: =IF(G85+H85=0,1000,I85+((IF(G85>0,G85,100)+IF(H85>0,H85,100))/100000)) -> 1000
A86: 84 | C86: 84 | I86: =IF(AND(G86=0,H86=0),"diskval.",IF(AND(G86>0,H86>0),MIN(G86:H86),IF(G86>0,G86,H86))) -> diskval. | J86: =IF(G86+H86=0,1000,I86+((IF(G86>0,G86,100)+IF(H86>0,H86,100))/100000)) -> 1000
A87: 85 | C87: 85 | I87: =IF(AND(G87=0,H87=0),"diskval.",IF(AND(G87>0,H87>0),MIN(G87:H87),IF(G87>0,G87,H87))) -> diskval. | J87: =IF(G87+H87=0,1000,I87+((IF(G87>0,G87,100)+IF(H87>0,H87,100))/100000)) -> 1000
A88: 86 | C88: 86 | I88: =IF(AND(G88=0,H88=0),"diskval.",IF(AND(G88>0,H88>0),MIN(G88:H88),IF(G88>0,G88,H88))) -> diskval. | J88: =IF(G88+H88=0,1000,I88+((IF(G88>0,G88,100)+IF(H88>0,H88,100))/100000)) -> 1000
A89: 87 | C89: 87 | I89: =IF(AND(G89=0,H89=0),"diskval.",IF(AND(G89>0,H89>0),MIN(G89:H89),IF(G89>0,G89,H89))) -> diskval. | J89: =IF(G89+H89=0,1000,I89+((IF(G89>0,G89,100)+IF(H89>0,H89,100))/100000)) -> 1000
A90: 88 | C90: 88 | I90: =IF(AND(G90=0,H90=0),"diskval.",IF(AND(G90>0,H90>0),MIN(G90:H90),IF(G90>0,G90,H90))) -> diskval. | J90: =IF(G90+H90=0,1000,I90+((IF(G90>0,G90,100)+IF(H90>0,H90,100))/100000)) -> 1000
A91: 89 | C91: 89 | I91: =IF(AND(G91=0,H91=0),"diskval.",IF(AND(G91>0,H91>0),MIN(G91:H91),IF(G91>0,G91,H91))) -> diskval. | J91: =IF(G91+H91=0,1000,I91+((IF(G91>0,G91,100)+IF(H91>0,H91,100))/100000)) -> 1000
A92: 90 | C92: 90 | I92: =IF(AND(G92=0,H92=0),"diskval.",IF(AND(G92>0,H92>0),MIN(G92:H92),IF(G92>0,G92,H92))) -> diskval. | J92: =IF(G92+H92=0,1000,I92+((IF(G92>0,G92,100)+IF(H92>0,H92,100))/100000)) -> 1000
... A152: 150 | C152: 150 | I152: =IF(AND(G152=0,H152=0),"diskval.",IF(AND(G152>0,H152>0),MIN(G152:H152),IF(G152>0,G152,H152))) -> diskval. | J152: =IF(G152+H152=0,1000,I152+((IF(G152>0,G152,100)+IF(H152>0,H152,100))/100000)) -> 1000

Sheet věže
A1: Výsledková listina věže Memoriál plk. JUDR Josefa Blažka 2.6. 2022
A2: Pořadí | C2: Start. č. | D2: Příjmení | E2: Jméno | F2: ÚO/SDH | G2: 1.pokus věž | H2: 2.pokus věž | I2: započ. čas věž | J2: eliminace stejného pořadí
A3: 1 | C3: 1 | D3: Štolba | E3: František | F3: Jihočeský (UO Strakonice) | G3: 26.9 | H3: 25.38 | I3: =IF(AND(G3=0,H3=0),"diskval.",IF(AND(G3>0,H3>0),MIN(G3:H3),IF(G3>0,G3,H3))) -> 25.38 | J3: =IF(G3+H3=0,1000,I3+((IF(G3>0,G3,100)+IF(H3>0,H3,100))/100000)) -> 25.380523
A4: 2 | C4: 2 | D4: Šourek | E4: Petr | F4: Jihočeský (Písek) | G4: 24 | H4: 22.21 | I4: =IF(AND(G4=0,H4=0),"diskval.",IF(AND(G4>0,H4>0),MIN(G4:H4),IF(G4>0,G4,H4))) -> 22.21 | J4: =IF(G4+H4=0,1000,I4+((IF(G4>0,G4,100)+IF(H4>0,H4,100))/100000)) -> 22.210462
A5: 3 | C5: 3 | D5: Vašíček | E5: Richard | F5: SDH Horní Slavkov | I5: =IF(AND(G5=0,H5=0),"diskval.",IF(AND(G5>0,H5>0),MIN(G5:H5),IF(G5>0,G5,H5))) -> diskval. | J5: =IF(G5+H5=0,1000,I5+((IF(G5>0,G5,100)+IF(H5>0,H5,100))/100000)) -> 1000 | L5: jen 100m
A6: 4 | C6: 4 | D6: Soukup | E6: Dominik | F6: SDH Žebnice | G6: 18.01 | H6: 16.43 | I6: =IF(AND(G6=0,H6=0),"diskval.",IF(AND(G6>0,H6>0),MIN(G6:H6),IF(G6>0,G6,H6))) -> 16.43 | J6: =IF(G6+H6=0,1000,I6+((IF(G6>0,G6,100)+IF(H6>0,H6,100))/100000)) -> 16.430344
A7: 5 | C7: 5 | D7: Divoš | E7: Václav | F7: Královéhradecký (Hradec Králové) | G7: 14.86 | H7: 15.07 | I7: =IF(AND(G7=0,H7=0),"diskval.",IF(AND(G7>0,H7>0),MIN(G7:H7),IF(G7>0,G7,H7))) -> 14.86 | J7: =IF(G7+H7=0,1000,I7+((IF(G7>0,G7,100)+IF(H7>0,H7,100))/100000)) -> 14.860299 | L7: jen věž
A8: 6 | C8: 6 | D8: Plíhal | E8: Jiří | F8: Jihomoravský (Blansko) | G8: 22.39 | I8: =IF(AND(G8=0,H8=0),"diskval.",IF(AND(G8>0,H8>0),MIN(G8:H8),IF(G8>0,G8,H8))) -> 22.39 | J8: =IF(G8+H8=0,1000,I8+((IF(G8>0,G8,100)+IF(H8>0,H8,100))/100000)) -> 22.391224
A9: 7 | C9: 7 | D9: Smutný | E9: Martin | F9: Plzeňský (Plzeň) | G9: 18.37 | H9: 22.42 | I9: =IF(AND(G9=0,H9=0),"diskval.",IF(AND(G9>0,H9>0),MIN(G9:H9),IF(G9>0,G9,H9))) -> 18.37 | J9: =IF(G9+H9=0,1000,I9+((IF(G9>0,G9,100)+IF(H9>0,H9,100))/100000)) -> 18.370408
A10: 8 | C10: 8 | D10: Völfel | E10: David | F10: Jihočeský (ČB) | I10: =IF(AND(G10=0,H10=0),"diskval.",IF(AND(G10>0,H10>0),MIN(G10:H10),IF(G10>0,G10,H10))) -> diskval. | J10: =IF(G10+H10=0,1000,I10+((IF(G10>0,G10,100)+IF(H10>0,H10,100))/100000)) -> 1000 | L10: jen 100m
A11: 9 | C11: 9 | D11: Jirout | E11: Patrik | F11: Jihočeský (Písek) | G11: 16.96 | H11: 16.26 | I11: =IF(AND(G11=0,H11=0),"diskval.",IF(AND(G11>0,H11>0),MIN(G11:H11),IF(G11>0,G11,H11))) -> 16.26 | J11: =IF(G11+H11=0,1000,I11+((IF(G11>0,G11,100)+IF(H11>0,H11,100))/100000)) -> 16.260332
A12: 10 | C12: 10 | D12: Kubeš | E12: Ondřej | F12: SDH Dynín | G12: 24.28 | H12: 22.5 | I12: =IF(AND(G12=0,H12=0),"diskval.",IF(AND(G12>0,H12>0),MIN(G12:H12),IF(G12>0,G12,H12))) -> 22.5 | J12: =IF(G12+H12=0,1000,I12+((IF(G12>0,G12,100)+IF(H12>0,H12,100))/100000)) -> 22.500468
A13: 11 | C13: 11 | D13: Paulíček | E13: Jakub | F13: Pardubický (Ústí nad Orlicí) | G13: 16.38 | I13: =IF(AND(G13=0,H13=0),"diskval.",IF(AND(G13>0,H13>0),MIN(G13:H13),IF(G13>0,G13,H13))) -> 16.38 | J13: =IF(G13+H13=0,1000,I13+((IF(G13>0,G13,100)+IF(H13>0,H13,100))/100000)) -> 16.381164
A14: 12 | C14: 12 | D14: Fryč | E14: Tomáš | F14: Jihomoravský (Blansko) | G14: 17.04 | H14: 17 | I14: =IF(AND(G14=0,H14=0),"diskval.",IF(AND(G14>0,H14>0),MIN(G14:H14),IF(G14>0,G14,H14))) -> 17 | J14: =IF(G14+H14=0,1000,I14+((IF(G14>0,G14,100)+IF(H14>0,H14,100))/100000)) -> 17.00034
A15: 13 | C15: 13 | D15: Tomášek | E15: Jan | F15: Plzeňský (Plzeň) | G15: 18.13 | H15: 19.52 | I15: =IF(AND(G15=0,H15=0),"diskval.",IF(AND(G15>0,H15>0),MIN(G15:H15),IF(G15>0,G15,H15))) -> 18.13 | J15: =IF(G15+H15=0,1000,I15+((IF(G15>0,G15,100)+IF(H15>0,H15,100))/100000)) -> 18.130377
A16: 14 | C16: 14 | D16: Viktora | E16: Martin | F16: Středočeský (Kutná Hora) | G16: 15.92 | H16: 15.88 | I16: =IF(AND(G16=0,H16=0),"diskval.",IF(AND(G16>0,H16>0),MIN(G16:H16),IF(G16>0,G16,H16))) -> 15.88 | J16: =IF(G16+H16=0,1000,I16+((IF(G16>0,G16,100)+IF(H16>0,H16,100))/100000)) -> 15.880318
A17: 15 | C17: 15 | D17: Daněk | E17: Tomáš | F17: hl.m. Prahy | G17: 18.75 | H17: 15.55 | I17: =IF(AND(G17=0,H17=0),"diskval.",IF(AND(G17>0,H17>0),MIN(G17:H17),IF(G17>0,G17,H17))) -> 15.55 | J17: =IF(G17+H17=0,1000,I17+((IF(G17>0,G17,100)+IF(H17>0,H17,100))/100000)) -> 15.550343
A18: 16 | C18: 16 | D18: Kligl | E18: Patrik | F18: Královéhradecký (Hradec Králové) | G18: 15.62 | H18: 14.42 | I18: =IF(AND(G18=0,H18=0),"diskval.",IF(AND(G18>0,H18>0),MIN(G18:H18),IF(G18>0,G18,H18))) -> 14.42 | J18: =IF(G18+H18=0,1000,I18+((IF(G18>0,G18,100)+IF(H18>0,H18,100))/100000)) -> 14.4203
A19: 17 | C19: 17 | D19: Nýdl | E19: Jakub | F19: Jihočeský (KŘ HZS) | I19: =IF(AND(G19=0,H19=0),"diskval.",IF(AND(G19>0,H19>0),MIN(G19:H19),IF(G19>0,G19,H19))) -> diskval. | J19: =IF(G19+H19=0,1000,I19+((IF(G19>0,G19,100)+IF(H19>0,H19,100))/100000)) -> 1000 | L19: jen 100m
A20: 18 | C20: 18 | D20: Caha | E20: Martin | F20: Vysočina (Třebíč) | G20: 17.82 | H20: 17.33 | I20: =IF(AND(G20=0,H20=0),"diskval.",IF(AND(G20>0,H20>0),MIN(G20:H20),IF(G20>0,G20,H20))) -> 17.33 | J20: =IF(G20+H20=0,1000,I20+((IF(G20>0,G20,100)+IF(H20>0,H20,100))/100000)) -> 17.330351
A21: 19 | C21: 19 | D21: Balog | E21: Jiří | F21: Jihočeský (Strakonice) | G21: 24.87 | H21: 22.27 | I21: =IF(AND(G21=0,H21=0),"diskval.",IF(AND(G21>0,H21>0),MIN(G21:H21),IF(G21>0,G21,H21))) -> 22.27 | J21: =IF(G21+H21=0,1000,I21+((IF(G21>0,G21,100)+IF(H21>0,H21,100))/100000)) -> 22.270471
A22: 20 | C22: 20 | D22: Motejzík | E22: Martin | F22: Jihočeský (Písek) | G22: 20.69 | I22: =IF(AND(G22=0,H22=0),"diskval.",IF(AND(G22>0,H22>0),MIN(G22:H22),IF(G22>0,G22,H22))) -> 20.69 | J22: =IF(G22+H22=0,1000,I22+((IF(G22>0,G22,100)+IF(H22>0,H22,100))/100000)) -> 20.691207
A23: 21 | C23: 21 | D23: Žižka | E23: Patrik | F23: Karlovarský (Cheb) | G23: 16.84 | I23: =IF(AND(G23=0,H23=0),"diskval.",IF(AND(G23>0,H23>0),MIN(G23:H23),IF(G23>0,G23,H23))) -> 16.84 | J23: =IF(G23+H23=0,1000,I23+((IF(G23>0,G23,100)+IF(H23>0,H23,100))/100000)) -> 16.841168
A24: 22 | C24: 22 | D24: Šenkýř | E24: Marek | F24: Jihočeský (Jindřichův Hradec) | G24: 20.69 | H24: 19.7 | I24: =IF(AND(G24=0,H24=0),"diskval.",IF(AND(G24>0,H24>0),MIN(G24:H24),IF(G24>0,G24,H24))) -> 19.7 | J24: =IF(G24+H24=0,1000,I24+((IF(G24>0,G24,100)+IF(H24>0,H24,100))/100000)) -> 19.700404
A25: 23 | C25: 23 | D25: Klimeš | E25: Martin | F25: Vysočina (Havlíčkův Brod) | I25: =IF(AND(G25=0,H25=0),"diskval.",IF(AND(G25>0,H25>0),MIN(G25:H25),IF(G25>0,G25,H25))) -> diskval. | J25: =IF(G25+H25=0,1000,I25+((IF(G25>0,G25,100)+IF(H25>0,H25,100))/100000)) -> 1000 | L25: jen 100m
A26: 24 | C26: 24 | D26: Píbal | E26: Jiří | F26: Jihočeský (Písek) | I26: =IF(AND(G26=0,H26=0),"diskval.",IF(AND(G26>0,H26>0),MIN(G26:H26),IF(G26>0,G26,H26))) -> diskval. | J26: =IF(G26+H26=0,1000,I26+((IF(G26>0,G26,100)+IF(H26>0,H26,100))/100000)) -> 1000
A27: 25 | C27: 25 | D27: Krygar | E27: Josef | F27: Jihočeský (ČB) | G27: 19.37 | H27: 18.35 | I27: =IF(AND(G27=0,H27=0),"diskval.",IF(AND(G27>0,H27>0),MIN(G27:H27),IF(G27>0,G27,H27))) -> 18.35 | J27: =IF(G27+H27=0,1000,I27+((IF(G27>0,G27,100)+IF(H27>0,H27,100))/100000)) -> 18.350377
A28: 26 | C28: 26 | D28: Hladík | E28: Stanislav | F28: Vysočina (Třebíč) | G28: 16.81 | H28: 15.92 | I28: =IF(AND(G28=0,H28=0),"diskval.",IF(AND(G28>0,H28>0),MIN(G28:H28),IF(G28>0,G28,H28))) -> 15.92 | J28: =IF(G28+H28=0,1000,I28+((IF(G28>0,G28,100)+IF(H28>0,H28,100))/100000)) -> 15.920327
A29: 27 | C29: 27 | D29: Šmíd | E29: Stanislav | F29: Jihočeský (Jindřichův Hradec) | G29: 17.43 | H29: 17.34 | I29: =IF(AND(G29=0,H29=0),"diskval.",IF(AND(G29>0,H29>0),MIN(G29:H29),IF(G29>0,G29,H29))) -> 17.34 | J29: =IF(G29+H29=0,1000,I29+((IF(G29>0,G29,100)+IF(H29>0,H29,100))/100000)) -> 17.340348
A30: 28 | C30: 28 | D30: Vyhnánek | E30: Jan | F30: Středočeský Kutná Hora) | I30: =IF(AND(G30=0,H30=0),"diskval.",IF(AND(G30>0,H30>0),MIN(G30:H30),IF(G30>0,G30,H30))) -> diskval. | J30: =IF(G30+H30=0,1000,I30+((IF(G30>0,G30,100)+IF(H30>0,H30,100))/100000)) -> 1000
A31: 29 | C31: 29 | D31: Kasal | E31: Jakub | F31: Vysočina (Havlíčkův Brod) | G31: 19.45 | I31: =IF(AND(G31=0,H31=0),"diskval.",IF(AND(G31>0,H31>0),MIN(G31:H31),IF(G31>0,G31,H31))) -> 19.45 | J31: =IF(G31+H31=0,1000,I31+((IF(G31>0,G31,100)+IF(H31>0,H31,100))/100000)) -> 19.451194
A32: 30 | C32: 30 | D32: Koller | E32: Petr | F32: Jihočeský (Písek) | I32: =IF(AND(G32=0,H32=0),"diskval.",IF(AND(G32>0,H32>0),MIN(G32:H32),IF(G32>0,G32,H32))) -> diskval. | J32: =IF(G32+H32=0,1000,I32+((IF(G32>0,G32,100)+IF(H32>0,H32,100))/100000)) -> 1000 | L32: jen 100m
A33: 31 | C33: 31 | D33: Bašta | E33: Vojtěch | F33: Jihočeský (Jindřichův Hradec) | G33: 16.3 | H33: 16.76 | I33: =IF(AND(G33=0,H33=0),"diskval.",IF(AND(G33>0,H33>0),MIN(G33:H33),IF(G33>0,G33,H33))) -> 16.3 | J33: =IF(G33+H33=0,1000,I33+((IF(G33>0,G33,100)+IF(H33>0,H33,100))/100000)) -> 16.300331
A34: 32 | C34: 32 | D34: Pospíšil | E34: Michael | F34: Jihočeský (UO strakonice) | G34: 30.69 | H34: 29.07 | I34: =IF(AND(G34=0,H34=0),"diskval.",IF(AND(G34>0,H34>0),MIN(G34:H34),IF(G34>0,G34,H34))) -> 29.07 | J34: =IF(G34+H34=0,1000,I34+((IF(G34>0,G34,100)+IF(H34>0,H34,100))/100000)) -> 29.070598 | L34: jen věž
A35: 33 | C35: 33 | D35: Hůla | E35: Jan | F35: Plzeň | G35: 15.79 | H35: 15.74 | I35: =IF(AND(G35=0,H35=0),"diskval.",IF(AND(G35>0,H35>0),MIN(G35:H35),IF(G35>0,G35,H35))) -> 15.74 | J35: =IF(G35+H35=0,1000,I35+((IF(G35>0,G35,100)+IF(H35>0,H35,100))/100000)) -> 15.740315
A36: 34 | C36: 34 | D36: Hladil | E36: Vojtěch | F36: Jihomoravský (Blansko) | G36: 21.84 | H36: 18.35 | I36: =IF(AND(G36=0,H36=0),"diskval.",IF(AND(G36>0,H36>0),MIN(G36:H36),IF(G36>0,G36,H36))) -> 18.35 | J36: =IF(G36+H36=0,1000,I36+((IF(G36>0,G36,100)+IF(H36>0,H36,100))/100000)) -> 18.350402
A37: 35 | C37: 35 | D37: Paulíček | E37: Stanislav | F37: Pardubický (Ústí nad Orlicí) | G37: 16.05 | H37: 16.2 | I37: =IF(AND(G37=0,H37=0),"diskval.",IF(AND(G37>0,H37>0),MIN(G37:H37),IF(G37>0,G37,H37))) -> 16.05 | J37: =IF(G37+H37=0,1000,I37+((IF(G37>0,G37,100)+IF(H37>0,H37,100))/100000)) -> 16.050323
A38: 36 | C38: 36 | D38: Němec | E38: Patrik | F38: Jihomoravský (Blansko) | G38: 17.1 | H38: 17.72 | I38: =IF(AND(G38=0,H38=0),"diskval.",IF(AND(G38>0,H38>0),MIN(G38:H38),IF(G38>0,G38,H38))) -> 17.1 | J38: =IF(G38+H38=0,1000,I38+((IF(G38>0,G38,100)+IF(H38>0,H38,100))/100000)) -> 17.100348
A39: 37 | C39: 37 | D39: Janko | E39: Vladimír | F39: Vysočina (Pelhřimov) | G39: 15.57 | H39: 15.76 | I39: =IF(AND(G39=0,H39=0),"diskval.",IF(AND(G39>0,H39>0),MIN(G39:H39),IF(G39>0,G39,H39))) -> 15.57 | J39: =IF(G39+H39=0,1000,I39+((IF(G39>0,G39,100)+IF(H39>0,H39,100))/100000)) -> 15.570313 | L39: nad 35
A40: 38 | C40: 38 | D40: Klenka | E40: Vojtěch | F40: Královéhradecký (Hradec Králové) | G40: 21.27 | H40: 16.53 | I40: =IF(AND(G40=0,H40=0),"diskval.",IF(AND(G40>0,H40>0),MIN(G40:H40),IF(G40>0,G40,H40))) -> 16.53 | J40: =IF(G40+H40=0,1000,I40+((IF(G40>0,G40,100)+IF(H40>0,H40,100))/100000)) -> 16.530378
A41: 39 | C41: 39 | D41: Hájek | E41: David | F41: Jihočeský (ČB) | G41: 18.95 | I41: =IF(AND(G41=0,H41=0),"diskval.",IF(AND(G41>0,H41>0),MIN(G41:H41),IF(G41>0,G41,H41))) -> 18.95 | J41: =IF(G41+H41=0,1000,I41+((IF(G41>0,G41,100)+IF(H41>0,H41,100))/100000)) -> 18.951189
A42: 40 | C42: 40 | D42: Horský | E42: Marek | F42: Jihočeský (Písek) | G42: 28.95 | H42: 19.45 | I42: =IF(AND(G42=0,H42=0),"diskval.",IF(AND(G42>0,H42>0),MIN(G42:H42),IF(G42>0,G42,H42))) -> 19.45 | J42: =IF(G42+H42=0,1000,I42+((IF(G42>0,G42,100)+IF(H42>0,H42,100))/100000)) -> 19.450484
A43: 41 | C43: 41 | D43: Janů | E43: Pavel | F43: Jihočeský (Jindřichův Hradec) | G43: 17.73 | H43: 17.71 | I43: =IF(AND(G43=0,H43=0),"diskval.",IF(AND(G43>0,H43>0),MIN(G43:H43),IF(G43>0,G43,H43))) -> 17.71 | J43: =IF(G43+H43=0,1000,I43+((IF(G43>0,G43,100)+IF(H43>0,H43,100))/100000)) -> 17.710354
A44: 42 | C44: 42 | D44: Picmaus | E44: Milan | F44: Vysočina (Třebíč) | G44: 20.89 | H44: 26.18 | I44: =IF(AND(G44=0,H44=0),"diskval.",IF(AND(G44>0,H44>0),MIN(G44:H44),IF(G44>0,G44,H44))) -> 20.89 | J44: =IF(G44+H44=0,1000,I44+((IF(G44>0,G44,100)+IF(H44>0,H44,100))/100000)) -> 20.890471
A45: 43 | C45: 43 | D45: Ježek | E45: Miloš | F45: Středočeský (Benešov) | G45: 16.33 | H45: 16.47 | I45: =IF(AND(G45=0,H45=0),"diskval.",IF(AND(G45>0,H45>0),MIN(G45:H45),IF(G45>0,G45,H45))) -> 16.33 | J45: =IF(G45+H45=0,1000,I45+((IF(G45>0,G45,100)+IF(H45>0,H45,100))/100000)) -> 16.330328
A46: 44 | C46: 44 | D46: Hons | E46: Lukáš | F46: Vysočina (Třebíč) | G46: 15.49 | H46: 15.17 | I46: =IF(AND(G46=0,H46=0),"diskval.",IF(AND(G46>0,H46>0),MIN(G46:H46),IF(G46>0,G46,H46))) -> 15.17 | J46: =IF(G46+H46=0,1000,I46+((IF(G46>0,G46,100)+IF(H46>0,H46,100))/100000)) -> 15.170307 | L46: nad 35
A47: 45 | C47: 45 | D47: Šváb | E47: Jan | F47: SDH Dobřany (Plzeň Jih) | H47: 21.24 | I47: =IF(AND(G47=0,H47=0),"diskval.",IF(AND(G47>0,H47>0),MIN(G47:H47),IF(G47>0,G47,H47))) -> 21.24 | J47: =IF(G47+H47=0,1000,I47+((IF(G47>0,G47,100)+IF(H47>0,H47,100))/100000)) -> 21.241212
A48: 46 | C48: 46 | D48: Krupka | E48: Luboš | F48: Jihočeský (Strakonice) | G48: 24.45 | H48: 21.52 | I48: =IF(AND(G48=0,H48=0),"diskval.",IF(AND(G48>0,H48>0),MIN(G48:H48),IF(G48>0,G48,H48))) -> 21.52 | J48: =IF(G48+H48=0,1000,I48+((IF(G48>0,G48,100)+IF(H48>0,H48,100))/100000)) -> 21.52046
A49: 47 | C49: 47 | D49: Měřička | E49: Michal | F49: Jihočeský (ČB) | G49: 20.79 | H49: 17.53 | I49: =IF(AND(G49=0,H49=0),"diskval.",IF(AND(G49>0,H49>0),MIN(G49:H49),IF(G49>0,G49,H49))) -> 17.53 | J49: =IF(G49+H49=0,1000,I49+((IF(G49>0,G49,100)+IF(H49>0,H49,100))/100000)) -> 17.530383
A50: 48 | C50: 48 | D50: Janů | E50: František | F50: Jihočeský (Jindřichův Hradec) | G50: 21.84 | H50: 22.25 | I50: =IF(AND(G50=0,H50=0),"diskval.",IF(AND(G50>0,H50>0),MIN(G50:H50),IF(G50>0,G50,H50))) -> 21.84 | J50: =IF(G50+H50=0,1000,I50+((IF(G50>0,G50,100)+IF(H50>0,H50,100))/100000)) -> 21.840441
A51: 49 | C51: 49 | D51: Senohrábek | E51: Bojislav | F51: Středočeský (Mladá Boleslav) | G51: 21.46 | H51: 21.87 | I51: =IF(AND(G51=0,H51=0),"diskval.",IF(AND(G51>0,H51>0),MIN(G51:H51),IF(G51>0,G51,H51))) -> 21.46 | J51: =IF(G51+H51=0,1000,I51+((IF(G51>0,G51,100)+IF(H51>0,H51,100))/100000)) -> 21.460433
A52: 50 | C52: 50 | D52: Holý | E52: Patrik | F52: Jihočeský (Jindřichův Hradec) | G52: 25.9 | H52: 28.31 | I52: =IF(AND(G52=0,H52=0),"diskval.",IF(AND(G52>0,H52>0),MIN(G52:H52),IF(G52>0,G52,H52))) -> 25.9 | J52: =IF(G52+H52=0,1000,I52+((IF(G52>0,G52,100)+IF(H52>0,H52,100))/100000)) -> 25.900542
A53: 51 | C53: 51 | D53: Diviš | E53: David | F53: Vysočina (Třebíč) | G53: 23.12 | H53: 22.5 | I53: =IF(AND(G53=0,H53=0),"diskval.",IF(AND(G53>0,H53>0),MIN(G53:H53),IF(G53>0,G53,H53))) -> 22.5 | J53: =IF(G53+H53=0,1000,I53+((IF(G53>0,G53,100)+IF(H53>0,H53,100))/100000)) -> 22.500456
A54: 52 | C54: 52 | D54: Zouhar | E54: Jaroslav | F54: Jihomoravský (Blansko) | G54: 17.78 | H54: 19.69 | I54: =IF(AND(G54=0,H54=0),"diskval.",IF(AND(G54>0,H54>0),MIN(G54:H54),IF(G54>0,G54,H54))) -> 17.78 | J54: =IF(G54+H54=0,1000,I54+((IF(G54>0,G54,100)+IF(H54>0,H54,100))/100000)) -> 17.780375
A55: 53 | C55: 53 | D55: Pokruta | E55: Jakub | F55: Jihomoravský (Blansko) | G55: 19.98 | H55: 18.02 | I55: =IF(AND(G55=0,H55=0),"diskval.",IF(AND(G55>0,H55>0),MIN(G55:H55),IF(G55>0,G55,H55))) -> 18.02 | J55: =IF(G55+H55=0,1000,I55+((IF(G55>0,G55,100)+IF(H55>0,H55,100))/100000)) -> 18.02038
A56: 54 | C56: 54 | D56: Čada | E56: Milan | F56: Jihočeský (ČB) | G56: 21.03 | H56: 17.31 | I56: =IF(AND(G56=0,H56=0),"diskval.",IF(AND(G56>0,H56>0),MIN(G56:H56),IF(G56>0,G56,H56))) -> 17.31 | J56: =IF(G56+H56=0,1000,I56+((IF(G56>0,G56,100)+IF(H56>0,H56,100))/100000)) -> 17.310383 | L56: nad 35
A57: 55 | C57: 55 | D57: Pěnča | E57: Ivan | F57: Jihočeský (Strakonice) | G57: 17.53 | H57: 19.62 | I57: =IF(AND(G57=0,H57=0),"diskval.",IF(AND(G57>0,H57>0),MIN(G57:H57),IF(G57>0,G57,H57))) -> 17.53 | J57: =IF(G57+H57=0,1000,I57+((IF(G57>0,G57,100)+IF(H57>0,H57,100))/100000)) -> 17.530372
A58: 56 | C58: 56 | D58: Kováč | E58: Zbyněk | F58: Plzeňský (Domažlice) | G58: 20.89 | H58: 24.44 | I58: =IF(AND(G58=0,H58=0),"diskval.",IF(AND(G58>0,H58>0),MIN(G58:H58),IF(G58>0,G58,H58))) -> 20.89 | J58: =IF(G58+H58=0,1000,I58+((IF(G58>0,G58,100)+IF(H58>0,H58,100))/100000)) -> 20.890453
A59: 57 | C59: 57 | D59: Hradil | E59: Zbyněk | F59: Olomoucký kraj | G59: 19.35 | H59: 17.21 | I59: =IF(AND(G59=0,H59=0),"diskval.",IF(AND(G59>0,H59>0),MIN(G59:H59),IF(G59>0,G59,H59))) -> 17.21 | J59: =IF(G59+H59=0,1000,I59+((IF(G59>0,G59,100)+IF(H59>0,H59,100))/100000)) -> 17.210366 | L59: nad 35
A60: 58 | C60: 58 | D60: Bláha | E60: Petr | F60: Jihočeský (Písek) | G60: 34.17 | H60: 29.62 | I60: =IF(AND(G60=0,H60=0),"diskval.",IF(AND(G60>0,H60>0),MIN(G60:H60),IF(G60>0,G60,H60))) -> 29.62 | J60: =IF(G60+H60=0,1000,I60+((IF(G60>0,G60,100)+IF(H60>0,H60,100))/100000)) -> 29.620638
A61: 59 | C61: 59 | D61: Škodný | E61: Jiří | F61: Hradec Králové | G61: 16.08 | H61: 16.57 | I61: =IF(AND(G61=0,H61=0),"diskval.",IF(AND(G61>0,H61>0),MIN(G61:H61),IF(G61>0,G61,H61))) -> 16.08 | J61: =IF(G61+H61=0,1000,I61+((IF(G61>0,G61,100)+IF(H61>0,H61,100))/100000)) -> 16.080326
A62: 60 | C62: 60 | D62: Vaňač | E62: Aleš | F62: Jihočeský (Strakonice) | G62: 20.96 | H62: 20.97 | I62: =IF(AND(G62=0,H62=0),"diskval.",IF(AND(G62>0,H62>0),MIN(G62:H62),IF(G62>0,G62,H62))) -> 20.96 | J62: =IF(G62+H62=0,1000,I62+((IF(G62>0,G62,100)+IF(H62>0,H62,100))/100000)) -> 20.960419 | L62: nad 35
A63: 61 | C63: 61 | D63: Huml | E63: Ondřej | F63: Jihočeský (Jindřichův Hradec) | G63: 21.86 | H63: 20.62 | I63: =IF(AND(G63=0,H63=0),"diskval.",IF(AND(G63>0,H63>0),MIN(G63:H63),IF(G63>0,G63,H63))) -> 20.62 | J63: =IF(G63+H63=0,1000,I63+((IF(G63>0,G63,100)+IF(H63>0,H63,100))/100000)) -> 20.620425
A64: 62 | C64: 62 | D64: Hrdlička | E64: Jaroslav | F64: Plzeňský (Domažlice) | G64: 18.53 | I64: =IF(AND(G64=0,H64=0),"diskval.",IF(AND(G64>0,H64>0),MIN(G64:H64),IF(G64>0,G64,H64))) -> 18.53 | J64: =IF(G64+H64=0,1000,I64+((IF(G64>0,G64,100)+IF(H64>0,H64,100))/100000)) -> 18.531185 | L64: nad 35
A65: 63 | C65: 63 | D65: Říha | E65: Václav | F65: Středočeský (Kutná Hora) | G65: 17.52 | H65: 16.6 | I65: =IF(AND(G65=0,H65=0),"diskval.",IF(AND(G65>0,H65>0),MIN(G65:H65),IF(G65>0,G65,H65))) -> 16.6 | J65: =IF(G65+H65=0,1000,I65+((IF(G65>0,G65,100)+IF(H65>0,H65,100))/100000)) -> 16.600341
A66: 64 | C66: 64 | D66: Ježek | E66: Jan | F66: Jihočeský (ČB) | G66: 16.43 | H66: 15.98 | I66: =IF(AND(G66=0,H66=0),"diskval.",IF(AND(G66>0,H66>0),MIN(G66:H66),IF(G66>0,G66,H66))) -> 15.98 | J66: =IF(G66+H66=0,1000,I66+((IF(G66>0,G66,100)+IF(H66>0,H66,100))/100000)) -> 15.980324
A67: 65 | C67: 65 | D67: Bělský | E67: Dominik | F67: Královéhradecký (Hradec Králové) | G67: 17.76 | H67: 18.22 | I67: =IF(AND(G67=0,H67=0),"diskval.",IF(AND(G67>0,H67>0),MIN(G67:H67),IF(G67>0,G67,H67))) -> 17.76 | J67: =IF(G67+H67=0,1000,I67+((IF(G67>0,G67,100)+IF(H67>0,H67,100))/100000)) -> 17.76036
A68: 66 | C68: 66 | D68: Stibor | E68: Jiří | F68: Jihočeský (Strakonice) | G68: 25.05 | H68: 23.55 | I68: =IF(AND(G68=0,H68=0),"diskval.",IF(AND(G68>0,H68>0),MIN(G68:H68),IF(G68>0,G68,H68))) -> 23.55 | J68: =IF(G68+H68=0,1000,I68+((IF(G68>0,G68,100)+IF(H68>0,H68,100))/100000)) -> 23.550486
A69: 67 | C69: 67 | D69: Vladislav | E69: Filip | F69: Středočeský (Kolín) | G69: 14.94 | H69: 14.61 | I69: =IF(AND(G69=0,H69=0),"diskval.",IF(AND(G69>0,H69>0),MIN(G69:H69),IF(G69>0,G69,H69))) -> 14.61 | J69: =IF(G69+H69=0,1000,I69+((IF(G69>0,G69,100)+IF(H69>0,H69,100))/100000)) -> 14.610295
A70: 68 | C70: 68 | D70: Hnízdil | E70: Pavel | F70: Vysočina (Třebíč) | G70: 16.84 | H70: 15.31 | I70: =IF(AND(G70=0,H70=0),"diskval.",IF(AND(G70>0,H70>0),MIN(G70:H70),IF(G70>0,G70,H70))) -> 15.31 | J70: =IF(G70+H70=0,1000,I70+((IF(G70>0,G70,100)+IF(H70>0,H70,100))/100000)) -> 15.310322 | L70: jen věž + nad 35
A71: 69 | C71: 69 | D71: Špaček | E71: Michal | F71: Vysočina (Třebíč) | G71: 21.47 | I71: =IF(AND(G71=0,H71=0),"diskval.",IF(AND(G71>0,H71>0),MIN(G71:H71),IF(G71>0,G71,H71))) -> 21.47 | J71: =IF(G71+H71=0,1000,I71+((IF(G71>0,G71,100)+IF(H71>0,H71,100))/100000)) -> 21.471215
A72: 70 | C72: 70 | D72: Kučera | E72: Jan | F72: Jihočeský (Jindřichův Hradec) | G72: 17.84 | H72: 18.94 | I72: =IF(AND(G72=0,H72=0),"diskval.",IF(AND(G72>0,H72>0),MIN(G72:H72),IF(G72>0,G72,H72))) -> 17.84 | J72: =IF(G72+H72=0,1000,I72+((IF(G72>0,G72,100)+IF(H72>0,H72,100))/100000)) -> 17.840368
A73: 71 | C73: 71 | D73: Roháč | E73: Martin | F73: Plzeňský (Plzeň) | G73: 15.85 | H73: 18.34 | I73: =IF(AND(G73=0,H73=0),"diskval.",IF(AND(G73>0,H73>0),MIN(G73:H73),IF(G73>0,G73,H73))) -> 15.85 | J73: =IF(G73+H73=0,1000,I73+((IF(G73>0,G73,100)+IF(H73>0,H73,100))/100000)) -> 15.850342 | L73: nad 35
A74: 72 | C74: 72 | D74: Nechvátal | E74: Radek | F74: Vysočina (Třebíč) | G74: 19.15 | H74: 20.64 | I74: =IF(AND(G74=0,H74=0),"diskval.",IF(AND(G74>0,H74>0),MIN(G74:H74),IF(G74>0,G74,H74))) -> 19.15 | J74: =IF(G74+H74=0,1000,I74+((IF(G74>0,G74,100)+IF(H74>0,H74,100))/100000)) -> 19.150398
A75: 73 | C75: 73 | D75: Suchopár | E75: Jiří | F75: Jihočeský (Strakonice) | G75: 21.2 | H75: 20.49 | I75: =IF(AND(G75=0,H75=0),"diskval.",IF(AND(G75>0,H75>0),MIN(G75:H75),IF(G75>0,G75,H75))) -> 20.49 | J75: =IF(G75+H75=0,1000,I75+((IF(G75>0,G75,100)+IF(H75>0,H75,100))/100000)) -> 20.490417 | L75: jen věž
A76: 74 | C76: 74 | D76: Mareček | E76: Miroslav | F76: Královéhradecký (Trutnov) | I76: =IF(AND(G76=0,H76=0),"diskval.",IF(AND(G76>0,H76>0),MIN(G76:H76),IF(G76>0,G76,H76))) -> diskval. | J76: =IF(G76+H76=0,1000,I76+((IF(G76>0,G76,100)+IF(H76>0,H76,100))/100000)) -> 1000 | L76: jen 100m
A77: 75 | C77: 75 | I77: =IF(AND(G77=0,H77=0),"diskval.",IF(AND(G77>0,H77>0),MIN(G77:H77),IF(G77>0,G77,H77))) -> diskval. | J77: =IF(G77+H77=0,1000,I77+((IF(G77>0,G77,100)+IF(H77>0,H77,100))/100000)) -> 1000 | L77: nad 35
A78: 76 | C78: 76 | I78: =IF(AND(G78=0,H78=0),"diskval.",IF(AND(G78>0,H78>0),MIN(G78:H78),IF(G78>0,G78,H78))) -> diskval. | J78: =IF(G78+H78=0,1000,I78+((IF(G78>0,G78,100)+IF(H78>0,H78,100))/100000)) -> 1000
A79: 77 | C79: 77 | D79: Lidmila | E79: Martin | F79: Královéhradecký (Hradec Králové) | G79: 19.06 | H79: 14.86 | I79: =IF(AND(G79=0,H79=0),"diskval.",IF(AND(G79>0,H79>0),MIN(G79:H79),IF(G79>0,G79,H79))) -> 14.86 | J79: =IF(G79+H79=0,1000,I79+((IF(G79>0,G79,100)+IF(H79>0,H79,100))/100000)) -> 14.860339
A80: 78 | C80: 78 | D80: Netrval | E80: Milan | F80: Plzeňský (Plzeň) | I80: =IF(AND(G80=0,H80=0),"diskval.",IF(AND(G80>0,H80>0),MIN(G80:H80),IF(G80>0,G80,H80))) -> diskval. | J80: =IF(G80+H80=0,1000,I80+((IF(G80>0,G80,100)+IF(H80>0,H80,100))/100000)) -> 1000
A81: 79 | C81: 79 | I81: =IF(AND(G81=0,H81=0),"diskval.",IF(AND(G81>0,H81>0),MIN(G81:H81),IF(G81>0,G81,H81))) -> diskval. | J81: =IF(G81+H81=0,1000,I81+((IF(G81>0,G81,100)+IF(H81>0,H81,100))/100000)) -> 1000
A82: 80 | C82: 80 | I82: =IF(AND(G82=0,H82=0),"diskval.",IF(AND(G82>0,H82>0),MIN(G82:H82),IF(G82>0,G82,H82))) -> diskval. | J82: =IF(G82+H82=0,1000,I82+((IF(G82>0,G82,100)+IF(H82>0,H82,100))/100000)) -> 1000
A83: 81 | C83: 81 | I83: =IF(AND(G83=0,H83=0),"diskval.",IF(AND(G83>0,H83>0),MIN(G83:H83),IF(G83>0,G83,H83))) -> diskval. | J83: =IF(G83+H83=0,1000,I83+((IF(G83>0,G83,100)+IF(H83>0,H83,100))/100000)) -> 1000
A84: 82 | C84: 82 | I84: =IF(AND(G84=0,H84=0),"diskval.",IF(AND(G84>0,H84>0),MIN(G84:H84),IF(G84>0,G84,H84))) -> diskval. | J84: =IF(G84+H84=0,1000,I84+((IF(G84>0,G84,100)+IF(H84>0,H84,100))/100000)) -> 1000
A85: 83 | C85: 83 | I85: =IF(AND(G85=0,H85=0),"diskval.",IF(AND(G85>0,H85>0),MIN(G85:H85),IF(G85>0,G85,H85))) -> diskval. | J85: =IF(G85+H85=0,1000,I85+((IF(G85>0,G85,100)+IF(H85>0,H85,100))/100000)) -> 1000
A86: 84 | C86: 84 | I86: =IF(AND(G86=0,H86=0),"diskval.",IF(AND(G86>0,H86>0),MIN(G86:H86),IF(G86>0,G86,H86))) -> diskval. | J86: =IF(G86+H86=0,1000,I86+((IF(G86>0,G86,100)+IF(H86>0,H86,100))/100000)) -> 1000
A87: 85 | C87: 85 | I87: =IF(AND(G87=0,H87=0),"diskval.",IF(AND(G87>0,H87>0),MIN(G87:H87),IF(G87>0,G87,H87))) -> diskval. | J87: =IF(G87+H87=0,1000,I87+((IF(G87>0,G87,100)+IF(H87>0,H87,100))/100000)) -> 1000
A88: 86 | C88: 86 | I88: =IF(AND(G88=0,H88=0),"diskval.",IF(AND(G88>0,H88>0),MIN(G88:H88),IF(G88>0,G88,H88))) -> diskval. | J88: =IF(G88+H88=0,1000,I88+((IF(G88>0,G88,100)+IF(H88>0,H88,100))/100000)) -> 1000
A89: 87 | C89: 87 | I89: =IF(AND(G89=0,H89=0),"diskval.",IF(AND(G89>0,H89>0),MIN(G89:H89),IF(G89>0,G89,H89))) -> diskval. | J89: =IF(G89+H89=0,1000,I89+((IF(G89>0,G89,100)+IF(H89>0,H89,100))/100000)) -> 1000
A90: 88 | C90: 88 | I90: =IF(AND(G90=0,H90=0),"diskval.",IF(AND(G90>0,H90>0),MIN(G90:H90),IF(G90>0,G90,H90))) -> diskval. | J90: =IF(G90+H90=0,1000,I90+((IF(G90>0,G90,100)+IF(H90>0,H90,100))/100000)) -> 1000
A91: 89 | C91: 89 | I91: =IF(AND(G91=0,H91=0),"diskval.",IF(AND(G91>0,H91>0),MIN(G91:H91),IF(G91>0,G91,H91))) -> diskval. | J91: =IF(G91+H91=0,1000,I91+((IF(G91>0,G91,100)+IF(H91>0,H91,100))/100000)) -> 1000
A92: 90 | C92: 90 | I92: =IF(AND(G92=0,H92=0),"diskval.",IF(AND(G92>0,H92>0),MIN(G92:H92),IF(G92>0,G92,H92))) -> diskval. | J92: =IF(G92+H92=0,1000,I92+((IF(G92>0,G92,100)+IF(H92>0,H92,100))/100000)) -> 1000
... A152: 150 | C152: 150 | I152: =IF(AND(G152=0,H152=0),"diskval.",IF(AND(G152>0,H152>0),MIN(G152:H152),IF(G152>0,G152,H152))) -> diskval. | J152: =IF(G152+H152=0,1000,I152+((IF(G152>0,G152,100)+IF(H152>0,H152,100))/100000)) -> 1000

Sheet Dvojboj
C1: Výsledková listina dvojboj Memoriál plk. JUDR Josefa Blažka 2.6. 2022
A2: Pořadí | C2: Start. č. | D2: Příjmení | E2: Jméno | F2: započ. čas věž | G2: započ. čas 100m | H2: čas dvojboj | I2: horší pok. věž | J2: horší pok. 100m | K2: elimin. stejného pořadí | N2: Listy 100M A VĚŽE MUSÍ BÝT SEŘAZENY PODLE STARTOVNÍCH ČÍSEL
A3: 1 | C3: 16 | D3: Kligl | E3: Patrik | F3: 14.42 | G3: 16.85 | H3: =IF(OR(F3="diskval.",G3="diskval."),"diskval.",F3+G3) -> 31.27 | I3: =IF(OR(věže!G18=0,věže!H18=0),100,MAX(věže!G18:H18)) -> 15.62 | J3: =IF(OR('100m'!G18=0,'100m'!H18=0),100,MAX('100m'!G18:H18)) -> 100 | K3: =IF(H3="diskval.",1000,H3+((IF(I3>0,I3,100)+IF(J3>0,J3,100))/100000)) -> 31.271156
A4: 2 | C4: 67 | D4: Vladislav | E4: Filip | F4: 14.61 | G4: 17.43 | H4: =IF(OR(F4="diskval.",G4="diskval."),"diskval.",F4+G4) -> 32.04 | I4: =IF(OR(věže!G69=0,věže!H69=0),100,MAX(věže!G69:H69)) -> 14.94 | J4: =IF(OR('100m'!G69=0,'100m'!H69=0),100,MAX('100m'!G69:H69)) -> 100 | K4: =IF(H4="diskval.",1000,H4+((IF(I4>0,I4,100)+IF(J4>0,J4,100))/100000)) -> 32.041149
A5: 3 | C5: 38 | D5: Klenka | E5: Vojtěch | F5: 16.53 | G5: 15.79 | H5: =IF(OR(F5="diskval.",G5="diskval."),"diskval.",F5+G5) -> 32.32 | I5: =IF(OR(věže!G40=0,věže!H40=0),100,MAX(věže!G40:H40)) -> 21.27 | J5: =IF(OR('100m'!G40=0,'100m'!H40=0),100,MAX('100m'!G40:H40)) -> 16.04 | K5: =IF(H5="diskval.",1000,H5+((IF(I5>0,I5,100)+IF(J5>0,J5,100))/100000)) -> 32.320373
A6: 4 | C6: 44 | D6: Hons | E6: Lukáš | F6: 15.17 | G6: 17.66 | H6: =IF(OR(F6="diskval.",G6="diskval."),"diskval.",F6+G6) -> 32.83 | I6: =IF(OR(věže!G46=0,věže!H46=0),100,MAX(věže!G46:H46)) -> 15.49 | J6: =IF(OR('100m'!G46=0,'100m'!H46=0),100,MAX('100m'!G46:H46)) -> 19.96 | K6: =IF(H6="diskval.",1000,H6+((IF(I6>0,I6,100)+IF(J6>0,J6,100))/100000)) -> 32.830354
A7: 5 | C7: 11 | D7: Paulíček | E7: Jakub | F7: 16.38 | G7: 16.74 | H7: =IF(OR(F7="diskval.",G7="diskval."),"diskval.",F7+G7) -> 33.12 | I7: =IF(OR(věže!G13=0,věže!H13=0),100,MAX(věže!G13:H13)) -> 100 | J7: =IF(OR('100m'!G13=0,'100m'!H13=0),100,MAX('100m'!G13:H13)) -> 17.15 | K7: =IF(H7="diskval.",1000,H7+((IF(I7>0,I7,100)+IF(J7>0,J7,100))/100000)) -> 33.121171
A8: 6 | C8: 4 | D8: Soukup | E8: Dominik | F8: 16.43 | G8: 16.76 | H8: =IF(OR(F8="diskval.",G8="diskval."),"diskval.",F8+G8) -> 33.19 | I8: =IF(OR(věže!G6=0,věže!H6=0),100,MAX(věže!G6:H6)) -> 18.01 | J8: =IF(OR('100m'!G6=0,'100m'!H6=0),100,MAX('100m'!G6:H6)) -> 17.07 | K8: =IF(H8="diskval.",1000,H8+((IF(I8>0,I8,100)+IF(J8>0,J8,100))/100000)) -> 33.190351
A9: 7 | C9: 26 | D9: Hladík | E9: Stanislav | F9: 15.92 | G9: 17.55 | H9: =IF(OR(F9="diskval.",G9="diskval."),"diskval.",F9+G9) -> 33.47 | I9: =IF(OR(věže!G28=0,věže!H28=0),100,MAX(věže!G28:H28)) -> 16.81 | J9: =IF(OR('100m'!G28=0,'100m'!H28=0),100,MAX('100m'!G28:H28)) -> 100 | K9: =IF(H9="diskval.",1000,H9+((IF(I9>0,I9,100)+IF(J9>0,J9,100))/100000)) -> 33.471168
A10: 8 | C10: 71 | D10: Roháč | E10: Martin (nad 35let) | F10: 15.85 | G10: 17.69 | H10: =IF(OR(F10="diskval.",G10="diskval."),"diskval.",F10+G10) -> 33.54 | I10: =IF(OR(věže!G73=0,věže!H73=0),100,MAX(věže!G73:H73)) -> 18.34 | J10: =IF(OR('100m'!G73=0,'100m'!H73=0),100,MAX('100m'!G73:H73)) -> 100 | K10: =IF(H10="diskval.",1000,H10+((IF(I10>0,I10,100)+IF(J10>0,J10,100))/100000)) -> 33.541183
A11: 9 | C11: 43 | D11: Ježek | E11: Miloš | F11: 16.33 | G11: 17.43 | H11: =IF(OR(F11="diskval.",G11="diskval."),"diskval.",F11+G11) -> 33.76 | I11: =IF(OR(věže!G45=0,věže!H45=0),100,MAX(věže!G45:H45)) -> 16.47 | J11: =IF(OR('100m'!G45=0,'100m'!H45=0),100,MAX('100m'!G45:H45)) -> 17.55 | K11: =IF(H11="diskval.",1000,H11+((IF(I11>0,I11,100)+IF(J11>0,J11,100))/100000)) -> 33.76034
A12: 10 | C12: 37 | D12: Janko | E12: Vladimír (nad 35let) | F12: 15.57 | G12: 18.42 | H12: =IF(OR(F12="diskval.",G12="diskval."),"diskval.",F12+G12) -> 33.99 | I12: =IF(OR(věže!G39=0,věže!H39=0),100,MAX(věže!G39:H39)) -> 15.76 | J12: =IF(OR('100m'!G39=0,'100m'!H39=0),100,MAX('100m'!G39:H39)) -> 18.68 | K12: =IF(H12="diskval.",1000,H12+((IF(I12>0,I12,100)+IF(J12>0,J12,100))/100000)) -> 33.990344
A13: 11 | C13: 33 | D13: Hůla | E13: Jan (nad 35let) | F13: 15.74 | G13: 18.25 | H13: =IF(OR(F13="diskval.",G13="diskval."),"diskval.",F13+G13) -> 33.99 | I13: =IF(OR(věže!G35=0,věže!H35=0),100,MAX(věže!G35:H35)) -> 15.79 | J13: =IF(OR('100m'!G35=0,'100m'!H35=0),100,MAX('100m'!G35:H35)) -> 100 | K13: =IF(H13="diskval.",1000,H13+((IF(I13>0,I13,100)+IF(J13>0,J13,100))/100000)) -> 33.991158
A14: 12 | C14: 31 | D14: Bašta | E14: Vojtěch | F14: 16.3 | G14: 18.43 | H14: =IF(OR(F14="diskval.",G14="diskval."),"diskval.",F14+G14) -> 34.73 | I14: =IF(OR(věže!G33=0,věže!H33=0),100,MAX(věže!G33:H33)) -> 16.76 | J14: =IF(OR('100m'!G33=0,'100m'!H33=0),100,MAX('100m'!G33:H33)) -> 18.5 | K14: =IF(H14="diskval.",1000,H14+((IF(I14>0,I14,100)+IF(J14>0,J14,100))/100000)) -> 34.730353
A15: 13 | C15: 15 | D15: Daněk | E15: Tomáš | F15: 15.55 | G15: 19.2 | H15: =IF(OR(F15="diskval.",G15="diskval."),"diskval.",F15+G15) -> 34.75 | I15: =IF(OR(věže!G17=0,věže!H17=0),100,MAX(věže!G17:H17)) -> 18.75 | J15: =IF(OR('100m'!G17=0,'100m'!H17=0),100,MAX('100m'!G17:H17)) -> 100 | K15: =IF(H15="diskval.",1000,H15+((IF(I15>0,I15,100)+IF(J15>0,J15,100))/100000)) -> 34.751188
A16: 14 | C16: 12 | D16: Fryč | E16: Tomáš | F16: 17 | G16: 17.93 | H16: =IF(OR(F16="diskval.",G16="diskval."),"diskval.",F16+G16) -> 34.93 | I16: =IF(OR(věže!G14=0,věže!H14=0),100,MAX(věže!G14:H14)) -> 17.04 | J16: =IF(OR('100m'!G14=0,'100m'!H14=0),100,MAX('100m'!G14:H14)) -> 20.43 | K16: =IF(H16="diskval.",1000,H16+((IF(I16>0,I16,100)+IF(J16>0,J16,100))/100000)) -> 34.930375
A17: 15 | C17: 9 | D17: Jirout | E17: Patrik | F17: 16.26 | G17: 18.78 | H17: =IF(OR(F17="diskval.",G17="diskval."),"diskval.",F17+G17) -> 35.04 | I17: =IF(OR(věže!G11=0,věže!H11=0),100,MAX(věže!G11:H11)) -> 16.96 | J17: =IF(OR('100m'!G11=0,'100m'!H11=0),100,MAX('100m'!G11:H11)) -> 19.72 | K17: =IF(H17="diskval.",1000,H17+((IF(I17>0,I17,100)+IF(J17>0,J17,100))/100000)) -> 35.040367
A18: 16 | C18: 21 | D18: Žižka | E18: Patrik | F18: 16.84 | G18: 18.27 | H18: =IF(OR(F18="diskval.",G18="diskval."),"diskval.",F18+G18) -> 35.11 | I18: =IF(OR(věže!G23=0,věže!H23=0),100,MAX(věže!G23:H23)) -> 100 | J18: =IF(OR('100m'!G23=0,'100m'!H23=0),100,MAX('100m'!G23:H23)) -> 25.01 | K18: =IF(H18="diskval.",1000,H18+((IF(I18>0,I18,100)+IF(J18>0,J18,100))/100000)) -> 35.11125
A19: 17 | C19: 64 | D19: Ježek | E19: Jan | F19: 15.98 | G19: 19.18 | H19: =IF(OR(F19="diskval.",G19="diskval."),"diskval.",F19+G19) -> 35.16 | I19: =IF(OR(věže!G66=0,věže!H66=0),100,MAX(věže!G66:H66)) -> 16.43 | J19: =IF(OR('100m'!G66=0,'100m'!H66=0),100,MAX('100m'!G66:H66)) -> 19.34 | K19: =IF(H19="diskval.",1000,H19+((IF(I19>0,I19,100)+IF(J19>0,J19,100))/100000)) -> 35.160358
A20: 18 | C20: 55 | D20: Pěnča | E20: Ivan | F20: 17.53 | G20: 17.67 | H20: =IF(OR(F20="diskval.",G20="diskval."),"diskval.",F20+G20) -> 35.2 | I20: =IF(OR(věže!G57=0,věže!H57=0),100,MAX(věže!G57:H57)) -> 19.62 | J20: =IF(OR('100m'!G57=0,'100m'!H57=0),100,MAX('100m'!G57:H57)) -> 18.43 | K20: =IF(H20="diskval.",1000,H20+((IF(I20>0,I20,100)+IF(J20>0,J20,100))/100000)) -> 35.200381
A21: 19 | C21: 65 | D21: Bělský | E21: Dominik | F21: 17.76 | G21: 17.67 | H21: =IF(OR(F21="diskval.",G21="diskval."),"diskval.",F21+G21) -> 35.43 | I21: =IF(OR(věže!G67=0,věže!H67=0),100,MAX(věže!G67:H67)) -> 18.22 | J21: =IF(OR('100m'!G67=0,'100m'!H67=0),100,MAX('100m'!G67:H67)) -> 100 | K21: =IF(H21="diskval.",1000,H21+((IF(I21>0,I21,100)+IF(J21>0,J21,100))/100000)) -> 35.431182
A22: 20 | C22: 63 | D22: Říha | E22: Václav | F22: 16.6 | G22: 18.97 | H22: =IF(OR(F22="diskval.",G22="diskval."),"diskval.",F22+G22) -> 35.57 | I22: =IF(OR(věže!G65=0,věže!H65=0),100,MAX(věže!G65:H65)) -> 17.52 | J22: =IF(OR('100m'!G65=0,'100m'!H65=0),100,MAX('100m'!G65:H65)) -> 19.85 | K22: =IF(H22="diskval.",1000,H22+((IF(I22>0,I22,100)+IF(J22>0,J22,100))/100000)) -> 35.570374
A23: 21 | C23: 18 | D23: Caha | E23: Martin | F23: 17.33 | G23: 18.24 | H23: =IF(OR(F23="diskval.",G23="diskval."),"diskval.",F23+G23) -> 35.57 | I23: =IF(OR(věže!G20=0,věže!H20=0),100,MAX(věže!G20:H20)) -> 17.82 | J23: =IF(OR('100m'!G20=0,'100m'!H20=0),100,MAX('100m'!G20:H20)) -> 100 | K23: =IF(H23="diskval.",1000,H23+((IF(I23>0,I23,100)+IF(J23>0,J23,100))/100000)) -> 35.571178
A24: 22 | C24: 14 | D24: Viktora | E24: Martin | F24: 15.88 | G24: 19.86 | H24: =IF(OR(F24="diskval.",G24="diskval."),"diskval.",F24+G24) -> 35.74 | I24: =IF(OR(věže!G16=0,věže!H16=0),100,MAX(věže!G16:H16)) -> 15.92 | J24: =IF(OR('100m'!G16=0,'100m'!H16=0),100,MAX('100m'!G16:H16)) -> 100 | K24: =IF(H24="diskval.",1000,H24+((IF(I24>0,I24,100)+IF(J24>0,J24,100))/100000)) -> 35.741159
A25: 23 | C25: 36 | D25: Němec | E25: Patrik | F25: 17.1 | G25: 18.96 | H25: =IF(OR(F25="diskval.",G25="diskval."),"diskval.",F25+G25) -> 36.06 | I25: =IF(OR(věže!G38=0,věže!H38=0),100,MAX(věže!G38:H38)) -> 17.72 | J25: =IF(OR('100m'!G38=0,'100m'!H38=0),100,MAX('100m'!G38:H38)) -> 19.24 | K25: =IF(H25="diskval.",1000,H25+((IF(I25>0,I25,100)+IF(J25>0,J25,100))/100000)) -> 36.06037
A26: 24 | C26: 13 | D26: Tomášek | E26: Jan | F26: 18.13 | G26: 18.26 | H26: =IF(OR(F26="diskval.",G26="diskval."),"diskval.",F26+G26) -> 36.39 | I26: =IF(OR(věže!G15=0,věže!H15=0),100,MAX(věže!G15:H15)) -> 19.52 | J26: =IF(OR('100m'!G15=0,'100m'!H15=0),100,MAX('100m'!G15:H15)) -> 25.19 | K26: =IF(H26="diskval.",1000,H26+((IF(I26>0,I26,100)+IF(J26>0,J26,100))/100000)) -> 36.390447
A27: 25 | C27: 70 | D27: Kučera | E27: Jan | F27: 17.84 | G27: 18.76 | H27: =IF(OR(F27="diskval.",G27="diskval."),"diskval.",F27+G27) -> 36.6 | I27: =IF(OR(věže!G72=0,věže!H72=0),100,MAX(věže!G72:H72)) -> 18.94 | J27: =IF(OR('100m'!G72=0,'100m'!H72=0),100,MAX('100m'!G72:H72)) -> 18.83 | K27: =IF(H27="diskval.",1000,H27+((IF(I27>0,I27,100)+IF(J27>0,J27,100))/100000)) -> 36.600378
A28: 26 | C28: 72 | D28: Nechvátal | E28: Radek | F28: 19.15 | G28: 17.45 | H28: =IF(OR(F28="diskval.",G28="diskval."),"diskval.",F28+G28) -> 36.6 | I28: =IF(OR(věže!G74=0,věže!H74=0),100,MAX(věže!G74:H74)) -> 20.64 | J28: =IF(OR('100m'!G74=0,'100m'!H74=0),100,MAX('100m'!G74:H74)) -> 100 | K28: =IF(H28="diskval.",1000,H28+((IF(I28>0,I28,100)+IF(J28>0,J28,100))/100000)) -> 36.601206
A29: 27 | C29: 39 | D29: Hájek | E29: David | F29: 18.95 | G29: 17.67 | H29: =IF(OR(F29="diskval.",G29="diskval."),"diskval.",F29+G29) -> 36.62 | I29: =IF(OR(věže!G41=0,věže!H41=0),100,MAX(věže!G41:H41)) -> 100 | J29: =IF(OR('100m'!G41=0,'100m'!H41=0),100,MAX('100m'!G41:H41)) -> 100 | K29: =IF(H29="diskval.",1000,H29+((IF(I29>0,I29,100)+IF(J29>0,J29,100))/100000)) -> 36.622
A30: 28 | C30: 29 | D30: Kasal | E30: Jakub | F30: 19.45 | G30: 17.35 | H30: =IF(OR(F30="diskval.",G30="diskval."),"diskval.",F30+G30) -> 36.8 | I30: =IF(OR(věže!G31=0,věže!H31=0),100,MAX(věže!G31:H31)) -> 100 | J30: =IF(OR('100m'!G31=0,'100m'!H31=0),100,MAX('100m'!G31:H31)) -> 100 | K30: =IF(H30="diskval.",1000,H30+((IF(I30>0,I30,100)+IF(J30>0,J30,100))/100000)) -> 36.802
A31: 29 | C31: 54 | D31: Čada | E31: Milan (nad 35 let) | F31: 17.31 | G31: 19.84 | H31: =IF(OR(F31="diskval.",G31="diskval."),"diskval.",F31+G31) -> 37.15 | I31: =IF(OR(věže!G56=0,věže!H56=0),100,MAX(věže!G56:H56)) -> 21.03 | J31: =IF(OR('100m'!G56=0,'100m'!H56=0),100,MAX('100m'!G56:H56)) -> 20.33 | K31: =IF(H31="diskval.",1000,H31+((IF(I31>0,I31,100)+IF(J31>0,J31,100))/100000)) -> 37.150414
A32: 30 | C32: 41 | D32: Janů | E32: Pavel | F32: 17.71 | G32: 19.45 | H32: =IF(OR(F32="diskval.",G32="diskval."),"diskval.",F32+G32) -> 37.16 | I32: =IF(OR(věže!G43=0,věže!H43=0),100,MAX(věže!G43:H43)) -> 17.73 | J32: =IF(OR('100m'!G43=0,'100m'!H43=0),100,MAX('100m'!G43:H43)) -> 24.32 | K32: =IF(H32="diskval.",1000,H32+((IF(I32>0,I32,100)+IF(J32>0,J32,100))/100000)) -> 37.16042
A33: 31 | C33: 7 | D33: Smutný | E33: Martin | F33: 18.37 | G33: 19.19 | H33: =IF(OR(F33="diskval.",G33="diskval."),"diskval.",F33+G33) -> 37.56 | I33: =IF(OR(věže!G9=0,věže!H9=0),100,MAX(věže!G9:H9)) -> 22.42 | J33: =IF(OR('100m'!G9=0,'100m'!H9=0),100,MAX('100m'!G9:H9)) -> 100 | K33: =IF(H33="diskval.",1000,H33+((IF(I33>0,I33,100)+IF(J33>0,J33,100))/100000)) -> 37.561224
A34: 32 | C34: 47 | D34: Měřička | E34: Michal | F34: 17.53 | G34: 20.07 | H34: =IF(OR(F34="diskval.",G34="diskval."),"diskval.",F34+G34) -> 37.6 | I34: =IF(OR(věže!G49=0,věže!H49=0),100,MAX(věže!G49:H49)) -> 20.79 | J34: =IF(OR('100m'!G49=0,'100m'!H49=0),100,MAX('100m'!G49:H49)) -> 100 | K34: =IF(H34="diskval.",1000,H34+((IF(I34>0,I34,100)+IF(J34>0,J34,100))/100000)) -> 37.601208
A35: 33 | C35: 27 | D35: Šmíd | E35: Stanislav | F35: 17.34 | G35: 20.81 | H35: =IF(OR(F35="diskval.",G35="diskval."),"diskval.",F35+G35) -> 38.15 | I35: =IF(OR(věže!G29=0,věže!H29=0),100,MAX(věže!G29:H29)) -> 17.43 | J35: =IF(OR('100m'!G29=0,'100m'!H29=0),100,MAX('100m'!G29:H29)) -> 100 | K35: =IF(H35="diskval.",1000,H35+((IF(I35>0,I35,100)+IF(J35>0,J35,100))/100000)) -> 38.151174
A36: 34 | C36: 45 | D36: Šváb | E36: Jan | F36: 21.24 | G36: 17.01 | H36: =IF(OR(F36="diskval.",G36="diskval."),"diskval.",F36+G36) -> 38.25 | I36: =IF(OR(věže!G47=0,věže!H47=0),100,MAX(věže!G47:H47)) -> 100 | J36: =IF(OR('100m'!G47=0,'100m'!H47=0),100,MAX('100m'!G47:H47)) -> 17.45 | K36: =IF(H36="diskval.",1000,H36+((IF(I36>0,I36,100)+IF(J36>0,J36,100))/100000)) -> 38.251174
A37: 35 | C37: 62 | D37: Hrdlička | E37: Jaroslav (nad 35let) | F37: 18.53 | G37: 19.99 | H37: =IF(OR(F37="diskval.",G37="diskval."),"diskval.",F37+G37) -> 38.52 | I37: =IF(OR(věže!G64=0,věže!H64=0),100,MAX(věže!G64:H64)) -> 100 | J37: =IF(OR('100m'!G64=0,'100m'!H64=0),100,MAX('100m'!G64:H64)) -> 20.67 | K37: =IF(H37="diskval.",1000,H37+((IF(I37>0,I37,100)+IF(J37>0,J37,100))/100000)) -> 38.521207
A38: 36 | C38: 52 | D38: Zouhar | E38: Jaroslav | F38: 17.78 | G38: 20.93 | H38: =IF(OR(F38="diskval.",G38="diskval."),"diskval.",F38+G38) -> 38.71 | I38: =IF(OR(věže!G54=0,věže!H54=0),100,MAX(věže!G54:H54)) -> 19.69 | J38: =IF(OR('100m'!G54=0,'100m'!H54=0),100,MAX('100m'!G54:H54)) -> 22.75 | K38: =IF(H38="diskval.",1000,H38+((IF(I38>0,I38,100)+IF(J38>0,J38,100))/100000)) -> 38.710424
A39: 37 | C39: 69 | D39: Špaček | E39: Michal | F39: 21.47 | G39: 17.27 | H39: =IF(OR(F39="diskval.",G39="diskval."),"diskval.",F39+G39) -> 38.74 | I39: =IF(OR(věže!G71=0,věže!H71=0),100,MAX(věže!G71:H71)) -> 100 | J39: =IF(OR('100m'!G71=0,'100m'!H71=0),100,MAX('100m'!G71:H71)) -> 100 | K39: =IF(H39="diskval.",1000,H39+((IF(I39>0,I39,100)+IF(J39>0,J39,100))/100000)) -> 38.742
A40: 38 | C40: 22 | D40: Šenkýř | E40: Marek | F40: 19.7 | G40: 19.08 | H40: =IF(OR(F40="diskval.",G40="diskval."),"diskval.",F40+G40) -> 38.78 | I40: =IF(OR(věže!G24=0,věže!H24=0),100,MAX(věže!G24:H24)) -> 20.69 | J40: =IF(OR('100m'!G24=0,'100m'!H24=0),100,MAX('100m'!G24:H24)) -> 20.33 | K40: =IF(H40="diskval.",1000,H40+((IF(I40>0,I40,100)+IF(J40>0,J40,100))/100000)) -> 38.78041
A41: 39 | C41: 34 | D41: Hladil | E41: Vojtěch | F41: 18.35 | G41: 20.66 | H41: =IF(OR(F41="diskval.",G41="diskval."),"diskval.",F41+G41) -> 39.01 | I41: =IF(OR(věže!G36=0,věže!H36=0),100,MAX(věže!G36:H36)) -> 21.84 | J41: =IF(OR('100m'!G36=0,'100m'!H36=0),100,MAX('100m'!G36:H36)) -> 21.94 | K41: =IF(H41="diskval.",1000,H41+((IF(I41>0,I41,100)+IF(J41>0,J41,100))/100000)) -> 39.010438
A42: 40 | C42: 49 | D42: Senohrábek | E42: Bojislav | F42: 21.46 | G42: 17.98 | H42: =IF(OR(F42="diskval.",G42="diskval."),"diskval.",F42+G42) -> 39.44 | I42: =IF(OR(věže!G51=0,věže!H51=0),100,MAX(věže!G51:H51)) -> 21.87 | J42: =IF(OR('100m'!G51=0,'100m'!H51=0),100,MAX('100m'!G51:H51)) -> 19.13 | K42: =IF(H42="diskval.",1000,H42+((IF(I42>0,I42,100)+IF(J42>0,J42,100))/100000)) -> 39.44041
A43: 41 | C43: 53 | D43: Pokruta | E43: Jakub | F43: 18.02 | G43: 22.07 | H43: =IF(OR(F43="diskval.",G43="diskval."),"diskval.",F43+G43) -> 40.09 | I43: =IF(OR(věže!G55=0,věže!H55=0),100,MAX(věže!G55:H55)) -> 19.98 | J43: =IF(OR('100m'!G55=0,'100m'!H55=0),100,MAX('100m'!G55:H55)) -> 26.38 | K43: =IF(H43="diskval.",1000,H43+((IF(I43>0,I43,100)+IF(J43>0,J43,100))/100000)) -> 40.090464
A44: 42 | C44: 42 | D44: Picmaus | E44: Milan | F44: 20.89 | G44: 19.24 | H44: =IF(OR(F44="diskval.",G44="diskval."),"diskval.",F44+G44) -> 40.13 | I44: =IF(OR(věže!G44=0,věže!H44=0),100,MAX(věže!G44:H44)) -> 26.18 | J44: =IF(OR('100m'!G44=0,'100m'!H44=0),100,MAX('100m'!G44:H44)) -> 22.64 | K44: =IF(H44="diskval.",1000,H44+((IF(I44>0,I44,100)+IF(J44>0,J44,100))/100000)) -> 40.130488
A45: 43 | C45: 61 | D45: Huml | E45: Ondřej | F45: 20.62 | G45: 19.57 | H45: =IF(OR(F45="diskval.",G45="diskval."),"diskval.",F45+G45) -> 40.19 | I45: =IF(OR(věže!G63=0,věže!H63=0),100,MAX(věže!G63:H63)) -> 21.86 | J45: =IF(OR('100m'!G63=0,'100m'!H63=0),100,MAX('100m'!G63:H63)) -> 19.86 | K45: =IF(H45="diskval.",1000,H45+((IF(I45>0,I45,100)+IF(J45>0,J45,100))/100000)) -> 40.190417
A46: 44 | C46: 59 | D46: Škodný | E46: Jiří | F46: 16.08 | G46: 24.46 | H46: =IF(OR(F46="diskval.",G46="diskval."),"diskval.",F46+G46) -> 40.54 | I46: =IF(OR(věže!G61=0,věže!H61=0),100,MAX(věže!G61:H61)) -> 16.57 | J46: =IF(OR('100m'!G61=0,'100m'!H61=0),100,MAX('100m'!G61:H61)) -> 100 | K46: =IF(H46="diskval.",1000,H46+((IF(I46>0,I46,100)+IF(J46>0,J46,100))/100000)) -> 40.541166
A47: 45 | C47: 56 | D47: Kováč | E47: Zbyněk | F47: 20.89 | G47: 19.87 | H47: =IF(OR(F47="diskval.",G47="diskval."),"diskval.",F47+G47) -> 40.76 | I47: =IF(OR(věže!G58=0,věže!H58=0),100,MAX(věže!G58:H58)) -> 24.44 | J47: =IF(OR('100m'!G58=0,'100m'!H58=0),100,MAX('100m'!G58:H58)) -> 24.26 | K47: =IF(H47="diskval.",1000,H47+((IF(I47>0,I47,100)+IF(J47>0,J47,100))/100000)) -> 40.760487
A48: 46 | C48: 25 | D48: Krygar | E48: Josef | F48: 18.35 | G48: 22.46 | H48: =IF(OR(F48="diskval.",G48="diskval."),"diskval.",F48+G48) -> 40.81 | I48: =IF(OR(věže!G27=0,věže!H27=0),100,MAX(věže!G27:H27)) -> 19.37 | J48: =IF(OR('100m'!G27=0,'100m'!H27=0),100,MAX('100m'!G27:H27)) -> 100 | K48: =IF(H48="diskval.",1000,H48+((IF(I48>0,I48,100)+IF(J48>0,J48,100))/100000)) -> 40.811194
A49: 47 | C49: 6 | D49: Plíhal | E49: Jiří | F49: 22.39 | G49: 18.52 | H49: =IF(OR(F49="diskval.",G49="diskval."),"diskval.",F49+G49) -> 40.91 | I49: =IF(OR(věže!G8=0,věže!H8=0),100,MAX(věže!G8:H8)) -> 100 | J49: =IF(OR('100m'!G8=0,'100m'!H8=0),100,MAX('100m'!G8:H8)) -> 18.91 | K49: =IF(H49="diskval.",1000,H49+((IF(I49>0,I49,100)+IF(J49>0,J49,100))/100000)) -> 40.911189
A50: 48 | C50: 20 | D50: Motejzík | E50: Martin | F50: 20.69 | G50: 20.34 | H50: =IF(OR(F50="diskval.",G50="diskval."),"diskval.",F50+G50) -> 41.03 | I50: =IF(OR(věže!G22=0,věže!H22=0),100,MAX(věže!G22:H22)) -> 100 | J50: =IF(OR('100m'!G22=0,'100m'!H22=0),100,MAX('100m'!G22:H22)) -> 25.46 | K50: =IF(H50="diskval.",1000,H50+((IF(I50>0,I50,100)+IF(J50>0,J50,100))/100000)) -> 41.031255
A51: 49 | C51: 48 | D51: Janů | E51: František | F51: 21.84 | G51: 20.48 | H51: =IF(OR(F51="diskval.",G51="diskval."),"diskval.",F51+G51) -> 42.32 | I51: =IF(OR(věže!G50=0,věže!H50=0),100,MAX(věže!G50:H50)) -> 22.25 | J51: =IF(OR('100m'!G50=0,'100m'!H50=0),100,MAX('100m'!G50:H50)) -> 100 | K51: =IF(H51="diskval.",1000,H51+((IF(I51>0,I51,100)+IF(J51>0,J51,100))/100000)) -> 42.321222
A52: 50 | C52: 60 | D52: Vaňač | E52: Aleš (nad 35let) | F52: 20.96 | G52: 21.57 | H52: =IF(OR(F52="diskval.",G52="diskval."),"diskval.",F52+G52) -> 42.53 | I52: =IF(OR(věže!G62=0,věže!H62=0),100,MAX(věže!G62:H62)) -> 20.97 | J52: =IF(OR('100m'!G62=0,'100m'!H62=0),100,MAX('100m'!G62:H62)) -> 21.73 | K52: =IF(H52="diskval.",1000,H52+((IF(I52>0,I52,100)+IF(J52>0,J52,100))/100000)) -> 42.530427
A53: 51 | C53: 19 | D53: Balog | E53: Jiří | F53: 22.27 | G53: 21.87 | H53: =IF(OR(F53="diskval.",G53="diskval."),"diskval.",F53+G53) -> 44.14 | I53: =IF(OR(věže!G21=0,věže!H21=0),100,MAX(věže!G21:H21)) -> 24.87 | J53: =IF(OR('100m'!G21=0,'100m'!H21=0),100,MAX('100m'!G21:H21)) -> 23.75 | K53: =IF(H53="diskval.",1000,H53+((IF(I53>0,I53,100)+IF(J53>0,J53,100))/100000)) -> 44.140486
A54: 52 | C54: 35 | D54: Paulíček | E54: Stanislav | F54: 16.05 | G54: 28.1 | H54: =IF(OR(F54="diskval.",G54="diskval."),"diskval.",F54+G54) -> 44.15 | I54: =IF(OR(věže!G37=0,věže!H37=0),100,MAX(věže!G37:H37)) -> 16.2 | J54: =IF(OR('100m'!G37=0,'100m'!H37=0),100,MAX('100m'!G37:H37)) -> 100 | K54: =IF(H54="diskval.",1000,H54+((IF(I54>0,I54,100)+IF(J54>0,J54,100))/100000)) -> 44.151162
A55: 53 | C55: 46 | D55: Krupka | E55: Luboš | F55: 21.52 | G55: 22.81 | H55: =IF(OR(F55="diskval.",G55="diskval."),"diskval.",F55+G55) -> 44.33 | I55: =IF(OR(věže!G48=0,věže!H48=0),100,MAX(věže!G48:H48)) -> 24.45 | J55: =IF(OR('100m'!G48=0,'100m'!H48=0),100,MAX('100m'!G48:H48)) -> 23.09 | K55: =IF(H55="diskval.",1000,H55+((IF(I55>0,I55,100)+IF(J55>0,J55,100))/100000)) -> 44.330475
A56: 54 | C56: 66 | D56: Stibor | E56: Jiří | F56: 23.55 | G56: 21.04 | H56: =IF(OR(F56="diskval.",G56="diskval."),"diskval.",F56+G56) -> 44.59 | I56: =IF(OR(věže!G68=0,věže!H68=0),100,MAX(věže!G68:H68)) -> 25.05 | J56: =IF(OR('100m'!G68=0,'100m'!H68=0),100,MAX('100m'!G68:H68)) -> 21.65 | K56: =IF(H56="diskval.",1000,H56+((IF(I56>0,I56,100)+IF(J56>0,J56,100))/100000)) -> 44.590467
A57: 55 | C57: 10 | D57: Kubeš | E57: Ondřej | F57: 22.5 | G57: 22.6 | H57: =IF(OR(F57="diskval.",G57="diskval."),"diskval.",F57+G57) -> 45.1 | I57: =IF(OR(věže!G12=0,věže!H12=0),100,MAX(věže!G12:H12)) -> 24.28 | J57: =IF(OR('100m'!G12=0,'100m'!H12=0),100,MAX('100m'!G12:H12)) -> 100 | K57: =IF(H57="diskval.",1000,H57+((IF(I57>0,I57,100)+IF(J57>0,J57,100))/100000)) -> 45.101243
A58: 56 | C58: 40 | D58: Horský | E58: Marek | F58: 19.45 | G58: 25.773 | H58: =IF(OR(F58="diskval.",G58="diskval."),"diskval.",F58+G58) -> 45.223 | I58: =IF(OR(věže!G42=0,věže!H42=0),100,MAX(věže!G42:H42)) -> 28.95 | J58: =IF(OR('100m'!G42=0,'100m'!H42=0),100,MAX('100m'!G42:H42)) -> 100 | K58: =IF(H58="diskval.",1000,H58+((IF(I58>0,I58,100)+IF(J58>0,J58,100))/100000)) -> 45.224289
A59: 57 | C59: 2 | D59: Šourek | E59: Petr | F59: 22.21 | G59: 23.97 | H59: =IF(OR(F59="diskval.",G59="diskval."),"diskval.",F59+G59) -> 46.18 | I59: =IF(OR(věže!G4=0,věže!H4=0),100,MAX(věže!G4:H4)) -> 24 | J59: =IF(OR('100m'!G4=0,'100m'!H4=0),100,MAX('100m'!G4:H4)) -> 31.53 | K59: =IF(H59="diskval.",1000,H59+((IF(I59>0,I59,100)+IF(J59>0,J59,100))/100000)) -> 46.180555
A60: 58 | C60: 51 | D60: Diviš | E60: David | F60: 22.5 | G60: 24.88 | H60: =IF(OR(F60="diskval.",G60="diskval."),"diskval.",F60+G60) -> 47.38 | I60: =IF(OR(věže!G53=0,věže!H53=0),100,MAX(věže!G53:H53)) -> 23.12 | J60: =IF(OR('100m'!G53=0,'100m'!H53=0),100,MAX('100m'!G53:H53)) -> 100 | K60: =IF(H60="diskval.",1000,H60+((IF(I60>0,I60,100)+IF(J60>0,J60,100))/100000)) -> 47.381231
A61: 59 | C61: 50 | D61: Holý | E61: Patrik | F61: 25.9 | G61: 21.78 | H61: =IF(OR(F61="diskval.",G61="diskval."),"diskval.",F61+G61) -> 47.68 | I61: =IF(OR(věže!G52=0,věže!H52=0),100,MAX(věže!G52:H52)) -> 28.31 | J61: =IF(OR('100m'!G52=0,'100m'!H52=0),100,MAX('100m'!G52:H52)) -> 100 | K61: =IF(H61="diskval.",1000,H61+((IF(I61>0,I61,100)+IF(J61>0,J61,100))/100000)) -> 47.681283
A62: 60 | C62: 1 | D62: Štolba | E62: František | F62: 25.38 | G62: 22.92 | H62: =IF(OR(F62="diskval.",G62="diskval."),"diskval.",F62+G62) -> 48.3 | I62: =IF(OR(věže!G3=0,věže!H3=0),100,MAX(věže!G3:H3)) -> 26.9 | J62: =IF(OR('100m'!G3=0,'100m'!H3=0),100,MAX('100m'!G3:H3)) -> 23.95 | K62: =IF(H62="diskval.",1000,H62+((IF(I62>0,I62,100)+IF(J62>0,J62,100))/100000)) -> 48.300508
A63: 61 | C63: 58 | D63: Bláha | E63: Petr | F63: 29.62 | G63: 21.85 | H63: =IF(OR(F63="diskval.",G63="diskval."),"diskval.",F63+G63) -> 51.47 | I63: =IF(OR(věže!G60=0,věže!H60=0),100,MAX(věže!G60:H60)) -> 34.17 | J63: =IF(OR('100m'!G60=0,'100m'!H60=0),100,MAX('100m'!G60:H60)) -> 23.09 | K63: =IF(H63="diskval.",1000,H63+((IF(I63>0,I63,100)+IF(J63>0,J63,100))/100000)) -> 51.470573
A64: 62 | C64: 3 | D64: Vašíček | E64: Richard | F64: diskval. | G64: 24.29 | H64: =IF(OR(F64="diskval.",G64="diskval."),"diskval.",F64+G64) -> diskval. | I64: =IF(OR(věže!G5=0,věže!H5=0),100,MAX(věže!G5:H5)) -> 100 | J64: =IF(OR('100m'!G5=0,'100m'!H5=0),100,MAX('100m'!G5:H5)) -> 24.84 | K64: =IF(H64="diskval.",1000,H64+((IF(I64>0,I64,100)+IF(J64>0,J64,100))/100000)) -> 1000
A65: 63 | C65: 5 | D65: Divoš | E65: Václav | F65: 14.86 | G65: diskval. | H65: =IF(OR(F65="diskval.",G65="diskval."),"diskval.",F65+G65) -> diskval. | I65: =IF(OR(věže!G7=0,věže!H7=0),100,MAX(věže!G7:H7)) -> 15.07 | J65: =IF(OR('100m'!G7=0,'100m'!H7=0),100,MAX('100m'!G7:H7)) -> 100 | K65: =IF(H65="diskval.",1000,H65+((IF(I65>0,I65,100)+IF(J65>0,J65,100))/100000)) -> 1000
A66: 64 | C66: 8 | D66: Völfel | E66: David | F66: diskval. | G66: 18.54 | H66: =IF(OR(F66="diskval.",G66="diskval."),"diskval.",F66+G66) -> diskval. | I66: =IF(OR(věže!G10=0,věže!H10=0),100,MAX(věže!G10:H10)) -> 100 | J66: =IF(OR('100m'!G10=0,'100m'!H10=0),100,MAX('100m'!G10:H10)) -> 31.72 | K66: =IF(H66="diskval.",1000,H66+((IF(I66>0,I66,100)+IF(J66>0,J66,100))/100000)) -> 1000
A67: 65 | C67: 17 | D67: Nýdl | E67: Jakub | F67: diskval. | G67: 18.42 | H67: =IF(OR(F67="diskval.",G67="diskval."),"diskval.",F67+G67) -> diskval. | I67: =IF(OR(věže!G19=0,věže!H19=0),100,MAX(věže!G19:H19)) -> 100 | J67: =IF(OR('100m'!G19=0,'100m'!H19=0),100,MAX('100m'!G19:H19)) -> 28.38 | K67: =IF(H67="diskval.",1000,H67+((IF(I67>0,I67,100)+IF(J67>0,J67,100))/100000)) -> 1000
A68: 66 | C68: 23 | D68: Klimeš | E68: Martin | F68: diskval. | G68: 18.31 | H68: =IF(OR(F68="diskval.",G68="diskval."),"diskval.",F68+G68) -> diskval. | I68: =IF(OR(věže!G25=0,věže!H25=0),100,MAX(věže!G25:H25)) -> 100 | J68: =IF(OR('100m'!G25=0,'100m'!H25=0),100,MAX('100m'!G25:H25)) -> 20.78 | K68: =IF(H68="diskval.",1000,H68+((IF(I68>0,I68,100)+IF(J68>0,J68,100))/100000)) -> 1000
A69: 67 | C69: 24 | D69: Píbal | E69: Jiří | F69: diskval. | G69: 19.1 | H69: =IF(OR(F69="diskval.",G69="diskval."),"diskval.",F69+G69) -> diskval. | I69: =IF(OR(věže!G26=0,věže!H26=0),100,MAX(věže!G26:H26)) -> 100 | J69: =IF(OR('100m'!G26=0,'100m'!H26=0),100,MAX('100m'!G26:H26)) -> 100 | K69: =IF(H69="diskval.",1000,H69+((IF(I69>0,I69,100)+IF(J69>0,J69,100))/100000)) -> 1000
A70: 68 | C70: 28 | D70: Vyhnánek | E70: Jan | F70: diskval. | G70: diskval. | H70: =IF(OR(F70="diskval.",G70="diskval."),"diskval.",F70+G70) -> diskval. | I70: =IF(OR(věže!G30=0,věže!H30=0),100,MAX(věže!G30:H30)) -> 100 | J70: =IF(OR('100m'!G30=0,'100m'!H30=0),100,MAX('100m'!G30:H30)) -> 100 | K70: =IF(H70="diskval.",1000,H70+((IF(I70>0,I70,100)+IF(J70>0,J70,100))/100000)) -> 1000
A71: 69 | C71: 30 | D71: Koller | E71: Petr | F71: diskval. | G71: 24.47 | H71: =IF(OR(F71="diskval.",G71="diskval."),"diskval.",F71+G71) -> diskval. | I71: =IF(OR(věže!G32=0,věže!H32=0),100,MAX(věže!G32:H32)) -> 100 | J71: =IF(OR('100m'!G32=0,'100m'!H32=0),100,MAX('100m'!G32:H32)) -> 100 | K71: =IF(H71="diskval.",1000,H71+((IF(I71>0,I71,100)+IF(J71>0,J71,100))/100000)) -> 1000
A72: 70 | C72: 32 | D72: Pospíšil | E72: Michael | F72: 29.07 | G72: diskval. | H72: =IF(OR(F72="diskval.",G72="diskval."),"diskval.",F72+G72) -> diskval. | I72: =IF(OR(věže!G34=0,věže!H34=0),100,MAX(věže!G34:H34)) -> 30.69 | J72: =IF(OR('100m'!G34=0,'100m'!H34=0),100,MAX('100m'!G34:H34)) -> 100 | K72: =IF(H72="diskval.",1000,H72+((IF(I72>0,I72,100)+IF(J72>0,J72,100))/100000)) -> 1000
A73: 71 | C73: 57 | D73: Hradil | E73: Zbyněk (nad 35let) | F73: 17.21 | G73: diskval. | H73: =IF(OR(F73="diskval.",G73="diskval."),"diskval.",F73+G73) -> diskval. | I73: =IF(OR(věže!G59=0,věže!H59=0),100,MAX(věže!G59:H59)) -> 19.35 | J73: =IF(OR('100m'!G59=0,'100m'!H59=0),100,MAX('100m'!G59:H59)) -> 100 | K73: =IF(H73="diskval.",1000,H73+((IF(I73>0,I73,100)+IF(J73>0,J73,100))/100000)) -> 1000
A74: 72 | C74: 68 | D74: Hnízdil | E74: Pavel (nad 35let) | F74: 15.31 | G74: diskval. | H74: =IF(OR(F74="diskval.",G74="diskval."),"diskval.",F74+G74) -> diskval. | I74: =IF(OR(věže!G70=0,věže!H70=0),100,MAX(věže!G70:H70)) -> 16.84 | J74: =IF(OR('100m'!G70=0,'100m'!H70=0),100,MAX('100m'!G70:H70)) -> 100 | K74: =IF(H74="diskval.",1000,H74+((IF(I74>0,I74,100)+IF(J74>0,J74,100))/100000)) -> 1000
A75: 73 | C75: 73 | D75: Suchopár | E75: Jiří (nad 35let) | F75: 20.49 | G75: diskval. | H75: =IF(OR(F75="diskval.",G75="diskval."),"diskval.",F75+G75) -> diskval. | I75: =IF(OR(věže!G75=0,věže!H75=0),100,MAX(věže!G75:H75)) -> 21.2 | J75: =IF(OR('100m'!G75=0,'100m'!H75=0),100,MAX('100m'!G75:H75)) -> 100 | K75: =IF(H75="diskval.",1000,H75+((IF(I75>0,I75,100)+IF(J75>0,J75,100))/100000)) -> 1000
A76: 74 | C76: 74 | D76: Mareček | E76: Miroslav | F76: diskval. | G76: 24.87 | H76: =IF(OR(F76="diskval.",G76="diskval."),"diskval.",F76+G76) -> diskval. | I76: =IF(OR(věže!G76=0,věže!H76=0),100,MAX(věže!G76:H76)) -> 100 | J76: =IF(OR('100m'!G76=0,'100m'!H76=0),100,MAX('100m'!G76:H76)) -> 27.67 | K76: =IF(H76="diskval.",1000,H76+((IF(I76>0,I76,100)+IF(J76>0,J76,100))/100000)) -> 1000
A77: 75 | C77: 75 | F77: diskval. | G77: diskval. | H77: =IF(OR(F77="diskval.",G77="diskval."),"diskval.",F77+G77) -> diskval. | I77: =IF(OR(věže!G77=0,věže!H77=0),100,MAX(věže!G77:H77)) -> 100 | J77: =IF(OR('100m'!G77=0,'100m'!H77=0),100,MAX('100m'!G77:H77)) -> 100 | K77: =IF(H77="diskval.",1000,H77+((IF(I77>0,I77,100)+IF(J77>0,J77,100))/100000)) -> 1000
A78: 76 | C78: 76 | F78: diskval. | G78: diskval. | H78: =IF(OR(F78="diskval.",G78="diskval."),"diskval.",F78+G78) -> diskval. | I78: =IF(OR(věže!G78=0,věže!H78=0),100,MAX(věže!G78:H78)) -> 100 | J78: =IF(OR('100m'!G78=0,'100m'!H78=0),100,MAX('100m'!G78:H78)) -> 100 | K78: =IF(H78="diskval.",1000,H78+((IF(I78>0,I78,100)+IF(J78>0,J78,100))/100000)) -> 1000
A79: 77 | C79: 77 | D79: Lidmila | E79: Martin | F79: 14.86 | G79: diskval. | H79: =IF(OR(F79="diskval.",G79="diskval."),"diskval.",F79+G79) -> diskval. | I79: =IF(OR(věže!G79=0,věže!H79=0),100,MAX(věže!G79:H79)) -> 19.06 | J79: =IF(OR('100m'!G79=0,'100m'!H79=0),100,MAX('100m'!G79:H79)) -> 100 | K79: =IF(H79="diskval.",1000,H79+((IF(I79>0,I79,100)+IF(J79>0,J79,100))/100000)) -> 1000
A80: 78 | C80: 78 | D80: Netrval | E80: Milan | F80: diskval. | G80: 23.99 | H80: =IF(OR(F80="diskval.",G80="diskval."),"diskval.",F80+G80) -> diskval. | I80: =IF(OR(věže!G80=0,věže!H80=0),100,MAX(věže!G80:H80)) -> 100 | J80: =IF(OR('100m'!G80=0,'100m'!H80=0),100,MAX('100m'!G80:H80)) -> 100 | K80: =IF(H80="diskval.",1000,H80+((IF(I80>0,I80,100)+IF(J80>0,J80,100))/100000)) -> 1000
A81: 79 | C81: 79 | H81: =IF(OR(F81="diskval.",G81="diskval."),"diskval.",F81+G81) -> 0 | I81: =IF(OR(věže!G81=0,věže!H81=0),100,MAX(věže!G81:H81)) -> 100 | J81: =IF(OR('100m'!G81=0,'100m'!H81=0),100,MAX('100m'!G81:H81)) -> 100 | K81: =IF(H81="diskval.",1000,H81+((IF(I81>0,I81,100)+IF(J81>0,J81,100))/100000)) -> 0.002
A82: 80 | C82: 80 | H82: =IF(OR(F82="diskval.",G82="diskval."),"diskval.",F82+G82) -> 0 | I82: =IF(OR(věže!G82=0,věže!H82=0),100,MAX(věže!G82:H82)) -> 100 | J82: =IF(OR('100m'!G82=0,'100m'!H82=0),100,MAX('100m'!G82:H82)) -> 100 | K82: =IF(H82="diskval.",1000,H82+((IF(I82>0,I82,100)+IF(J82>0,J82,100))/100000)) -> 0.002
A83: 81 | C83: 81 | H83: =IF(OR(F83="diskval.",G83="diskval."),"diskval.",F83+G83) -> 0 | I83: =IF(OR(věže!G83=0,věže!H83=0),100,MAX(věže!G83:H83)) -> 100 | J83: =IF(OR('100m'!G83=0,'100m'!H83=0),100,MAX('100m'!G83:H83)) -> 100 | K83: =IF(H83="diskval.",1000,H83+((IF(I83>0,I83,100)+IF(J83>0,J83,100))/100000)) -> 0.002
A84: 82 | C84: 82 | H84: =IF(OR(F84="diskval.",G84="diskval."),"diskval.",F84+G84) -> 0 | I84: =IF(OR(věže!G84=0,věže!H84=0),100,MAX(věže!G84:H84)) -> 100 | J84: =IF(OR('100m'!G84=0,'100m'!H84=0),100,MAX('100m'!G84:H84)) -> 100 | K84: =IF(H84="diskval.",1000,H84+((IF(I84>0,I84,100)+IF(J84>0,J84,100))/100000)) -> 0.002
A85: 83 | C85: 83 | H85: =IF(OR(F85="diskval.",G85="diskval."),"diskval.",F85+G85) -> 0 | I85: =IF(OR(věže!G85=0,věže!H85=0),100,MAX(věže!G85:H85)) -> 100 | J85: =IF(OR('100m'!G85=0,'100m'!H85=0),100,MAX('100m'!G85:H85)) -> 100 | K85: =IF(H85="diskval.",1000,H85+((IF(I85>0,I85,100)+IF(J85>0,J85,100))/100000)) -> 0.002
A86: 84 | C86: 84 | H86: =IF(OR(F86="diskval.",G86="diskval."),"diskval.",F86+G86) -> 0 | I86: =IF(OR(věže!G86=0,věže!H86=0),100,MAX(věže!G86:H86)) -> 100 | J86: =IF(OR('100m'!G86=0,'100m'!H86=0),100,MAX('100m'!G86:H86)) -> 100 | K86: =IF(H86="diskval.",1000,H86+((IF(I86>0,I86,100)+IF(J86>0,J86,100))/100000)) -> 0.002
A87: 85 | C87: 85 | H87: =IF(OR(F87="diskval.",G87="diskval."),"diskval.",F87+G87) -> 0 | I87: =IF(OR(věže!G87=0,věže!H87=0),100,MAX(věže!G87:H87)) -> 100 | J87: =IF(OR('100m'!G87=0,'100m'!H87=0),100,MAX('100m'!G87:H87)) -> 100 | K87: =IF(H87="diskval.",1000,H87+((IF(I87>0,I87,100)+IF(J87>0,J87,100))/100000)) -> 0.002
A88: 86 | C88: 86 | H88: =IF(OR(F88="diskval.",G88="diskval."),"diskval.",F88+G88) -> 0 | I88: =IF(OR(věže!G88=0,věže!H88=0),100,MAX(věže!G88:H88)) -> 100 | J88: =IF(OR('100m'!G88=0,'100m'!H88=0),100,MAX('100m'!G88:H88)) -> 100 | K88: =IF(H88="diskval.",1000,H88+((IF(I88>0,I88,100)+IF(J88>0,J88,100))/100000)) -> 0.002
A89: 87 | C89: 87 | H89: =IF(OR(F89="diskval.",G89="diskval."),"diskval.",F89+G89) -> 0 | I89: =IF(OR(věže!G89=0,věže!H89=0),100,MAX(věže!G89:H89)) -> 100 | J89: =IF(OR('100m'!G89=0,'100m'!H89=0),100,MAX('100m'!G89:H89)) -> 100 | K89: =IF(H89="diskval.",1000,H89+((IF(I89>0,I89,100)+IF(J89>0,J89,100))/100000)) -> 0.002
A90: 88 | C90: 88 | H90: =IF(OR(F90="diskval.",G90="diskval."),"diskval.",F90+G90) -> 0 | I90: =IF(OR(věže!G90=0,věže!H90=0),100,MAX(věže!G90:H90)) -> 100 | J90: =IF(OR('100m'!G90=0,'100m'!H90=0),100,MAX('100m'!G90:H90)) -> 100 | K90: =IF(H90="diskval.",1000,H90+((IF(I90>0,I90,100)+IF(J90>0,J90,100))/100000)) -> 0.002
A91: 89 | C91: 89 | H91: =IF(OR(F91="diskval.",G91="diskval."),"diskval.",F91+G91) -> 0 | I91: =IF(OR(věže!G91=0,věže!H91=0),100,MAX(věže!G91:H91)) -> 100 | J91: =IF(OR('100m'!G91=0,'100m'!H91=0),100,MAX('100m'!G91:H91)) -> 100 | K91: =IF(H91="diskval.",1000,H91+((IF(I91>0,I91,100)+IF(J91>0,J91,100))/100000)) -> 0.002
A92: 90 | C92: 90 | H92: =IF(OR(F92="diskval.",G92="diskval."),"diskval.",F92+G92) -> 0 | I92: =IF(OR(věže!G92=0,věže!H92=0),100,MAX(věže!G92:H92)) -> 100 | J92: =IF(OR('100m'!G92=0,'100m'!H92=0),100,MAX('100m'!G92:H92)) -> 100 | K92: =IF(H92="diskval.",1000,H92+((IF(I92>0,I92,100)+IF(J92>0,J92,100))/100000)) -> 0.002
... A152: 150 | C152: 150 | H152: =IF(OR(F152="diskval.",G152="diskval."),"diskval.",F152+G152) -> 0 | I152: =IF(OR(věže!G152=0,věže!H152=0),100,MAX(věže!G152:H152)) -> 100 | J152: =IF(OR('100m'!G152=0,'100m'!H152=0),100,MAX('100m'!G152:H152)) -> 100 | K152: =IF(H152="diskval.",1000,H152+((IF(I152>0,I152,100)+IF(J152>0,J152,100))/100000)) -> 0.002

Sheet Startovní listina 100m 1.p
A1: STARTOVNÍ LISTINA - BĚH NA 100m 1. a 2. pokus
A2: Memoriál plk. JUDR Josefa Blažka 2.6. 2017
A3: Rozběh č. | B3: Start. č. | C3: Dráha | D3: Příjmení | E3: Jméno | F3: kraj | G3: čas
A4: 1 | B4: 1 | C4: 1
B5: 2 | C5: 2
B6: 3 | C6: 3
A7: =A4+1 -> 2 | B7: 4 | C7: 1
B8: 5 | C8: 2
B9: 6 | C9: 3
A10: =A7+1 -> 3 | B10: 7 | C10: 1
B11: 8 | C11: 2
B12: 9 | C12: 3
A13: =A10+1 -> 4 | B13: 10 | C13: 1
B14: 11 | C14: 2
B15: 12 | C15: 3
A16: =A13+1 -> 5 | B16: 13 | C16: 1
B17: 14 | C17: 2
B18: 15 | C18: 3
A19: =A16+1 -> 6 | B19: 16 | C19: 1
B20: 17 | C20: 2
B21: 18 | C21: 3
A22: =A19+1 -> 7 | B22: 19 | C22: 1
B23: 20 | C23: 2
B24: 21 | C24: 3
A25: =A22+1 -> 8 | B25: 22 | C25: 1
B26: 23 | C26: 2
B27: 24 | C27: 3
A28: =A25+1 -> 9 | B28: 25 | C28: 1
B29: 26 | C29: 2
B30: 27 | C30: 3
A31: =A28+1 -> 10 | B31: 28 | C31: 1
B32: 29 | C32: 2
B33: 30 | C33: 3
A34: =A31+1 -> 11 | B34: 31 | C34: 1
B35: 32 | C35: 2
B36: 33 | C36: 3
A37: =A34+1 -> 12 | B37: 34 | C37: 1
B38: 35 | C38: 2
B39: 36 | C39: 3
A40: =A37+1 -> 13 | B40: 37 | C40: 1
B41: 38 | C41: 2
B42: 39 | C42: 3
A43: =A40+1 -> 14 | B43: 40 | C43: 1
B44: 41 | C44: 2
B45: 42 | C45: 3
A46: =A43+1 -> 15 | B46: 43 | C46: 1
B47: 44 | C47: 2
B48: 45 | C48: 3
A49: =A46+1 -> 16 | B49: 46 | C49: 1
B50: 47 | C50: 2
B51: 48 | C51: 3
A52: =A49+1 -> 17 | B52: 49 | C52: 1
B53: 50 | C53: 2
B54: 51 | C54: 3
A55: =A52+1 -> 18 | B55: 52 | C55: 1
B56: 53 | C56: 2
B57: 54 | C57: 3
A58: =A55+1 -> 19 | B58: 55 | C58: 1
B59: 56 | C59: 2
B60: 57 | C60: 3
A61: =A58+1 -> 20 | B61: 58 | C61: 1
B62: 59 | C62: 2
B63: 60 | C63: 3
A64: =A61+1 -> 21 | B64: 61 | C64: 1
B65: 62 | C65: 2
B66: 63 | C66: 3
A67: =A64+1 -> 22 | B67: 64 | C67: 1
B68: 65 | C68: 2
B69: 66 | C69: 3
A70: =A67+1 -> 23 | B70: 67 | C70: 1
B71: 68 | C71: 2
B72: 69 | C72: 3
A73: =A70+1 -> 24 | B73: 70 | C73: 1
B74: 71 | C74: 2
B75: 72 | C75: 3
A76: =A73+1 -> 25 | B76: 73 | C76: 1
B77: 74 | C77: 2
B78: 75 | C78: 3
A79: =A76+1 -> 26 | B79: 76 | C79: 1
B80: 77 | C80: 2
B81: 78 | C81: 3
A82: =A79+1 -> 27 | B82: 79 | C82: 1
B83: 80 | C83: 2
B84: 81 | C84: 3
A85: =A82+1 -> 28 | B85: 82 | C85: 1
B86: 83 | C86: 2
B87: 84 | C87: 3
A88: =A85+1 -> 29 | B88: 85 | C88: 1
B89: 86 | C89: 2
B90: 87 | C90: 3
A91: =A88+1 -> 30 | B91: 88 | C91: 1
B92: 89 | C92: 2
B93: 90 | C93: 3
A94: =A91+1 -> 31 | B94: 91 | C94: 1
B95: 92 | C95: 2
B96: 93 | C96: 3
A97: =A94+1 -> 32 | B97: 94 | C97: 1
B98: 95 | C98: 2
B99: 96 | C99: 3
A100: =A97+1 -> 33 | B100: 97 | C100: 1
...

Sheet Startovní listina 100m 2.p
A1: STARTOVNÍ LISTINA - BĚH NA 100m 2. pokus
A2: Memoriál plk. JUDR Josefa Blažka 2.6. 2017
A3: Rozběh č. | B3: Start. č. | C3: Dráha | D3: Příjmení | E3: Jméno | F3: kraj | G3: čas
A4: 1 | B4: 1 | C4: 2
B5: 2 | C5: 3
B6: 3 | C6: 1
A7: =A4+1 -> 2 | B7: 4 | C7: 2
B8: 5 | C8: 3
B9: 6 | C9: 1
A10: =A7+1 -> 3 | B10: 7 | C10: 2
B11: 8 | C11: 3
B12: 9 | C12: 1
A13: =A10+1 -> 4 | B13: 10 | C13: 2
B14: 11 | C14: 3
B15: 12 | C15: 1
A16: =A13+1 -> 5 | B16: 13 | C16: 2
B17: 14 | C17: 3
B18: 15 | C18: 1
A19: =A16+1 -> 6 | B19: 16 | C19: 2
B20: 17 | C20: 3
B21: 18 | C21: 1
A22: =A19+1 -> 7 | B22: 19 | C22: 2
B23: 20 | C23: 3
B24: 21 | C24: 1
A25: =A22+1 -> 8 | B25: 22 | C25: 2
B26: 23 | C26: 3
B27: 24 | C27: 1
A28: =A25+1 -> 9 | B28: 25 | C28: 2
B29: 26 | C29: 3
B30: 27 | C30: 1
A31: =A28+1 -> 10 | B31: 28 | C31: 2
B32: 29 | C32: 3
B33: 30 | C33: 1
A34: =A31+1 -> 11 | B34: 31 | C34: 2
B35: 32 | C35: 3
B36: 33 | C36: 1
A37: =A34+1 -> 12 | B37: 34 | C37: 2
B38: 35 | C38: 3
B39: 36 | C39: 1
A40: =A37+1 -> 13 | B40: 37 | C40: 2
B41: 38 | C41: 3
B42: 39 | C42: 1
A43: =A40+1 -> 14 | B43: 40 | C43: 2
B44: 41 | C44: 3
B45: 42 | C45: 1
A46: =A43+1 -> 15 | B46: 43 | C46: 2
B47: 44 | C47: 3
B48: 45 | C48: 1
A49: =A46+1 -> 16 | B49: 46 | C49: 2
B50: 47 | C50: 3
B51: 48 | C51: 1
A52: =A49+1 -> 17 | B52: 49 | C52: 2
B53: 50 | C53: 3
B54: 51 | C54: 1
A55: =A52+1 -> 18 | B55: 52 | C55: 2
B56: 53 | C56: 3
B57: 54 | C57: 1
A58: =A55+1 -> 19 | B58: 55 | C58: 2
B59: 56 | C59: 3
B60: 57 | C60: 1
A61: =A58+1 -> 20 | B61: 58 | C61: 2
B62: 59 | C62: 3
B63: 60 | C63: 1
A64: =A61+1 -> 21 | B64: 61 | C64: 2
B65: 62 | C65: 3
B66: 63 | C66: 1
A67: =A64+1 -> 22 | B67: 64 | C67: 2
B68: 65 | C68: 3
B69: 66 | C69: 1
A70: =A67+1 -> 23 | B70: 67 | C70: 2
B71: 68 | C71: 3
B72: 69 | C72: 1
A73: =A70+1 -> 24 | B73: 70 | C73: 2
B74: 71 | C74: 3
B75: 72 | C75: 1
A76: =A73+1 -> 25 | B76: 73 | C76: 2
B77: 74 | C77: 3
B78: 75 | C78: 1
A79: =A76+1 -> 26 | B79: 76 | C79: 2
B80: 77 | C80: 3
B81: 78 | C81: 1
A82: =A79+1 -> 27 | B82: 79 | C82: 2
B83: 80 | C83: 3
B84: 81 | C84: 1
A85: =A82+1 -> 28 | B85: 82 | C85: 2
B86: 83 | C86: 3
B87: 84 | C87: 1
A88: =A85+1 -> 29 | B88: 85 | C88: 2
B89: 86 | C89: 3
B90: 87 | C90: 1
A91: =A88+1 -> 30 | B91: 88 | C91: 2
B92: 89 | C92: 3
B93: 90 | C93: 1
A94: =A91+1 -> 31 | B94: 91 | C94: 2
B95: 92 | C95: 3
B96: 93 | C96: 1
A97: =A94+1 -> 32 | B97: 94 | C97: 2
B98: 95 | C98: 3
B99: 96 | C99: 1
A100: =A97+1 -> 33 | B100: 97 | C100: 2
...

Sheet Startovní listina věž 1.p
A1: STARTOVNÍ LISTINA - výstup do 4. podlaží věže 1. a 2. pokus
A2: Memoriál plk. JUDR Josefa Blažka 2.6. 2017
A3: Rozběh č. | B3: Start. č. | C3: Dráha | D3: Příjmení | E3: Jméno | F3: kraj | G3: čas
A4: 1 | B4: 1 | C4: 1
B5: 2 | C5: 2
B6: 3 | C6: 3
B7: 4 | C7: 4
A8: 2 | B8: 5 | C8: 1
B9: 6 | C9: 2
B10: 7 | C10: 3
B11: 8 | C11: 4
A12: 3 | B12: 9 | C12: 1
B13: 10 | C13: 2
B14: 11 | C14: 3
B15: 12 | C15: 4
A16: 4 | B16: 13 | C16: 1
B17: 14 | C17: 2
B18: 15 | C18: 3
B19: 16 | C19: 4
A20: 5 | B20: 17 | C20: 1
B21: 18 | C21: 2
B22: 19 | C22: 3
B23: 20 | C23: 4
A24: 6 | B24: 21 | C24: 1
B25: 22 | C25: 2
B26: 23 | C26: 3
B27: 24 | C27: 4
A28: 7 | B28: 25 | C28: 1
B29: 26 | C29: 2
B30: 27 | C30: 3
B31: 28 | C31: 4
A32: 8 | B32: 29 | C32: 1
B33: 30 | C33: 2
B34: 31 | C34: 3
B35: 32 | C35: 4
A36: 9 | B36: 33 | C36: 1
B37: 34 | C37: 2
B38: 35 | C38: 3
B39: 36 | C39: 4
A40: 10 | B40: 37 | C40: 1
B41: 38 | C41: 2
B42: 39 | C42: 3
B43: 40 | C43: 4
A44: 11 | B44: 41 | C44: 1
B45: 42 | C45: 2
B46: 43 | C46: 3
B47: 44 | C47: 4
A48: 12 | B48: 45 | C48: 1
B49: 46 | C49: 2
B50: 47 | C50: 3
B51: 48 | C51: 4
A52: 13 | B52: 49 | C52: 1
B53: 50 | C53: 2
B54: 51 | C54: 3
B55: 52 | C55: 4
A56: 14 | B56: 53 | C56: 1
B57: 54 | C57: 2
B58: 55 | C58: 3
B59: 56 | C59: 4
A60: 15 | B60: 57 | C60: 1
B61: 58 | C61: 2
B62: 59 | C62: 3
B63: 60 | C63: 4
A64: 16 | B64: 61 | C64: 1
B65: 62 | C65: 2
B66: 63 | C66: 3
B67: 64 | C67: 4
A68: 17 | B68: 65 | C68: 1
B69: 66 | C69: 2
B70: 67 | C70: 3
B71: 68 | C71: 4
A72: 18 | B72: 69 | C72: 1
B73: 70 | C73: 2
B74: 71 | C74: 3
B75: 72 | C75: 4
A76: 19 | B76: 73 | C76: 1
B77: 74 | C77: 2
B78: 75 | C78: 3
B79: 76 | C79: 4
A80: 20 | B80: 77 | C80: 1
B81: 78 | C81: 2
B82: 79 | C82: 3
B83: 80 | C83: 4
A84: 21 | B84: 81 | C84: 1
B85: 82 | C85: 2
B86: 83 | C86: 3
B87: 84 | C87: 4
A88: 22 | B88: 85 | C88: 1
B89: 86 | C89: 2
B90: 87 | C90: 3
B91: 88 | C91: 4
A92: 23 | B92: 89 | C92: 1
B93: 90 | C93: 2
B94: 91 | C94: 3
B95: 92 | C95: 4
A96: 24 | B96: 93 | C96: 1
B97: 94 | C97: 2
B98: 95 | C98: 3
B99: 96 | C99: 4
A100: 25 | B100: 97 | C100: 1
...

Sheet Startovní listina věž 2.p
A1: STARTOVNÍ LISTINA - výstup do 4. podlaží věže 2. pokus
A2: Memoriál plk. JUDR Josefa Blažka 2.6. 2017
A3: Rozběh č. | B3: Start. č. | C3: Dráha | D3: Příjmení | E3: Jméno | F3: kraj | G3: čas
A4: 1 | B4: 1 | C4: 2
B5: 2 | C5: 3
B6: 3 | C6: 4
B7: 4 | C7: 1
A8: 2 | B8: 5 | C8: 2
B9: 6 | C9: 3
B10: 7 | C10: 4
B11: 8 | C11: 1
A12: 3 | B12: 9 | C12: 2
B13: 10 | C13: 3
B14: 11 | C14: 4
B15: 12 | C15: 1
A16: 4 | B16: 13 | C16: 2
B17: 14 | C17: 3
B18: 15 | C18: 4
B19: 16 | C19: 1
A20: 5 | B20: 17 | C20: 2
B21: 18 | C21: 3
B22: 19 | C22: 4
B23: 20 | C23: 1
A24: 6 | B24: 21 | C24: 2
B25: 22 | C25: 3
B26: 23 | C26: 4
B27: 24 | C27: 1
A28: 7 | B28: 25 | C28: 2
B29: 26 | C29: 3
B30: 27 | C30: 4
B31: 28 | C31: 1
A32: 8 | B32: 29 | C32: 2
B33: 30 | C33: 3
B34: 31 | C34: 4
B35: 32 | C35: 1
A36: 9 | B36: 33 | C36: 2
B37: 34 | C37: 3
B38: 35 | C38: 4
B39: 36 | C39: 1
A40: 10 | B40: 37 | C40: 2
B41: 38 | C41: 3
B42: 39 | C42: 4
B43: 40 | C43: 1
A44: 11 | B44: 41 | C44: 2
B45: 42 | C45: 3
B46: 43 | C46: 4
B47: 44 | C47: 1
A48: 12 | B48: 45 | C48: 2
B49: 46 | C49: 3
B50: 47 | C50: 4
B51: 48 | C51: 1
A52: 13 | B52: 49 | C52: 2
B53: 50 | C53: 3
B54: 51 | C54: 4
B55: 52 | C55: 1
A56: 14 | B56: 53 | C56: 2
B57: 54 | C57: 3
B58: 55 | C58: 4
B59: 56 | C59: 1
A60: 15 | B60: 57 | C60: 2
B61: 58 | C61: 3
B62: 59 | C62: 4
B63: 60 | C63: 1
A64: 16 | B64: 61 | C64: 2
B65: 62 | C65: 3
B66: 63 | C66: 4
B67: 64 | C67: 1
A68: 17 | B68: 65 | C68: 2
B69: 66 | C69: 3
B70: 67 | C70: 4
B71: 68 | C71: 1
A72: 18 | B72: 69 | C72: 2
B73: 70 | C73: 3
B74: 71 | C74: 4
B75: 72 | C75: 1
A76: 19 | B76: 73 | C76: 2
B77: 74 | C77: 3
B78: 75 | C78: 4
B79: 76 | C79: 1
A80: 20 | B80: 77 | C80: 2
B81: 78 | C81: 3
B82: 79 | C82: 4
B83: 80 | C83: 1
A84: 21 | B84: 81 | C84: 2
B85: 82 | C85: 3
B86: 83 | C86: 4
B87: 84 | C87: 1
A88: 22 | B88: 85 | C88: 2
B89: 86 | C89: 3
B90: 87 | C90: 4
B91: 88 | C91: 1
A92: 23 | B92: 89 | C92: 2
B93: 90 | C93: 3
B94: 91 | C94: 4
B95: 92 | C95: 1
A96: 24 | B96: 93 | C96: 2
B97: 94 | C97: 3
B98: 95 | C98: 4
B99: 96 | C99: 1
A100: 25 | B100: 97 | C100: 2
...
