Workbook

Sheet 100m
A1: Výsledková listina 100m Memoriál plk. JUDR Josefa Blažka 2.6. 2022
A2: Pořadí | C2: Start. č. | D2: Příjmení | E2: Jméno | F2: ÚO/SDH | G2: 1.pokus 100m | H2: 2.pokus 100m | I2: započ. čas 100m | J2: eliminace stejného pořadí
A3: 1 | C3: 1 | D3: Štolba | E3: František | F3: Jihočeský (UO Strakonice) | G3: 23.95 | H3: 22.92 | I3: =IF(AND(G3=0,H3=0),"diskval.",IF(AND(G3>0,H3>0),MIN(G3:H3),IF(G3>0,G3,H3))) -> 22.92 | J3: =IF(G3+H3=0,1000,I3+((IF(G3>0,G3,100)+IF(H3>0,H3,100))/100000)) -> 22.920469
A4: 2 | C4: 2 | D4: Šourek | E4: Petr | F4: Jihočeský (Písek) | G4: 31.53 | H4: 23.97 | I4: =IF(AND(G4=0,H4=0),"diskval.",IF(AND(G4>0,H4>0),MIN(G4:H4),IF(G4>0,G4,H4))) -> 23.97 | J4: =IF(G4+H4=0,1000,I4+((IF(G4>0,G4,100)+IF(H4>0,H4,100))/100000)) -> 23.970555
A5: 3 | C5: 3 | D5: Vašíček | E5: Richard | F5: SDH Horní Slavkov | G5: 24.29 | H5: 24.84 | I5: =IF(AND(G5=0,H5=0),"diskval.",IF(AND(G5>0,H5>0),MIN(G5:H5),IF(G5>0,G5,H5))) -> 24.29 | J5: =IF(G5+H5=0,1000,I5+((IF(G5>0,G5,100)+IF(H5>0,H5,100))/100000)) -> 24.290491 | L5: jen 100m
A6: 4 | C6: 4 | D6: Soukup | E6: Dominik | F6: SDH Žebnice | G6: 17.07 | H6: 16.76 | I6: =IF(AND(G6=0,H6=0),"diskval.",IF(AND(G6>0,H6>0),MIN(G6:H6),IF(G6>0,G6,H6))) -> 16.76 | J6: =IF(G6+H6=0,1000,I6+((IF(G6>0,G6,100)+IF(H6>0,H6,100))/100000)) -> 16.760338
A7: 5 | C7: 5 | D7: Divoš | E7: Václav | F7: Královéhradecký (Hradec Králové) | I7: =IF(AND(G7=0,H7=0),"diskval.",IF(AND(G7>0,H7>0),MIN(G7:H7),IF(G7>0,G7,H7))) -> diskval. | J7: =IF(G7+H7=0,1000,I7+((IF(G7>0,G7,100)+IF(H7>0,H7,100))/100000)) -> 1000 | L7: jen věž
A8: 6 | C8: 6 | D8: Plíhal | E8: Jiří | F8: Jihomoravský (Blansko) | G8: 18.91 | H8: 18.52 | I8: =IF(AND(G8=0,H8=0),"diskval.",IF(AND(G8>0,H8>0),MIN(G8:H8),IF(G8>0,G8,H8))) -> 18.52 | J8: =IF(G8+H8=0,1000,I8+((IF(G8>0,G8,100)+IF(H8>0,H8,100))/100000)) -> 18.520374
A9: 7 | C9: 7 | D9: Smutný | E9: Martin | F9: Plzeňský (Plzeň) | G9: 19.19 | I9: =IF(AND(G9=0,H9=0),"diskval.",IF(AND(G9>0,H9>0),MIN(G9:H9),IF(G9>0,G9,H9))) -> 19.19 | J9: =IF(G9+H9=0,1000,I9+((IF(G9>0,G9,100)+IF(H9>0,H9,100))/100000)) -> 19.191192
A10: 8 | C10: 8 | D10: Völfel | E10: David | F10: Jihočeský (ČB) | G10: 31.72 | H10: 18.54 | I10: =IF(AND(G10=0,H10=0),"diskval.",IF(AND(G10>0,H10>0),MIN(G10:H10),IF(G10>0,G10,H10))) -> 18.54 | J10: =IF(G10+H10=0,1000,I10+((IF(G10>0,G10,100)+IF(H10>0,H10,100))/100000)) -> 18.540503 | L10: jen 100m
A11: 9 | C11: 9 | D11: Jirout | E11: Patrik | F11: Jihočeský (Písek) | G11: 19.72 | H11: 18.78 | I11: =IF(AND(G11=0,H11=0),"diskval.",IF(AND(G11>0,H11>0),MIN(G11:H11),IF(G11>0,G11,H11))) -> 18.78 | J11: =IF(G11+H11=0,1000,I11+((IF(G11>0,G11,100)+IF(H11>0,H11,100))/100000)) -> 18.780385
A12: 10 | C12: 10 | D12: Kubeš | E12: Ondřej | F12: SDH Dynín | H12: 22.6 | I12: =IF(AND(G12=0,H12=0),"diskval.",IF(AND(G12>0,H12>0),MIN(G12:H12),IF(G12>0,G12,H12))) -> 22.6 | J12: =IF(G12+H12=0,1000,I12+((IF(G12>0,G12,100)+IF(H12>0,H12,100))/100000)) -> 22.601226
A13: 11 | C13: 11 | D13: Paulíček | E13: Jakub | F13: Pardubický (Ústí nad Orlicí) | G13: 17.15 | H13: 16.74 | I13: =IF(AND(G13=0,H13=0),"diskval.",IF(AND(G13>0,H13>0),MIN(G13:H13),IF(G13>0,G13,H13))) -> 16.74 | J13: =IF(G13+H13=0,1000,I13+((IF(G13>0,G13,100)+IF(H13>0,H13,100))/100000)) -> 16.740339
A14: 12 | C14: 12 | D14: Fryč | E14: Tomáš | F14: Jihomoravský (Blansko) | G14: 20.43 | H14: 17.93 | I14: =IF(AND(G14=0,H14=0),"diskval.",IF(AND(G14>0,H14>0),MIN(G14:H14),IF(G14>0,G14,H14))) -> 17.93 | J14: =IF(G14+H14=0,1000,I14+((IF(G14>0,G14,100)+IF(H14>0,H14,100))/100000)) -> 17.930384
A15: 13 | C15: 13 | D15: Tomášek | E15: Jan | F15: Plzeňský (Plzeň) | G15: 18.26 | H15: 25.19 | I15: =IF(AND(G15=0,H15=0),"diskval.",IF(AND(G15>0,H15>0),MIN(G15:H15),IF(G15>0,G15,H15))) -> 18.26 | J15: =IF(G15+H15=0,1000,I15+((IF(G15>0,G15,100)+IF(H15>0,H15,100))/100000)) -> 18.260435
A16: 14 | C16: 14 | D16: Viktora | E16: Martin | F16: Středočeský (Kutná Hora) | G16: 19.86 | I16: =IF(AND(G16=0,H16=0),"diskval.",IF(AND(G16>0,H16>0),MIN(G16:H16),IF(G16>0,G16,H16))) -> 19.86 | J16: =IF(G16+H16=0,1000,I16+((IF(G16>0,G16,100)+IF(H16>0,H16,100))/100000)) -> 19.861199
A17: 14 | C17: 15 | D17: Daněk | E17: Tomáš | F17: hl.m. Prahy | H17: 19.2 | I17: =IF(AND(G17=0,H17=0),"diskval.",IF(AND(G17>0,H17>0),MIN(G17:H17),IF(G17>0,G17,H17))) -> 19.2 | J17: =IF(G17+H17=0,1000,I17+((IF(G17>0,G17,100)+IF(H17>0,H17,100))/100000)) -> 19.201192
A18: 16 | C18: 16 | D18: Kligl | E18: Patrik | F18: Královéhradecký (Hradec Králové) | G18: 16.85 | I18: =IF(AND(G18=0,H18=0),"diskval.",IF(AND(G18>0,H18>0),MIN(G18:H18),IF(G18>0,G18,H18))) -> 16.85 | J18: =IF(G18+H18=0,1000,I18+((IF(G18>0,G18,100)+IF(H18>0,H18,100))/100000)) -> 16.851168
A19: 17 | C19: 17 | D19: Nýdl | E19: Jakub | F19: Jihočeský (KŘ HZS) | G19: 28.38 | H19: 18.42 | I19: =IF(AND(G19=0,H19=0),"diskval.",IF(AND(G19>0,H19>0),MIN(G19:H19),IF(G19>0,G19,H19))) -> 18.42 | J19: =IF(G19+H19=0,1000,I19+((IF(G19>0,G19,100)+IF(H19>0,H19,100))/100000)) -> 18.420468 | L19: jen 100m
A20: 18 | C20: 18 | D20: Caha | E20: Martin | F20: Vysočina (Třebíč) | G20: 18.24 | I20: =IF(AND(G20=0,H20=0),"diskval.",IF(AND(G20>0,H20>0),MIN(G20:H20),IF(G20>0,G20,H20))) -> 18.24 | J20: =IF(G20+H20=0,1000,I20+((IF(G20>0,G20,100)+IF(H20>0,H20,100))/100000)) -> 18.241182
A21: 19 | C21: 19 | D21: Balog | E21: Jiří | F21: Jihočeský (Strakonice) | G21: 23.75 | H21: 21.87 | I21: =IF(AND(G21=0,H21=0),"diskval.",IF(AND(G21>0,H21>0),MIN(G21:H21),IF(G21>0,G21,H21))) -> 21.87 | J21: =IF(G21+H21=0,1000,I21+((IF(G21>0,G21,100)+IF(H21>0,H21,100))/100000)) -> 21.870456
A22: 20 | C22: 20 | D22: Motejzík | E22: Martin | F22: Jihočeský (Písek) | G22: 20.34 | H22: 25.46 | I22: =IF(AND(G22=0,H22=0),"diskval.",IF(AND(G22>0,H22>0),MIN(G22:H22),IF(G22>0,G22,H22))) -> 20.34 | J22: =IF(G22+H22=0,1000,I22+((IF(G22>0,G22,100)+IF(H22>0,H22,100))/100000)) -> 20.340458
A23: 21 | C23: 21 | D23: Žižka | E23: Patrik | F23: Karlovarský (Cheb) | G23: 25.01 | H23: 18.27 | I23: =IF(AND(G23=0,H23=0),"diskval.",IF(AND(G23>0,H23>0),MIN(G23:H23),IF(G23>0,G23,H23))) -> 18.27 | J23: =IF(G23+H23=0,1000,I23+((IF(G23>0,G23,100)+IF(H23>0,H23,100))/100000)) -> 18.270433
A24: 22 | C24: 22 | D24: Šenkýř | E24: Marek | F24: Jihočeský (Jindřichův Hradec) | G24: 20.33 | H24: 19.08 | I24: =IF(AND(G24=0,H24=0),"diskval.",IF(AND(G24>0,H24>0),MIN(G24:H24),IF(G24>0,G24,H24))) -> 19.08 | J24: =IF(G24+H24=0,1000,I24+((IF(G24>0,G24,100)+IF(H24>0,H24,100))/100000)) -> 19.080394
A25: 23 | C25: 23 | D25: Klimeš | E25: Martin | F25: Vysočina (Havlíčkův Brod) | G25: 20.78 | H25: 18.31 | I25: =IF(AND(G25=0,H25=0),"diskval.",IF(AND(G25>0,H25>0),MIN(G25:H25),IF(G25>0,G25,H25))) -> 18.31 | J25: =IF(G25+H25=0,1000,I25+((IF(G25>0,G25,100)+IF(H25>0,H25,100))/100000)) -> 18.310391 | L25: jen 100m
A26: 24 | C26: 24 | D26: Píbal | E26: Jiří | F26: Jihočeský (Písek) | G26: 19.1 | I26: =IF(AND(G26=0,H26=0),"diskval.",IF(AND(G26>0,H26>0),MIN(G26:H26),IF(G26>0,G26,H26))) -> 19.1 | J26: =IF(G26+H26=0,1000,I26+((IF(G26>0,G26,100)+IF(H26>0,H26,100))/100000)) -> 19.101191
A27: 25 | C27: 25 | D27: Krygar | E27: Josef | F27: Jihočeský (ČB) | H27: 22.46 | I27: =IF(AND(G27=0,H27=0),"diskval.",IF(AND(G27>0,H27>0),MIN(G27:H27),IF(G27>0,G27,H27))) -> 22.46 | J27: =IF(G27+H27=0,1000,I27+((IF(G27>0,G27,100)+IF(H27>0,H27,100))/100000)) -> 22.461225
A28: 26 | C28: 26 | D28: Hladík | E28: Stanislav | F28: Vysočina (Třebíč) | G28: 17.55 | I28: =IF(AND(G28=0,H28=0),"diskval.",IF(AND(G28>0,H28>0),MIN(G28:H28),IF(G28>0,G28,H28))) -> 17.55 | J28: =IF(G28+H28=0,1000,I28+((IF(G28>0,G28,100)+IF(H28>0,H28,100))/100000)) -> 17.551175
A29: 27 | C29: 27 | D29: Šmíd | E29: Stanislav | F29: Jihočeský (Jindřichův Hradec) | H29: 20.81 | I29: =IF(AND(G29=0,H29=0),"diskval.",IF(AND(G29>0,H29>0),MIN(G29:H29),IF(G29>0,G29,H29))) -> 20.81 | J29: =IF(G29+H29=0,1000,I29+((IF(G29>0,G29,100)+IF(H29>0,H29,100))/100000)) -> 20.811208
A30: 28 | C30: 28 | D30: Vyhnánek | E30: Jan | F30: Středočeský Kutná Hora) | I30: =IF(AND(G30=0,H30=0),"diskval.",IF(AND(G30>0,H30>0),MIN(G30:H30),IF(G30>0,G30,H30))) -> diskval. | J30: =IF(G30+H30=0,1000,I30+((IF(G30>0,G30,100)+IF(H30>0,H30,100))/100000)) -> 1000
A31: 29 | C31: 29 | D31: Kasal | E31: Jakub | F31: Vysočina (Havlíčkův Brod) | G31: 17.35 | I31: =IF(AND(G31=0,H31=0),"diskval.",IF(AND(G31>0,H31>0),MIN(G31:H31),IF(G31>0,G31,H31))) -> 17.35 | J31: =IF(G31+H31=0,1000,I31+((IF(G31>0,G31,100)+IF(H31>0,H31,100))/100000)) -> 17.351174
A32: 30 | C32: 30 | D32: Koller | E32: Petr | F32: Jihočeský (Písek) | G32: 24.47 | I32: =IF(AND(G32=0,H32=0),"diskval.",IF(AND(G32>0,H32>0),MIN(G32:H32),IF(G32>0,G32,H32))) -> 24.47 | J32: =IF(G32+H32=0,1000,I32+((IF(G32>0,G32,100)+IF(H32>0,H32,100))/100000)) -> 24.471245 | L32: jen 100m
A33: 31 | C33: 31 | D33: Bašta | E33: Vojtěch | F33: Jihočeský (Jindřichův Hradec) | G33: 18.5 | H33: 18.43 | I33: =IF(AND(G33=0,H33=0),"diskval.",IF(AND(G33>0,H33>0),MIN(G33:H33),IF(G33>0,G33,H33))) -> 18.43 | J33: =IF(G33+H33=0,1000,I33+((IF(G33>0,G33,100)+IF(H33>0,H33,100))/100000)) -> 18.430369
A34: 32 | C34: 32 | D34: Pospíšil | E34: Michael | F34: Jihočeský (UO strakonice) | I34: =IF(AND(G34=0,H34=0),"diskval.",IF(AND(G34>0,H34>0),MIN(G34:H34),IF(G34>0,G34,H34))) -> diskval. | J34: =IF(G34+H34=0,1000,I34+((IF(G34>0,G34,100)+IF(H34>0,H34,100))/100000)) -> 1000 | L34: jen věž
A35: 33 | C35: 33 | D35: Hůla | E35: Jan | F35: Plzeň | G35: 18.25 | I35: =IF(AND(G35=0,H35=0),"diskval.",IF(AND(G35>0,H35>0),MIN(G35:H35),IF(G35>0,G35,H35))) -> 18.25 | J35: =IF(G35+H35=0,1000,I35+((IF(G35>0,G35,100)+IF(H35>0,H35,100))/100000)) -> 18.251182
A36: 34 | B36: 33 | C36: 34 | D36: Hladil | E36: Vojtěch | F36: Jihomoravský (Blansko) | G36: 21.94 | H36: 20.66 | I36: =IF(AND(G36=0,H36=0),"diskval.",IF(AND(G36>0,H36>0),MIN(G36:H36),IF(G36>0,G36,H36))) -> 20.66 | J36: =IF(G36+H36=0,1000,I36+((IF(G36>0,G36,100)+IF(H36>0,H36,100))/100000)) -> 20.660426
A37: 35 | C37: 35 | D37: Paulíček | E37: Stanislav | F37: Pardubický (Ústí nad Orlicí) | G37: 28.1 | I37: =IF(AND(G37=0,H37=0),"diskval.",IF(AND(G37>0,H37>0),MIN(G37:H37),IF(G37>0,G37,H37))) -> 28.1 | J37: =IF(G37+H37=0,1000,I37+((IF(G37>0,G37,100)+IF(H37>0,H37,100))/100000)) -> 28.101281
A38: 36 | C38: 36 | D38: Němec | E38: Patrik | F38: Jihomoravský (Blansko) | G38: 19.24 | H38: 18.96 | I38: =IF(AND(G38=0,H38=0),"diskval.",IF(AND(G38>0,H38>0),MIN(G38:H38),IF(G38>0,G38,H38))) -> 18.96 | J38: =IF(G38+H38=0,1000,I38+((IF(G38>0,G38,100)+IF(H38>0,H38,100))/100000)) -> 18.960382
A39: 37 | C39: 37 | D39: Janko | E39: Vladimír | F39: Vysočina (Pelhřimov) | G39: 18.68 | H39: 18.42 | I39: =IF(AND(G39=0,H39=0),"diskval.",IF(AND(G39>0,H39>0),MIN(G39:H39),IF(G39>0,G39,H39))) -> 18.42 | J39: =IF(G39+H39=0,1000,I39+((IF(G39>0,G39,100)+IF(H39>0,H39,100))/100000)) -> 18.420371 | L39: nad 35
A40: 38 | C40: 38 | D40: Klenka | E40: Vojtěch | F40: Královéhradecký (Hradec Králové) | G40: 16.04 | H40: 15.79 | I40: =IF(AND(G40=0,H40=0),"diskval.",IF(AND(G40>0,H40>0),MIN(G40:H40),IF(G40>0,G40,H40))) -> 15.79 | J40: =IF(G40+H40=0,1000,I40+((IF(G40>0,G40,100)+IF(H40>0,H40,100))/100000)) -> 15.790318
...

Sheet věže
A1: Výsledková listina věže Memoriál plk. JUDR Josefa Blažka 2.6. 2022
A2: Pořadí | C2: Start. č. | D2: Příjmení | E2: Jméno | F2: ÚO/SDH | G2: 1.pokus věž | H2: 2.pokus věž | I2: započ. čas věž | J2: eliminace stejného pořadí
A3: 1 | C3: 1 | D3: Štolba | E3: František | F3: Jihočeský (UO Strakonice) | G3: 26.9 | H3: 25.38 | I3: =IF(AND(G3=0,H3=0),"diskval.",IF(AND(G3>0,H3>0),MIN(G3:H3),IF(G3>0,G3,H3))) -> 25.38 | J3: =IF(G3+H3=0,1000,I3+((IF(G3>0,G3,100)+IF(H3>0,H3,100))/100000)) -> 25.380523
A4: 2 | C4: 2 | D4: Šourek | E4: Petr | F4: Jihočeský (Písek) | G4: 24 | H4: 22.21 | I4: =IF(AND(G4=0,H4=0),"diskval.",IF(AND(G4>0,H4>0),MIN(G4:H4),IF(G4>0,G4,H4))) -> 22.21 | J4: =IF(G4+H4=0,1000,I4+((IF(G4>0,G4,100)+IF(H4>0,H4,100))/100000)) -> 22.210462
A5: 3 | C5: 3 | D5: Vašíček | E5: Richard | F5: SDH Horní Slavkov | I5: =IF(AND(G5=0,H5=0),"diskval.",IF(AND(G5>0,H5>0),MIN(G5:H5),IF(G5>0,G5,H5))) -> diskval. | J5: =IF(G5+H5=0,1000,I5+((IF(G5>0,G5,100)+IF(H5>0,H5,100))/100000)) -> 1000 | L5: jen 100m
A6: 4 | C6: 4 | D6: Soukup | E6: Dominik | F6: SDH Žebnice | G6: 18.01 | H6: 16.43 | I6: =IF(AND(G6=0,H6=0),"diskval.",IF(AND(G6>0,H6>0),MIN(G6:H6),IF(G6>0,G6,H6))) -> 16.43 | J6: =IF(G6+H6=0,1000,I6+((IF(G6>0,G6,100)+IF(H6>0,H6,100))/100000)) -> 16.430344
A7: 5 | C7: 5 | D7: Divoš | E7: Václav | F7: Královéhradecký (Hradec Králové) | G7: 14.86 | H7: 15.07 | I7: =IF(AND(G7=0,H7=0),"diskval.",IF(AND(G7>0,H7>0),MIN(G7:H7),IF(G7>0,G7,H7))) -> 14.86 | J7: =IF(G7+H7=0,1000,I7+((IF(G7>0,G7,100)+IF(H7>0,H7,100))/100000)) -> 14.860299 | L7: jen věž
A8: 6 | C8: 6 | D8: Plíhal | E8: Jiří | F8: Jihomoravský (Blansko) | G8: 22.39 | I8: =IF(AND(G8=0,H8=0),"diskval.",IF(AND(G8>0,H8>0),MIN(G8:H8),IF(G8>0,G8,H8))) -> 22.39 | J8: =IF(G8+H8=0,1000,I8+((IF(G8>0,G8,100)+IF(H8>0,H8,100))/100000)) -> 22.391224
A9: 7 | C9: 7 | D9: Smutný | E9: Martin | F9: Plzeňský (Plzeň) | G9: 18.37 | H9: 22.42 | I9: =IF(AND(G9=0,H9=0),"diskval.",IF(AND(G9>0,H9>0),MIN(G9:H9),IF(G9>0,G9,H9))) -> 18.37 | J9: =IF(G9+H9=0,1000,I9+((IF(G9>0,G9,100)+IF(H9>0,H9,100))/100000)) -> 18.370408
A10: 8 | C10: 8 | D10: Völfel | E10: David | F10: Jihočeský (ČB) | I10: =IF(AND(G10=0,H10=0),"diskval.",IF(AND(G10>0,H10>0),MIN(G10:H10),IF(G10>0,G10,H10))) -> diskval. | J10: =IF(G10+H10=0,1000,I10+((IF(G10>0,G10,100)+IF(H10>0,H10,100))/100000)) -> 1000 | L10: jen 100m
A11: 9 | C11: 9 | D11: Jirout | E11: Patrik | F11: Jihočeský (Písek) | G11: 16.96 | H11: 16.26 | I11: =IF(AND(G11=0,H11=0),"diskval.",IF(AND(G11>0,H11>0),MIN(G11:H11),IF(G11>0,G11,H11))) -> 16.26 | J11: =IF(G11+H11=0,1000,I11+((IF(G11>0,G11,100)+IF(H11>0,H11,100))/100000)) -> 16.260332
A12: 10 | C12: 10 | D12: Kubeš | E12: Ondřej | F12: SDH Dynín | G12: 24.28 | H12: 22.5 | I12: =IF(AND(G12=0,H12=0),"diskval.",IF(AND(G12>0,H12>0),MIN(G12:H12),IF(G12>0,G12,H12))) -> 22.5 | J12: =IF(G12+H12=0,1000,I12+((IF(G12>0,G12,100)+IF(H12>0,H12,100))/100000)) -> 22.500468
A13: 11 | C13: 11 | D13: Paulíček | E13: Jakub | F13: Pardubický (Ústí nad Orlicí) | G13: 16.38 | I13: =IF(AND(G13=0,H13=0),"diskval.",IF(AND(G13>0,H13>0),MIN(G13:H13),IF(G13>0,G13,H13))) -> 16.38 | J13: =IF(G13+H13=0,1000,I13+((IF(G13>0,G13,100)+IF(H13>0,H13,100))/100000)) -> 16.381164
A14: 12 | C14: 12 | D14: Fryč | E14: Tomáš | F14: Jihomoravský (Blansko) | G14: 17.04 | H14: 17 | I14: =IF(AND(G14=0,H14=0),"diskval.",IF(AND(G14>0,H14>0),MIN(G14:H14),IF(G14>0,G14,H14))) -> 17 | J14: =IF(G14+H14=0,1000,I14+((IF(G14>0,G14,100)+IF(H14>0,H14,100))/100000)) -> 17.00034
A15: 13 | C15: 13 | D15: Tomášek | E15: Jan | F15: Plzeňský (Plzeň) | G15: 18.13 | H15: 19.52 | I15: =IF(AND(G15=0,H15=0),"diskval.",IF(AND(G15>0,H15>0),MIN(G15:H15),IF(G15>0,G15,H15))) -> 18.13 | J15: =IF(G15+H15=0,1000,I15+((IF(G15>0,G15,100)+IF(H15>0,H15,100))/100000)) -> 18.130377
A16: 14 | C16: 14 | D16: Viktora | E16: Martin | F16: Středočeský (Kutná Hora) | G16: 15.92 | H16: 15.88 | I16: =IF(AND(G16=0,H16=0),"diskval.",IF(AND(G16>0,H16>0),MIN(G16:H16),IF(G16>0,G16,H16))) -> 15.88 | J16: =IF(G16+H16=0,1000,I16+((IF(G16>0,G16,100)+IF(H16>0,H16,100))/100000)) -> 15.880318
A17: 15 | C17: 15 | D17: Daněk | E17: Tomáš | F17: hl.m. Prahy | G17: 18.75 | H17: 15.55 | I17: =IF(AND(G17=0,H17=0),"diskval.",IF(AND(G17>0,H17>0),MIN(G17:H17),IF(G17>0,G17,H17))) -> 15.55 | J17: =IF(G17+H17=0,1000,I17+((IF(G17>0,G17,100)+IF(H17>0,H17,100))/100000)) -> 15.550343
A18: 16 | C18: 16 | D18: Kligl | E18: Patrik | F18: Královéhradecký (Hradec Králové) | G18: 15.62 | H18: 14.42 | I18: =IF(AND(G18=0,H18=0),"diskval.",IF(AND(G18>0,H18>0),MIN(G18:H18),IF(G18>0,G18,H18))) -> 14.42 | J18: =IF(G18+H18=0,1000,I18+((IF(G18>0,G18,100)+IF(H18>0,H18,100))/100000)) -> 14.4203
A19: 17 | C19: 17 | D19: Nýdl | E19: Jakub | F19: Jihočeský (KŘ HZS) | I19: =IF(AND(G19=0,H19=0),"diskval.",IF(AND(G19>0,H19>0),MIN(G19:H19),IF(G19>0,G19,H19))) -> diskval. | J19: =IF(G19+H19=0,1000,I19+((IF(G19>0,G19,100)+IF(H19>0,H19,100))/100000)) -> 1000 | L19: jen 100m
A20: 18 | C20: 18 | D20: Caha | E20: Martin | F20: Vysočina (Třebíč) | G20: 17.82 | H20: 17.33 | I20: =IF(AND(G20=0,H20=0),"diskval.",IF(AND(G20>0,H20>0),MIN(G20:H20),IF(G20>0,G20,H20))) -> 17.33 | J20: =IF(G20+H20=0,1000,I20+((IF(G20>0,G20,100)+IF(H20>0,H20,100))/100000)) -> 17.330351
A21: 19 | C21: 19 | D21: Balog | E21: Jiří | F21: Jihočeský (Strakonice) | G21: 24.87 | H21: 22.27 | I21: =IF(AND(G21=0,H21=0),"diskval.",IF(AND(G21>0,H21>0),MIN(G21:H21),IF(G21>0,G21,H21))) -> 22.27 | J21: =IF(G21+H21=0,1000,I21+((IF(G21>0,G21,100)+IF(H21>0,H21,100))/100000)) -> 22.270471
A22: 20 | C22: 20 | D22: Motejzík | E22: Martin | F22: Jihočeský (Písek) | G22: 20.69 | I22: =IF(AND(G22=0,H22=0),"diskval.",IF(AND(G22>0,H22>0),MIN(G22:H22),IF(G22>0,G22,H22))) -> 20.69 | J22: =IF(G22+H22=0,1000,I22+((IF(G22>0,G22,100)+IF(H22>0,H22,100))/100000)) -> 20.691207
A23: 21 | C23: 21 | D23: Žižka | E23: Patrik | F23: Karlovarský (Cheb) | G23: 16.84 | I23: =IF(AND(G23=0,H23=0),"diskval.",IF(AND(G23>0,H23>0),MIN(G23:H23),IF(G23>0,G23,H23))) -> 16.84 | J23: =IF(G23+H23=0,1000,I23+((IF(G23>0,G23,100)+IF(H23>0,H23,100))/100000)) -> 16.841168
A24: 22 | C24: 22 | D24: Šenkýř | E24: Marek | F24: Jihočeský (Jindřichův Hradec) | G24: 20.69 | H24: 19.7 | I24: =IF(AND(G24=0,H24=0),"diskval.",IF(AND(G24>0,H24>0),MIN(G24:H24),IF(G24>0,G24,H24))) -> 19.7 | J24: =IF(G24+H24=0,1000,I24+((IF(G24>0,G24,100)+IF(H24>0,H24,100))/100000)) -> 19.700404
A25: 23 | C25: 23 | D25: Klimeš | E25: Martin | F25: Vysočina (Havlíčkův Brod) | I25: =IF(AND(G25=0,H25=0),"diskval.",IF(AND(G25>0,H25>0),MIN(G25:H25),IF(G25>0,G25,H25))) -> diskval. | J25: =IF(G25+H25=0,1000,I25+((IF(G25>0,G25,100)+IF(H25>0,H25,100))/100000)) -> 1000 | L25: jen 100m
A26: 24 | C26: 24 | D26: Píbal | E26: Jiří | F26: Jihočeský (Písek) | I26: =IF(AND(G26=0,H26=0),"diskval.",IF(AND(G26>0,H26>0),MIN(G26:H26),IF(G26>0,G26,H26))) -> diskval. | J26: =IF(G26+H26=0,1000,I26+((IF(G26>0,G26,100)+IF(H26>0,H26,100))/100000)) -> 1000
A27: 25 | C27: 25 | D27: Krygar | E27: Josef | F27: Jihočeský (ČB) | G27: 19.37 | H27: 18.35 | I27: =IF(AND(G27=0,H27=0),"diskval.",IF(AND(G27>0,H27>0),MIN(G27:H27),IF(G27>0,G27,H27))) -> 18.35 | J27: =IF(G27+H27=0,1000,I27+((IF(G27>0,G27,100)+IF(H27>0,H27,100))/100000)) -> 18.350377
A28: 26 | C28: 26 | D28: Hladík | E28: Stanislav | F28: Vysočina (Třebíč) | G28: 16.81 | H28: 15.92 | I28: =IF(AND(G28=0,H28=0),"diskval.",IF(AND(G28>0,H28>0),MIN(G28:H28),IF(G28>0,G28,H28))) -> 15.92 | J28: =IF(G28+H28=0,1000,I28+((IF(G28>0,G28,100)+IF(H28>0,H28,100))/100000)) -> 15.920327
A29: 27 | C29: 27 | D29: Šmíd | E29: Stanislav | F29: Jihočeský (Jindřichův Hradec) | G29: 17.43 | H29: 17.34 | I29: =IF(AND(G29=0,H29=0),"diskval.",IF(AND(G29>0,H29>0),MIN(G29:H29),IF(G29>0,G29,H29))) -> 17.34 | J29: =IF(G29+H29=0,1000,I29+((IF(G29>0,G29,100)+IF(H29>0,H29,100))/100000)) -> 17.340348
A30: 28 | C30: 28 | D30: Vyhnánek | E30: Jan | F30: Středočeský Kutná Hora) | I30: =IF(AND(G30=0,H30=0),"diskval.",IF(AND(G30>0,H30>0),MIN(G30:H30),IF(G30>0,G30,H30))) -> diskval. | J30: =IF(G30+H30=0,1000,I30+((IF(G30>0,G30,100)+IF(H30>0,H30,100))/100000)) -> 1000
A31: 29 | C31: 29 | D31: Kasal | E31: Jakub | F31: Vysočina (Havlíčkův Brod) | G31: 19.45 | I31: =IF(AND(G31=0,H31=0),"diskval.",IF(AND(G31>0,H31>0),MIN(G31:H31),IF(G31>0,G31,H31))) -> 19.45 | J31: =IF(G31+H31=0,1000,I31+((IF(G31>0,G31,100)+IF(H31>0,H31,100))/100000)) -> 19.451194
A32: 30 | C32: 30 | D32: Koller | E32: Petr | F32: Jihočeský (Písek) | I32: =IF(AND(G32=0,H32=0),"diskval.",IF(AND(G32>0,H32>0),MIN(G32:H32),IF(G32>0,G32,H32))) -> diskval. | J32: =IF(G32+H32=0,1000,I32+((IF(G32>0,G32,100)+IF(H32>0,H32,100))/100000)) -> 1000 | L32: jen 100m
A33: 31 | C33: 31 | D33: Bašta | E33: Vojtěch | F33: Jihočeský (Jindřichův Hradec) | G33: 16.3 | H33: 16.76 | I33: =IF(AND(G33=0,H33=0),"diskval.",IF(AND(G33>0,H33>0),MIN(G33:H33),IF(G33>0,G33,H33))) -> 16.3 | J33: =IF(G33+H33=0,1000,I33+((IF(G33>0,G33,100)+IF(H33>0,H33,100))/100000)) -> 16.300331
A34: 32 | C34: 32 | D34: Pospíšil | E34: Michael | F34: Jihočeský (UO strakonice) | G34: 30.69 | H34: 29.07 | I34: =IF(AND(G34=0,H34=0),"diskval.",IF(AND(G34>0,H34>0),MIN(G34:H34),IF(G34>0,G34,H34))) -> 29.07 | J34: =IF(G34+H34=0,1000,I34+((IF(G34>0,G34,100)+IF(H34>0,H34,100))/100000)) -> 29.070598 | L34: jen věž
A35: 33 | C35: 33 | D35: Hůla | E35: Jan | F35: Plzeň | G35: 15.79 | H35: 15.74 | I35: =IF(AND(G35=0,H35=0),"diskval.",IF(AND(G35>0,H35>0),MIN(G35:H35),IF(G35>0,G35,H35))) -> 15.74 | J35: =IF(G35+H35=0,1000,I35+((IF(G35>0,G35,100)+IF(H35>0,H35,100))/100000)) -> 15.740315
A36: 34 | C36: 34 | D36: Hladil | E36: Vojtěch | F36: Jihomoravský (Blansko) | G36: 21.84 | H36: 18.35 | I36: =IF(AND(G36=0,H36=0),"diskval.",IF(AND(G36>0,H36>0),MIN(G36:H36),IF(G36>0,G36,H36))) -> 18.35 | J36: =IF(G36+H36=0,1000,I36+((IF(G36>0,G36,100)+IF(H36>0,H36,100))/100000)) -> 18.350402
A37: 35 | C37: 35 | D37: Paulíček | E37: Stanislav | F37: Pardubický (Ústí nad Orlicí) | G37: 16.05 | H37: 16.2 | I37: =IF(AND(G37=0,H37=0),"diskval.",IF(AND(G37>0,H37>0),MIN(G37:H37),IF(G37>0,G37,H37))) -> 16.05 | J37: =IF(G37+H37=0,1000,I37+((IF(G37>0,G37,100)+IF(H37>0,H37,100))/100000)) -> 16.050323
A38: 36 | C38: 36 | D38: Němec | E38: Patrik | F38: Jihomoravský (Blansko) | G38: 17.1 | H38: 17.72 | I38: =IF(AND(G38=0,H38=0),"diskval.",IF(AND(G38>0,H38>0),MIN(G38:H38),IF(G38>0,G38,H38))) -> 17.1 | J38: =IF(G38+H38=0,1000,I38+((IF(G38>0,G38,100)+IF(H38>0,H38,100))/100000)) -> 17.100348
A39: 37 | C39: 37 | D39: Janko | E39: Vladimír | F39: Vysočina (Pelhřimov) | G39: 15.57 | H39: 15.76 | I39: =IF(AND(G39=0,H39=0),"diskval.",IF(AND(G39>0,H39>0),MIN(G39:H39),IF(G39>0,G39,H39))) -> 15.57 | J39: =IF(G39+H39=0,1000,I39+((IF(G39>0,G39,100)+IF(H39>0,H39,100))/100000)) -> 15.570313 | L39: nad 35
A40: 38 | C40: 38 | D40: Klenka | E40: Vojtěch | F40: Královéhradecký (Hradec Králové) | G40: 21.27 | H40: 16.53 | I40: =IF(AND(G40=0,H40=0),"diskval.",IF(AND(G40>0,H40>0),MIN(G40:H40),IF(G40>0,G40,H40))) -> 16.53 | J40: =IF(G40+H40=0,1000,I40+((IF(G40>0,G40,100)+IF(H40>0,H40,100))/100000)) -> 16.530378
...

Sheet Dvojboj
C1: Výsledková listina dvojboj Memoriál plk. JUDR Josefa Blažka 2.6. 2022
A2: Pořadí | C2: Start. č. | D2: Příjmení | E2: Jméno | F2: započ. čas věž | G2: započ. čas 100m | H2: čas dvojboj | I2: horší pok. věž | J2: horší pok. 100m | K2: elimin. stejného pořadí | N2: Listy 100M A VĚŽE MUSÍ BÝT SEŘAZENY PODLE STARTOVNÍCH ČÍSEL
A3: 1 | C3: 16 | D3: Kligl | E3: Patrik | F3: 14.42 | G3: 16.85 | H3: =IF(OR(F3="diskval.",G3="diskval."),"diskval.",F3+G3) -> 31.27 | I3: =IF(OR(věže!G18=0,věže!H18=0),100,MAX(věže!G18:H18)) -> 15.62 | J3: =IF(OR('100m'!G18=0,'100m'!H18=0),100,MAX('100m'!G18:H18)) -> 100 | K3: =IF(H3="diskval.",1000,H3+((IF(I3>0,I3,100)+IF(J3>0,J3,100))/100000)) -> 31.271156
A4: 2 | C4: 67 | D4: Vladislav | E4: Filip | F4: 14.61 | G4: 17.43 | H4: =IF(OR(F4="diskval.",G4="diskval."),"diskval.",F4+G4) -> 32.04 | I4: =IF(OR(věže!G69=0,věže!H69=0),100,MAX(věže!G69:H69)) -> 14.94 | J4: =IF(OR('100m'!G69=0,'100m'!H69=0),100,MAX('100m'!G69:H69)) -> 100 | K4: =IF(H4="diskval.",1000,H4+((IF(I4>0,I4,100)+IF(J4>0,J4,100))/100000)) -> 32.041149
A5: 3 | C5: 38 | D5: Klenka | E5: Vojtěch | F5: 16.53 | G5: 15.79 | H5: =IF(OR(F5="diskval.",G5="diskval."),"diskval.",F5+G5) -> 32.32 | I5: =IF(OR(věže!G40=0,věže!H40=0),100,MAX(věže!G40:H40)) -> 21.27 | J5: =IF(OR('100m'!G40=0,'100m'!H40=0),100,MAX('100m'!G40:H40)) -> 16.04 | K5: =IF(H5="diskval.",1000,H5+((IF(I5>0,I5,100)+IF(J5>0,J5,100))/100000)) -> 32.320373
A6: 4 | C6: 44 | D6: Hons | E6: Lukáš | F6: 15.17 | G6: 17.66 | H6: =IF(OR(F6="diskval.",G6="diskval."),"diskval.",F6+G6) -> 32.83 | I6: =IF(OR(věže!G46=0,věže!H46=0),100,MAX(věže!G46:H46)) -> 15.49 | J6: =IF(OR('100m'!G46=0,'100m'!H46=0),100,MAX('100m'!G46:H46)) -> 19.96 | K6: =IF(H6="diskval.",1000,H6+((IF(I6>0,I6,100)+IF(J6>0,J6,100))/100000)) -> 32.830354
A7: 5 | C7: 11 | D7: Paulíček | E7: Jakub | F7: 16.38 | G7: 16.74 | H7: =IF(OR(F7="diskval.",G7="diskval."),"diskval.",F7+G7) -> 33.12 | I7: =IF(OR(věže!G13=0,věže!H13=0),100,MAX(věže!G13:H13)) -> 100 | J7: =IF(OR('100m'!G13=0,'100m'!H13=0),100,MAX('100m'!G13:H13)) -> 17.15 | K7: =IF(H7="diskval.",1000,H7+((IF(I7>0,I7,100)+IF(J7>0,J7,100))/100000)) -> 33.121171
A8: 6 | C8: 4 | D8: Soukup | E8: Dominik | F8: 16.43 | G8: 16.76 | H8: =IF(OR(F8="diskval.",G8="diskval."),"diskval.",F8+G8) -> 33.19 | I8: =IF(OR(věže!G6=0,věže!H6=0),100,MAX(věže!G6:H6)) -> 18.01 | J8: =IF(OR('100m'!G6=0,'100m'!H6=0),100,MAX('100m'!G6:H6)) -> 17.07 | K8: =IF(H8="diskval.",1000,H8+((IF(I8>0,I8,100)+IF(J8>0,J8,100))/100000)) -> 33.190351
A9: 7 | C9: 26 | D9: Hladík | E9: Stanislav | F9: 15.92 | G9: 17.55 | H9: =IF(OR(F9="diskval.",G9="diskval."),"diskval.",F9+G9) -> 33.47 | I9: =IF(OR(věže!G28=0,věže!H28=0),100,MAX(věže!G28:H28)) -> 16.81 | J9: =IF(OR('100m'!G28=0,'100m'!H28=0),100,MAX('100m'!G28:H28)) -> 100 | K9: =IF(H9="diskval.",1000,H9+((IF(I9>0,I9,100)+IF(J9>0,J9,100))/100000)) -> 33.471168
A10: 8 | C10: 71 | D10: Roháč | E10: Martin (nad 35let) | F10: 15.85 | G10: 17.69 | H10: =IF(OR(F10="diskval.",G10="diskval."),"diskval.",F10+G10) -> 33.54 | I10: =IF(OR(věže!G73=0,věže!H73=0),100,MAX(věže!G73:H73)) -> 18.34 | J10: =IF(OR('100m'!G73=0,'100m'!H73=0),100,MAX('100m'!G73:H73)) -> 100 | K10: =IF(H10="diskval.",1000,H10+((IF(I10>0,I10,100)+IF(J10>0,J10,100))/100000)) -> 33.541183
A11: 9 | C11: 43 | D11: Ježek | E11: Miloš | F11: 16.33 | G11: 17.43 | H11: =IF(OR(F11="diskval.",G11="diskval."),"diskval.",F11+G11) -> 33.76 | I11: =IF(OR(věže!G45=0,věže!H45=0),100,MAX(věže!G45:H45)) -> 16.47 | J11: =IF(OR('100m'!G45=0,'100m'!H45=0),100,MAX('100m'!G45:H45)) -> 17.55 | K11: =IF(H11="diskval.",1000,H11+((IF(I11>0,I11,100)+IF(J11>0,J11,100))/100000)) -> 33.76034
A12: 10 | C12: 37 | D12: Janko | E12: Vladimír (nad 35let) | F12: 15.57 | G12: 18.42 | H12: =IF(OR(F12="diskval.",G12="diskval."),"diskval.",F12+G12) -> 33.99 | I12: =IF(OR(věže!G39=0,věže!H39=0),100,MAX(věže!G39:H39)) -> 15.76 | J12: =IF(OR('100m'!G39=0,'100m'!H39=0),100,MAX('100m'!G39:H39)) -> 18.68 | K12: =IF(H12="diskval.",1000,H12+((IF(I12>0,I12,100)+IF(J12>0,J12,100))/100000)) -> 33.990344
A13: 11 | C13: 33 | D13: Hůla | E13: Jan (nad 35let) | F13: 15.74 | G13: 18.25 | H13: =IF(OR(F13="diskval.",G13="diskval."),"diskval.",F13+G13) -> 33.99 | I13: =IF(OR(věže!G35=0,věže!H35=0),100,MAX(věže!G35:H35)) -> 15.79 | J13: =IF(OR('100m'!G35=0,'100m'!H35=0),100,MAX('100m'!G35:H35)) -> 100 | K13: =IF(H13="diskval.",1000,H13+((IF(I13>0,I13,100)+IF(J13>0,J13,100))/100000)) -> 33.991158
A14: 12 | C14: 31 | D14: Bašta | E14: Vojtěch | F14: 16.3 | G14: 18.43 | H14: =IF(OR(F14="diskval.",G14="diskval."),"diskval.",F14+G14) -> 34.73 | I14: =IF(OR(věže!G33=0,věže!H33=0),100,MAX(věže!G33:H33)) -> 16.76 | J14: =IF(OR('100m'!G33=0,'100m'!H33=0),100,MAX('100m'!G33:H33)) -> 18.5 | K14: =IF(H14="diskval.",1000,H14+((IF(I14>0,I14,100)+IF(J14>0,J14,100))/100000)) -> 34.730353
A15: 13 | C15: 15 | D15: Daněk | E15: Tomáš | F15: 15.55 | G15: 19.2 | H15: =IF(OR(F15="diskval.",G15="diskval."),"diskval.",F15+G15) -> 34.75 | I15: =IF(OR(věže!G17=0,věže!H17=0),100,MAX(věže!G17:H17)) -> 18.75 | J15: =IF(OR('100m'!G17=0,'100m'!H17=0),100,MAX('100m'!G17:H17)) -> 100 | K15: =IF(H15="diskval.",1000,H15+((IF(I15>0,I15,100)+IF(J15>0,J15,100))/100000)) -> 34.751188
A16: 14 | C16: 12 | D16: Fryč | E16: Tomáš | F16: 17 | G16: 17.93 | H16: =IF(OR(F16="diskval.",G16="diskval."),"diskval.",F16+G16) -> 34.93 | I16: =IF(OR(věže!G14=0,věže!H14=0),100,MAX(věže!G14:H14)) -> 17.04 | J16: =IF(OR('100m'!G14=0,'100m'!H14=0),100,MAX('100m'!G14:H14)) -> 20.43 | K16: =IF(H16="diskval.",1000,H16+((IF(I16>0,I16,100)+IF(J16>0,J16,100))/100000)) -> 34.930375
A17: 15 | C17: 9 | D17: Jirout | E17: Patrik | F17: 16.26 | G17: 18.78 | H17: =IF(OR(F17="diskval.",G17="diskval."),"diskval.",F17+G17) -> 35.04 | I17: =IF(OR(věže!G11=0,věže!H11=0),100,MAX(věže!G11:H11)) -> 16.96 | J17: =IF(OR('100m'!G11=0,'100m'!H11=0),100,MAX('100m'!G11:H11)) -> 19.72 | K17: =IF(H17="diskval.",1000,H17+((IF(I17>0,I17,100)+IF(J17>0,J17,100))/100000)) -> 35.040367
A18: 16 | C18: 21 | D18: Žižka | E18: Patrik | F18: 16.84 | G18: 18.27 | H18: =IF(OR(F18="diskval.",G18="diskval."),"diskval.",F18+G18) -> 35.11 | I18: =IF(OR(věže!G23=0,věže!H23=0),100,MAX(věže!G23:H23)) -> 100 | J18: =IF(OR('100m'!G23=0,'100m'!H23=0),100,MAX('100m'!G23:H23)) -> 25.01 | K18: =IF(H18="diskval.",1000,H18+((IF(I18>0,I18,100)+IF(J18>0,J18,100))/100000)) -> 35.11125
A19: 17 | C19: 64 | D19: Ježek | E19: Jan | F19: 15.98 | G19: 19.18 | H19: =IF(OR(F19="diskval.",G19="diskval."),"diskval.",F19+G19) -> 35.16 | I19: =IF(OR(věže!G66=0,věže!H66=0),100,MAX(věže!G66:H66)) -> 16.43 | J19: =IF(OR('100m'!G66=0,'100m'!H66=0),100,MAX('100m'!G66:H66)) -> 19.34 | K19: =IF(H19="diskval.",1000,H19+((IF(I19>0,I19,100)+IF(J19>0,J19,100))/100000)) -> 35.160358
A20: 18 | C20: 55 | D20: Pěnča | E20: Ivan | F20: 17.53 | G20: 17.67 | H20: =IF(OR(F20="diskval.",G20="diskval."),"diskval.",F20+G20) -> 35.2 | I20: =IF(OR(věže!G57=0,věže!H57=0),100,MAX(věže!G57:H57)) -> 19.62 | J20: =IF(OR('100m'!G57=0,'100m'!H57=0),100,MAX('100m'!G57:H57)) -> 18.43 | K20: =IF(H20="diskval.",1000,H20+((IF(I20>0,I20,100)+IF(J20>0,J20,100))/100000)) -> 35.200381
A21: 19 | C21: 65 | D21: Bělský | E21: Dominik | F21: 17.76 | G21: 17.67 | H21: =IF(OR(F21="diskval.",G21="diskval."),"diskval.",F21+G21) -> 35.43 | I21: =IF(OR(věže!G67=0,věže!H67=0),100,MAX(věže!G67:H67)) -> 18.22 | J21: =IF(OR('100m'!G67=0,'100m'!H67=0),100,MAX('100m'!G67:H67)) -> 100 | K21: =IF(H21="diskval.",1000,H21+((IF(I21>0,I21,100)+IF(J21>0,J21,100))/100000)) -> 35.431182
A22: 20 | C22: 63 | D22: Říha | E22: Václav | F22: 16.6 | G22: 18.97 | H22: =IF(OR(F22="diskval.",G22="diskval."),"diskval.",F22+G22) -> 35.57 | I22: =IF(OR(věže!G65=0,věže!H65=0),100,MAX(věže!G65:H65)) -> 17.52 | J22: =IF(OR('100m'!G65=0,'100m'!H65=0),100,MAX('100m'!G65:H65)) -> 19.85 | K22: =IF(H22="diskval.",1000,H22+((IF(I22>0,I22,100)+IF(J22>0,J22,100))/100000)) -> 35.570374
A23: 21 | C23: 18 | D23: Caha | E23: Martin | F23: 17.33 | G23: 18.24 | H23: =IF(OR(F23="diskval.",G23="diskval."),"diskval.",F23+G23) -> 35.57 | I23: =IF(OR(věže!G20=0,věže!H20=0),100,MAX(věže!G20:H20)) -> 17.82 | J23: =IF(OR('100m'!G20=0,'100m'!H20=0),100,MAX('100m'!G20:H20)) -> 100 | K23: =IF(H23="diskval.",1000,H23+((IF(I23>0,I23,100)+IF(J23>0,J23,100))/100000)) -> 35.571178
A24: 22 | C24: 14 | D24: Viktora | E24: Martin | F24: 15.88 | G24: 19.86 | H24: =IF(OR(F24="diskval.",G24="diskval."),"diskval.",F24+G24) -> 35.74 | I24: =IF(OR(věže!G16=0,věže!H16=0),100,MAX(věže!G16:H16)) -> 15.92 | J24: =IF(OR('100m'!G16=0,'100m'!H16=0),100,MAX('100m'!G16:H16)) -> 100 | K24: =IF(H24="diskval.",1000,H24+((IF(I24>0,I24,100)+IF(J24>0,J24,100))/100000)) -> 35.741159
A25: 23 | C25: 36 | D25: Němec | E25: Patrik | F25: 17.1 | G25: 18.96 | H25: =IF(OR(F25="diskval.",G25="diskval."),"diskval.",F25+G25) -> 36.06 | I25: =IF(OR(věže!G38=0,věže!H38=0),100,MAX(věže!G38:H38)) -> 17.72 | J25: =IF(OR('100m'!G38=0,'100m'!H38=0),100,MAX('100m'!G38:H38)) -> 19.24 | K25: =IF(H25="diskval.",1000,H25+((IF(I25>0,I25,100)+IF(J25>0,J25,100))/100000)) -> 36.06037
A26: 24 | C26: 13 | D26: Tomášek | E26: Jan | F26: 18.13 | G26: 18.26 | H26: =IF(OR(F26="diskval.",G26="diskval."),"diskval.",F26+G26) -> 36.39 | I26: =IF(OR(věže!G15=0,věže!H15=0),100,MAX(věže!G15:H15)) -> 19.52 | J26: =IF(OR('100m'!G15=0,'100m'!H15=0),100,MAX('100m'!G15:H15)) -> 25.19 | K26: =IF(H26="diskval.",1000,H26+((IF(I26>0,I26,100)+IF(J26>0,J26,100))/100000)) -> 36.390447
A27: 25 | C27: 70 | D27: Kučera | E27: Jan | F27: 17.84 | G27: 18.76 | H27: =IF(OR(F27="diskval.",G27="diskval."),"diskval.",F27+G27) -> 36.6 | I27: =IF(OR(věže!G72=0,věže!H72=0),100,MAX(věže!G72:H72)) -> 18.94 | J27: =IF(OR('100m'!G72=0,'100m'!H72=0),100,MAX('100m'!G72:H72)) -> 18.83 | K27: =IF(H27="diskval.",1000,H27+((IF(I27>0,I27,100)+IF(J27>0,J27,100))/100000)) -> 36.600378
A28: 26 | C28: 72 | D28: Nechvátal | E28: Radek | F28: 19.15 | G28: 17.45 | H28: =IF(OR(F28="diskval.",G28="diskval."),"diskval.",F28+G28) -> 36.6 | I28: =IF(OR(věže!G74=0,věže!H74=0),100,MAX(věže!G74:H74)) -> 20.64 | J28: =IF(OR('100m'!G74=0,'100m'!H74=0),100,MAX('100m'!G74:H74)) -> 100 | K28: =IF(H28="diskval.",1000,H28+((IF(I28>0,I28,100)+IF(J28>0,J28,100))/100000)) -> 36.601206
A29: 27 | C29: 39 | D29: Hájek | E29: David | F29: 18.95 | G29: 17.67 | H29: =IF(OR(F29="diskval.",G29="diskval."),"diskval.",F29+G29) -> 36.62 | I29: =IF(OR(věže!G41=0,věže!H41=0),100,MAX(věže!G41:H41)) -> 100 | J29: =IF(OR('100m'!G41=0,'100m'!H41=0),100,MAX('100m'!G41:H41)) -> 100 | K29: =IF(H29="diskval.",1000,H29+((IF(I29>0,I29,100)+IF(J29>0,J29,100))/100000)) -> 36.622
A30: 28 | C30: 29 | D30: Kasal | E30: Jakub | F30: 19.45 | G30: 17.35 | H30: =IF(OR(F30="diskval.",G30="diskval."),"diskval.",F30+G30) -> 36.8 | I30: =IF(OR(věže!G31=0,věže!H31=0),100,MAX(věže!G31:H31)) -> 100 | J30: =IF(OR('100m'!G31=0,'100m'!H31=0),100,MAX('100m'!G31:H31)) -> 100 | K30: =IF(H30="diskval.",1000,H30+((IF(I30>0,I30,100)+IF(J30>0,J30,100))/100000)) -> 36.802
A31: 29 | C31: 54 | D31: Čada | E31: Milan (nad 35 let) | F31: 17.31 | G31: 19.84 | H31: =IF(OR(F31="diskval.",G31="diskval."),"diskval.",F31+G31) -> 37.15 | I31: =IF(OR(věže!G56=0,věže!H56=0),100,MAX(věže!G56:H56)) -> 21.03 | J31: =IF(OR('100m'!G56=0,'100m'!H56=0),100,MAX('100m'!G56:H56)) -> 20.33 | K31: =IF(H31="diskval.",1000,H31+((IF(I31>0,I31,100)+IF(J31>0,J31,100))/100000)) -> 37.150414
A32: 30 | C32: 41 | D32: Janů | E32: Pavel | F32: 17.71 | G32: 19.45 | H32: =IF(OR(F32="diskval.",G32="diskval."),"diskval.",F32+G32) -> 37.16 | I32: =IF(OR(věže!G43=0,věže!H43=0),100,MAX(věže!G43:H43)) -> 17.73 | J32: =IF(OR('100m'!G43=0,'100m'!H43=0),100,MAX('100m'!G43:H43)) -> 24.32 | K32: =IF(H32="diskval.",1000,H32+((IF(I32>0,I32,100)+IF(J32>0,J32,100))/100000)) -> 37.16042
A33: 31 | C33: 7 | D33: Smutný | E33: Martin | F33: 18.37 | G33: 19.19 | H33: =IF(OR(F33="diskval.",G33="diskval."),"diskval.",F33+G33) -> 37.56 | I33: =IF(OR(věže!G9=0,věže!H9=0),100,MAX(věže!G9:H9)) -> 22.42 | J33: =IF(OR('100m'!G9=0,'100m'!H9=0),100,MAX('100m'!G9:H9)) -> 100 | K33: =IF(H33="diskval.",1000,H33+((IF(I33>0,I33,100)+IF(J33>0,J33,100))/100000)) -> 37.561224
A34: 32 | C34: 47 | D34: Měřička | E34: Michal | F34: 17.53 | G34: 20.07 | H34: =IF(OR(F34="diskval.",G34="diskval."),"diskval.",F34+G34) -> 37.6 | I34: =IF(OR(věže!G49=0,věže!H49=0),100,MAX(věže!G49:H49)) -> 20.79 | J34: =IF(OR('100m'!G49=0,'100m'!H49=0),100,MAX('100m'!G49:H49)) -> 100 | K34: =IF(H34="diskval.",1000,H34+((IF(I34>0,I34,100)+IF(J34>0,J34,100))/100000)) -> 37.601208
A35: 33 | C35: 27 | D35: Šmíd | E35: Stanislav | F35: 17.34 | G35: 20.81 | H35: =IF(OR(F35="diskval.",G35="diskval."),"diskval.",F35+G35) -> 38.15 | I35: =IF(OR(věže!G29=0,věže!H29=0),100,MAX(věže!G29:H29)) -> 17.43 | J35: =IF(OR('100m'!G29=0,'100m'!H29=0),100,MAX('100m'!G29:H29)) -> 100 | K35: =IF(H35="diskval.",1000,H35+((IF(I35>0,I35,100)+IF(J35>0,J35,100))/100000)) -> 38.151174
A36: 34 | C36: 45 | D36: Šváb | E36: Jan | F36: 21.24 | G36: 17.01 | H36: =IF(OR(F36="diskval.",G36="diskval."),"diskval.",F36+G36) -> 38.25 | I36: =IF(OR(věže!G47=0,věže!H47=0),100,MAX(věže!G47:H47)) -> 100 | J36: =IF(OR('100m'!G47=0,'100m'!H47=0),100,MAX('100m'!G47:H47)) -> 17.45 | K36: =IF(H36="diskval.",1000,H36+((IF(I36>0,I36,100)+IF(J36>0,J36,100))/100000)) -> 38.251174
A37: 35 | C37: 62 | D37: Hrdlička | E37: Jaroslav (nad 35let) | F37: 18.53 | G37: 19.99 | H37: =IF(OR(F37="diskval.",G37="diskval."),"diskval.",F37+G37) -> 38.52 | I37: =IF(OR(věže!G64=0,věže!H64=0),100,MAX(věže!G64:H64)) -> 100 | J37: =IF(OR('100m'!G64=0,'100m'!H64=0),100,MAX('100m'!G64:H64)) -> 20.67 | K37: =IF(H37="diskval.",1000,H37+((IF(I37>0,I37,100)+IF(J37>0,J37,100))/100000)) -> 38.521207
A38: 36 | C38: 52 | D38: Zouhar | E38: Jaroslav | F38: 17.78 | G38: 20.93 | H38: =IF(OR(F38="diskval.",G38="diskval."),"diskval.",F38+G38) -> 38.71 | I38: =IF(OR(věže!G54=0,věže!H54=0),100,MAX(věže!G54:H54)) -> 19.69 | J38: =IF(OR('100m'!G54=0,'100m'!H54=0),100,MAX('100m'!G54:H54)) -> 22.75 | K38: =IF(H38="diskval.",1000,H38+((IF(I38>0,I38,100)+IF(J38>0,J38,100))/100000)) -> 38.710424
A39: 37 | C39: 69 | D39: Špaček | E39: Michal | F39: 21.47 | G39: 17.27 | H39: =IF(OR(F39="diskval.",G39="diskval."),"diskval.",F39+G39) -> 38.74 | I39: =IF(OR(věže!G71=0,věže!H71=0),100,MAX(věže!G71:H71)) -> 100 | J39: =IF(OR('100m'!G71=0,'100m'!H71=0),100,MAX('100m'!G71:H71)) -> 100 | K39: =IF(H39="diskval.",1000,H39+((IF(I39>0,I39,100)+IF(J39>0,J39,100))/100000)) -> 38.742
A40: 38 | C40: 22 | D40: Šenkýř | E40: Marek | F40: 19.7 | G40: 19.08 | H40: =IF(OR(F40="diskval.",G40="diskval."),"diskval.",F40+G40) -> 38.78 | I40: =IF(OR(věže!G24=0,věže!H24=0),100,MAX(věže!G24:H24)) -> 20.69 | J40: =IF(OR('100m'!G24=0,'100m'!H24=0),100,MAX('100m'!G24:H24)) -> 20.33 | K40: =IF(H40="diskval.",1000,H40+((IF(I40>0,I40,100)+IF(J40>0,J40,100))/100000)) -> 38.78041
...

Sheet Startovní listina 100m 1.p
A1: STARTOVNÍ LISTINA - BĚH NA 100m 1. a 2. pokus
A2: Memoriál plk. JUDR Josefa Blažka 2.6. 2017
A3: Rozběh č. | B3: Start. č. | C3: Dráha | D3: Příjmení | E3: Jméno | F3: kraj | G3: čas
A4: 1 | B4: 1 | C4: 1
B5: 2 | C5: 2
B6: 3 | C6: 3
A7: =A4+1 -> 2 | B7: 4 | C7: 1
B8: 5 | C8: 2
B9: 6 | C9: 3
A10: =A7+1 -> 3 | B10: 7 | C10: 1
B11: 8 | C11: 2
B12: 9 | C12: 3
A13: =A10+1 -> 4 | B13: 10 | C13: 1
B14: 11 | C14: 2
B15: 12 | C15: 3
A16: =A13+1 -> 5 | B16: 13 | C16: 1
B17: 14 | C17: 2
B18: 15 | C18: 3
A19: =A16+1 -> 6 | B19: 16 | C19: 1
B20: 17 | C20: 2
B21: 18 | C21: 3
A22: =A19+1 -> 7 | B22: 19 | C22: 1
B23: 20 | C23: 2
B24: 21 | C24: 3
A25: =A22+1 -> 8 | B25: 22 | C25: 1
B26: 23 | C26: 2
B27: 24 | C27: 3
A28: =A25+1 -> 9 | B28: 25 | C28: 1
B29: 26 | C29: 2
B30: 27 | C30: 3
A31: =A28+1 -> 10 | B31: 28 | C31: 1
B32: 29 | C32: 2
B33: 30 | C33: 3
A34: =A31+1 -> 11 | B34: 31 | C34: 1
B35: 32 | C35: 2
B36: 33 | C36: 3
A37: =A34+1 -> 12 | B37: 34 | C37: 1
B38: 35 | C38: 2
B39: 36 | C39: 3
A40: =A37+1 -> 13 | B40: 37 | C40: 1
...

Sheet Startovní listina 100m 2.p
A1: STARTOVNÍ LISTINA - BĚH NA 100m 2. pokus
A2: Memoriál plk. JUDR Josefa Blažka 2.6. 2017
A3: Rozběh č. | B3: Start. č. | C3: Dráha | D3: Příjmení | E3: Jméno | F3: kraj | G3: čas
A4: 1 | B4: 1 | C4: 2
B5: 2 | C5: 3
B6: 3 | C6: 1
A7: =A4+1 -> 2 | B7: 4 | C7: 2
B8: 5 | C8: 3
B9: 6 | C9: 1
A10: =A7+1 -> 3 | B10: 7 | C10: 2
B11: 8 | C11: 3
B12: 9 | C12: 1
A13: =A10+1 -> 4 | B13: 10 | C13: 2
B14: 11 | C14: 3
B15: 12 | C15: 1
A16: =A13+1 -> 5 | B16: 13 | C16: 2
B17: 14 | C17: 3
B18: 15 | C18: 1
A19: =A16+1 -> 6 | B19: 16 | C19: 2
B20: 17 | C20: 3
B21: 18 | C21: 1
A22: =A19+1 -> 7 | B22: 19 | C22: 2
B23: 20 | C23: 3
B24: 21 | C24: 1
A25: =A22+1 -> 8 | B25: 22 | C25: 2
B26: 23 | C26: 3
B27: 24 | C27: 1
A28: =A25+1 -> 9 | B28: 25 | C28: 2
B29: 26 | C29: 3
B30: 27 | C30: 1
A31: =A28+1 -> 10 | B31: 28 | C31: 2
B32: 29 | C32: 3
B33: 30 | C33: 1
A34: =A31+1 -> 11 | B34: 31 | C34: 2
B35: 32 | C35: 3
B36: 33 | C36: 1
A37: =A34+1 -> 12 | B37: 34 | C37: 2
B38: 35 | C38: 3
B39: 36 | C39: 1
A40: =A37+1 -> 13 | B40: 37 | C40: 2
...

Sheet Startovní listina věž 1.p
A1: STARTOVNÍ LISTINA - výstup do 4. podlaží věže 1. a 2. pokus
A2: Memoriál plk. JUDR Josefa Blažka 2.6. 2017
A3: Rozběh č. | B3: Start. č. | C3: Dráha | D3: Příjmení | E3: Jméno | F3: kraj | G3: čas
A4: 1 | B4: 1 | C4: 1
B5: 2 | C5: 2
B6: 3 | C6: 3
B7: 4 | C7: 4
A8: 2 | B8: 5 | C8: 1
B9: 6 | C9: 2
B10: 7 | C10: 3
B11: 8 | C11: 4
A12: 3 | B12: 9 | C12: 1
B13: 10 | C13: 2
B14: 11 | C14: 3
B15: 12 | C15: 4
A16: 4 | B16: 13 | C16: 1
B17: 14 | C17: 2
B18: 15 | C18: 3
B19: 16 | C19: 4
A20: 5 | B20: 17 | C20: 1
B21: 18 | C21: 2
B22: 19 | C22: 3
B23: 20 | C23: 4
A24: 6 | B24: 21 | C24: 1
B25: 22 | C25: 2
B26: 23 | C26: 3
B27: 24 | C27: 4
A28: 7 | B28: 25 | C28: 1
B29: 26 | C29: 2
B30: 27 | C30: 3
B31: 28 | C31: 4
A32: 8 | B32: 29 | C32: 1
B33: 30 | C33: 2
B34: 31 | C34: 3
B35: 32 | C35: 4
A36: 9 | B36: 33 | C36: 1
B37: 34 | C37: 2
B38: 35 | C38: 3
B39: 36 | C39: 4
A40: 10 | B40: 37 | C40: 1
...

Sheet Startovní listina věž 2.p
A1: STARTOVNÍ LISTINA - výstup do 4. podlaží věže 2. pokus
A2: Memoriál plk. JUDR Josefa Blažka 2.6. 2017
A3: Rozběh č. | B3: Start. č. | C3: Dráha | D3: Příjmení | E3: Jméno | F3: kraj | G3: čas
A4: 1 | B4: 1 | C4: 2
B5: 2 | C5: 3
B6: 3 | C6: 4
B7: 4 | C7: 1
A8: 2 | B8: 5 | C8: 2
B9: 6 | C9: 3
B10: 7 | C10: 4
B11: 8 | C11: 1
A12: 3 | B12: 9 | C12: 2
B13: 10 | C13: 3
B14: 11 | C14: 4
B15: 12 | C15: 1
A16: 4 | B16: 13 | C16: 2
B17: 14 | C17: 3
B18: 15 | C18: 4
B19: 16 | C19: 1
A20: 5 | B20: 17 | C20: 2
B21: 18 | C21: 3
B22: 19 | C22: 4
B23: 20 | C23: 1
A24: 6 | B24: 21 | C24: 2
B25: 22 | C25: 3
B26: 23 | C26: 4
B27: 24 | C27: 1
A28: 7 | B28: 25 | C28: 2
B29: 26 | C29: 3
B30: 27 | C30: 4
B31: 28 | C31: 1
A32: 8 | B32: 29 | C32: 2
B33: 30 | C33: 3
B34: 31 | C34: 4
B35: 32 | C35: 1
A36: 9 | B36: 33 | C36: 2
B37: 34 | C37: 3
B38: 35 | C38: 4
B39: 36 | C39: 1
A40: 10 | B40: 37 | C40: 2
...
