Workbook

Sheet 100m HZS
G1: Krajské kolo v požárním sportu Olomouckého a Moravskoslezského kraje
G2: Přerov, 17. - 18. června 2017
G3: 100m
G4: muži HZS
A5: apoř | B5: celkem | C5: MSK | D5: OLK | E5: st.č. | F5: závodník | G5: družstvo | H5: 1. pokus | I5: 2. pokus | J5: výsledný
A6: 1 | B6: =VLOOKUP(A6,'[1]100m'!$A$6:$T$115,3,FALSE) -> 1 | C6: =VLOOKUP(A6,'[1]100m'!$A$6:$T$115,5,FALSE) -> 1 | D6: =VLOOKUP(A6,'[1]100m'!$A$6:$T$115,7,FALSE) | E6: =VLOOKUP(A6,'[1]100m'!$A$6:$T$115,10,FALSE) -> 4 | F6: =VLOOKUP(A6,'[1]100m'!$A$6:$T$115,12,FALSE) -> František KUNOVSKÝ | G6: =VLOOKUP(A6,'[1]100m'!$A$6:$T$115,13,FALSE) -> Ostrava | H6: =VLOOKUP(A6,'[1]100m'!$A$6:$T$115,14,FALSE) -> 16.18 | I6: =VLOOKUP(A6,'[1]100m'!$A$6:$T$115,15,FALSE) -> 15.82 | J6: =VLOOKUP(A6,'[1]100m'!$A$6:$T$115,16,FALSE) -> 15.82
A7: 2 | B7: =VLOOKUP(A7,'[1]100m'!$A$6:$T$115,3,FALSE) -> 2 | C7: =VLOOKUP(A7,'[1]100m'!$A$6:$T$115,5,FALSE) -> 2 | D7: =VLOOKUP(A7,'[1]100m'!$A$6:$T$115,7,FALSE) | E7: =VLOOKUP(A7,'[1]100m'!$A$6:$T$115,10,FALSE) -> 7 | F7: =VLOOKUP(A7,'[1]100m'!$A$6:$T$115,12,FALSE) -> Pavel KRPEC | G7: =VLOOKUP(A7,'[1]100m'!$A$6:$T$115,13,FALSE) -> Ostrava | H7: =VLOOKUP(A7,'[1]100m'!$A$6:$T$115,14,FALSE) -> 16.1 | I7: =VLOOKUP(A7,'[1]100m'!$A$6:$T$115,15,FALSE) -> 99.99 | J7: =VLOOKUP(A7,'[1]100m'!$A$6:$T$115,16,FALSE) -> 16.1
A8: 3 | B8: =VLOOKUP(A8,'[1]100m'!$A$6:$T$115,3,FALSE) -> 3 | C8: =VLOOKUP(A8,'[1]100m'!$A$6:$T$115,5,FALSE) -> 3 | D8: =VLOOKUP(A8,'[1]100m'!$A$6:$T$115,7,FALSE) | E8: =VLOOKUP(A8,'[1]100m'!$A$6:$T$115,10,FALSE) -> 46 | F8: =VLOOKUP(A8,'[1]100m'!$A$6:$T$115,12,FALSE) -> Tomáš DROBISZ | G8: =VLOOKUP(A8,'[1]100m'!$A$6:$T$115,13,FALSE) -> Karviná | H8: =VLOOKUP(A8,'[1]100m'!$A$6:$T$115,14,FALSE) -> 17.11 | I8: =VLOOKUP(A8,'[1]100m'!$A$6:$T$115,15,FALSE) -> 16.83 | J8: =VLOOKUP(A8,'[1]100m'!$A$6:$T$115,16,FALSE) -> 16.83
A9: 4 | B9: =VLOOKUP(A9,'[1]100m'!$A$6:$T$115,3,FALSE) -> 4 | C9: =VLOOKUP(A9,'[1]100m'!$A$6:$T$115,5,FALSE) -> 4 | D9: =VLOOKUP(A9,'[1]100m'!$A$6:$T$115,7,FALSE) | E9: =VLOOKUP(A9,'[1]100m'!$A$6:$T$115,10,FALSE) -> 5 | F9: =VLOOKUP(A9,'[1]100m'!$A$6:$T$115,12,FALSE) -> Jakub ARVAI | G9: =VLOOKUP(A9,'[1]100m'!$A$6:$T$115,13,FALSE) -> Ostrava | H9: =VLOOKUP(A9,'[1]100m'!$A$6:$T$115,14,FALSE) -> 17.59 | I9: =VLOOKUP(A9,'[1]100m'!$A$6:$T$115,15,FALSE) -> 16.86 | J9: =VLOOKUP(A9,'[1]100m'!$A$6:$T$115,16,FALSE) -> 16.86
A10: 5 | B10: =VLOOKUP(A10,'[1]100m'!$A$6:$T$115,3,FALSE) -> 5 | C10: =VLOOKUP(A10,'[1]100m'!$A$6:$T$115,5,FALSE) | D10: =VLOOKUP(A10,'[1]100m'!$A$6:$T$115,7,FALSE) -> 1 | E10: =VLOOKUP(A10,'[1]100m'!$A$6:$T$115,10,FALSE) -> 57 | F10: =VLOOKUP(A10,'[1]100m'!$A$6:$T$115,12,FALSE) -> Václav BLAŽEK | G10: =VLOOKUP(A10,'[1]100m'!$A$6:$T$115,13,FALSE) -> Přerov | H10: =VLOOKUP(A10,'[1]100m'!$A$6:$T$115,14,FALSE) -> 17.63 | I10: =VLOOKUP(A10,'[1]100m'!$A$6:$T$115,15,FALSE) -> 16.94 | J10: =VLOOKUP(A10,'[1]100m'!$A$6:$T$115,16,FALSE) -> 16.94
A11: 6 | B11: =VLOOKUP(A11,'[1]100m'!$A$6:$T$115,3,FALSE) -> 6 | C11: =VLOOKUP(A11,'[1]100m'!$A$6:$T$115,5,FALSE) -> 5 | D11: =VLOOKUP(A11,'[1]100m'!$A$6:$T$115,7,FALSE) | E11: =VLOOKUP(A11,'[1]100m'!$A$6:$T$115,10,FALSE) -> 48 | F11: =VLOOKUP(A11,'[1]100m'!$A$6:$T$115,12,FALSE) -> Jiří MOTYKA | G11: =VLOOKUP(A11,'[1]100m'!$A$6:$T$115,13,FALSE) -> Karviná | H11: =VLOOKUP(A11,'[1]100m'!$A$6:$T$115,14,FALSE) -> 17.49 | I11: =VLOOKUP(A11,'[1]100m'!$A$6:$T$115,15,FALSE) -> 17.09 | J11: =VLOOKUP(A11,'[1]100m'!$A$6:$T$115,16,FALSE) -> 17.09
A12: 7 | B12: =VLOOKUP(A12,'[1]100m'!$A$6:$T$115,3,FALSE) -> 7 | C12: =VLOOKUP(A12,'[1]100m'!$A$6:$T$115,5,FALSE) -> 6 | D12: =VLOOKUP(A12,'[1]100m'!$A$6:$T$115,7,FALSE) | E12: =VLOOKUP(A12,'[1]100m'!$A$6:$T$115,10,FALSE) -> 44 | F12: =VLOOKUP(A12,'[1]100m'!$A$6:$T$115,12,FALSE) -> Šimon KUDRNA | G12: =VLOOKUP(A12,'[1]100m'!$A$6:$T$115,13,FALSE) -> Karviná | H12: =VLOOKUP(A12,'[1]100m'!$A$6:$T$115,14,FALSE) -> 17.64 | I12: =VLOOKUP(A12,'[1]100m'!$A$6:$T$115,15,FALSE) -> 17.11 | J12: =VLOOKUP(A12,'[1]100m'!$A$6:$T$115,16,FALSE) -> 17.11
A13: 8 | B13: =VLOOKUP(A13,'[1]100m'!$A$6:$T$115,3,FALSE) -> 8 | C13: =VLOOKUP(A13,'[1]100m'!$A$6:$T$115,5,FALSE) -> 7 | D13: =VLOOKUP(A13,'[1]100m'!$A$6:$T$115,7,FALSE) | E13: =VLOOKUP(A13,'[1]100m'!$A$6:$T$115,10,FALSE) -> 1 | F13: =VLOOKUP(A13,'[1]100m'!$A$6:$T$115,12,FALSE) -> Kamil BEZRUČ | G13: =VLOOKUP(A13,'[1]100m'!$A$6:$T$115,13,FALSE) -> Ostrava | H13: =VLOOKUP(A13,'[1]100m'!$A$6:$T$115,14,FALSE) -> 17.22 | I13: =VLOOKUP(A13,'[1]100m'!$A$6:$T$115,15,FALSE) -> 99.99 | J13: =VLOOKUP(A13,'[1]100m'!$A$6:$T$115,16,FALSE) -> 17.22
A14: 9 | B14: =VLOOKUP(A14,'[1]100m'!$A$6:$T$115,3,FALSE) -> 9 | C14: =VLOOKUP(A14,'[1]100m'!$A$6:$T$115,5,FALSE) -> 8 | D14: =VLOOKUP(A14,'[1]100m'!$A$6:$T$115,7,FALSE) | E14: =VLOOKUP(A14,'[1]100m'!$A$6:$T$115,10,FALSE) -> 42 | F14: =VLOOKUP(A14,'[1]100m'!$A$6:$T$115,12,FALSE) -> Petr LANGER | G14: =VLOOKUP(A14,'[1]100m'!$A$6:$T$115,13,FALSE) -> Karviná | H14: =VLOOKUP(A14,'[1]100m'!$A$6:$T$115,14,FALSE) -> 17.46 | I14: =VLOOKUP(A14,'[1]100m'!$A$6:$T$115,15,FALSE) -> 17.45 | J14: =VLOOKUP(A14,'[1]100m'!$A$6:$T$115,16,FALSE) -> 17.45
A15: 10 | B15: =VLOOKUP(A15,'[1]100m'!$A$6:$T$115,3,FALSE) -> 10 | C15: =VLOOKUP(A15,'[1]100m'!$A$6:$T$115,5,FALSE) -> 9 | D15: =VLOOKUP(A15,'[1]100m'!$A$6:$T$115,7,FALSE) | E15: =VLOOKUP(A15,'[1]100m'!$A$6:$T$115,10,FALSE) -> 3 | F15: =VLOOKUP(A15,'[1]100m'!$A$6:$T$115,12,FALSE) -> Adam HRBÁČ | G15: =VLOOKUP(A15,'[1]100m'!$A$6:$T$115,13,FALSE) -> Ostrava | H15: =VLOOKUP(A15,'[1]100m'!$A$6:$T$115,14,FALSE) -> 17.48 | I15: =VLOOKUP(A15,'[1]100m'!$A$6:$T$115,15,FALSE) -> 24.27 | J15: =VLOOKUP(A15,'[1]100m'!$A$6:$T$115,16,FALSE) -> 17.48
A16: 11 | B16: =VLOOKUP(A16,'[1]100m'!$A$6:$T$115,3,FALSE) -> 11 | C16: =VLOOKUP(A16,'[1]100m'!$A$6:$T$115,5,FALSE) -> 10 | D16: =VLOOKUP(A16,'[1]100m'!$A$6:$T$115,7,FALSE) | E16: =VLOOKUP(A16,'[1]100m'!$A$6:$T$115,10,FALSE) -> 47 | F16: =VLOOKUP(A16,'[1]100m'!$A$6:$T$115,12,FALSE) -> Aleš MASNÝ | G16: =VLOOKUP(A16,'[1]100m'!$A$6:$T$115,13,FALSE) -> Karviná | H16: =VLOOKUP(A16,'[1]100m'!$A$6:$T$115,14,FALSE) -> 18.06 | I16: =VLOOKUP(A16,'[1]100m'!$A$6:$T$115,15,FALSE) -> 17.66 | J16: =VLOOKUP(A16,'[1]100m'!$A$6:$T$115,16,FALSE) -> 17.66
A17: 12 | B17: =VLOOKUP(A17,'[1]100m'!$A$6:$T$115,3,FALSE) -> 12 | C17: =VLOOKUP(A17,'[1]100m'!$A$6:$T$115,5,FALSE) -> 11 | D17: =VLOOKUP(A17,'[1]100m'!$A$6:$T$115,7,FALSE) | E17: =VLOOKUP(A17,'[1]100m'!$A$6:$T$115,10,FALSE) -> 86 | F17: =VLOOKUP(A17,'[1]100m'!$A$6:$T$115,12,FALSE) -> Radim HANULÍK | G17: =VLOOKUP(A17,'[1]100m'!$A$6:$T$115,13,FALSE) -> Bruntál | H17: =VLOOKUP(A17,'[1]100m'!$A$6:$T$115,14,FALSE) -> 17.82 | I17: =VLOOKUP(A17,'[1]100m'!$A$6:$T$115,15,FALSE) -> 19.32 | J17: =VLOOKUP(A17,'[1]100m'!$A$6:$T$115,16,FALSE) -> 17.82
... A115: 110 | B115: =VLOOKUP(A115,'[1]100m'!$A$6:$T$115,3,FALSE) -> 110 | C115: =VLOOKUP(A115,'[1]100m'!$A$6:$T$115,5,FALSE) -> 46 | D115: =VLOOKUP(A115,'[1]100m'!$A$6:$T$115,7,FALSE) | E115: =VLOOKUP(A115,'[1]100m'!$A$6:$T$115,10,FALSE) -> 108 | F115: =VLOOKUP(A115,'[1]100m'!$A$6:$T$115,12,FALSE) -> Petr FIURÁŠEK | G115: =VLOOKUP(A115,'[1]100m'!$A$6:$T$115,13,FALSE) -> Nový Jičín | H115: =VLOOKUP(A115,'[1]100m'!$A$6:$T$115,14,FALSE) -> 99.99 | I115: =VLOOKUP(A115,'[1]100m'!$A$6:$T$115,15,FALSE) -> 99.99 | J115: =VLOOKUP(A115,'[1]100m'!$A$6:$T$115,16,FALSE) -> 99.99

Sheet 100m SDH M
G1: Krajské kolo v požárním sportu Moravskoslezského a Olomouckého kraje
G2: Přerov, 17. - 18. června 2017
G3: 100m
G4: muži SDH
A5: apoř | B5: celkem | C5: MSK | D5: OLK | E5: st.č. | F5: závodník | G5: družstvo | H5: 1.pokus | I5: 2.pokus | J5: výsledný
A6: 1 | B6: =VLOOKUP(A6,'[2]100m'!$A$6:$T$85,3,FALSE) -> 1 | C6: =VLOOKUP(A6,'[2]100m'!$A$6:$T$85,5,FALSE) -> 1 | D6: =VLOOKUP(A6,'[2]100m'!$A$6:$T$85,7,FALSE) | E6: =VLOOKUP(A6,'[2]100m'!$A$6:$T$85,10,FALSE) -> 32 | F6: =VLOOKUP(A6,'[2]100m'!$A$6:$T$85,12,FALSE) -> Richard SVAČINA | G6: =VLOOKUP(A6,'[2]100m'!$A$6:$T$85,13,FALSE) -> Michálkovice | H6: =VLOOKUP(A6,'[2]100m'!$A$6:$T$85,14,FALSE) -> 16.23 | I6: =VLOOKUP(A6,'[2]100m'!$A$6:$T$85,15,FALSE) -> 99.99 | J6: =VLOOKUP(A6,'[2]100m'!$A$6:$T$85,16,FALSE) -> 16.23
A7: 2 | B7: =VLOOKUP(A7,'[2]100m'!$A$6:$T$85,3,FALSE) -> 2 | C7: =VLOOKUP(A7,'[2]100m'!$A$6:$T$85,5,FALSE) -> 2 | D7: =VLOOKUP(A7,'[2]100m'!$A$6:$T$85,7,FALSE) | E7: =VLOOKUP(A7,'[2]100m'!$A$6:$T$85,10,FALSE) -> 77 | F7: =VLOOKUP(A7,'[2]100m'!$A$6:$T$85,12,FALSE) -> Lukáš TABACH | G7: =VLOOKUP(A7,'[2]100m'!$A$6:$T$85,13,FALSE) -> Kozlovice | H7: =VLOOKUP(A7,'[2]100m'!$A$6:$T$85,14,FALSE) -> 17.26 | I7: =VLOOKUP(A7,'[2]100m'!$A$6:$T$85,15,FALSE) -> 16.58 | J7: =VLOOKUP(A7,'[2]100m'!$A$6:$T$85,16,FALSE) -> 16.58
A8: 3 | B8: =VLOOKUP(A8,'[2]100m'!$A$6:$T$85,3,FALSE) -> 3 | C8: =VLOOKUP(A8,'[2]100m'!$A$6:$T$85,5,FALSE) | D8: =VLOOKUP(A8,'[2]100m'!$A$6:$T$85,7,FALSE) -> 1 | E8: =VLOOKUP(A8,'[2]100m'!$A$6:$T$85,10,FALSE) -> 66 | F8: =VLOOKUP(A8,'[2]100m'!$A$6:$T$85,12,FALSE) -> Jan BISKUP | G8: =VLOOKUP(A8,'[2]100m'!$A$6:$T$85,13,FALSE) -> Milotice nad Bečvou | H8: =VLOOKUP(A8,'[2]100m'!$A$6:$T$85,14,FALSE) -> 17.55 | I8: =VLOOKUP(A8,'[2]100m'!$A$6:$T$85,15,FALSE) -> 17.08 | J8: =VLOOKUP(A8,'[2]100m'!$A$6:$T$85,16,FALSE) -> 17.08
A9: 4 | B9: =VLOOKUP(A9,'[2]100m'!$A$6:$T$85,3,FALSE) -> 4 | C9: =VLOOKUP(A9,'[2]100m'!$A$6:$T$85,5,FALSE) -> 3 | D9: =VLOOKUP(A9,'[2]100m'!$A$6:$T$85,7,FALSE) | E9: =VLOOKUP(A9,'[2]100m'!$A$6:$T$85,10,FALSE) -> 24 | F9: =VLOOKUP(A9,'[2]100m'!$A$6:$T$85,12,FALSE) -> Jan KUBĚNA | G9: =VLOOKUP(A9,'[2]100m'!$A$6:$T$85,13,FALSE) -> Závišice | H9: =VLOOKUP(A9,'[2]100m'!$A$6:$T$85,14,FALSE) -> 17.56 | I9: =VLOOKUP(A9,'[2]100m'!$A$6:$T$85,15,FALSE) -> 17.14 | J9: =VLOOKUP(A9,'[2]100m'!$A$6:$T$85,16,FALSE) -> 17.14
A10: 5 | B10: =VLOOKUP(A10,'[2]100m'!$A$6:$T$85,3,FALSE) -> 5 | C10: =VLOOKUP(A10,'[2]100m'!$A$6:$T$85,5,FALSE) -> 4 | D10: =VLOOKUP(A10,'[2]100m'!$A$6:$T$85,7,FALSE) | E10: =VLOOKUP(A10,'[2]100m'!$A$6:$T$85,10,FALSE) -> 108 | F10: =VLOOKUP(A10,'[2]100m'!$A$6:$T$85,12,FALSE) -> Matěj KRAYZEL | G10: =VLOOKUP(A10,'[2]100m'!$A$6:$T$85,13,FALSE) -> Těškovice | H10: =VLOOKUP(A10,'[2]100m'!$A$6:$T$85,14,FALSE) -> 17.32 | I10: =VLOOKUP(A10,'[2]100m'!$A$6:$T$85,15,FALSE) -> 99.99 | J10: =VLOOKUP(A10,'[2]100m'!$A$6:$T$85,16,FALSE) -> 17.32
A11: 6 | B11: =VLOOKUP(A11,'[2]100m'!$A$6:$T$85,3,FALSE) -> 6 | C11: =VLOOKUP(A11,'[2]100m'!$A$6:$T$85,5,FALSE) -> 5 | D11: =VLOOKUP(A11,'[2]100m'!$A$6:$T$85,7,FALSE) | E11: =VLOOKUP(A11,'[2]100m'!$A$6:$T$85,10,FALSE) -> 31 | F11: =VLOOKUP(A11,'[2]100m'!$A$6:$T$85,12,FALSE) -> Marek PETEREK | G11: =VLOOKUP(A11,'[2]100m'!$A$6:$T$85,13,FALSE) -> Michálkovice | H11: =VLOOKUP(A11,'[2]100m'!$A$6:$T$85,14,FALSE) -> 17.43 | I11: =VLOOKUP(A11,'[2]100m'!$A$6:$T$85,15,FALSE) -> 99.99 | J11: =VLOOKUP(A11,'[2]100m'!$A$6:$T$85,16,FALSE) -> 17.43
A12: 7 | B12: =VLOOKUP(A12,'[2]100m'!$A$6:$T$85,3,FALSE) -> 7 | C12: =VLOOKUP(A12,'[2]100m'!$A$6:$T$85,5,FALSE) -> 6 | D12: =VLOOKUP(A12,'[2]100m'!$A$6:$T$85,7,FALSE) | E12: =VLOOKUP(A12,'[2]100m'!$A$6:$T$85,10,FALSE) -> 25 | F12: =VLOOKUP(A12,'[2]100m'!$A$6:$T$85,12,FALSE) -> Tomáš BOTH | G12: =VLOOKUP(A12,'[2]100m'!$A$6:$T$85,13,FALSE) -> Závišice | H12: =VLOOKUP(A12,'[2]100m'!$A$6:$T$85,14,FALSE) -> 17.46 | I12: =VLOOKUP(A12,'[2]100m'!$A$6:$T$85,15,FALSE) -> 99.99 | J12: =VLOOKUP(A12,'[2]100m'!$A$6:$T$85,16,FALSE) -> 17.46
A13: 8 | B13: =VLOOKUP(A13,'[2]100m'!$A$6:$T$85,3,FALSE) -> 8 | C13: =VLOOKUP(A13,'[2]100m'!$A$6:$T$85,5,FALSE) | D13: =VLOOKUP(A13,'[2]100m'!$A$6:$T$85,7,FALSE) -> 2 | E13: =VLOOKUP(A13,'[2]100m'!$A$6:$T$85,10,FALSE) -> 61 | F13: =VLOOKUP(A13,'[2]100m'!$A$6:$T$85,12,FALSE) -> Petr KLVAŇA | G13: =VLOOKUP(A13,'[2]100m'!$A$6:$T$85,13,FALSE) -> Milotice nad Bečvou | H13: =VLOOKUP(A13,'[2]100m'!$A$6:$T$85,14,FALSE) -> 17.92 | I13: =VLOOKUP(A13,'[2]100m'!$A$6:$T$85,15,FALSE) -> 17.58 | J13: =VLOOKUP(A13,'[2]100m'!$A$6:$T$85,16,FALSE) -> 17.58
A14: 9 | B14: =VLOOKUP(A14,'[2]100m'!$A$6:$T$85,3,FALSE) -> 9 | C14: =VLOOKUP(A14,'[2]100m'!$A$6:$T$85,5,FALSE) | D14: =VLOOKUP(A14,'[2]100m'!$A$6:$T$85,7,FALSE) -> 3 | E14: =VLOOKUP(A14,'[2]100m'!$A$6:$T$85,10,FALSE) -> 18 | F14: =VLOOKUP(A14,'[2]100m'!$A$6:$T$85,12,FALSE) -> Tomáš WEIDINGER | G14: =VLOOKUP(A14,'[2]100m'!$A$6:$T$85,13,FALSE) -> Bludov | H14: =VLOOKUP(A14,'[2]100m'!$A$6:$T$85,14,FALSE) -> 18.19 | I14: =VLOOKUP(A14,'[2]100m'!$A$6:$T$85,15,FALSE) -> 17.61 | J14: =VLOOKUP(A14,'[2]100m'!$A$6:$T$85,16,FALSE) -> 17.61
A15: 10 | B15: =VLOOKUP(A15,'[2]100m'!$A$6:$T$85,3,FALSE) -> 10 | C15: =VLOOKUP(A15,'[2]100m'!$A$6:$T$85,5,FALSE) | D15: =VLOOKUP(A15,'[2]100m'!$A$6:$T$85,7,FALSE) -> 4 | E15: =VLOOKUP(A15,'[2]100m'!$A$6:$T$85,10,FALSE) -> 81 | F15: =VLOOKUP(A15,'[2]100m'!$A$6:$T$85,12,FALSE) -> Pavel NAVRÁTIL | G15: =VLOOKUP(A15,'[2]100m'!$A$6:$T$85,13,FALSE) -> Ludéřov | H15: =VLOOKUP(A15,'[2]100m'!$A$6:$T$85,14,FALSE) -> 18.36 | I15: =VLOOKUP(A15,'[2]100m'!$A$6:$T$85,15,FALSE) -> 17.81 | J15: =VLOOKUP(A15,'[2]100m'!$A$6:$T$85,16,FALSE) -> 17.81
A16: 11 | B16: =VLOOKUP(A16,'[2]100m'!$A$6:$T$85,3,FALSE) -> 11 | C16: =VLOOKUP(A16,'[2]100m'!$A$6:$T$85,5,FALSE) | D16: =VLOOKUP(A16,'[2]100m'!$A$6:$T$85,7,FALSE) -> 5 | E16: =VLOOKUP(A16,'[2]100m'!$A$6:$T$85,10,FALSE) -> 14 | F16: =VLOOKUP(A16,'[2]100m'!$A$6:$T$85,12,FALSE) -> Jakub VONDRA | G16: =VLOOKUP(A16,'[2]100m'!$A$6:$T$85,13,FALSE) -> Bludov | H16: =VLOOKUP(A16,'[2]100m'!$A$6:$T$85,14,FALSE) -> 20.32 | I16: =VLOOKUP(A16,'[2]100m'!$A$6:$T$85,15,FALSE) -> 17.97 | J16: =VLOOKUP(A16,'[2]100m'!$A$6:$T$85,16,FALSE) -> 17.97
A17: 12 | B17: =VLOOKUP(A17,'[2]100m'!$A$6:$T$85,3,FALSE) -> 12 | C17: =VLOOKUP(A17,'[2]100m'!$A$6:$T$85,5,FALSE) | D17: =VLOOKUP(A17,'[2]100m'!$A$6:$T$85,7,FALSE) -> 6 | E17: =VLOOKUP(A17,'[2]100m'!$A$6:$T$85,10,FALSE) -> 16 | F17: =VLOOKUP(A17,'[2]100m'!$A$6:$T$85,12,FALSE) -> Tomáš RIEDL | G17: =VLOOKUP(A17,'[2]100m'!$A$6:$T$85,13,FALSE) -> Bludov | H17: =VLOOKUP(A17,'[2]100m'!$A$6:$T$85,14,FALSE) -> 18 | I17: =VLOOKUP(A17,'[2]100m'!$A$6:$T$85,15,FALSE) -> 99.99 | J17: =VLOOKUP(A17,'[2]100m'!$A$6:$T$85,16,FALSE) -> 18
... A85: 80 | B85: =VLOOKUP(A85,'[2]100m'!$A$6:$T$85,3,FALSE) -> 80 | C85: =VLOOKUP(A85,'[2]100m'!$A$6:$T$85,5,FALSE) | D85: =VLOOKUP(A85,'[2]100m'!$A$6:$T$85,7,FALSE) -> 32 | E85: =VLOOKUP(A85,'[2]100m'!$A$6:$T$85,10,FALSE) -> 88 | F85: =VLOOKUP(A85,'[2]100m'!$A$6:$T$85,12,FALSE) -> neobsazen | G85: =VLOOKUP(A85,'[2]100m'!$A$6:$T$85,13,FALSE) -> Ludéřov | H85: =VLOOKUP(A85,'[2]100m'!$A$6:$T$85,14,FALSE) -> 99.99 | I85: =VLOOKUP(A85,'[2]100m'!$A$6:$T$85,15,FALSE) -> 99.99 | J85: =VLOOKUP(A85,'[2]100m'!$A$6:$T$85,16,FALSE) -> 99.99

Sheet 100m SDH Ž
G1: Krajské kolo v požárním sportu Moravskoslezského a Olomouckého kraje
G2: Přerov, 17. - 18. června 2017
G3: 100m ženy
A5: apoř | B5: celkem | C5: MSK | D5: OLK | E5: st.č. | F5: závodník | G5: družstvo | H5: 1.pokus | I5: 2.pokus | J5: výsledný
A6: 1 | B6: =VLOOKUP(A6,'[3]100m'!$A$6:$T$85,3,FALSE) -> 1 | C6: =VLOOKUP(A6,'[3]100m'!$A$6:$T$85,5,FALSE) | D6: =VLOOKUP(A6,'[3]100m'!$A$6:$T$85,7,FALSE) -> 1 | E6: =VLOOKUP(A6,'[3]100m'!$A$6:$T$85,10,FALSE) -> 38 | F6: =VLOOKUP(A6,'[3]100m'!$A$6:$T$85,12,FALSE) -> Martina PEKROVÁ | G6: =VLOOKUP(A6,'[3]100m'!$A$6:$T$85,13,FALSE) -> Pěnčín | H6: =VLOOKUP(A6,'[3]100m'!$A$6:$T$85,14,FALSE) -> 18.05 | I6: =VLOOKUP(A6,'[3]100m'!$A$6:$T$85,15,FALSE) -> 17.89 | J6: =VLOOKUP(A6,'[3]100m'!$A$6:$T$85,16,FALSE) -> 17.89
A7: 2 | B7: =VLOOKUP(A7,'[3]100m'!$A$6:$T$85,3,FALSE) -> 2 | C7: =VLOOKUP(A7,'[3]100m'!$A$6:$T$85,5,FALSE) -> 1 | D7: =VLOOKUP(A7,'[3]100m'!$A$6:$T$85,7,FALSE) | E7: =VLOOKUP(A7,'[3]100m'!$A$6:$T$85,10,FALSE) -> 97 | F7: =VLOOKUP(A7,'[3]100m'!$A$6:$T$85,12,FALSE) -> Magdaléna KRAYZLOVÁ | G7: =VLOOKUP(A7,'[3]100m'!$A$6:$T$85,13,FALSE) -> Těškovice | H7: =VLOOKUP(A7,'[3]100m'!$A$6:$T$85,14,FALSE) -> 18.32 | I7: =VLOOKUP(A7,'[3]100m'!$A$6:$T$85,15,FALSE) -> 18.01 | J7: =VLOOKUP(A7,'[3]100m'!$A$6:$T$85,16,FALSE) -> 18.01
A8: 3 | B8: =VLOOKUP(A8,'[3]100m'!$A$6:$T$85,3,FALSE) -> 3 | C8: =VLOOKUP(A8,'[3]100m'!$A$6:$T$85,5,FALSE) -> 2 | D8: =VLOOKUP(A8,'[3]100m'!$A$6:$T$85,7,FALSE) | E8: =VLOOKUP(A8,'[3]100m'!$A$6:$T$85,10,FALSE) -> 6 | F8: =VLOOKUP(A8,'[3]100m'!$A$6:$T$85,12,FALSE) -> Hana PASTORKOVÁ | G8: =VLOOKUP(A8,'[3]100m'!$A$6:$T$85,13,FALSE) -> Frýdek | H8: =VLOOKUP(A8,'[3]100m'!$A$6:$T$85,14,FALSE) -> 18.58 | I8: =VLOOKUP(A8,'[3]100m'!$A$6:$T$85,15,FALSE) -> 18.66 | J8: =VLOOKUP(A8,'[3]100m'!$A$6:$T$85,16,FALSE) -> 18.58
A9: 4 | B9: =VLOOKUP(A9,'[3]100m'!$A$6:$T$85,3,FALSE) -> 4 | C9: =VLOOKUP(A9,'[3]100m'!$A$6:$T$85,5,FALSE) | D9: =VLOOKUP(A9,'[3]100m'!$A$6:$T$85,7,FALSE) -> 2 | E9: =VLOOKUP(A9,'[3]100m'!$A$6:$T$85,10,FALSE) -> 17 | F9: =VLOOKUP(A9,'[3]100m'!$A$6:$T$85,12,FALSE) -> Adriana JANÍČKOVÁ | G9: =VLOOKUP(A9,'[3]100m'!$A$6:$T$85,13,FALSE) -> Milotice nad Bečvou | H9: =VLOOKUP(A9,'[3]100m'!$A$6:$T$85,14,FALSE) -> 20.23 | I9: =VLOOKUP(A9,'[3]100m'!$A$6:$T$85,15,FALSE) -> 18.65 | J9: =VLOOKUP(A9,'[3]100m'!$A$6:$T$85,16,FALSE) -> 18.65
A10: 5 | B10: =VLOOKUP(A10,'[3]100m'!$A$6:$T$85,3,FALSE) -> 5 | C10: =VLOOKUP(A10,'[3]100m'!$A$6:$T$85,5,FALSE) -> 3 | D10: =VLOOKUP(A10,'[3]100m'!$A$6:$T$85,7,FALSE) | E10: =VLOOKUP(A10,'[3]100m'!$A$6:$T$85,10,FALSE) -> 75 | F10: =VLOOKUP(A10,'[3]100m'!$A$6:$T$85,12,FALSE) -> Klára FOLTYNOVÁ | G10: =VLOOKUP(A10,'[3]100m'!$A$6:$T$85,13,FALSE) -> Michálkovice | H10: =VLOOKUP(A10,'[3]100m'!$A$6:$T$85,14,FALSE) -> 18.67 | I10: =VLOOKUP(A10,'[3]100m'!$A$6:$T$85,15,FALSE) -> 19.69 | J10: =VLOOKUP(A10,'[3]100m'!$A$6:$T$85,16,FALSE) -> 18.67
A11: 6 | B11: =VLOOKUP(A11,'[3]100m'!$A$6:$T$85,3,FALSE) -> 6 | C11: =VLOOKUP(A11,'[3]100m'!$A$6:$T$85,5,FALSE) -> 4 | D11: =VLOOKUP(A11,'[3]100m'!$A$6:$T$85,7,FALSE) | E11: =VLOOKUP(A11,'[3]100m'!$A$6:$T$85,10,FALSE) -> 94 | F11: =VLOOKUP(A11,'[3]100m'!$A$6:$T$85,12,FALSE) -> Karolína MUČKOVÁ | G11: =VLOOKUP(A11,'[3]100m'!$A$6:$T$85,13,FALSE) -> Těškovice | H11: =VLOOKUP(A11,'[3]100m'!$A$6:$T$85,14,FALSE) -> 19.82 | I11: =VLOOKUP(A11,'[3]100m'!$A$6:$T$85,15,FALSE) -> 18.8 | J11: =VLOOKUP(A11,'[3]100m'!$A$6:$T$85,16,FALSE) -> 18.8
A12: 7 | B12: =VLOOKUP(A12,'[3]100m'!$A$6:$T$85,3,FALSE) -> 7 | C12: =VLOOKUP(A12,'[3]100m'!$A$6:$T$85,5,FALSE) -> 5 | D12: =VLOOKUP(A12,'[3]100m'!$A$6:$T$85,7,FALSE) | E12: =VLOOKUP(A12,'[3]100m'!$A$6:$T$85,10,FALSE) -> 5 | F12: =VLOOKUP(A12,'[3]100m'!$A$6:$T$85,12,FALSE) -> Anežka ŠVRČKOVÁ | G12: =VLOOKUP(A12,'[3]100m'!$A$6:$T$85,13,FALSE) -> Frýdek | H12: =VLOOKUP(A12,'[3]100m'!$A$6:$T$85,14,FALSE) -> 18.81 | I12: =VLOOKUP(A12,'[3]100m'!$A$6:$T$85,15,FALSE) -> 19.06 | J12: =VLOOKUP(A12,'[3]100m'!$A$6:$T$85,16,FALSE) -> 18.81
A13: 8 | B13: =VLOOKUP(A13,'[3]100m'!$A$6:$T$85,3,FALSE) -> 8 | C13: =VLOOKUP(A13,'[3]100m'!$A$6:$T$85,5,FALSE) -> 6 | D13: =VLOOKUP(A13,'[3]100m'!$A$6:$T$85,7,FALSE) | E13: =VLOOKUP(A13,'[3]100m'!$A$6:$T$85,10,FALSE) -> 98 | F13: =VLOOKUP(A13,'[3]100m'!$A$6:$T$85,12,FALSE) -> Kristýna TESAŘOVÁ | G13: =VLOOKUP(A13,'[3]100m'!$A$6:$T$85,13,FALSE) -> Těškovice | H13: =VLOOKUP(A13,'[3]100m'!$A$6:$T$85,14,FALSE) -> 19.18 | I13: =VLOOKUP(A13,'[3]100m'!$A$6:$T$85,15,FALSE) -> 19.44 | J13: =VLOOKUP(A13,'[3]100m'!$A$6:$T$85,16,FALSE) -> 19.18
A14: 9 | B14: =VLOOKUP(A14,'[3]100m'!$A$6:$T$85,3,FALSE) -> 9 | C14: =VLOOKUP(A14,'[3]100m'!$A$6:$T$85,5,FALSE) -> 7 | D14: =VLOOKUP(A14,'[3]100m'!$A$6:$T$85,7,FALSE) | E14: =VLOOKUP(A14,'[3]100m'!$A$6:$T$85,10,FALSE) -> 65 | F14: =VLOOKUP(A14,'[3]100m'!$A$6:$T$85,12,FALSE) -> Ivana VOLKOVÁ | G14: =VLOOKUP(A14,'[3]100m'!$A$6:$T$85,13,FALSE) -> Tísek | H14: =VLOOKUP(A14,'[3]100m'!$A$6:$T$85,14,FALSE) -> 19.26 | I14: =VLOOKUP(A14,'[3]100m'!$A$6:$T$85,15,FALSE) -> 99.99 | J14: =VLOOKUP(A14,'[3]100m'!$A$6:$T$85,16,FALSE) -> 19.26
A15: 10 | B15: =VLOOKUP(A15,'[3]100m'!$A$6:$T$85,3,FALSE) -> 10 | C15: =VLOOKUP(A15,'[3]100m'!$A$6:$T$85,5,FALSE) | D15: =VLOOKUP(A15,'[3]100m'!$A$6:$T$85,7,FALSE) -> 3 | E15: =VLOOKUP(A15,'[3]100m'!$A$6:$T$85,10,FALSE) -> 16 | F15: =VLOOKUP(A15,'[3]100m'!$A$6:$T$85,12,FALSE) -> Sandra ČERVINKOVÁ | G15: =VLOOKUP(A15,'[3]100m'!$A$6:$T$85,13,FALSE) -> Milotice nad Bečvou | H15: =VLOOKUP(A15,'[3]100m'!$A$6:$T$85,14,FALSE) -> 33.86 | I15: =VLOOKUP(A15,'[3]100m'!$A$6:$T$85,15,FALSE) -> 19.34 | J15: =VLOOKUP(A15,'[3]100m'!$A$6:$T$85,16,FALSE) -> 19.34
A16: 11 | B16: =VLOOKUP(A16,'[3]100m'!$A$6:$T$85,3,FALSE) -> 11 | C16: =VLOOKUP(A16,'[3]100m'!$A$6:$T$85,5,FALSE) | D16: =VLOOKUP(A16,'[3]100m'!$A$6:$T$85,7,FALSE) -> 4 | E16: =VLOOKUP(A16,'[3]100m'!$A$6:$T$85,10,FALSE) -> 18 | F16: =VLOOKUP(A16,'[3]100m'!$A$6:$T$85,12,FALSE) -> Barbora ŠVEHLOVÁ | G16: =VLOOKUP(A16,'[3]100m'!$A$6:$T$85,13,FALSE) -> Milotice nad Bečvou | H16: =VLOOKUP(A16,'[3]100m'!$A$6:$T$85,14,FALSE) -> 19.4 | I16: =VLOOKUP(A16,'[3]100m'!$A$6:$T$85,15,FALSE) -> 99.99 | J16: =VLOOKUP(A16,'[3]100m'!$A$6:$T$85,16,FALSE) -> 19.4
A17: 12 | B17: =VLOOKUP(A17,'[3]100m'!$A$6:$T$85,3,FALSE) -> 12 | C17: =VLOOKUP(A17,'[3]100m'!$A$6:$T$85,5,FALSE) -> 8 | D17: =VLOOKUP(A17,'[3]100m'!$A$6:$T$85,7,FALSE) | E17: =VLOOKUP(A17,'[3]100m'!$A$6:$T$85,10,FALSE) -> 91 | F17: =VLOOKUP(A17,'[3]100m'!$A$6:$T$85,12,FALSE) -> Petra SÝKOROVÁ | G17: =VLOOKUP(A17,'[3]100m'!$A$6:$T$85,13,FALSE) -> Těškovice | H17: =VLOOKUP(A17,'[3]100m'!$A$6:$T$85,14,FALSE) -> 99.99 | I17: =VLOOKUP(A17,'[3]100m'!$A$6:$T$85,15,FALSE) -> 19.48 | J17: =VLOOKUP(A17,'[3]100m'!$A$6:$T$85,16,FALSE) -> 19.48
... A85: 80 | B85: =VLOOKUP(A85,'[3]100m'!$A$6:$T$85,3,FALSE) -> 80 | C85: =VLOOKUP(A85,'[3]100m'!$A$6:$T$85,5,FALSE) -> 45 | D85: =VLOOKUP(A85,'[3]100m'!$A$6:$T$85,7,FALSE) | E85: =VLOOKUP(A85,'[3]100m'!$A$6:$T$85,10,FALSE) -> 77 | F85: =VLOOKUP(A85,'[3]100m'!$A$6:$T$85,12,FALSE) -> Veronika KREJČÍ | G85: =VLOOKUP(A85,'[3]100m'!$A$6:$T$85,13,FALSE) -> Michálkovice | H85: =VLOOKUP(A85,'[3]100m'!$A$6:$T$85,14,FALSE) -> 99.99 | I85: =VLOOKUP(A85,'[3]100m'!$A$6:$T$85,15,FALSE) -> 99.99 | J85: =VLOOKUP(A85,'[3]100m'!$A$6:$T$85,16,FALSE) -> 99.99

Sheet věž HZS
G1: Krajské kolo v požárním sportu Olomouckého a Moravskoslezského kraje
G2: Přerov, 17. - 18. června 2017
G3: Věž
A5: apoř | B5: celkem | C5: MSK | D5: OLK | E5: st.č. | F5: závodník | G5: družstvo | H5: 1. pokus | I5: 2. pokus | J5: výsledný
A6: 1 | B6: =VLOOKUP(A6,[1]věž!$A$6:$P$115,3,FALSE) -> 1 | C6: =VLOOKUP(A6,[1]věž!$A$6:$P$115,5,FALSE) -> 1 | D6: =VLOOKUP(A6,[1]věž!$A$6:$P$115,7,FALSE) | E6: =VLOOKUP(A6,[1]věž!$A$6:$P$115,10,FALSE) -> 8 | F6: =VLOOKUP(A6,[1]věž!$A$6:$P$115,12,FALSE) -> Karel RYL | G6: =VLOOKUP(A6,[1]věž!$A$6:$P$115,13,FALSE) -> Ostrava | H6: =VLOOKUP(A6,[1]věž!$A$6:$P$115,14,FALSE) -> 14.63 | I6: =VLOOKUP(A6,[1]věž!$A$6:$P$115,15,FALSE) -> 13.68 | J6: =VLOOKUP(A6,[1]věž!$A$6:$P$115,16,FALSE) -> 13.68
A7: 2 | B7: =VLOOKUP(A7,[1]věž!$A$6:$P$115,3,FALSE) -> 2 | C7: =VLOOKUP(A7,[1]věž!$A$6:$P$115,5,FALSE) -> 2 | D7: =VLOOKUP(A7,[1]věž!$A$6:$P$115,7,FALSE) | E7: =VLOOKUP(A7,[1]věž!$A$6:$P$115,10,FALSE) -> 1 | F7: =VLOOKUP(A7,[1]věž!$A$6:$P$115,12,FALSE) -> Kamil BEZRUČ | G7: =VLOOKUP(A7,[1]věž!$A$6:$P$115,13,FALSE) -> Ostrava | H7: =VLOOKUP(A7,[1]věž!$A$6:$P$115,14,FALSE) -> 13.91 | I7: =VLOOKUP(A7,[1]věž!$A$6:$P$115,15,FALSE) -> 13.74 | J7: =VLOOKUP(A7,[1]věž!$A$6:$P$115,16,FALSE) -> 13.74
A8: 3 | B8: =VLOOKUP(A8,[1]věž!$A$6:$P$115,3,FALSE) -> 3 | C8: =VLOOKUP(A8,[1]věž!$A$6:$P$115,5,FALSE) -> 3 | D8: =VLOOKUP(A8,[1]věž!$A$6:$P$115,7,FALSE) | E8: =VLOOKUP(A8,[1]věž!$A$6:$P$115,10,FALSE) -> 48 | F8: =VLOOKUP(A8,[1]věž!$A$6:$P$115,12,FALSE) -> Jiří MOTYKA | G8: =VLOOKUP(A8,[1]věž!$A$6:$P$115,13,FALSE) -> Karviná | H8: =VLOOKUP(A8,[1]věž!$A$6:$P$115,14,FALSE) -> 15.51 | I8: =VLOOKUP(A8,[1]věž!$A$6:$P$115,15,FALSE) -> 15.13 | J8: =VLOOKUP(A8,[1]věž!$A$6:$P$115,16,FALSE) -> 15.13
A9: 4 | B9: =VLOOKUP(A9,[1]věž!$A$6:$P$115,3,FALSE) -> 4 | C9: =VLOOKUP(A9,[1]věž!$A$6:$P$115,5,FALSE) -> 4 | D9: =VLOOKUP(A9,[1]věž!$A$6:$P$115,7,FALSE) | E9: =VLOOKUP(A9,[1]věž!$A$6:$P$115,10,FALSE) -> 7 | F9: =VLOOKUP(A9,[1]věž!$A$6:$P$115,12,FALSE) -> Pavel KRPEC | G9: =VLOOKUP(A9,[1]věž!$A$6:$P$115,13,FALSE) -> Ostrava | H9: =VLOOKUP(A9,[1]věž!$A$6:$P$115,14,FALSE) -> 17.16 | I9: =VLOOKUP(A9,[1]věž!$A$6:$P$115,15,FALSE) -> 15.14 | J9: =VLOOKUP(A9,[1]věž!$A$6:$P$115,16,FALSE) -> 15.14
A10: 5 | B10: =VLOOKUP(A10,[1]věž!$A$6:$P$115,3,FALSE) -> 5 | C10: =VLOOKUP(A10,[1]věž!$A$6:$P$115,5,FALSE) -> 5 | D10: =VLOOKUP(A10,[1]věž!$A$6:$P$115,7,FALSE) | E10: =VLOOKUP(A10,[1]věž!$A$6:$P$115,10,FALSE) -> 43 | F10: =VLOOKUP(A10,[1]věž!$A$6:$P$115,12,FALSE) -> Jakub GRYČ | G10: =VLOOKUP(A10,[1]věž!$A$6:$P$115,13,FALSE) -> Karviná | H10: =VLOOKUP(A10,[1]věž!$A$6:$P$115,14,FALSE) -> 15.8 | I10: =VLOOKUP(A10,[1]věž!$A$6:$P$115,15,FALSE) -> 16.2 | J10: =VLOOKUP(A10,[1]věž!$A$6:$P$115,16,FALSE) -> 15.8
A11: 6 | B11: =VLOOKUP(A11,[1]věž!$A$6:$P$115,3,FALSE) -> 6 | C11: =VLOOKUP(A11,[1]věž!$A$6:$P$115,5,FALSE) -> 6 | D11: =VLOOKUP(A11,[1]věž!$A$6:$P$115,7,FALSE) | E11: =VLOOKUP(A11,[1]věž!$A$6:$P$115,10,FALSE) -> 45 | F11: =VLOOKUP(A11,[1]věž!$A$6:$P$115,12,FALSE) -> Martin GRYČ | G11: =VLOOKUP(A11,[1]věž!$A$6:$P$115,13,FALSE) -> Karviná | H11: =VLOOKUP(A11,[1]věž!$A$6:$P$115,14,FALSE) -> 15.81 | I11: =VLOOKUP(A11,[1]věž!$A$6:$P$115,15,FALSE) -> 17.92 | J11: =VLOOKUP(A11,[1]věž!$A$6:$P$115,16,FALSE) -> 15.81
A12: 7 | B12: =VLOOKUP(A12,[1]věž!$A$6:$P$115,3,FALSE) -> 7 | C12: =VLOOKUP(A12,[1]věž!$A$6:$P$115,5,FALSE) -> 7 | D12: =VLOOKUP(A12,[1]věž!$A$6:$P$115,7,FALSE) | E12: =VLOOKUP(A12,[1]věž!$A$6:$P$115,10,FALSE) -> 5 | F12: =VLOOKUP(A12,[1]věž!$A$6:$P$115,12,FALSE) -> Jakub ARVAI | G12: =VLOOKUP(A12,[1]věž!$A$6:$P$115,13,FALSE) -> Ostrava | H12: =VLOOKUP(A12,[1]věž!$A$6:$P$115,14,FALSE) -> 15.89 | I12: =VLOOKUP(A12,[1]věž!$A$6:$P$115,15,FALSE) -> 15.86 | J12: =VLOOKUP(A12,[1]věž!$A$6:$P$115,16,FALSE) -> 15.86
A13: 8 | B13: =VLOOKUP(A13,[1]věž!$A$6:$P$115,3,FALSE) -> 8 | C13: =VLOOKUP(A13,[1]věž!$A$6:$P$115,5,FALSE) -> 8 | D13: =VLOOKUP(A13,[1]věž!$A$6:$P$115,7,FALSE) | E13: =VLOOKUP(A13,[1]věž!$A$6:$P$115,10,FALSE) -> 6 | F13: =VLOOKUP(A13,[1]věž!$A$6:$P$115,12,FALSE) -> Libor MROZOWSKI | G13: =VLOOKUP(A13,[1]věž!$A$6:$P$115,13,FALSE) -> Ostrava | H13: =VLOOKUP(A13,[1]věž!$A$6:$P$115,14,FALSE) -> 16.17 | I13: =VLOOKUP(A13,[1]věž!$A$6:$P$115,15,FALSE) -> 15.94 | J13: =VLOOKUP(A13,[1]věž!$A$6:$P$115,16,FALSE) -> 15.94
A14: 9 | B14: =VLOOKUP(A14,[1]věž!$A$6:$P$115,3,FALSE) -> 9 | C14: =VLOOKUP(A14,[1]věž!$A$6:$P$115,5,FALSE) | D14: =VLOOKUP(A14,[1]věž!$A$6:$P$115,7,FALSE) -> 1 | E14: =VLOOKUP(A14,[1]věž!$A$6:$P$115,10,FALSE) -> 75 | F14: =VLOOKUP(A14,[1]věž!$A$6:$P$115,12,FALSE) -> Jan ŠINDELKA | G14: =VLOOKUP(A14,[1]věž!$A$6:$P$115,13,FALSE) -> Prostějov | H14: =VLOOKUP(A14,[1]věž!$A$6:$P$115,14,FALSE) -> 16.35 | I14: =VLOOKUP(A14,[1]věž!$A$6:$P$115,15,FALSE) -> 16.12 | J14: =VLOOKUP(A14,[1]věž!$A$6:$P$115,16,FALSE) -> 16.12
A15: 10 | B15: =VLOOKUP(A15,[1]věž!$A$6:$P$115,3,FALSE) -> 10 | C15: =VLOOKUP(A15,[1]věž!$A$6:$P$115,5,FALSE) -> 9 | D15: =VLOOKUP(A15,[1]věž!$A$6:$P$115,7,FALSE) | E15: =VLOOKUP(A15,[1]věž!$A$6:$P$115,10,FALSE) -> 44 | F15: =VLOOKUP(A15,[1]věž!$A$6:$P$115,12,FALSE) -> Šimon KUDRNA | G15: =VLOOKUP(A15,[1]věž!$A$6:$P$115,13,FALSE) -> Karviná | H15: =VLOOKUP(A15,[1]věž!$A$6:$P$115,14,FALSE) -> 17.13 | I15: =VLOOKUP(A15,[1]věž!$A$6:$P$115,15,FALSE) -> 16.31 | J15: =VLOOKUP(A15,[1]věž!$A$6:$P$115,16,FALSE) -> 16.31
A16: 11 | B16: =VLOOKUP(A16,[1]věž!$A$6:$P$115,3,FALSE) -> 11 | C16: =VLOOKUP(A16,[1]věž!$A$6:$P$115,5,FALSE) -> 10 | D16: =VLOOKUP(A16,[1]věž!$A$6:$P$115,7,FALSE) | E16: =VLOOKUP(A16,[1]věž!$A$6:$P$115,10,FALSE) -> 4 | F16: =VLOOKUP(A16,[1]věž!$A$6:$P$115,12,FALSE) -> František KUNOVSKÝ | G16: =VLOOKUP(A16,[1]věž!$A$6:$P$115,13,FALSE) -> Ostrava | H16: =VLOOKUP(A16,[1]věž!$A$6:$P$115,14,FALSE) -> 16.43 | I16: =VLOOKUP(A16,[1]věž!$A$6:$P$115,15,FALSE) -> 17.34 | J16: =VLOOKUP(A16,[1]věž!$A$6:$P$115,16,FALSE) -> 16.43
A17: 12 | B17: =VLOOKUP(A17,[1]věž!$A$6:$P$115,3,FALSE) -> 12 | C17: =VLOOKUP(A17,[1]věž!$A$6:$P$115,5,FALSE) -> 11 | D17: =VLOOKUP(A17,[1]věž!$A$6:$P$115,7,FALSE) | E17: =VLOOKUP(A17,[1]věž!$A$6:$P$115,10,FALSE) -> 49 | F17: =VLOOKUP(A17,[1]věž!$A$6:$P$115,12,FALSE) -> Marcel DAL | G17: =VLOOKUP(A17,[1]věž!$A$6:$P$115,13,FALSE) -> Karviná | H17: =VLOOKUP(A17,[1]věž!$A$6:$P$115,14,FALSE) -> 16.65 | I17: =VLOOKUP(A17,[1]věž!$A$6:$P$115,15,FALSE) -> 16.58 | J17: =VLOOKUP(A17,[1]věž!$A$6:$P$115,16,FALSE) -> 16.58
... A115: 110 | B115: =VLOOKUP(A115,[1]věž!$A$6:$P$115,3,FALSE) -> 110 | C115: =VLOOKUP(A115,[1]věž!$A$6:$P$115,5,FALSE) -> 48 | D115: =VLOOKUP(A115,[1]věž!$A$6:$P$115,7,FALSE) | E115: =VLOOKUP(A115,[1]věž!$A$6:$P$115,10,FALSE) -> 108 | F115: =VLOOKUP(A115,[1]věž!$A$6:$P$115,12,FALSE) -> Tomáš ČTVRTŇÁK | G115: =VLOOKUP(A115,[1]věž!$A$6:$P$115,13,FALSE) -> Nový Jičín | H115: =VLOOKUP(A115,[1]věž!$A$6:$P$115,14,FALSE) -> 99.99 | I115: =VLOOKUP(A115,[1]věž!$A$6:$P$115,15,FALSE) -> 99.99 | J115: =VLOOKUP(A115,[1]věž!$A$6:$P$115,16,FALSE) -> 99.99

Sheet dvojboj HZS
G1: Krajské kolo v požárním sportu Olomouckého a Moravskoslezského kraje
G2: Přerov, 17. - 18. června 2017
G3: dvojboj
A5: apoř | B5: celkem | C5: MSK | D5: OLK | E5: st.č. | F5: závodník | G5: družstvo | H5: 100m | I5: věž | J5: celkem
A6: 1 | B6: =VLOOKUP(A6,[1]dvojboj!$A$6:$M$115,3,FALSE) -> 1 | C6: =VLOOKUP(A6,[1]dvojboj!$A$6:$M$115,5,FALSE) -> 1 | D6: =VLOOKUP(A6,[1]dvojboj!$A$6:$M$115,7,FALSE) | E6: =VLOOKUP(A6,[1]dvojboj!$A$6:$M$115,8,FALSE) -> 1 | F6: =VLOOKUP(A6,[1]dvojboj!$A$6:$M$115,9,FALSE) -> Kamil BEZRUČ | G6: =VLOOKUP(A6,[1]dvojboj!$A$6:$M$115,10,FALSE) -> Ostrava | H6: =VLOOKUP(A6,[1]dvojboj!$A$6:$M$115,11,FALSE) -> 17.22 | I6: =VLOOKUP(A6,[1]dvojboj!$A$6:$M$115,12,FALSE) -> 13.74 | J6: =VLOOKUP(A6,[1]dvojboj!$A$6:$M$115,13,FALSE) -> 30.96
A7: 2 | B7: =VLOOKUP(A7,[1]dvojboj!$A$6:$M$115,3,FALSE) -> 2 | C7: =VLOOKUP(A7,[1]dvojboj!$A$6:$M$115,5,FALSE) -> 2 | D7: =VLOOKUP(A7,[1]dvojboj!$A$6:$M$115,7,FALSE) | E7: =VLOOKUP(A7,[1]dvojboj!$A$6:$M$115,8,FALSE) -> 7 | F7: =VLOOKUP(A7,[1]dvojboj!$A$6:$M$115,9,FALSE) -> Pavel KRPEC | G7: =VLOOKUP(A7,[1]dvojboj!$A$6:$M$115,10,FALSE) -> Ostrava | H7: =VLOOKUP(A7,[1]dvojboj!$A$6:$M$115,11,FALSE) -> 16.1 | I7: =VLOOKUP(A7,[1]dvojboj!$A$6:$M$115,12,FALSE) -> 15.14 | J7: =VLOOKUP(A7,[1]dvojboj!$A$6:$M$115,13,FALSE) -> 31.24
A8: 3 | B8: =VLOOKUP(A8,[1]dvojboj!$A$6:$M$115,3,FALSE) -> 3 | C8: =VLOOKUP(A8,[1]dvojboj!$A$6:$M$115,5,FALSE) -> 3 | D8: =VLOOKUP(A8,[1]dvojboj!$A$6:$M$115,7,FALSE) | E8: =VLOOKUP(A8,[1]dvojboj!$A$6:$M$115,8,FALSE) -> 48 | F8: =VLOOKUP(A8,[1]dvojboj!$A$6:$M$115,9,FALSE) -> Jiří MOTYKA | G8: =VLOOKUP(A8,[1]dvojboj!$A$6:$M$115,10,FALSE) -> Karviná | H8: =VLOOKUP(A8,[1]dvojboj!$A$6:$M$115,11,FALSE) -> 17.09 | I8: =VLOOKUP(A8,[1]dvojboj!$A$6:$M$115,12,FALSE) -> 15.13 | J8: =VLOOKUP(A8,[1]dvojboj!$A$6:$M$115,13,FALSE) -> 32.22
A9: 4 | B9: =VLOOKUP(A9,[1]dvojboj!$A$6:$M$115,3,FALSE) -> 4 | C9: =VLOOKUP(A9,[1]dvojboj!$A$6:$M$115,5,FALSE) -> 4 | D9: =VLOOKUP(A9,[1]dvojboj!$A$6:$M$115,7,FALSE) | E9: =VLOOKUP(A9,[1]dvojboj!$A$6:$M$115,8,FALSE) -> 4 | F9: =VLOOKUP(A9,[1]dvojboj!$A$6:$M$115,9,FALSE) -> František KUNOVSKÝ | G9: =VLOOKUP(A9,[1]dvojboj!$A$6:$M$115,10,FALSE) -> Ostrava | H9: =VLOOKUP(A9,[1]dvojboj!$A$6:$M$115,11,FALSE) -> 15.82 | I9: =VLOOKUP(A9,[1]dvojboj!$A$6:$M$115,12,FALSE) -> 16.43 | J9: =VLOOKUP(A9,[1]dvojboj!$A$6:$M$115,13,FALSE) -> 32.25
A10: 5 | B10: =VLOOKUP(A10,[1]dvojboj!$A$6:$M$115,3,FALSE) -> 5 | C10: =VLOOKUP(A10,[1]dvojboj!$A$6:$M$115,5,FALSE) -> 5 | D10: =VLOOKUP(A10,[1]dvojboj!$A$6:$M$115,7,FALSE) | E10: =VLOOKUP(A10,[1]dvojboj!$A$6:$M$115,8,FALSE) -> 5 | F10: =VLOOKUP(A10,[1]dvojboj!$A$6:$M$115,9,FALSE) -> Jakub ARVAI | G10: =VLOOKUP(A10,[1]dvojboj!$A$6:$M$115,10,FALSE) -> Ostrava | H10: =VLOOKUP(A10,[1]dvojboj!$A$6:$M$115,11,FALSE) -> 16.86 | I10: =VLOOKUP(A10,[1]dvojboj!$A$6:$M$115,12,FALSE) -> 15.86 | J10: =VLOOKUP(A10,[1]dvojboj!$A$6:$M$115,13,FALSE) -> 32.72
A11: 6 | B11: =VLOOKUP(A11,[1]dvojboj!$A$6:$M$115,3,FALSE) -> 6 | C11: =VLOOKUP(A11,[1]dvojboj!$A$6:$M$115,5,FALSE) -> 6 | D11: =VLOOKUP(A11,[1]dvojboj!$A$6:$M$115,7,FALSE) | E11: =VLOOKUP(A11,[1]dvojboj!$A$6:$M$115,8,FALSE) -> 44 | F11: =VLOOKUP(A11,[1]dvojboj!$A$6:$M$115,9,FALSE) -> Šimon KUDRNA | G11: =VLOOKUP(A11,[1]dvojboj!$A$6:$M$115,10,FALSE) -> Karviná | H11: =VLOOKUP(A11,[1]dvojboj!$A$6:$M$115,11,FALSE) -> 17.11 | I11: =VLOOKUP(A11,[1]dvojboj!$A$6:$M$115,12,FALSE) -> 16.31 | J11: =VLOOKUP(A11,[1]dvojboj!$A$6:$M$115,13,FALSE) -> 33.42
A12: 7 | B12: =VLOOKUP(A12,[1]dvojboj!$A$6:$M$115,3,FALSE) -> 7 | C12: =VLOOKUP(A12,[1]dvojboj!$A$6:$M$115,5,FALSE) -> 7 | D12: =VLOOKUP(A12,[1]dvojboj!$A$6:$M$115,7,FALSE) | E12: =VLOOKUP(A12,[1]dvojboj!$A$6:$M$115,8,FALSE) -> 46 | F12: =VLOOKUP(A12,[1]dvojboj!$A$6:$M$115,9,FALSE) -> Tomáš DROBISZ | G12: =VLOOKUP(A12,[1]dvojboj!$A$6:$M$115,10,FALSE) -> Karviná | H12: =VLOOKUP(A12,[1]dvojboj!$A$6:$M$115,11,FALSE) -> 16.83 | I12: =VLOOKUP(A12,[1]dvojboj!$A$6:$M$115,12,FALSE) -> 16.69 | J12: =VLOOKUP(A12,[1]dvojboj!$A$6:$M$115,13,FALSE) -> 33.52
A13: 8 | B13: =VLOOKUP(A13,[1]dvojboj!$A$6:$M$115,3,FALSE) -> 8 | C13: =VLOOKUP(A13,[1]dvojboj!$A$6:$M$115,5,FALSE) | D13: =VLOOKUP(A13,[1]dvojboj!$A$6:$M$115,7,FALSE) -> 1 | E13: =VLOOKUP(A13,[1]dvojboj!$A$6:$M$115,8,FALSE) -> 57 | F13: =VLOOKUP(A13,[1]dvojboj!$A$6:$M$115,9,FALSE) -> Václav BLAŽEK | G13: =VLOOKUP(A13,[1]dvojboj!$A$6:$M$115,10,FALSE) -> Přerov | H13: =VLOOKUP(A13,[1]dvojboj!$A$6:$M$115,11,FALSE) -> 16.94 | I13: =VLOOKUP(A13,[1]dvojboj!$A$6:$M$115,12,FALSE) -> 16.6 | J13: =VLOOKUP(A13,[1]dvojboj!$A$6:$M$115,13,FALSE) -> 33.54
A14: 9 | B14: =VLOOKUP(A14,[1]dvojboj!$A$6:$M$115,3,FALSE) -> 9 | C14: =VLOOKUP(A14,[1]dvojboj!$A$6:$M$115,5,FALSE) -> 8 | D14: =VLOOKUP(A14,[1]dvojboj!$A$6:$M$115,7,FALSE) | E14: =VLOOKUP(A14,[1]dvojboj!$A$6:$M$115,8,FALSE) -> 6 | F14: =VLOOKUP(A14,[1]dvojboj!$A$6:$M$115,9,FALSE) -> Libor MROZOWSKI | G14: =VLOOKUP(A14,[1]dvojboj!$A$6:$M$115,10,FALSE) -> Ostrava | H14: =VLOOKUP(A14,[1]dvojboj!$A$6:$M$115,11,FALSE) -> 17.85 | I14: =VLOOKUP(A14,[1]dvojboj!$A$6:$M$115,12,FALSE) -> 15.94 | J14: =VLOOKUP(A14,[1]dvojboj!$A$6:$M$115,13,FALSE) -> 33.79
A15: 10 | B15: =VLOOKUP(A15,[1]dvojboj!$A$6:$M$115,3,FALSE) -> 9 | C15: =VLOOKUP(A15,[1]dvojboj!$A$6:$M$115,5,FALSE) -> 8 | D15: =VLOOKUP(A15,[1]dvojboj!$A$6:$M$115,7,FALSE) | E15: =VLOOKUP(A15,[1]dvojboj!$A$6:$M$115,8,FALSE) -> 45 | F15: =VLOOKUP(A15,[1]dvojboj!$A$6:$M$115,9,FALSE) -> Martin GRYČ | G15: =VLOOKUP(A15,[1]dvojboj!$A$6:$M$115,10,FALSE) -> Karviná | H15: =VLOOKUP(A15,[1]dvojboj!$A$6:$M$115,11,FALSE) -> 17.98 | I15: =VLOOKUP(A15,[1]dvojboj!$A$6:$M$115,12,FALSE) -> 15.81 | J15: =VLOOKUP(A15,[1]dvojboj!$A$6:$M$115,13,FALSE) -> 33.79
A16: 11 | B16: =VLOOKUP(A16,[1]dvojboj!$A$6:$M$115,3,FALSE) -> 11 | C16: =VLOOKUP(A16,[1]dvojboj!$A$6:$M$115,5,FALSE) | D16: =VLOOKUP(A16,[1]dvojboj!$A$6:$M$115,7,FALSE) -> 2 | E16: =VLOOKUP(A16,[1]dvojboj!$A$6:$M$115,8,FALSE) -> 75 | F16: =VLOOKUP(A16,[1]dvojboj!$A$6:$M$115,9,FALSE) -> Jan ŠINDELKA | G16: =VLOOKUP(A16,[1]dvojboj!$A$6:$M$115,10,FALSE) -> Prostějov | H16: =VLOOKUP(A16,[1]dvojboj!$A$6:$M$115,11,FALSE) -> 18.34 | I16: =VLOOKUP(A16,[1]dvojboj!$A$6:$M$115,12,FALSE) -> 16.12 | J16: =VLOOKUP(A16,[1]dvojboj!$A$6:$M$115,13,FALSE) -> 34.46
A17: 12 | B17: =VLOOKUP(A17,[1]dvojboj!$A$6:$M$115,3,FALSE) -> 12 | C17: =VLOOKUP(A17,[1]dvojboj!$A$6:$M$115,5,FALSE) -> 10 | D17: =VLOOKUP(A17,[1]dvojboj!$A$6:$M$115,7,FALSE) | E17: =VLOOKUP(A17,[1]dvojboj!$A$6:$M$115,8,FALSE) -> 43 | F17: =VLOOKUP(A17,[1]dvojboj!$A$6:$M$115,9,FALSE) -> Jakub GRYČ | G17: =VLOOKUP(A17,[1]dvojboj!$A$6:$M$115,10,FALSE) -> Karviná | H17: =VLOOKUP(A17,[1]dvojboj!$A$6:$M$115,11,FALSE) -> 19.12 | I17: =VLOOKUP(A17,[1]dvojboj!$A$6:$M$115,12,FALSE) -> 15.8 | J17: =VLOOKUP(A17,[1]dvojboj!$A$6:$M$115,13,FALSE) -> 34.92
... A115: 110 | B115: =VLOOKUP(A115,[1]dvojboj!$A$6:$M$115,3,FALSE) -> 110 | C115: =VLOOKUP(A115,[1]dvojboj!$A$6:$M$115,5,FALSE) -> 39 | D115: =VLOOKUP(A115,[1]dvojboj!$A$6:$M$115,7,FALSE) | E115: =VLOOKUP(A115,[1]dvojboj!$A$6:$M$115,8,FALSE) -> 109 | F115: =VLOOKUP(A115,[1]dvojboj!$A$6:$M$115,9,FALSE) -> Tomáš ČTVRTŇÁK | G115: =VLOOKUP(A115,[1]dvojboj!$A$6:$M$115,10,FALSE) -> Nový Jičín | H115: =VLOOKUP(A115,[1]dvojboj!$A$6:$M$115,11,FALSE) -> 21.84 | I115: =VLOOKUP(A115,[1]dvojboj!$A$6:$M$115,12,FALSE) -> 99.99 | J115: =VLOOKUP(A115,[1]dvojboj!$A$6:$M$115,13,FALSE) -> 99.99

Sheet štafeta HZS
E1: Krajské kolo v požárním sportu Olomouckého a Moravskoslezského kraje
E2: Přerov, 17. - 18. června 2017
E3: Štafeta 4x100m s překážkami
E4: muži HZS
A5: pořadí | B5: MSK | C5: OLK | D5: st.č. | E5: družstvo | F5: štafeta | G5: čas
A6: =IF(OR(G6=99.99,G6=0),22,RANK(G6,$G$6:$G$27,1)) -> 1 | B6: 1 | D6: 12 | E6: Ostrava | F6: B | G6: 55.31
A7: =IF(OR(G7=99.99,G7=0),22,RANK(G7,$G$6:$G$27,1)) -> 2 | B7: 2 | D7: 16 | E7: Karviná | F7: B | G7: 59.33
A8: =IF(OR(G8=99.99,G8=0),22,RANK(G8,$G$6:$G$27,1)) -> 3 | C8: 1 | D8: 17 | E8: Přerov | F8: B | G8: 61.76
A9: =IF(OR(G9=99.99,G9=0),22,RANK(G9,$G$6:$G$27,1)) -> 4 | B9: 3 | D9: 1 | E9: Ostrava | F9: A | G9: 62.84
A10: =IF(OR(G10=99.99,G10=0),22,RANK(G10,$G$6:$G$27,1)) -> 5 | C10: 2 | D10: 6 | E10: Přerov | F10: A | G10: 64.56
A11: =IF(OR(G11=99.99,G11=0),22,RANK(G11,$G$6:$G$27,1)) -> 6 | B11: 4 | D11: 9 | E11: Bruntál | F11: A | G11: 66.77
A12: =IF(OR(G12=99.99,G12=0),22,RANK(G12,$G$6:$G$27,1)) -> 7 | C12: 3 | D12: 4 | E12: Olomouc | F12: A | G12: 67.2
A13: =IF(OR(G13=99.99,G13=0),22,RANK(G13,$G$6:$G$27,1)) -> 8 | B13: 5 | D13: 14 | E13: Opava | F13: B | G13: 67.71
A14: =IF(OR(G14=99.99,G14=0),22,RANK(G14,$G$6:$G$27,1)) -> 9 | B14: 6 | D14: 18 | E14: Frýdek-Místek | F14: B | G14: 68.68
A15: =IF(OR(G15=99.99,G15=0),22,RANK(G15,$G$6:$G$27,1)) -> 10 | B15: 7 | D15: 11 | E15: Nový Jičín | F15: A | G15: 72.44
A16: =IF(OR(G16=99.99,G16=0),22,RANK(G16,$G$6:$G$27,1)) -> 11 | B16: 8 | D16: 3 | E16: Opava | F16: A | G16: 72.58
A17: =IF(OR(G17=99.99,G17=0),22,RANK(G17,$G$6:$G$27,1)) -> 12 | C17: 4 | D17: 8 | E17: Prostějov | F17: A | G17: 74
A18: =IF(OR(G18=99.99,G18=0),22,RANK(G18,$G$6:$G$27,1)) -> 13 | C18: 5 | D18: 13 | E18: Šumperk | F18: B | G18: 77.09
A19: =IF(OR(G19=99.99,G19=0),22,RANK(G19,$G$6:$G$27,1)) -> 14 | B19: 9 | D19: 20 | E19: Bruntál | F19: B | G19: 78.87
A20: =IF(OR(G20=99.99,G20=0),22,RANK(G20,$G$6:$G$27,1)) -> 15 | C20: 6 | D20: 21 | E20: Jeseník | F20: B | G20: 85.94
A21: =IF(OR(G21=99.99,G21=0),22,RANK(G21,$G$6:$G$27,1)) -> 22 | C21: 10 | D21: 2 | E21: Šumperk | F21: A
A22: =IF(OR(G22=99.99,G22=0),22,RANK(G22,$G$6:$G$27,1)) -> 22 | B22: 12 | D22: 5 | E22: Karviná | F22: A
A23: =IF(OR(G23=99.99,G23=0),22,RANK(G23,$G$6:$G$27,1)) -> 22 | B23: 12 | D23: 7 | E23: Frýdek-Místek | F23: A
A24: =IF(OR(G24=99.99,G24=0),22,RANK(G24,$G$6:$G$27,1)) -> 22 | C24: 10 | D24: 10 | E24: Jeseník | F24: A
A25: =IF(OR(G25=99.99,G25=0),22,RANK(G25,$G$6:$G$27,1)) -> 22 | C25: 10 | D25: 15 | E25: Olomouc | F25: B
A26: =IF(OR(G26=99.99,G26=0),22,RANK(G26,$G$6:$G$27,1)) -> 22 | C26: 10 | D26: 19 | E26: Prostějov | F26: B
A27: =IF(OR(G27=99.99,G27=0),22,RANK(G27,$G$6:$G$27,1)) -> 22 | B27: 12 | D27: 22 | E27: Nový Jičín | F27: B

Sheet štafeta SHD
F1: Krajské kolo v požárním sportu Moravskoslezského a Olomouckého kraje
F2: Přerov, 17. - 18. června 2017
F3: Štafeta 4x100m s překážkami
F4: ženy SDH
A5: pořadí | B5: MSK | C5: OLK | D5: st.č. | E5: dráha | F5: družstvo | G5: štafeta | H5: čas
A6: =IF(OR(H6=99.99,H6=0),20,RANK(H6,$H$6:$H$25,1)) -> 1 | B6: 1 | D6: 19 | E6: 1 | F6: Těškovice | G6: B | H6: 65.83
A7: =IF(OR(H7=99.99,H7=0),20,RANK(H7,$H$6:$H$25,1)) -> 2 | B7: 2 | D7: 17 | E7: 1 | F7: Michálkovice | G7: B | H7: 66.22
A8: =IF(OR(H8=99.99,H8=0),20,RANK(H8,$H$6:$H$25,1)) -> 3 | B8: 3 | D8: 12 | E8: 2 | F8: Frýdek | G8: B | H8: 66.97
A9: =IF(OR(H9=99.99,H9=0),20,RANK(H9,$H$6:$H$25,1)) -> 4 | C9: 1 | D9: 2 | E9: 2 | F9: Milotice nad Bečvou | G9: A | H9: 67.18
A10: =IF(OR(H10=99.99,H10=0),20,RANK(H10,$H$6:$H$25,1)) -> 5 | B10: 4 | D10: 10 | E10: 2 | F10: Těškovice | G10: A | H10: 69.95
A11: =IF(OR(H11=99.99,H11=0),20,RANK(H11,$H$6:$H$25,1)) -> 6 | B11: 5 | D11: 7 | E11: 1 | F11: Tísek | G11: A | H11: 70.86
A12: =IF(OR(H12=99.99,H12=0),20,RANK(H12,$H$6:$H$25,1)) -> 7 | B12: 6 | D12: 1 | E12: 1 | F12: Frýdek | G12: A | H12: 71.67
A13: =IF(OR(H13=99.99,H13=0),20,RANK(H13,$H$6:$H$25,1)) -> 8 | C13: 2 | D13: 11 | E13: 1 | F13: Milotice nad Bečvou | G13: B | H13: 71.8
A14: =IF(OR(H14=99.99,H14=0),20,RANK(H14,$H$6:$H$25,1)) -> 9 | C14: 3 | D14: 15 | E14: 1 | F14: Trusovice | G14: B | H14: 72.26
A15: =IF(OR(H15=99.99,H15=0),20,RANK(H15,$H$6:$H$25,1)) -> 10 | B15: 7 | D15: 18 | E15: 2 | F15: Tísek | G15: B | H15: 72.49
A16: =IF(OR(H16=99.99,H16=0),20,RANK(H16,$H$6:$H$25,1)) -> 11 | B16: 8 | D16: 8 | E16: 2 | F16: Michálkovice | G16: A | H16: 72.54
A17: =IF(OR(H17=99.99,H17=0),20,RANK(H17,$H$6:$H$25,1)) -> 12 | C17: 4 | D17: 13 | E17: 1 | F17: Pěnčín | G17: B | H17: 74.96
A18: =IF(OR(H18=99.99,H18=0),20,RANK(H18,$H$6:$H$25,1)) -> 13 | B18: 9 | D18: 3 | E18: 1 | F18: Horní Žukov | G18: A | H18: 75.22
A19: =IF(OR(H19=99.99,H19=0),20,RANK(H19,$H$6:$H$25,1)) -> 14 | B19: 10 | D19: 5 | E19: 1 | F19: Široká Niva | G19: A | H19: 75.57
A20: =IF(OR(H20=99.99,H20=0),20,RANK(H20,$H$6:$H$25,1)) -> 15 | C20: 5 | D20: 6 | E20: 2 | F20: Trusovice | G20: A | H20: 75.66
A21: =IF(OR(H21=99.99,H21=0),20,RANK(H21,$H$6:$H$25,1)) -> 16 | C21: 6 | D21: 9 | E21: 1 | F21: Nový Malín | G21: A | H21: 79.24
A22: =IF(OR(H22=99.99,H22=0),20,RANK(H22,$H$6:$H$25,1)) -> 20 | C22: 8 | D22: 4 | E22: 2 | F22: Pěnčín | G22: A | H22: 99.99
A23: =IF(OR(H23=99.99,H23=0),20,RANK(H23,$H$6:$H$25,1)) -> 20 | B23: 12 | D23: 14 | E23: 2 | F23: Horní Žukov | G23: B | H23: 99.99
A24: =IF(OR(H24=99.99,H24=0),20,RANK(H24,$H$6:$H$25,1)) -> 20 | B24: 12 | D24: 16 | E24: 2 | F24: Široká Niva | G24: B | H24: 99.99
A25: =IF(OR(H25=99.99,H25=0),20,RANK(H25,$H$6:$H$25,1)) -> 20 | C25: 8 | D25: 20 | E25: 2 | F25: Nový Malín | G25: B | H25: 99.99
F27: muži SDH
A28: pořadí | B28: MSK | C28: OLK | D28: st.č. | E28: dráha | F28: družstvo | G28: štafeta | H28: čas
A29: 1 | B29: 1 | D29: 13 | E29: 1 | F29: Michálkovice | G29: B | H29: 59.36
A30: 2 | C30: 1 | D30: 2 | E30: 2 | F30: Bludov | G30: A | H30: 60.89
A31: 3 | B31: 2 | D31: 1 | E31: 1 | F31: Těškovice | G31: A | H31: 61.58
A32: 4 | B32: 3 | D32: 14 | E32: 2 | F32: Závišice | G32: B | H32: 63.12
A33: 5 | B33: 4 | D33: 10 | E33: 2 | F33: Mosty | G33: A | H33: 63.8
A34: 6 | B34: 5 | D34: 4 | E34: 2 | F34: Michálkovice | G34: A | H34: 65.17
A35: 7 | C35: 2 | D35: 7 | E35: 1 | F35: Milotice nad Bečvou | G35: A | H35: 67.68
A36: 8 | B36: 6 | D36: 3 | E36: 1 | F36: Závišice | G36: A | H36: 67.92
A37: 9 | B37: 7 | D37: 8 | E37: 2 | F37: Kozlovice | G37: A | H37: 70.27
A38: 10 | C38: 3 | D38: 18 | E38: 2 | F38: Milotice nad Bečvou | G38: B | H38: 73.24
A39: 11 | B39: 8 | D39: 6 | E39: 2 | F39: Široká Niva | G39: A | H39: 73.34
A40: 12 | C40: 4 | D40: 16 | E40: 2 | F40: Domamyslice | G40: B | H40: 74.24
A41: 20 | C41: 8 | D41: 5 | E41: 1 | F41: Domamyslice | G41: A | H41: 99.99
...

Sheet útok HZS
F1: Krajské kolo v požárním sportu Olomouckého a Moravskoslezského kraje
F2: Přerov, 17. - 18. června 2017
F3: Požární útok
F4: muži HZS
C5: Moravskoslezský kraj | E5: 1. pokus | H5: 2. pokus
A6: poř. | B6: st.č. | C6: územní odbor | D6: levý | E6: pravý | F6: výsledný | G6: levý | H6: pravý | I6: výsledný | J6: celkem | L6: min | M6: max | N6: koef
A7: =IF(J7=99.99,6,RANK(N7,$N$7:$N$12,1)) -> 1 | B7: 1 | C7: Ostrava | D7: 99.99 | F7: =IF(MIN(D7:E7)=0,99.99,MAX(D7:E7)) -> 99.99 | G7: 21.69 | H7: 21.76 | I7: =IF(MIN(G7:H7)=0,99.99,MAX(G7:H7)) -> 21.76 | J7: =MIN(F7,I7) -> 21.76 | L7: =MIN(F7,I7) -> 21.76 | M7: =MAX(F7,I7) -> 99.99 | N7: =L7+M7*0.0001 -> 21.769999
A8: =IF(J8=99.99,6,RANK(N8,$N$7:$N$12,1)) -> 2 | B8: 5 | C8: Karviná | D8: 22.94 | E8: 22.47 | F8: =IF(MIN(D8:E8)=0,99.99,MAX(D8:E8)) -> 22.94 | G8: 22.14 | H8: 21.65 | I8: =IF(MIN(G8:H8)=0,99.99,MAX(G8:H8)) -> 22.14 | J8: =MIN(F8,I8) -> 22.14 | L8: =MIN(F8,I8) -> 22.14 | M8: =MAX(F8,I8) -> 22.94 | N8: =L8+M8*0.0001 -> 22.142294
A9: =IF(J9=99.99,6,RANK(N9,$N$7:$N$12,1)) -> 3 | B9: 3 | C9: Opava | D9: 27.33 | E9: 26.41 | F9: =IF(MIN(D9:E9)=0,99.99,MAX(D9:E9)) -> 27.33 | G9: 25.52 | H9: 25.28 | I9: =IF(MIN(G9:H9)=0,99.99,MAX(G9:H9)) -> 25.52 | J9: =MIN(F9,I9) -> 25.52 | L9: =MIN(F9,I9) -> 25.52 | M9: =MAX(F9,I9) -> 27.33 | N9: =L9+M9*0.0001 -> 25.522733
A10: =IF(J10=99.99,6,RANK(N10,$N$7:$N$12,1)) -> 4 | B10: 9 | C10: Bruntál | D10: 51.84 | E10: 54 | F10: =IF(MIN(D10:E10)=0,99.99,MAX(D10:E10)) -> 54 | G10: 25.77 | H10: 24.31 | I10: =IF(MIN(G10:H10)=0,99.99,MAX(G10:H10)) -> 25.77 | J10: =MIN(F10,I10) -> 25.77 | L10: =MIN(F10,I10) -> 25.77 | M10: =MAX(F10,I10) -> 54 | N10: =L10+M10*0.0001 -> 25.7754
A11: =IF(J11=99.99,6,RANK(N11,$N$7:$N$12,1)) -> 5 | B11: 11 | C11: Nový Jičín | D11: 27.78 | E11: 28.37 | F11: =IF(MIN(D11:E11)=0,99.99,MAX(D11:E11)) -> 28.37 | I11: =IF(MIN(G11:H11)=0,99.99,MAX(G11:H11)) -> 99.99 | J11: =MIN(F11,I11) -> 28.37 | L11: =MIN(F11,I11) -> 28.37 | M11: =MAX(F11,I11) -> 99.99 | N11: =L11+M11*0.0001 -> 28.379999
A12: =IF(J12=99.99,6,RANK(N12,$N$7:$N$12,1)) -> 6 | B12: 7 | C12: Frýdek-Místek | D12: 25.73 | E12: 29.4 | F12: =IF(MIN(D12:E12)=0,99.99,MAX(D12:E12)) -> 29.4 | I12: =IF(MIN(G12:H12)=0,99.99,MAX(G12:H12)) -> 99.99 | J12: =MIN(F12,I12) -> 29.4 | L12: =MIN(F12,I12) -> 29.4 | M12: =MAX(F12,I12) -> 99.99 | N12: =L12+M12*0.0001 -> 29.409999
C14: Olomoucký kraj
A15: =IF(J15=99.99,5,RANK(N15,$N$15:$N$19,1)) -> 1 | B15: 6 | C15: Přerov | D15: 22.01 | E15: 22.32 | F15: =IF(MIN(D15:E15)=0,99.99,MAX(D15:E15)) -> 22.32 | G15: 22.76 | H15: 24.02 | I15: =IF(MIN(G15:H15)=0,99.99,MAX(G15:H15)) -> 24.02 | J15: =MIN(F15,I15) -> 22.32 | L15: =MIN(F15,I15) -> 22.32 | M15: =MAX(F15,I15) -> 24.02 | N15: =L15+M15*0.0001 -> 22.322402
A16: =IF(J16=99.99,5,RANK(N16,$N$15:$N$19,1)) -> 2 | B16: 4 | C16: Olomouc | D16: 26.19 | E16: 25.18 | F16: =IF(MIN(D16:E16)=0,99.99,MAX(D16:E16)) -> 26.19 | G16: 23.21 | H16: 23.72 | I16: =IF(MIN(G16:H16)=0,99.99,MAX(G16:H16)) -> 23.72 | J16: =MIN(F16,I16) -> 23.72 | L16: =MIN(F16,I16) -> 23.72 | M16: =MAX(F16,I16) -> 26.19 | N16: =L16+M16*0.0001 -> 23.722619
A17: =IF(J17=99.99,5,RANK(N17,$N$15:$N$19,1)) -> 3 | B17: 2 | C17: Šumperk | D17: 27.64 | E17: 26.51 | F17: =IF(MIN(D17:E17)=0,99.99,MAX(D17:E17)) -> 27.64 | I17: =IF(MIN(G17:H17)=0,99.99,MAX(G17:H17)) -> 99.99 | J17: =MIN(F17,I17) -> 27.64 | L17: =MIN(F17,I17) -> 27.64 | M17: =MAX(F17,I17) -> 99.99 | N17: =L17+M17*0.0001 -> 27.649999
A18: =IF(J18=99.99,5,RANK(N18,$N$15:$N$19,1)) -> 4 | B18: 10 | C18: Jeseník | D18: 46.98 | E18: 47.8 | F18: =IF(MIN(D18:E18)=0,99.99,MAX(D18:E18)) -> 47.8 | G18: 28.65 | H18: 26.61 | I18: =IF(MIN(G18:H18)=0,99.99,MAX(G18:H18)) -> 28.65 | J18: =MIN(F18,I18) -> 28.65 | L18: =MIN(F18,I18) -> 28.65 | M18: =MAX(F18,I18) -> 47.8 | N18: =L18+M18*0.0001 -> 28.65478
A19: =IF(J19=99.99,5,RANK(N19,$N$15:$N$19,1)) -> 5 | B19: 8 | C19: Prostějov | D19: 23.88 | E19: 32.53 | F19: =IF(MIN(D19:E19)=0,99.99,MAX(D19:E19)) -> 32.53 | G19: 28.87 | H19: 24.01 | I19: =IF(MIN(G19:H19)=0,99.99,MAX(G19:H19)) -> 28.87 | J19: =MIN(F19,I19) -> 28.87 | L19: =MIN(F19,I19) -> 28.87 | M19: =MAX(F19,I19) -> 32.53 | N19: =L19+M19*0.0001 -> 28.873253

Sheet útok SDH M
F1: Krajské kolo v požárním sportu Moravskoslezského a Olomouckého kraje
F2: Přerov, 17. - 18. června 2017
F3: Požární útok
F4: muži SDH
C5: Moravskoslezský kraj | E5: 1.pokus | H5: 2.pokus
A6: poř. | B6: st.č. | C6: SDH | D6: levý | E6: pravý | F6: výsledný | G6: levý | H6: pravý | I6: výsledný | J6: celkem | L6: min | M6: max | N6: koef
A7: =IF(J7=99.99,6,RANK(N7,$N$7:$N$12,1)) -> 1 | B7: 4 | C7: Michálkovice | D7: 25.94 | E7: 26.63 | F7: =IF(MIN(D7:E7)=0,99.99,MAX(D7:E7)) -> 26.63 | G7: 27.39 | H7: 26.79 | I7: =IF(MIN(G7:H7)=0,99.99,MAX(G7:H7)) -> 27.39 | J7: =MIN(F7,I7) -> 26.63 | L7: =MIN(F7,I7) -> 26.63 | M7: =MAX(F7,I7) -> 27.39 | N7: =L7+M7*0.0001 -> 26.632739
A8: =IF(J8=99.99,6,RANK(N8,$N$7:$N$12,1)) -> 2 | B8: 1 | C8: Těškovice | D8: 26.35 | E8: 27.72 | F8: =IF(MIN(D8:E8)=0,99.99,MAX(D8:E8)) -> 27.72 | G8: 29.24 | H8: 26 | I8: =IF(MIN(G8:H8)=0,99.99,MAX(G8:H8)) -> 29.24 | J8: =MIN(F8,I8) -> 27.72 | L8: =MIN(F8,I8) -> 27.72 | M8: =MAX(F8,I8) -> 29.24 | N8: =L8+M8*0.0001 -> 27.722924
A9: =IF(J9=99.99,6,RANK(N9,$N$7:$N$12,1)) -> 3 | B9: 3 | C9: Závišice | D9: 40.27 | E9: 27.83 | F9: =IF(MIN(D9:E9)=0,99.99,MAX(D9:E9)) -> 40.27 | G9: 29.6 | H9: 27.82 | I9: =IF(MIN(G9:H9)=0,99.99,MAX(G9:H9)) -> 29.6 | J9: =MIN(F9,I9) -> 29.6 | L9: =MIN(F9,I9) -> 29.6 | M9: =MAX(F9,I9) -> 40.27 | N9: =L9+M9*0.0001 -> 29.604027
A10: =IF(J10=99.99,6,RANK(N10,$N$7:$N$12,1)) -> 4 | B10: 10 | C10: Mosty | D10: 37.77 | E10: 33.55 | F10: =IF(MIN(D10:E10)=0,99.99,MAX(D10:E10)) -> 37.77 | G10: 29.79 | H10: 28.55 | I10: =IF(MIN(G10:H10)=0,99.99,MAX(G10:H10)) -> 29.79 | J10: =MIN(F10,I10) -> 29.79 | L10: =MIN(F10,I10) -> 29.79 | M10: =MAX(F10,I10) -> 37.77 | N10: =L10+M10*0.0001 -> 29.793777
A11: =IF(J11=99.99,6,RANK(N11,$N$7:$N$12,1)) -> 5 | B11: 8 | C11: Kozlovice | D11: 29.6 | E11: 38.6 | F11: =IF(MIN(D11:E11)=0,99.99,MAX(D11:E11)) -> 38.6 | G11: 31.53 | H11: 33.31 | I11: =IF(MIN(G11:H11)=0,99.99,MAX(G11:H11)) -> 33.31 | J11: =MIN(F11,I11) -> 33.31 | L11: =MIN(F11,I11) -> 33.31 | M11: =MAX(F11,I11) -> 38.6 | N11: =L11+M11*0.0001 -> 33.31386
A12: =IF(J12=99.99,6,RANK(N12,$N$7:$N$12,1)) -> 6 | B12: 6 | C12: Široká Niva | D12: 37.66 | E12: 34.07 | F12: =IF(MIN(D12:E12)=0,99.99,MAX(D12:E12)) -> 37.66 | G12: 41.18 | H12: 37.84 | I12: =IF(MIN(G12:H12)=0,99.99,MAX(G12:H12)) -> 41.18 | J12: =MIN(F12,I12) -> 37.66 | L12: =MIN(F12,I12) -> 37.66 | M12: =MAX(F12,I12) -> 41.18 | N12: =L12+M12*0.0001 -> 37.664118
C14: Olomoucký kraj
A15: =IF(J15=99.99,4,RANK(N15,$N$15:$N$19,1)) -> 1 | B15: 5 | C15: Domamyslice | D15: 32.73 | E15: 32 | F15: =IF(MIN(D15:E15)=0,99.99,MAX(D15:E15)) -> 32.73 | G15: 27.28 | H15: 25.12 | I15: =IF(MIN(G15:H15)=0,99.99,MAX(G15:H15)) -> 27.28 | J15: =MIN(F15,I15) -> 27.28 | L15: =MIN(F15,I15) -> 27.28 | M15: =MAX(F15,I15) -> 32.73 | N15: =L15+M15*0.0001 -> 27.283273
A16: =IF(J16=99.99,4,RANK(N16,$N$15:$N$19,1)) -> 2 | B16: 9 | C16: Ludéřov | D16: 27.98 | E16: 25.32 | F16: =IF(MIN(D16:E16)=0,99.99,MAX(D16:E16)) -> 27.98 | G16: 27.66 | H16: 26.01 | I16: =IF(MIN(G16:H16)=0,99.99,MAX(G16:H16)) -> 27.66 | J16: =MIN(F16,I16) -> 27.66 | L16: =MIN(F16,I16) -> 27.66 | M16: =MAX(F16,I16) -> 27.98 | N16: =L16+M16*0.0001 -> 27.662798
A17: =IF(J17=99.99,4,RANK(N17,$N$15:$N$19,1)) -> 3 | B17: 7 | C17: Milotice nad Bečvou | G17: 30.33 | H17: 29.41 | I17: =IF(MIN(G17:H17)=0,99.99,MAX(G17:H17)) -> 30.33 | J17: =MIN(F17,I17) -> 30.33 | L17: =MIN(F17,I17) -> 30.33 | M17: =MAX(F17,I17) -> 30.33 | N17: =L17+M17*0.0001 -> 30.333033
A18: =IF(J18=99.99,4,RANK(N18,$N$15:$N$19,1)) -> 4 | B18: 2 | C18: Bludov | G18: 48.28 | H18: 41.53 | I18: =IF(MIN(G18:H18)=0,99.99,MAX(G18:H18)) -> 48.28 | J18: =MIN(F18,I18) -> 48.28 | L18: =MIN(F18,I18) -> 48.28 | M18: =MAX(F18,I18) -> 48.28 | N18: =L18+M18*0.0001 -> 48.284828

Sheet útok SDH Ž
F1: Krajské kolo v požárním sportu Moravskoslezského a Olomouckého kraje
F2: Přerov, 17. - 18. června 2017
F3: Požární útok
F4: ženy SDH
C5: Moravskoslezský kraj | E5: 1.pokus | H5: 2.pokus
A6: poř. | B6: st.č. | C6: SDH | D6: levý | E6: pravý | F6: výsledný | G6: levý | H6: pravý | I6: výsledný | J6: celkem | L6: min | M6: max | N6: koef
A7: =IF(J7=99.99,6,RANK(N7,$N$7:$N$12,1)) -> 1 | B7: 10 | C7: =VLOOKUP(B7,[5]startovkaD!$B$15:$D$25,2,FALSE) -> Těškovice | D7: 50.04 | G7: 24.59 | H7: 24.53 | I7: =IF(MIN(G7:H7)=0,99.99,MAX(G7:H7)) -> 24.59 | J7: =MIN(F7,I7) -> 24.59 | L7: =MIN(F7,I7) -> 24.59 | M7: =MAX(F7,I7) -> 24.59 | N7: =L7+M7*0.0001 -> 24.592459
A8: =IF(J8=99.99,6,RANK(N8,$N$7:$N$12,1)) -> 2 | B8: 7 | C8: =VLOOKUP(B8,[5]startovkaD!$B$15:$D$25,2,FALSE) -> Tísek | D8: 26.63 | E8: 25.92 | F8: =IF(MIN(D8:E8)=0,99.99,MAX(D8:E8)) -> 26.63 | G8: 28.62 | H8: 44.64 | I8: =IF(MIN(G8:H8)=0,99.99,MAX(G8:H8)) -> 44.64 | J8: =MIN(F8,I8) -> 26.63 | L8: =MIN(F8,I8) -> 26.63 | M8: =MAX(F8,I8) -> 44.64 | N8: =L8+M8*0.0001 -> 26.634464
A9: =IF(J9=99.99,6,RANK(N9,$N$7:$N$12,1)) -> 3 | B9: 1 | C9: =VLOOKUP(B9,[5]startovkaD!$B$15:$D$25,2,FALSE) -> Frýdek | D9: 26.9 | E9: 29.45 | F9: =IF(MIN(D9:E9)=0,99.99,MAX(D9:E9)) -> 29.45 | G9: 36.92 | H9: 32.98 | I9: =IF(MIN(G9:H9)=0,99.99,MAX(G9:H9)) -> 36.92 | J9: =MIN(F9,I9) -> 29.45 | L9: =MIN(F9,I9) -> 29.45 | M9: =MAX(F9,I9) -> 36.92 | N9: =L9+M9*0.0001 -> 29.453692
A10: =IF(J10=99.99,6,RANK(N10,$N$7:$N$12,1)) -> 4 | B10: 3 | C10: =VLOOKUP(B10,[5]startovkaD!$B$15:$D$25,2,FALSE) -> Horní Žukov | D10: 35.2 | E10: 37.76 | F10: =IF(MIN(D10:E10)=0,99.99,MAX(D10:E10)) -> 37.76 | G10: 30.31 | H10: 28.99 | I10: =IF(MIN(G10:H10)=0,99.99,MAX(G10:H10)) -> 30.31 | J10: =MIN(F10,I10) -> 30.31 | L10: =MIN(F10,I10) -> 30.31 | M10: =MAX(F10,I10) -> 37.76 | N10: =L10+M10*0.0001 -> 30.313776
A11: =IF(J11=99.99,6,RANK(N11,$N$7:$N$12,1)) -> 5 | B11: 5 | C11: =VLOOKUP(B11,[5]startovkaD!$B$15:$D$25,2,FALSE) -> Široká Niva | D11: 36.56 | E11: 33.49 | F11: =IF(MIN(D11:E11)=0,99.99,MAX(D11:E11)) -> 36.56 | G11: 29.21 | H11: 31.09 | I11: =IF(MIN(G11:H11)=0,99.99,MAX(G11:H11)) -> 31.09 | J11: =MIN(F11,I11) -> 31.09 | L11: =MIN(F11,I11) -> 31.09 | M11: =MAX(F11,I11) -> 36.56 | N11: =L11+M11*0.0001 -> 31.093656
A12: =IF(J12=99.99,6,RANK(N12,$N$7:$N$12,1)) -> 6 | B12: 8 | C12: =VLOOKUP(B12,[5]startovkaD!$B$15:$D$25,2,FALSE) -> Michálkovice | G12: 47.68 | H12: 49.39 | I12: =IF(MIN(G12:H12)=0,99.99,MAX(G12:H12)) -> 49.39 | J12: =MIN(F12,I12) -> 49.39 | L12: =MIN(F12,I12) -> 49.39 | M12: =MAX(F12,I12) -> 49.39 | N12: =L12+M12*0.0001 -> 49.394939
C14: Olomoucký kraj
A15: =IF(J15=99.99,4,RANK(N15,$N$15:$N$19,1)) -> 1 | B15: 2 | C15: =VLOOKUP(B15,[5]startovkaD!$B$15:$D$25,2,FALSE) -> Milotice nad Bečvou | D15: 26.06 | E15: 23.92 | F15: =IF(MIN(D15:E15)=0,99.99,MAX(D15:E15)) -> 26.06 | G15: 26.4 | H15: 28.37 | I15: =IF(MIN(G15:H15)=0,99.99,MAX(G15:H15)) -> 28.37 | J15: =MIN(F15,I15) -> 26.06 | L15: =MIN(F15,I15) -> 26.06 | M15: =MAX(F15,I15) -> 28.37 | N15: =L15+M15*0.0001 -> 26.062837
A16: =IF(J16=99.99,4,RANK(N16,$N$15:$N$19,1)) -> 2 | B16: 4 | C16: =VLOOKUP(B16,[5]startovkaD!$B$15:$D$25,2,FALSE) -> Pěnčín | D16: 32.92 | E16: 30.12 | F16: =IF(MIN(D16:E16)=0,99.99,MAX(D16:E16)) -> 32.92 | G16: 32.16 | H16: 24.73 | I16: =IF(MIN(G16:H16)=0,99.99,MAX(G16:H16)) -> 32.16 | J16: =MIN(F16,I16) -> 32.16 | L16: =MIN(F16,I16) -> 32.16 | M16: =MAX(F16,I16) -> 32.92 | N16: =L16+M16*0.0001 -> 32.163292
A17: =IF(J17=99.99,4,RANK(N17,$N$15:$N$19,1)) -> 3 | B17: 6 | C17: =VLOOKUP(B17,[5]startovkaD!$B$15:$D$25,2,FALSE) -> Trusovice | G17: 34.1 | H17: 26.65 | I17: =IF(MIN(G17:H17)=0,99.99,MAX(G17:H17)) -> 34.1 | J17: =MIN(F17,I17) -> 34.1 | L17: =MIN(F17,I17) -> 34.1 | M17: =MAX(F17,I17) -> 34.1 | N17: =L17+M17*0.0001 -> 34.10341
A18: =IF(J18=99.99,4,RANK(N18,$N$15:$N$19,1)) -> 4 | B18: 9 | C18: =VLOOKUP(B18,[5]startovkaD!$B$15:$D$25,2,FALSE) -> Nový Malín | D18: 43.99 | G18: 36.35 | H18: 31.05 | I18: =IF(MIN(G18:H18)=0,99.99,MAX(G18:H18)) -> 36.35 | J18: =MIN(F18,I18) -> 36.35 | L18: =MIN(F18,I18) -> 36.35 | M18: =MAX(F18,I18) -> 36.35 | N18: =L18+M18*0.0001 -> 36.353635

Sheet celkem HZS
F1: Krajské kolo v požárním sportu Olomouckého a Moravskoslezského kraje
F2: Přerov, 17. - 18. června 2017
F3: Celkové pořadí družstev
F4: muži HZS
C6: Moravskoslezský kraj | D6: 100m | F6: věž | H6: štafeta | J6: útok | L6: celkem
A7: pořadí | B7: st.č | C7: územní odbor | D7: čas | E7: body | F7: čas | G7: body | H7: čas | I7: body | J7: čas | K7: body | L7: bodů | N7: koef
A8: =RANK(N8,$N$8:$N$13,1) -> 1 | B8: 1 | C8: Ostrava | D8: ='[6]100mD'!D6 -> 101.33 | E8: =IF($E$21=1,0,'[6]100mD'!C6) -> 1 | F8: =[6]věžD!D6 -> 90.79 | G8: =IF($G$21=1,0,[6]věžD!C6) -> 1 | H8: =[6]štafetaD!E4 -> 55.31 | I8: =IF($I$21=1,0,[6]štafetaD!A4) -> 1 | J8: =[6]útok!J7 -> 21.76 | K8: =IF($K$21=1,0,[6]útok!A7) -> 1 | L8: =E8+G8+I8+K8*1.001 -> 4.001 | N8: =L8+K8*0.01 -> 4.011
A9: =RANK(N9,$N$8:$N$13,1) -> 2 | B9: 5 | C9: Karviná | D9: ='[6]100mD'!D8 -> 104.12 | E9: =IF($E$21=1,0,'[6]100mD'!C8) -> 2 | F9: =[6]věžD!D8 -> 96.27 | G9: =IF($G$21=1,0,[6]věžD!C8) -> 2 | H9: =[6]štafetaD!E6 -> 59.33 | I9: =IF($I$21=1,0,[6]štafetaD!A6) -> 2 | J9: =[6]útok!J9 -> 22.14 | K9: =IF($K$21=1,0,[6]útok!A9) -> 2 | L9: =E9+G9+I9+K9*1.001 -> 8.002 | N9: =L9+K9*0.01 -> 8.022
A10: =RANK(N10,$N$8:$N$13,1) -> 3 | B10: 3 | C10: Opava | D10: ='[6]100mD'!D7 -> 123.06 | E10: =IF($E$21=1,0,'[6]100mD'!C7) -> 4 | F10: =[6]věžD!D7 -> 144.97 | G10: =IF($G$21=1,0,[6]věžD!C7) -> 4 | H10: =[6]štafetaD!E5 -> 67.71 | I10: =IF($I$21=1,0,[6]štafetaD!A5) -> 4 | J10: =[6]útok!J8 -> 25.52 | K10: =IF($K$21=1,0,[6]útok!A8) -> 3 | L10: =E10+G10+I10+K10*1.001 -> 15.003 | N10: =L10+K10*0.01 -> 15.033
A11: =RANK(N11,$N$8:$N$13,1) -> 4 | B11: 9 | C11: Bruntál | D11: ='[6]100mD'!D10 -> 122.43 | E11: =IF($E$21=1,0,'[6]100mD'!C10) -> 3 | F11: =[6]věžD!D10 -> 167.37 | G11: =IF($G$21=1,0,[6]věžD!C10) -> 6 | H11: =[6]štafetaD!E8 -> 66.77 | I11: =IF($I$21=1,0,[6]štafetaD!A8) -> 3 | J11: =[6]útok!J11 -> 25.77 | K11: =IF($K$21=1,0,[6]útok!A11) -> 4 | L11: =E11+G11+I11+K11*1.001 -> 16.004 | N11: =L11+K11*0.01 -> 16.044
A12: =RANK(N12,$N$8:$N$13,1) -> 5 | B12: 7 | C12: Frýdek-Místek | D12: ='[6]100mD'!D9 -> 127.3 | E12: =IF($E$21=1,0,'[6]100mD'!C9) -> 6 | F12: =[6]věžD!D9 -> 131.77 | G12: =IF($G$21=1,0,[6]věžD!C9) -> 3 | H12: =[6]štafetaD!E7 -> 68.68 | I12: =IF($I$21=1,0,[6]štafetaD!A7) -> 5 | J12: =[6]útok!J10 -> 29.4 | K12: =IF($K$21=1,0,[6]útok!A10) -> 6 | L12: =E12+G12+I12+K12*1.001 -> 20.006 | N12: =L12+K12*0.01 -> 20.066
A13: =RANK(N13,$N$8:$N$13,1) -> 6 | B13: 11 | C13: Nový Jičín | D13: ='[6]100mD'!D11 -> 126.24 | E13: =IF($E$21=1,0,'[6]100mD'!C11) -> 5 | F13: =[6]věžD!D11 -> 153.23 | G13: =IF($G$21=1,0,[6]věžD!C11) -> 5 | H13: =[6]štafetaD!E9 -> 72.44 | I13: =IF($I$21=1,0,[6]štafetaD!A9) -> 6 | J13: =[6]útok!J12 -> 28.37 | K13: =IF($K$21=1,0,[6]útok!A12) -> 5 | L13: =E13+G13+I13+K13*1.001 -> 21.005 | N13: =L13+K13*0.01 -> 21.055
C15: Olomoucký kraj
A16: =RANK(N16,$N$16:$N$20,1) -> 1 | B16: 6 | C16: Přerov | D16: ='[6]100mD'!D15 -> 113.18 | E16: =IF($E$21=1,0,'[6]100mD'!C15) -> 1 | F16: =[6]věžD!D15 -> 109.14 | G16: =IF($G$21=1,0,[6]věžD!C15) -> 1 | H16: =[6]štafetaD!E13 -> 61.76 | I16: =IF($I$21=1,0,[6]štafetaD!A13) -> 1 | J16: =[6]útok!J17 -> 22.32 | K16: =IF($K$21=1,0,[6]útok!A17) -> 1 | L16: =E16+G16+I16+K16*1.001 -> 4.001 | N16: =L16+K16*0.01 -> 4.011
A17: =RANK(N17,$N$16:$N$20,1) -> 2 | B17: 4 | C17: Olomouc | D17: ='[6]100mD'!D14 -> 128.92 | E17: =IF($E$21=1,0,'[6]100mD'!C14) -> 4 | F17: =[6]věžD!D14 -> 122.08 | G17: =IF($G$21=1,0,[6]věžD!C14) -> 2 | H17: =[6]štafetaD!E12 -> 67.2 | I17: =IF($I$21=1,0,[6]štafetaD!A12) -> 2 | J17: =[6]útok!J16 -> 23.72 | K17: =IF($K$21=1,0,[6]útok!A16) -> 2 | L17: =E17+G17+I17+K17*1.001 -> 10.002 | N17: =L17+K17*0.01 -> 10.022
A18: =RANK(N18,$N$16:$N$20,1) -> 3 | B18: 2 | C18: Šumperk | D18: ='[6]100mD'!D13 -> 127.27 | E18: =IF($E$21=1,0,'[6]100mD'!C13) -> 3 | F18: =[6]věžD!D13 -> 146.86 | G18: =IF($G$21=1,0,[6]věžD!C13) -> 3 | H18: =[6]štafetaD!E11 -> 77.09 | I18: =IF($I$21=1,0,[6]štafetaD!A11) -> 4 | J18: =[6]útok!J15 -> 27.64 | K18: =IF($K$21=1,0,[6]útok!A15) -> 3 | L18: =E18+G18+I18+K18*1.001 -> 13.003 | N18: =L18+K18*0.01 -> 13.033
A19: =RANK(N19,$N$16:$N$20,1) -> 4 | B19: 8 | C19: Prostějov | D19: ='[6]100mD'!D16 -> 121.11 | E19: =IF($E$21=1,0,'[6]100mD'!C16) -> 2 | F19: =[6]věžD!D16 -> 150.78 | G19: =IF($G$21=1,0,[6]věžD!C16) -> 4 | H19: =[6]štafetaD!E14 -> 74 | I19: =IF($I$21=1,0,[6]štafetaD!A14) -> 3 | J19: =[6]útok!J18 -> 28.87 | K19: =IF($K$21=1,0,[6]útok!A18) -> 5 | L19: =E19+G19+I19+K19*1.001 -> 14.005 | N19: =L19+K19*0.01 -> 14.055
A20: =RANK(N20,$N$16:$N$20,1) -> 5 | B20: 10 | C20: Jeseník | D20: ='[6]100mD'!D17 -> 149.59 | E20: =IF($E$21=1,0,'[6]100mD'!C17) -> 5 | F20: =[6]věžD!D17 -> 201.14 | G20: =IF($G$21=1,0,[6]věžD!C17) -> 5 | H20: =[6]štafetaD!E15 -> 85.94 | I20: =IF($I$21=1,0,[6]štafetaD!A15) -> 5 | J20: =[6]útok!J19 -> 28.65 | K20: =IF($K$21=1,0,[6]útok!A19) -> 4 | L20: =E20+G20+I20+K20*1.001 -> 19.004 | N20: =L20+K20*0.01 -> 19.044
F21: 1

Sheet celkem SDH M
F1: Krajské kolo v požárním sportu Moravskoslezského a Olomouckého kraje
F2: Přerov, 17. - 18. června 2017
F3: Celkové pořadí družstev
F4: muži SDH
C6: Moravskoslezský kraj | D6: 100m | F6: věž | H6: štafeta | J6: útok | L6: celkem
A7: pořadí | B7: st.č | C7: SDH | D7: čas | E7: body | F7: čas | G7: body | H7: čas | I7: body | J7: čas | K7: body | L7: bodů | N7: koef
