Workbook

Sheet 100m
A1: Výsledková listina 100m Memoriál plk. JUDR Josefa Blažka 6. 6. 2019
A2: Pořadí | C2: Start. č. | D2: Příjmení | E2: Jméno | F2: ÚO/SDH | G2: 1.pokus 100m | H2: 2.pokus 100m | I2: započ. čas 100m | J2: eliminace stejného pořadí
A3: 1 | C3: 34 | D3: Lidmila | E3: Martin | F3: Hradec Králové | G3: 16.02 | H3: 16 | I3: =IF(AND(G3=0,H3=0),"diskval.",IF(AND(G3>0,H3>0),MIN(G3:H3),IF(G3>0,G3,H3))) -> 16 | J3: =IF(G3+H3=0,1000,I3+((IF(G3>0,G3,100)+IF(H3>0,H3,100))/100000)) -> 16.00032
A4: 2 | C4: 4 | D4: Kligl | E4: Patrik | F4: Hradec Králové | G4: 16.22 | H4: 16.22 | I4: =IF(AND(G4=0,H4=0),"diskval.",IF(AND(G4>0,H4>0),MIN(G4:H4),IF(G4>0,G4,H4))) -> 16.22 | J4: =IF(G4+H4=0,1000,I4+((IF(G4>0,G4,100)+IF(H4>0,H4,100))/100000)) -> 16.220324
A5: 3 | C5: 39 | D5: Škodný | E5: Jiří | F5: Hradec Králové | G5: 24.66 | H5: 16.45 | I5: =IF(AND(G5=0,H5=0),"diskval.",IF(AND(G5>0,H5>0),MIN(G5:H5),IF(G5>0,G5,H5))) -> 16.45 | J5: =IF(G5+H5=0,1000,I5+((IF(G5>0,G5,100)+IF(H5>0,H5,100))/100000)) -> 16.450411
A6: 4 | C6: 33 | D6: Vyvial | E6: Jan | F6: Ostrava | G6: 16.45 | I6: =IF(AND(G6=0,H6=0),"diskval.",IF(AND(G6>0,H6>0),MIN(G6:H6),IF(G6>0,G6,H6))) -> 16.45 | J6: =IF(G6+H6=0,1000,I6+((IF(G6>0,G6,100)+IF(H6>0,H6,100))/100000)) -> 16.451165
A7: 4 | C7: 24 | D7: Snášel | E7: Patrik | F7: Domažlice | G7: 16.93 | I7: =IF(AND(G7=0,H7=0),"diskval.",IF(AND(G7>0,H7>0),MIN(G7:H7),IF(G7>0,G7,H7))) -> 16.93 | J7: =IF(G7+H7=0,1000,I7+((IF(G7>0,G7,100)+IF(H7>0,H7,100))/100000)) -> 16.931169
A8: 6 | C8: 12 | D8: Kasal | E8: Jakub | F8: Havlíčkův Brod | G8: 17.12 | I8: =IF(AND(G8=0,H8=0),"diskval.",IF(AND(G8>0,H8>0),MIN(G8:H8),IF(G8>0,G8,H8))) -> 17.12 | J8: =IF(G8+H8=0,1000,I8+((IF(G8>0,G8,100)+IF(H8>0,H8,100))/100000)) -> 17.121171
A9: 7 | C9: 25 | D9: Bělský | E9: Dominik | F9: Hradec Králové | G9: 17.31 | I9: =IF(AND(G9=0,H9=0),"diskval.",IF(AND(G9>0,H9>0),MIN(G9:H9),IF(G9>0,G9,H9))) -> 17.31 | J9: =IF(G9+H9=0,1000,I9+((IF(G9>0,G9,100)+IF(H9>0,H9,100))/100000)) -> 17.311173
A10: 8 | C10: 37 | D10: Netrval | E10: Milan | F10: Plzeň | G10: 17.38 | I10: =IF(AND(G10=0,H10=0),"diskval.",IF(AND(G10>0,H10>0),MIN(G10:H10),IF(G10>0,G10,H10))) -> 17.38 | J10: =IF(G10+H10=0,1000,I10+((IF(G10>0,G10,100)+IF(H10>0,H10,100))/100000)) -> 17.381174
A11: 9 | C11: 23 | D11: Peštál | E11: Marek | F11: Třebíč | G11: 17.39 | I11: =IF(AND(G11=0,H11=0),"diskval.",IF(AND(G11>0,H11>0),MIN(G11:H11),IF(G11>0,G11,H11))) -> 17.39 | J11: =IF(G11+H11=0,1000,I11+((IF(G11>0,G11,100)+IF(H11>0,H11,100))/100000)) -> 17.391174
A12: 10 | C12: 28 | D12: Hons | E12: Lukáš | F12: Třebíč | G12: 17.87 | H12: 17.64 | I12: =IF(AND(G12=0,H12=0),"diskval.",IF(AND(G12>0,H12>0),MIN(G12:H12),IF(G12>0,G12,H12))) -> 17.64 | J12: =IF(G12+H12=0,1000,I12+((IF(G12>0,G12,100)+IF(H12>0,H12,100))/100000)) -> 17.640355
A13: 11 | C13: 10 | D13: Knotek | E13: Radim | F13: JSDHO Nemyšl | H13: 17.79 | I13: =IF(AND(G13=0,H13=0),"diskval.",IF(AND(G13>0,H13>0),MIN(G13:H13),IF(G13>0,G13,H13))) -> 17.79 | J13: =IF(G13+H13=0,1000,I13+((IF(G13>0,G13,100)+IF(H13>0,H13,100))/100000)) -> 17.791178
A14: 12 | C14: 32 | D14: Daněk | E14: Tomáš | F14: Praha | H14: 17.89 | I14: =IF(AND(G14=0,H14=0),"diskval.",IF(AND(G14>0,H14>0),MIN(G14:H14),IF(G14>0,G14,H14))) -> 17.89 | J14: =IF(G14+H14=0,1000,I14+((IF(G14>0,G14,100)+IF(H14>0,H14,100))/100000)) -> 17.891179
A15: 13 | C15: 18 | D15: Hájek | E15: David | F15: České Budějovice | H15: 18.15 | I15: =IF(AND(G15=0,H15=0),"diskval.",IF(AND(G15>0,H15>0),MIN(G15:H15),IF(G15>0,G15,H15))) -> 18.15 | J15: =IF(G15+H15=0,1000,I15+((IF(G15>0,G15,100)+IF(H15>0,H15,100))/100000)) -> 18.151181
A16: 14 | C16: 14 | D16: Janko | E16: Vladimír | F16: Pelhřimov | G16: 18.56 | H16: 18.34 | I16: =IF(AND(G16=0,H16=0),"diskval.",IF(AND(G16>0,H16>0),MIN(G16:H16),IF(G16>0,G16,H16))) -> 18.34 | J16: =IF(G16+H16=0,1000,I16+((IF(G16>0,G16,100)+IF(H16>0,H16,100))/100000)) -> 18.340369
A17: 15 | C17: 13 | D17: Provazník | E17: Martin | F17: Plzeň | G17: 18.34 | I17: =IF(AND(G17=0,H17=0),"diskval.",IF(AND(G17>0,H17>0),MIN(G17:H17),IF(G17>0,G17,H17))) -> 18.34 | J17: =IF(G17+H17=0,1000,I17+((IF(G17>0,G17,100)+IF(H17>0,H17,100))/100000)) -> 18.341183
A18: 16 | C18: 22 | D18: Hůla | E18: Jan | F18: Plzeň | G18: 18.64 | H18: 18.44 | I18: =IF(AND(G18=0,H18=0),"diskval.",IF(AND(G18>0,H18>0),MIN(G18:H18),IF(G18>0,G18,H18))) -> 18.44 | J18: =IF(G18+H18=0,1000,I18+((IF(G18>0,G18,100)+IF(H18>0,H18,100))/100000)) -> 18.440371
A19: 17 | C19: 26 | D19: Senohrábek | E19: Bojislav | F19: Mladá Boleslav | G19: 18.56 | H19: 19.24 | I19: =IF(AND(G19=0,H19=0),"diskval.",IF(AND(G19>0,H19>0),MIN(G19:H19),IF(G19>0,G19,H19))) -> 18.56 | J19: =IF(G19+H19=0,1000,I19+((IF(G19>0,G19,100)+IF(H19>0,H19,100))/100000)) -> 18.560378
A20: 18 | C20: 31 | D20: Vašulka | E20: Petr | F20: Uheské Hradiště | G20: 23.55 | H20: 18.58 | I20: =IF(AND(G20=0,H20=0),"diskval.",IF(AND(G20>0,H20>0),MIN(G20:H20),IF(G20>0,G20,H20))) -> 18.58 | J20: =IF(G20+H20=0,1000,I20+((IF(G20>0,G20,100)+IF(H20>0,H20,100))/100000)) -> 18.580421
A21: 19 | C21: 3 | D21: Smutný | E21: Martin | F21: Plzeň | G21: 18.96 | H21: 18.61 | I21: =IF(AND(G21=0,H21=0),"diskval.",IF(AND(G21>0,H21>0),MIN(G21:H21),IF(G21>0,G21,H21))) -> 18.61 | J21: =IF(G21+H21=0,1000,I21+((IF(G21>0,G21,100)+IF(H21>0,H21,100))/100000)) -> 18.610376
A22: 20 | C22: 1 | D22: Tomášek | E22: Jan | F22: JSDHO Dobřany | G22: 18.64 | I22: =IF(AND(G22=0,H22=0),"diskval.",IF(AND(G22>0,H22>0),MIN(G22:H22),IF(G22>0,G22,H22))) -> 18.64 | J22: =IF(G22+H22=0,1000,I22+((IF(G22>0,G22,100)+IF(H22>0,H22,100))/100000)) -> 18.641186
A23: 21 | C23: 15 | D23: Hrdlička | E23: Jaroslav | F23: Domažlice | G23: 20.6 | H23: 18.76 | I23: =IF(AND(G23=0,H23=0),"diskval.",IF(AND(G23>0,H23>0),MIN(G23:H23),IF(G23>0,G23,H23))) -> 18.76 | J23: =IF(G23+H23=0,1000,I23+((IF(G23>0,G23,100)+IF(H23>0,H23,100))/100000)) -> 18.760394
A24: 22 | C24: 8 | D24: Klimeš | E24: Martin | F24: Havlíčkův Brod | G24: 18.9 | I24: =IF(AND(G24=0,H24=0),"diskval.",IF(AND(G24>0,H24>0),MIN(G24:H24),IF(G24>0,G24,H24))) -> 18.9 | J24: =IF(G24+H24=0,1000,I24+((IF(G24>0,G24,100)+IF(H24>0,H24,100))/100000)) -> 18.901189
A25: 23 | C25: 6 | D25: Nýdl | E25: Jakub | F25: JSDH Borovany | G25: 18.97 | H25: 22.84 | I25: =IF(AND(G25=0,H25=0),"diskval.",IF(AND(G25>0,H25>0),MIN(G25:H25),IF(G25>0,G25,H25))) -> 18.97 | J25: =IF(G25+H25=0,1000,I25+((IF(G25>0,G25,100)+IF(H25>0,H25,100))/100000)) -> 18.970418
A26: 24 | C26: 20 | D26: Joukl | E26: Jiří | F26: Žďár nad Sázavou | G26: 20.3 | H26: 19.04 | I26: =IF(AND(G26=0,H26=0),"diskval.",IF(AND(G26>0,H26>0),MIN(G26:H26),IF(G26>0,G26,H26))) -> 19.04 | J26: =IF(G26+H26=0,1000,I26+((IF(G26>0,G26,100)+IF(H26>0,H26,100))/100000)) -> 19.040393
A27: 25 | C27: 19 | D27: Tomášek | E27: Martin | F27: České Budějovice | G27: 19.22 | I27: =IF(AND(G27=0,H27=0),"diskval.",IF(AND(G27>0,H27>0),MIN(G27:H27),IF(G27>0,G27,H27))) -> 19.22 | J27: =IF(G27+H27=0,1000,I27+((IF(G27>0,G27,100)+IF(H27>0,H27,100))/100000)) -> 19.221192
A28: 26 | C28: 27 | D28: Vaněk | E28: Václav | F28: Jindřichův Hradec | G28: 22.5 | H28: 19.66 | I28: =IF(AND(G28=0,H28=0),"diskval.",IF(AND(G28>0,H28>0),MIN(G28:H28),IF(G28>0,G28,H28))) -> 19.66 | J28: =IF(G28+H28=0,1000,I28+((IF(G28>0,G28,100)+IF(H28>0,H28,100))/100000)) -> 19.660422
A29: 27 | C29: 11 | D29: Vyhnálek | E29: Jan | F29: Kutná Hora | G29: 19.98 | I29: =IF(AND(G29=0,H29=0),"diskval.",IF(AND(G29>0,H29>0),MIN(G29:H29),IF(G29>0,G29,H29))) -> 19.98 | J29: =IF(G29+H29=0,1000,I29+((IF(G29>0,G29,100)+IF(H29>0,H29,100))/100000)) -> 19.9812
A30: 28 | C30: 7 | D30: Roháč | E30: Martin | F30: Plzeň | G30: 20.03 | H30: 20.25 | I30: =IF(AND(G30=0,H30=0),"diskval.",IF(AND(G30>0,H30>0),MIN(G30:H30),IF(G30>0,G30,H30))) -> 20.03 | J30: =IF(G30+H30=0,1000,I30+((IF(G30>0,G30,100)+IF(H30>0,H30,100))/100000)) -> 20.030403
A31: 29 | C31: 9 | D31: Píbal | E31: Jiří | F31: Písek | G31: 20.09 | H31: 20.46 | I31: =IF(AND(G31=0,H31=0),"diskval.",IF(AND(G31>0,H31>0),MIN(G31:H31),IF(G31>0,G31,H31))) -> 20.09 | J31: =IF(G31+H31=0,1000,I31+((IF(G31>0,G31,100)+IF(H31>0,H31,100))/100000)) -> 20.090405
A32: 30 | C32: 38 | D32: Dopirák | E32: David | F32: Domažlice | G32: 21.06 | I32: =IF(AND(G32=0,H32=0),"diskval.",IF(AND(G32>0,H32>0),MIN(G32:H32),IF(G32>0,G32,H32))) -> 21.06 | J32: =IF(G32+H32=0,1000,I32+((IF(G32>0,G32,100)+IF(H32>0,H32,100))/100000)) -> 21.061211
A33: 31 | C33: 17 | D33: Filip | E33: Petr | F33: Jindřichův Hradec | G33: 21.87 | I33: =IF(AND(G33=0,H33=0),"diskval.",IF(AND(G33>0,H33>0),MIN(G33:H33),IF(G33>0,G33,H33))) -> 21.87 | J33: =IF(G33+H33=0,1000,I33+((IF(G33>0,G33,100)+IF(H33>0,H33,100))/100000)) -> 21.871219
A34: 32 | C34: 2 | D34: Ryšavý | E34: Vilém | F34: Pelhřimov | I34: =IF(AND(G34=0,H34=0),"diskval.",IF(AND(G34>0,H34>0),MIN(G34:H34),IF(G34>0,G34,H34))) -> diskval. | J34: =IF(G34+H34=0,1000,I34+((IF(G34>0,G34,100)+IF(H34>0,H34,100))/100000)) -> 1000
A35: 33 | C35: 5 | D35: Tůma | E35: Milan | F35: Kutná Hora | I35: =IF(AND(G35=0,H35=0),"diskval.",IF(AND(G35>0,H35>0),MIN(G35:H35),IF(G35>0,G35,H35))) -> diskval. | J35: =IF(G35+H35=0,1000,I35+((IF(G35>0,G35,100)+IF(H35>0,H35,100))/100000)) -> 1000
A36: 34 | B36: 33 | C36: 16 | D36: Klenka | E36: Vojtěch | F36: Hradec Králové | I36: =IF(AND(G36=0,H36=0),"diskval.",IF(AND(G36>0,H36>0),MIN(G36:H36),IF(G36>0,G36,H36))) -> diskval. | J36: =IF(G36+H36=0,1000,I36+((IF(G36>0,G36,100)+IF(H36>0,H36,100))/100000)) -> 1000
A37: 35 | C37: 21 | D37: Divoš | E37: Václav | F37: Hradec Králové | I37: =IF(AND(G37=0,H37=0),"diskval.",IF(AND(G37>0,H37>0),MIN(G37:H37),IF(G37>0,G37,H37))) -> diskval. | J37: =IF(G37+H37=0,1000,I37+((IF(G37>0,G37,100)+IF(H37>0,H37,100))/100000)) -> 1000
A38: 36 | C38: 29 | D38: Hradil | E38: Zbyněk | F38: Olomouc | I38: =IF(AND(G38=0,H38=0),"diskval.",IF(AND(G38>0,H38>0),MIN(G38:H38),IF(G38>0,G38,H38))) -> diskval. | J38: =IF(G38+H38=0,1000,I38+((IF(G38>0,G38,100)+IF(H38>0,H38,100))/100000)) -> 1000
A39: 37 | C39: 30 | D39: Svačina | E39: Richard | F39: Ostrava | I39: =IF(AND(G39=0,H39=0),"diskval.",IF(AND(G39>0,H39>0),MIN(G39:H39),IF(G39>0,G39,H39))) -> diskval. | J39: =IF(G39+H39=0,1000,I39+((IF(G39>0,G39,100)+IF(H39>0,H39,100))/100000)) -> 1000
A40: 38 | C40: 35 | D40: Krpec | E40: Pavel | F40: Ostrava | I40: =IF(AND(G40=0,H40=0),"diskval.",IF(AND(G40>0,H40>0),MIN(G40:H40),IF(G40>0,G40,H40))) -> diskval. | J40: =IF(G40+H40=0,1000,I40+((IF(G40>0,G40,100)+IF(H40>0,H40,100))/100000)) -> 1000
...

Sheet věže
A1: Výsledková listina věže Memoriál plk. JUDR Josefa Blažka 6. 6. 2019
A2: Pořadí | C2: Start. č. | D2: Příjmení | E2: Jméno | F2: ÚO/SDH | G2: 1.pokus věž | H2: 2.pokus věž | I2: započ. čas věž | J2: eliminace stejného pořadí
A3: 1 | C3: 33 | D3: Vyvial | E3: Jan | F3: Ostrava | G3: 15.44 | H3: 14.36 | I3: =IF(AND(G3=0,H3=0),"diskval.",IF(AND(G3>0,H3>0),MIN(G3:H3),IF(G3>0,G3,H3))) -> 14.36 | J3: =IF(G3+H3=0,1000,I3+((IF(G3>0,G3,100)+IF(H3>0,H3,100))/100000)) -> 14.360298
A4: 2 | C4: 4 | D4: Kligl | E4: Patrik | F4: Hradec Králové | G4: 15.42 | H4: 14.44 | I4: =IF(AND(G4=0,H4=0),"diskval.",IF(AND(G4>0,H4>0),MIN(G4:H4),IF(G4>0,G4,H4))) -> 14.44 | J4: =IF(G4+H4=0,1000,I4+((IF(G4>0,G4,100)+IF(H4>0,H4,100))/100000)) -> 14.440299
A5: 3 | C5: 21 | D5: Divoš | E5: Václav | F5: Hradec Králové | G5: 14.59 | H5: 15.04 | I5: =IF(AND(G5=0,H5=0),"diskval.",IF(AND(G5>0,H5>0),MIN(G5:H5),IF(G5>0,G5,H5))) -> 14.59 | J5: =IF(G5+H5=0,1000,I5+((IF(G5>0,G5,100)+IF(H5>0,H5,100))/100000)) -> 14.590296
A6: 4 | C6: 16 | D6: Klenka | E6: Vojtěch | F6: Hradec Králové | G6: 15.67 | H6: 14.78 | I6: =IF(AND(G6=0,H6=0),"diskval.",IF(AND(G6>0,H6>0),MIN(G6:H6),IF(G6>0,G6,H6))) -> 14.78 | J6: =IF(G6+H6=0,1000,I6+((IF(G6>0,G6,100)+IF(H6>0,H6,100))/100000)) -> 14.780304
A7: 5 | C7: 34 | D7: Lidmila | E7: Martin | F7: Hradec Králové | G7: 19.11 | H7: 14.84 | I7: =IF(AND(G7=0,H7=0),"diskval.",IF(AND(G7>0,H7>0),MIN(G7:H7),IF(G7>0,G7,H7))) -> 14.84 | J7: =IF(G7+H7=0,1000,I7+((IF(G7>0,G7,100)+IF(H7>0,H7,100))/100000)) -> 14.84034
A8: 6 | C8: 23 | D8: Peštál | E8: Marek | F8: Třebíč | G8: 15.19 | H8: 15.06 | I8: =IF(AND(G8=0,H8=0),"diskval.",IF(AND(G8>0,H8>0),MIN(G8:H8),IF(G8>0,G8,H8))) -> 15.06 | J8: =IF(G8+H8=0,1000,I8+((IF(G8>0,G8,100)+IF(H8>0,H8,100))/100000)) -> 15.060303
A9: 7 | C9: 35 | D9: Krpec | E9: Pavel | F9: Ostrava | G9: 15.13 | I9: =IF(AND(G9=0,H9=0),"diskval.",IF(AND(G9>0,H9>0),MIN(G9:H9),IF(G9>0,G9,H9))) -> 15.13 | J9: =IF(G9+H9=0,1000,I9+((IF(G9>0,G9,100)+IF(H9>0,H9,100))/100000)) -> 15.131151
A10: 8 | C10: 37 | D10: Netrval | E10: Milan | F10: Plzeň | G10: 15.35 | H10: 15.16 | I10: =IF(AND(G10=0,H10=0),"diskval.",IF(AND(G10>0,H10>0),MIN(G10:H10),IF(G10>0,G10,H10))) -> 15.16 | J10: =IF(G10+H10=0,1000,I10+((IF(G10>0,G10,100)+IF(H10>0,H10,100))/100000)) -> 15.160305
A11: 9 | C11: 28 | D11: Hons | E11: Lukáš | F11: Třebíč | G11: 15.33 | H11: 15.2 | I11: =IF(AND(G11=0,H11=0),"diskval.",IF(AND(G11>0,H11>0),MIN(G11:H11),IF(G11>0,G11,H11))) -> 15.2 | J11: =IF(G11+H11=0,1000,I11+((IF(G11>0,G11,100)+IF(H11>0,H11,100))/100000)) -> 15.200305
A12: 10 | C12: 38 | D12: Dopirák | E12: David | F12: Domažlice | G12: 19.57 | H12: 15.27 | I12: =IF(AND(G12=0,H12=0),"diskval.",IF(AND(G12>0,H12>0),MIN(G12:H12),IF(G12>0,G12,H12))) -> 15.27 | J12: =IF(G12+H12=0,1000,I12+((IF(G12>0,G12,100)+IF(H12>0,H12,100))/100000)) -> 15.270348
A13: 11 | C13: 32 | D13: Daněk | E13: Tomáš | F13: Praha | G13: 15.45 | H13: 15.31 | I13: =IF(AND(G13=0,H13=0),"diskval.",IF(AND(G13>0,H13>0),MIN(G13:H13),IF(G13>0,G13,H13))) -> 15.31 | J13: =IF(G13+H13=0,1000,I13+((IF(G13>0,G13,100)+IF(H13>0,H13,100))/100000)) -> 15.310308
A14: 12 | C14: 5 | D14: Tůma | E14: Milan | F14: Kutná Hora | G14: 17.22 | H14: 15.7 | I14: =IF(AND(G14=0,H14=0),"diskval.",IF(AND(G14>0,H14>0),MIN(G14:H14),IF(G14>0,G14,H14))) -> 15.7 | J14: =IF(G14+H14=0,1000,I14+((IF(G14>0,G14,100)+IF(H14>0,H14,100))/100000)) -> 15.700329
A15: 13 | C15: 36 | D15: Klvaňa | E15: Daniel | F15: Ostrava | G15: 16.6 | H15: 15.81 | I15: =IF(AND(G15=0,H15=0),"diskval.",IF(AND(G15>0,H15>0),MIN(G15:H15),IF(G15>0,G15,H15))) -> 15.81 | J15: =IF(G15+H15=0,1000,I15+((IF(G15>0,G15,100)+IF(H15>0,H15,100))/100000)) -> 15.810324
A16: 14 | C16: 30 | D16: Svačina | E16: Richard | F16: Ostrava | G16: 15.97 | H16: 17.52 | I16: =IF(AND(G16=0,H16=0),"diskval.",IF(AND(G16>0,H16>0),MIN(G16:H16),IF(G16>0,G16,H16))) -> 15.97 | J16: =IF(G16+H16=0,1000,I16+((IF(G16>0,G16,100)+IF(H16>0,H16,100))/100000)) -> 15.970335
A17: 15 | C17: 15 | D17: Hrdlička | E17: Jaroslav | F17: Domažlice | G17: 16.15 | H17: 16.23 | I17: =IF(AND(G17=0,H17=0),"diskval.",IF(AND(G17>0,H17>0),MIN(G17:H17),IF(G17>0,G17,H17))) -> 16.15 | J17: =IF(G17+H17=0,1000,I17+((IF(G17>0,G17,100)+IF(H17>0,H17,100))/100000)) -> 16.150324
A18: 16 | C18: 22 | D18: Hůla | E18: Jan | F18: Plzeň | G18: 16.83 | H18: 16.17 | I18: =IF(AND(G18=0,H18=0),"diskval.",IF(AND(G18>0,H18>0),MIN(G18:H18),IF(G18>0,G18,H18))) -> 16.17 | J18: =IF(G18+H18=0,1000,I18+((IF(G18>0,G18,100)+IF(H18>0,H18,100))/100000)) -> 16.17033
A19: 17 | C19: 25 | D19: Bělský | E19: Dominik | F19: Hradec Králové | G19: 16.59 | H19: 16.19 | I19: =IF(AND(G19=0,H19=0),"diskval.",IF(AND(G19>0,H19>0),MIN(G19:H19),IF(G19>0,G19,H19))) -> 16.19 | J19: =IF(G19+H19=0,1000,I19+((IF(G19>0,G19,100)+IF(H19>0,H19,100))/100000)) -> 16.190328
A20: 18 | C20: 18 | D20: Hájek | E20: David | F20: České Budějovice | G20: 16.84 | H20: 16.28 | I20: =IF(AND(G20=0,H20=0),"diskval.",IF(AND(G20>0,H20>0),MIN(G20:H20),IF(G20>0,G20,H20))) -> 16.28 | J20: =IF(G20+H20=0,1000,I20+((IF(G20>0,G20,100)+IF(H20>0,H20,100))/100000)) -> 16.280331
A21: 19 | C21: 12 | D21: Kasal | E21: Jakub | F21: Havlíčkův Brod | G21: 16.5 | H21: 17.77 | I21: =IF(AND(G21=0,H21=0),"diskval.",IF(AND(G21>0,H21>0),MIN(G21:H21),IF(G21>0,G21,H21))) -> 16.5 | J21: =IF(G21+H21=0,1000,I21+((IF(G21>0,G21,100)+IF(H21>0,H21,100))/100000)) -> 16.500343
A22: 20 | C22: 2 | D22: Ryšavý | E22: Vilém | F22: Pelhřimov | G22: 16.75 | H22: 16.64 | I22: =IF(AND(G22=0,H22=0),"diskval.",IF(AND(G22>0,H22>0),MIN(G22:H22),IF(G22>0,G22,H22))) -> 16.64 | J22: =IF(G22+H22=0,1000,I22+((IF(G22>0,G22,100)+IF(H22>0,H22,100))/100000)) -> 16.640334
A23: 21 | C23: 14 | D23: Janko | E23: Vladimír | F23: Pelhřimov | G23: 16.73 | I23: =IF(AND(G23=0,H23=0),"diskval.",IF(AND(G23>0,H23>0),MIN(G23:H23),IF(G23>0,G23,H23))) -> 16.73 | J23: =IF(G23+H23=0,1000,I23+((IF(G23>0,G23,100)+IF(H23>0,H23,100))/100000)) -> 16.731167
A24: 22 | C24: 13 | D24: Provazník | E24: Martin | F24: Plzeň | G24: 16.89 | H24: 23.09 | I24: =IF(AND(G24=0,H24=0),"diskval.",IF(AND(G24>0,H24>0),MIN(G24:H24),IF(G24>0,G24,H24))) -> 16.89 | J24: =IF(G24+H24=0,1000,I24+((IF(G24>0,G24,100)+IF(H24>0,H24,100))/100000)) -> 16.8904
A25: 23 | C25: 11 | D25: Vyhnálek | E25: Jan | F25: Kutná Hora | G25: 17.07 | H25: 19.78 | I25: =IF(AND(G25=0,H25=0),"diskval.",IF(AND(G25>0,H25>0),MIN(G25:H25),IF(G25>0,G25,H25))) -> 17.07 | J25: =IF(G25+H25=0,1000,I25+((IF(G25>0,G25,100)+IF(H25>0,H25,100))/100000)) -> 17.070369
A26: 24 | C26: 29 | D26: Hradil | E26: Zbyněk | F26: Olomouc | G26: 17.23 | I26: =IF(AND(G26=0,H26=0),"diskval.",IF(AND(G26>0,H26>0),MIN(G26:H26),IF(G26>0,G26,H26))) -> 17.23 | J26: =IF(G26+H26=0,1000,I26+((IF(G26>0,G26,100)+IF(H26>0,H26,100))/100000)) -> 17.231172
A27: 25 | C27: 9 | D27: Píbal | E27: Jiří | F27: Písek | G27: 17.41 | H27: 20.81 | I27: =IF(AND(G27=0,H27=0),"diskval.",IF(AND(G27>0,H27>0),MIN(G27:H27),IF(G27>0,G27,H27))) -> 17.41 | J27: =IF(G27+H27=0,1000,I27+((IF(G27>0,G27,100)+IF(H27>0,H27,100))/100000)) -> 17.410382
A28: 26 | C28: 39 | D28: Škodný | E28: Jiří | F28: Hradec Králové | G28: 17.73 | H28: 19.68 | I28: =IF(AND(G28=0,H28=0),"diskval.",IF(AND(G28>0,H28>0),MIN(G28:H28),IF(G28>0,G28,H28))) -> 17.73 | J28: =IF(G28+H28=0,1000,I28+((IF(G28>0,G28,100)+IF(H28>0,H28,100))/100000)) -> 17.730374
A29: 27 | C29: 7 | D29: Roháč | E29: Martin | F29: Plzeň | G29: 19.05 | H29: 18.27 | I29: =IF(AND(G29=0,H29=0),"diskval.",IF(AND(G29>0,H29>0),MIN(G29:H29),IF(G29>0,G29,H29))) -> 18.27 | J29: =IF(G29+H29=0,1000,I29+((IF(G29>0,G29,100)+IF(H29>0,H29,100))/100000)) -> 18.270373
A30: 28 | C30: 20 | D30: Joukl | E30: Jiří | F30: Žďár nad Sázavou | G30: 21.47 | H30: 19.37 | I30: =IF(AND(G30=0,H30=0),"diskval.",IF(AND(G30>0,H30>0),MIN(G30:H30),IF(G30>0,G30,H30))) -> 19.37 | J30: =IF(G30+H30=0,1000,I30+((IF(G30>0,G30,100)+IF(H30>0,H30,100))/100000)) -> 19.370408
A31: 29 | C31: 24 | D31: Snášel | E31: Patrik | F31: Domažlice | G31: 23.58 | H31: 20.23 | I31: =IF(AND(G31=0,H31=0),"diskval.",IF(AND(G31>0,H31>0),MIN(G31:H31),IF(G31>0,G31,H31))) -> 20.23 | J31: =IF(G31+H31=0,1000,I31+((IF(G31>0,G31,100)+IF(H31>0,H31,100))/100000)) -> 20.230438
A32: 30 | C32: 10 | D32: Knotek | E32: Radim | F32: JSDHO Nemyšl | G32: 20.98 | H32: 20.43 | I32: =IF(AND(G32=0,H32=0),"diskval.",IF(AND(G32>0,H32>0),MIN(G32:H32),IF(G32>0,G32,H32))) -> 20.43 | J32: =IF(G32+H32=0,1000,I32+((IF(G32>0,G32,100)+IF(H32>0,H32,100))/100000)) -> 20.430414
A33: 31 | C33: 31 | D33: Vašulka | E33: Petr | F33: Uheské Hradiště | H33: 20.47 | I33: =IF(AND(G33=0,H33=0),"diskval.",IF(AND(G33>0,H33>0),MIN(G33:H33),IF(G33>0,G33,H33))) -> 20.47 | J33: =IF(G33+H33=0,1000,I33+((IF(G33>0,G33,100)+IF(H33>0,H33,100))/100000)) -> 20.471205
A34: 32 | C34: 3 | D34: Smutný | E34: Martin | F34: Plzeň | G34: 20.56 | H34: 26.17 | I34: =IF(AND(G34=0,H34=0),"diskval.",IF(AND(G34>0,H34>0),MIN(G34:H34),IF(G34>0,G34,H34))) -> 20.56 | J34: =IF(G34+H34=0,1000,I34+((IF(G34>0,G34,100)+IF(H34>0,H34,100))/100000)) -> 20.560467
A35: 33 | C35: 8 | D35: Klimeš | E35: Martin | F35: Havlíčkův Brod | G35: 21.49 | I35: =IF(AND(G35=0,H35=0),"diskval.",IF(AND(G35>0,H35>0),MIN(G35:H35),IF(G35>0,G35,H35))) -> 21.49 | J35: =IF(G35+H35=0,1000,I35+((IF(G35>0,G35,100)+IF(H35>0,H35,100))/100000)) -> 21.491215
A36: 34 | C36: 1 | D36: Tomášek | E36: Jan | F36: JSDHO Dobřany | G36: 21.61 | I36: =IF(AND(G36=0,H36=0),"diskval.",IF(AND(G36>0,H36>0),MIN(G36:H36),IF(G36>0,G36,H36))) -> 21.61 | J36: =IF(G36+H36=0,1000,I36+((IF(G36>0,G36,100)+IF(H36>0,H36,100))/100000)) -> 21.611216
A37: 35 | C37: 27 | D37: Vaněk | E37: Václav | F37: Jindřichův Hradec | G37: 26.4 | H37: 23.11 | I37: =IF(AND(G37=0,H37=0),"diskval.",IF(AND(G37>0,H37>0),MIN(G37:H37),IF(G37>0,G37,H37))) -> 23.11 | J37: =IF(G37+H37=0,1000,I37+((IF(G37>0,G37,100)+IF(H37>0,H37,100))/100000)) -> 23.110495
A38: 36 | C38: 17 | D38: Filip | E38: Petr | F38: Jindřichův Hradec | G38: 25.3 | H38: 23.14 | I38: =IF(AND(G38=0,H38=0),"diskval.",IF(AND(G38>0,H38>0),MIN(G38:H38),IF(G38>0,G38,H38))) -> 23.14 | J38: =IF(G38+H38=0,1000,I38+((IF(G38>0,G38,100)+IF(H38>0,H38,100))/100000)) -> 23.140484
A39: 37 | C39: 6 | D39: Nýdl | E39: Jakub | F39: JSDH Borovany (jen 100m) | I39: =IF(AND(G39=0,H39=0),"diskval.",IF(AND(G39>0,H39>0),MIN(G39:H39),IF(G39>0,G39,H39))) -> diskval. | J39: =IF(G39+H39=0,1000,I39+((IF(G39>0,G39,100)+IF(H39>0,H39,100))/100000)) -> 1000
A40: 38 | C40: 19 | D40: Tomášek | E40: Martin | F40: České Budějovice (jen 100m) | I40: =IF(AND(G40=0,H40=0),"diskval.",IF(AND(G40>0,H40>0),MIN(G40:H40),IF(G40>0,G40,H40))) -> diskval. | J40: =IF(G40+H40=0,1000,I40+((IF(G40>0,G40,100)+IF(H40>0,H40,100))/100000)) -> 1000
...

Sheet Dvojboj
C1: Výsledková listina dvojboj Memoriál plk. JUDR Josefa Blažka 6. 6. 2019
A2: Pořadí | C2: Start. č. | D2: Příjmení | E2: Jméno | F2: započ. čas věž | G2: započ. čas 100m | H2: čas dvojboj | I2: horší pok. věž | J2: horší pok. 100m | K2: elimin. stejného pořadí | N2: Listy 100M A VĚŽE MUSÍ BÝT SEŘAZENY PODLE STARTOVNÍCH ČÍSEL
A3: 1 | C3: 4 | D3: Kligl | E3: Patrik | F3: 14.44 | G3: 16.22 | H3: =IF(OR(F3="diskval.",G3="diskval."),"diskval.",F3+G3) -> 30.66 | I3: =IF(OR(věže!G81=0,věže!H81=0),100,MAX(věže!G81:H81)) -> 100 | J3: =IF(OR('100m'!G81=0,'100m'!H81=0),100,MAX('100m'!G81:H81)) -> 100 | K3: =IF(H3="diskval.",1000,H3+((IF(I3>0,I3,100)+IF(J3>0,J3,100))/100000)) -> 30.662
A4: 2 | C4: 33 | D4: Vyvial | E4: Jan | F4: 14.36 | G4: 16.45 | H4: =IF(OR(F4="diskval.",G4="diskval."),"diskval.",F4+G4) -> 30.81 | I4: =IF(OR(věže!G80=0,věže!H80=0),100,MAX(věže!G80:H80)) -> 100 | J4: =IF(OR('100m'!G80=0,'100m'!H80=0),100,MAX('100m'!G80:H80)) -> 100 | K4: =IF(H4="diskval.",1000,H4+((IF(I4>0,I4,100)+IF(J4>0,J4,100))/100000)) -> 30.812
A5: 3 | C5: 34 | D5: Lidmila | E5: Martin | F5: 14.84 | G5: 16 | H5: =IF(OR(F5="diskval.",G5="diskval."),"diskval.",F5+G5) -> 30.84 | I5: =IF(OR(věže!G54=0,věže!H54=0),100,MAX(věže!G54:H54)) -> 100 | J5: =IF(OR('100m'!G54=0,'100m'!H54=0),100,MAX('100m'!G54:H54)) -> 100 | K5: =IF(H5="diskval.",1000,H5+((IF(I5>0,I5,100)+IF(J5>0,J5,100))/100000)) -> 30.842
A6: 4 | C6: 23 | D6: Peštál | E6: Marek | F6: 15.06 | G6: 17.39 | H6: =IF(OR(F6="diskval.",G6="diskval."),"diskval.",F6+G6) -> 32.45 | I6: =IF(OR(věže!G9=0,věže!H9=0),100,MAX(věže!G9:H9)) -> 100 | J6: =IF(OR('100m'!G9=0,'100m'!H9=0),100,MAX('100m'!G9:H9)) -> 100 | K6: =IF(H6="diskval.",1000,H6+((IF(I6>0,I6,100)+IF(J6>0,J6,100))/100000)) -> 32.452
A7: 5 | C7: 37 | D7: Netrval | E7: Milan | F7: 15.16 | G7: 17.38 | H7: =IF(OR(F7="diskval.",G7="diskval."),"diskval.",F7+G7) -> 32.54 | I7: =IF(OR(věže!G12=0,věže!H12=0),100,MAX(věže!G12:H12)) -> 19.57 | J7: =IF(OR('100m'!G12=0,'100m'!H12=0),100,MAX('100m'!G12:H12)) -> 17.87 | K7: =IF(H7="diskval.",1000,H7+((IF(I7>0,I7,100)+IF(J7>0,J7,100))/100000)) -> 32.540374
A8: 6 | C8: 28 | D8: Hons | E8: Lukáš | F8: 15.2 | G8: 17.64 | H8: =IF(OR(F8="diskval.",G8="diskval."),"diskval.",F8+G8) -> 32.84 | I8: =IF(OR(věže!G29=0,věže!H29=0),100,MAX(věže!G29:H29)) -> 19.05 | J8: =IF(OR('100m'!G29=0,'100m'!H29=0),100,MAX('100m'!G29:H29)) -> 100 | K8: =IF(H8="diskval.",1000,H8+((IF(I8>0,I8,100)+IF(J8>0,J8,100))/100000)) -> 32.841191
A9: 7 | C9: 32 | D9: Daněk | E9: Tomáš | F9: 15.31 | G9: 17.89 | H9: =IF(OR(F9="diskval.",G9="diskval."),"diskval.",F9+G9) -> 33.2 | I9: =IF(OR(věže!G10=0,věže!H10=0),100,MAX(věže!G10:H10)) -> 15.35 | J9: =IF(OR('100m'!G10=0,'100m'!H10=0),100,MAX('100m'!G10:H10)) -> 100 | K9: =IF(H9="diskval.",1000,H9+((IF(I9>0,I9,100)+IF(J9>0,J9,100))/100000)) -> 33.201154
A10: 8 | C10: 25 | D10: Bělský | E10: Dominik | F10: 16.19 | G10: 17.31 | H10: =IF(OR(F10="diskval.",G10="diskval."),"diskval.",F10+G10) -> 33.5 | I10: =IF(OR(věže!G34=0,věže!H34=0),100,MAX(věže!G34:H34)) -> 26.17 | J10: =IF(OR('100m'!G34=0,'100m'!H34=0),100,MAX('100m'!G34:H34)) -> 100 | K10: =IF(H10="diskval.",1000,H10+((IF(I10>0,I10,100)+IF(J10>0,J10,100))/100000)) -> 33.501262
A11: 9 | C11: 12 | D11: Kasal | E11: Jakub | F11: 16.5 | G11: 17.12 | H11: =IF(OR(F11="diskval.",G11="diskval."),"diskval.",F11+G11) -> 33.62 | I11: =IF(OR(věže!G79=0,věže!H79=0),100,MAX(věže!G79:H79)) -> 100 | J11: =IF(OR('100m'!G79=0,'100m'!H79=0),100,MAX('100m'!G79:H79)) -> 100 | K11: =IF(H11="diskval.",1000,H11+((IF(I11>0,I11,100)+IF(J11>0,J11,100))/100000)) -> 33.622
A12: 10 | C12: 39 | D12: Škodný | E12: Jiří | F12: 17.73 | G12: 16.45 | H12: =IF(OR(F12="diskval.",G12="diskval."),"diskval.",F12+G12) -> 34.18 | I12: =IF(OR(věže!G56=0,věže!H56=0),100,MAX(věže!G56:H56)) -> 100 | J12: =IF(OR('100m'!G56=0,'100m'!H56=0),100,MAX('100m'!G56:H56)) -> 100 | K12: =IF(H12="diskval.",1000,H12+((IF(I12>0,I12,100)+IF(J12>0,J12,100))/100000)) -> 34.182
A13: 11 | C13: 18 | D13: Hájek | E13: David | F13: 16.28 | G13: 18.15 | H13: =IF(OR(F13="diskval.",G13="diskval."),"diskval.",F13+G13) -> 34.43 | I13: =IF(OR(věže!G8=0,věže!H8=0),100,MAX(věže!G8:H8)) -> 15.19 | J13: =IF(OR('100m'!G8=0,'100m'!H8=0),100,MAX('100m'!G8:H8)) -> 100 | K13: =IF(H13="diskval.",1000,H13+((IF(I13>0,I13,100)+IF(J13>0,J13,100))/100000)) -> 34.431152
A14: 11 | C14: 22 | D14: Hůla | E14: Jan | F14: 16.17 | G14: 18.44 | H14: =IF(OR(F14="diskval.",G14="diskval."),"diskval.",F14+G14) -> 34.61 | I14: =IF(OR(věže!G21=0,věže!H21=0),100,MAX(věže!G21:H21)) -> 17.77 | J14: =IF(OR('100m'!G21=0,'100m'!H21=0),100,MAX('100m'!G21:H21)) -> 18.96 | K14: =IF(H14="diskval.",1000,H14+((IF(I14>0,I14,100)+IF(J14>0,J14,100))/100000)) -> 34.610367
A15: 12 | C15: 15 | D15: Hrdlička | E15: Jaroslav | F15: 16.15 | G15: 18.76 | H15: =IF(OR(F15="diskval.",G15="diskval."),"diskval.",F15+G15) -> 34.91 | I15: =IF(OR(věže!G4=0,věže!H4=0),100,MAX(věže!G4:H4)) -> 15.42 | J15: =IF(OR('100m'!G4=0,'100m'!H4=0),100,MAX('100m'!G4:H4)) -> 16.22 | K15: =IF(H15="diskval.",1000,H15+((IF(I15>0,I15,100)+IF(J15>0,J15,100))/100000)) -> 34.910316
A16: 13 | C16: 14 | D16: Janko | E16: Vladimír | F16: 16.73 | G16: 18.34 | H16: =IF(OR(F16="diskval.",G16="diskval."),"diskval.",F16+G16) -> 35.07 | I16: =IF(OR(věže!G50=0,věže!H50=0),100,MAX(věže!G50:H50)) -> 100 | J16: =IF(OR('100m'!G50=0,'100m'!H50=0),100,MAX('100m'!G50:H50)) -> 100 | K16: =IF(H16="diskval.",1000,H16+((IF(I16>0,I16,100)+IF(J16>0,J16,100))/100000)) -> 35.072
A17: 14 | C17: 13 | D17: Provazník | E17: Martin | F17: 16.89 | G17: 18.34 | H17: =IF(OR(F17="diskval.",G17="diskval."),"diskval.",F17+G17) -> 35.23 | I17: =IF(OR(věže!G89=0,věže!H89=0),100,MAX(věže!G89:H89)) -> 100 | J17: =IF(OR('100m'!G89=0,'100m'!H89=0),100,MAX('100m'!G89:H89)) -> 100 | K17: =IF(H17="diskval.",1000,H17+((IF(I17>0,I17,100)+IF(J17>0,J17,100))/100000)) -> 35.232
A18: 15 | C18: 38 | D18: Dopirák | E18: David | F18: 15.27 | G18: 21.06 | H18: =IF(OR(F18="diskval.",G18="diskval."),"diskval.",F18+G18) -> 36.33 | I18: =IF(OR(věže!G86=0,věže!H86=0),100,MAX(věže!G86:H86)) -> 100 | J18: =IF(OR('100m'!G86=0,'100m'!H86=0),100,MAX('100m'!G86:H86)) -> 100 | K18: =IF(H18="diskval.",1000,H18+((IF(I18>0,I18,100)+IF(J18>0,J18,100))/100000)) -> 36.332
A19: 16 | C19: 11 | D19: Vyhnálek | E19: Jan | F19: 17.07 | G19: 19.98 | H19: =IF(OR(F19="diskval.",G19="diskval."),"diskval.",F19+G19) -> 37.05 | I19: =IF(OR(věže!G31=0,věže!H31=0),100,MAX(věže!G31:H31)) -> 23.58 | J19: =IF(OR('100m'!G31=0,'100m'!H31=0),100,MAX('100m'!G31:H31)) -> 20.46 | K19: =IF(H19="diskval.",1000,H19+((IF(I19>0,I19,100)+IF(J19>0,J19,100))/100000)) -> 37.05044
A20: 17 | C20: 24 | D20: Snášel | E20: Patrik | F20: 20.23 | G20: 16.93 | H20: =IF(OR(F20="diskval.",G20="diskval."),"diskval.",F20+G20) -> 37.16 | I20: =IF(OR(věže!G43=0,věže!H43=0),100,MAX(věže!G43:H43)) -> 100 | J20: =IF(OR('100m'!G43=0,'100m'!H43=0),100,MAX('100m'!G43:H43)) -> 100 | K20: =IF(H20="diskval.",1000,H20+((IF(I20>0,I20,100)+IF(J20>0,J20,100))/100000)) -> 37.162
A21: 18 | C21: 9 | D21: Píbal | E21: Jiří | F21: 17.41 | G21: 20.09 | H21: =IF(OR(F21="diskval.",G21="diskval."),"diskval.",F21+G21) -> 37.5 | I21: =IF(OR(věže!G14=0,věže!H14=0),100,MAX(věže!G14:H14)) -> 17.22 | J21: =IF(OR('100m'!G14=0,'100m'!H14=0),100,MAX('100m'!G14:H14)) -> 100 | K21: =IF(H21="diskval.",1000,H21+((IF(I21>0,I21,100)+IF(J21>0,J21,100))/100000)) -> 37.501172
A22: 19 | C22: 10 | D22: Knotek | E22: Radim | F22: 20.43 | G22: 17.79 | H22: =IF(OR(F22="diskval.",G22="diskval."),"diskval.",F22+G22) -> 38.22 | I22: =IF(OR(věže!G60=0,věže!H60=0),100,MAX(věže!G60:H60)) -> 100 | J22: =IF(OR('100m'!G60=0,'100m'!H60=0),100,MAX('100m'!G60:H60)) -> 100 | K22: =IF(H22="diskval.",1000,H22+((IF(I22>0,I22,100)+IF(J22>0,J22,100))/100000)) -> 38.222
A23: 20 | C23: 7 | D23: Roháč | E23: Martin | F23: 18.27 | G23: 20.03 | H23: =IF(OR(F23="diskval.",G23="diskval."),"diskval.",F23+G23) -> 38.3 | I23: =IF(OR(věže!G13=0,věže!H13=0),100,MAX(věže!G13:H13)) -> 15.45 | J23: =IF(OR('100m'!G13=0,'100m'!H13=0),100,MAX('100m'!G13:H13)) -> 100 | K23: =IF(H23="diskval.",1000,H23+((IF(I23>0,I23,100)+IF(J23>0,J23,100))/100000)) -> 38.301154
A24: 21 | C24: 20 | D24: Joukl | E24: Jiří | F24: 19.37 | G24: 19.04 | H24: =IF(OR(F24="diskval.",G24="diskval."),"diskval.",F24+G24) -> 38.41 | I24: =IF(OR(věže!G26=0,věže!H26=0),100,MAX(věže!G26:H26)) -> 100 | J24: =IF(OR('100m'!G26=0,'100m'!H26=0),100,MAX('100m'!G26:H26)) -> 20.3 | K24: =IF(H24="diskval.",1000,H24+((IF(I24>0,I24,100)+IF(J24>0,J24,100))/100000)) -> 38.411203
A25: 22 | C25: 31 | D25: Vašulka | E25: Petr | F25: 20.47 | G25: 18.58 | H25: =IF(OR(F25="diskval.",G25="diskval."),"diskval.",F25+G25) -> 39.05 | I25: =IF(OR(věže!G51=0,věže!H51=0),100,MAX(věže!G51:H51)) -> 100 | J25: =IF(OR('100m'!G51=0,'100m'!H51=0),100,MAX('100m'!G51:H51)) -> 100 | K25: =IF(H25="diskval.",1000,H25+((IF(I25>0,I25,100)+IF(J25>0,J25,100))/100000)) -> 39.052
A26: 23 | C26: 3 | D26: Smutný | E26: Martin | F26: 20.56 | G26: 18.61 | H26: =IF(OR(F26="diskval.",G26="diskval."),"diskval.",F26+G26) -> 39.17 | I26: =IF(OR(věže!G27=0,věže!H27=0),100,MAX(věže!G27:H27)) -> 20.81 | J26: =IF(OR('100m'!G27=0,'100m'!H27=0),100,MAX('100m'!G27:H27)) -> 100 | K26: =IF(H26="diskval.",1000,H26+((IF(I26>0,I26,100)+IF(J26>0,J26,100))/100000)) -> 39.171208
A27: 24 | C27: 1 | D27: Tomášek | E27: Jan | F27: 21.61 | G27: 18.64 | H27: =IF(OR(F27="diskval.",G27="diskval."),"diskval.",F27+G27) -> 40.25 | I27: =IF(OR(věže!G91=0,věže!H91=0),100,MAX(věže!G91:H91)) -> 100 | J27: =IF(OR('100m'!G91=0,'100m'!H91=0),100,MAX('100m'!G91:H91)) -> 100 | K27: =IF(H27="diskval.",1000,H27+((IF(I27>0,I27,100)+IF(J27>0,J27,100))/100000)) -> 40.252
A28: 25 | C28: 8 | D28: Klimeš | E28: Martin | F28: 21.49 | G28: 18.9 | H28: =IF(OR(F28="diskval.",G28="diskval."),"diskval.",F28+G28) -> 40.39 | I28: =IF(OR(věže!G85=0,věže!H85=0),100,MAX(věže!G85:H85)) -> 100 | J28: =IF(OR('100m'!G85=0,'100m'!H85=0),100,MAX('100m'!G85:H85)) -> 100 | K28: =IF(H28="diskval.",1000,H28+((IF(I28>0,I28,100)+IF(J28>0,J28,100))/100000)) -> 40.392
A29: 26 | C29: 27 | D29: Vaněk | E29: Václav | F29: 23.11 | G29: 19.66 | H29: =IF(OR(F29="diskval.",G29="diskval."),"diskval.",F29+G29) -> 42.77 | I29: =IF(OR(věže!G25=0,věže!H25=0),100,MAX(věže!G25:H25)) -> 19.78 | J29: =IF(OR('100m'!G25=0,'100m'!H25=0),100,MAX('100m'!G25:H25)) -> 22.84 | K29: =IF(H29="diskval.",1000,H29+((IF(I29>0,I29,100)+IF(J29>0,J29,100))/100000)) -> 42.770426
A30: 27 | C30: 17 | D30: Filip | E30: Petr | F30: 23.14 | G30: 21.87 | H30: =IF(OR(F30="diskval.",G30="diskval."),"diskval.",F30+G30) -> 45.01 | I30: =IF(OR(věže!G78=0,věže!H78=0),100,MAX(věže!G78:H78)) -> 100 | J30: =IF(OR('100m'!G78=0,'100m'!H78=0),100,MAX('100m'!G78:H78)) -> 100 | K30: =IF(H30="diskval.",1000,H30+((IF(I30>0,I30,100)+IF(J30>0,J30,100))/100000)) -> 45.012
A31: 28 | C31: 2 | D31: Ryšavý | E31: Vilém | F31: 16.64 | G31: diskval. | H31: =IF(OR(F31="diskval.",G31="diskval."),"diskval.",F31+G31) -> diskval. | I31: =IF(OR(věže!G74=0,věže!H74=0),100,MAX(věže!G74:H74)) -> 100 | J31: =IF(OR('100m'!G74=0,'100m'!H74=0),100,MAX('100m'!G74:H74)) -> 100 | K31: =IF(H31="diskval.",1000,H31+((IF(I31>0,I31,100)+IF(J31>0,J31,100))/100000)) -> 1000
A32: 29 | C32: 5 | D32: Tůma | E32: Milan | F32: 15.7 | G32: diskval. | H32: =IF(OR(F32="diskval.",G32="diskval."),"diskval.",F32+G32) -> diskval. | I32: =IF(OR(věže!G48=0,věže!H48=0),100,MAX(věže!G48:H48)) -> 100 | J32: =IF(OR('100m'!G48=0,'100m'!H48=0),100,MAX('100m'!G48:H48)) -> 100 | K32: =IF(H32="diskval.",1000,H32+((IF(I32>0,I32,100)+IF(J32>0,J32,100))/100000)) -> 1000
A33: 30 | C33: 6 | D33: Nýdl | E33: Jakub | F33: diskval. | G33: 18.97 | H33: =IF(OR(F33="diskval.",G33="diskval."),"diskval.",F33+G33) -> diskval. | I33: =IF(OR(věže!G53=0,věže!H53=0),100,MAX(věže!G53:H53)) -> 100 | J33: =IF(OR('100m'!G53=0,'100m'!H53=0),100,MAX('100m'!G53:H53)) -> 100 | K33: =IF(H33="diskval.",1000,H33+((IF(I33>0,I33,100)+IF(J33>0,J33,100))/100000)) -> 1000
A34: 31 | C34: 16 | D34: Klenka | E34: Vojtěch | F34: 14.78 | G34: diskval. | H34: =IF(OR(F34="diskval.",G34="diskval."),"diskval.",F34+G34) -> diskval. | I34: =IF(OR(věže!G49=0,věže!H49=0),100,MAX(věže!G49:H49)) -> 100 | J34: =IF(OR('100m'!G49=0,'100m'!H49=0),100,MAX('100m'!G49:H49)) -> 100 | K34: =IF(H34="diskval.",1000,H34+((IF(I34>0,I34,100)+IF(J34>0,J34,100))/100000)) -> 1000
A35: 32 | C35: 19 | D35: Tomášek | E35: Martin | F35: diskval. | G35: 19.22 | H35: =IF(OR(F35="diskval.",G35="diskval."),"diskval.",F35+G35) -> diskval. | I35: =IF(OR(věže!G65=0,věže!H65=0),100,MAX(věže!G65:H65)) -> 100 | J35: =IF(OR('100m'!G65=0,'100m'!H65=0),100,MAX('100m'!G65:H65)) -> 100 | K35: =IF(H35="diskval.",1000,H35+((IF(I35>0,I35,100)+IF(J35>0,J35,100))/100000)) -> 1000
A36: 33 | C36: 21 | D36: Divoš | E36: Václav | F36: 14.59 | G36: diskval. | H36: =IF(OR(F36="diskval.",G36="diskval."),"diskval.",F36+G36) -> diskval. | I36: =IF(OR(věže!G38=0,věže!H38=0),100,MAX(věže!G38:H38)) -> 25.3 | J36: =IF(OR('100m'!G38=0,'100m'!H38=0),100,MAX('100m'!G38:H38)) -> 100 | K36: =IF(H36="diskval.",1000,H36+((IF(I36>0,I36,100)+IF(J36>0,J36,100))/100000)) -> 1000
A37: 34 | C37: 26 | D37: Senohrábek | E37: Bojislav | F37: diskval. | G37: 18.56 | H37: =IF(OR(F37="diskval.",G37="diskval."),"diskval.",F37+G37) -> diskval. | I37: =IF(OR(věže!G77=0,věže!H77=0),100,MAX(věže!G77:H77)) -> 100 | J37: =IF(OR('100m'!G77=0,'100m'!H77=0),100,MAX('100m'!G77:H77)) -> 100 | K37: =IF(H37="diskval.",1000,H37+((IF(I37>0,I37,100)+IF(J37>0,J37,100))/100000)) -> 1000
A38: 35 | C38: 29 | D38: Hradil | E38: Zbyněk | F38: 17.23 | G38: diskval. | H38: =IF(OR(F38="diskval.",G38="diskval."),"diskval.",F38+G38) -> diskval. | I38: =IF(OR(věže!G69=0,věže!H69=0),100,MAX(věže!G69:H69)) -> 100 | J38: =IF(OR('100m'!G69=0,'100m'!H69=0),100,MAX('100m'!G69:H69)) -> 100 | K38: =IF(H38="diskval.",1000,H38+((IF(I38>0,I38,100)+IF(J38>0,J38,100))/100000)) -> 1000
A39: 36 | C39: 30 | D39: Svačina | E39: Richard | F39: 15.97 | G39: diskval. | H39: =IF(OR(F39="diskval.",G39="diskval."),"diskval.",F39+G39) -> diskval. | I39: =IF(OR(věže!G64=0,věže!H64=0),100,MAX(věže!G64:H64)) -> 100 | J39: =IF(OR('100m'!G64=0,'100m'!H64=0),100,MAX('100m'!G64:H64)) -> 100 | K39: =IF(H39="diskval.",1000,H39+((IF(I39>0,I39,100)+IF(J39>0,J39,100))/100000)) -> 1000
A40: 37 | C40: 35 | D40: Krpec | E40: Pavel | F40: 15.13 | G40: diskval. | H40: =IF(OR(F40="diskval.",G40="diskval."),"diskval.",F40+G40) -> diskval. | I40: =IF(OR(věže!G23=0,věže!H23=0),100,MAX(věže!G23:H23)) -> 100 | J40: =IF(OR('100m'!G23=0,'100m'!H23=0),100,MAX('100m'!G23:H23)) -> 20.6 | K40: =IF(H40="diskval.",1000,H40+((IF(I40>0,I40,100)+IF(J40>0,J40,100))/100000)) -> 1000
...
