Workbook

Sheet 100  jednotlivci
B1: Rozběh | C1: Dráha | D1: Startov. číslo | E1: čd | F1: Běh na 100 m s překážkami 14. června 2017 - Nymburk
D3: Start.číslo | E3: čd | F3: Družstvo | G3: Družstvo | H3: Čas I.pokus | J3: Čas II.pokus | L3: Platný čas | M3: Pořadí
A4: a | B4: 5 | C4: 4 | D4: 20 | E4: 5 | F4: =[1]Soutěžící!C35 -> HZS Kutná Hora | G4: =[1]Soutěžící!D38 -> VIKTORA Martin | H4: 18.58 | J4: 17.24 | L4: =IF(H4<J4,H4,J4) -> 17.24 | M4: =RANK($L4,$L$4:$L$72,1) -> 1
A5: a | B5: 3 | C5: 1 | D5: 9 | E5: 4 | F5: =[1]Soutěžící!C27 -> HZS Mladá Boleslav | G5: =[1]Soutěžící!D28 -> NOVOTNÝ Lukáš | H5: 18.04 | J5: N | L5: =IF(H5<J5,H5,J5) -> 18.04 | M5: =RANK($L5,$L$4:$L$72,1) -> 2
A6: a | B6: 1 | C6: 4 | D6: 4 | E6: 4 | F6: =[1]Soutěžící!C27 -> HZS Mladá Boleslav | G6: =[1]Soutěžící!D27 -> BÁRTA Radek | H6: 18.24 | J6: N | L6: =IF(H6<J6,H6,J6) -> 18.24 | M6: =RANK($L6,$L$4:$L$72,1) -> 3
A7: a | B7: 12 | C7: 2 | D7: 46 | E7: 7 | F7: =[1]Soutěžící!H11 -> HZS Benešov | G7: =[1]Soutěžící!I12 -> JEŽEK Miloš | H7: 18.25 | J7: 19.04 | L7: =IF(H7<J7,H7,J7) -> 18.25 | M7: =RANK($L7,$L$4:$L$72,1) -> 4
A8: a | B8: 7 | C8: 1 | D8: 25 | E8: 5 | F8: =[1]Soutěžící!C35 -> HZS Kutná Hora | G8: =[1]Soutěžící!D39 -> TŮMA Milan | H8: 18.5 | J8: 18.45 | L8: =IF(H8<J8,H8,J8) -> 18.45 | M8: =RANK($L8,$L$4:$L$72,1) -> 5
A9: a | B9: 17 | C9: 3 | D9: 67 | E9: 8 | F9: =[1]Soutěžící!H19 -> HZS Příbram | G9: =[1]Soutěžící!I25 -> MAŇAS Pavel | H9: 18.47 | J9: 18.74 | L9: =IF(H9<J9,H9,J9) -> 18.47 | M9: =RANK($L9,$L$4:$L$72,1) -> 6
A10: a | B10: 13 | C10: 3 | D10: 51 | E10: 8 | F10: =[1]Soutěžící!H19 -> HZS Příbram | G10: =[1]Soutěžící!I21 -> JANOUŠEK Matěj | H10: 21.82 | J10: 18.47 | L10: =IF(H10<J10,H10,J10) -> 18.47 | M10: 7
A11: a | B11: 4 | C11: 3 | D11: 15 | E11: 5 | F11: =[1]Soutěžící!C35 -> HZS Kutná Hora | G11: =[1]Soutěžící!D37 -> VLACH Josef | H11: 18.54 | J11: 18.58 | L11: =IF(H11<J11,H11,J11) -> 18.54 | M11: =RANK($L11,$L$4:$L$72,1) -> 8
A12: a | B12: 8 | C12: 2 | D12: 30 | E12: 5 | F12: =[1]Soutěžící!C35 -> HZS Kutná Hora | G12: =[1]Soutěžící!D40 -> ŘÍHA Václav | H12: 19.47 | J12: 18.98 | L12: =IF(H12<J12,H12,J12) -> 18.98 | M12: =RANK($L12,$L$4:$L$72,1) -> 9
A13: a | B13: 11 | C13: 1 | D13: 41 | E13: 6 | F13: =[1]Soutěžící!H3 -> HZS Beroun | G13: =[1]Soutěžící!I3 -> NOVOTNÝ Lukáš | H13: 19.31 | J13: 23.54 | L13: =IF(H13<J13,H13,J13) -> 19.31 | M13: =RANK($L13,$L$4:$L$72,1) -> 10
A14: a | B14: 15 | C14: 1 | D14: 57 | E14: 6 | F14: =[1]Soutěžící!H3 -> HZS Beroun | G14: =[1]Soutěžící!I7 -> ŠTĚPÁNEK Vojtěch | H14: 19.8 | J14: 19.42 | L14: =IF(H14<J14,H14,J14) -> 19.42 | M14: =RANK($L14,$L$4:$L$72,1) -> 11
A15: a | B15: 17 | C15: 2 | D15: 66 | E15: 7 | F15: =[1]Soutěžící!H11 -> HZS Benešov | G15: =[1]Soutěžící!I17 -> WÁCLAVÍK Jakub | H15: N | J15: 19.45 | L15: =IF(H15<J15,H15,J15) -> 19.45 | M15: =RANK($L15,$L$4:$L$72,1) -> 12
A16: a | B16: 14 | C16: 1 | D16: 53 | E16: 6 | F16: =[1]Soutěžící!H3 -> HZS Beroun | G16: =[1]Soutěžící!I6 -> KŮŘIL Martin | H16: 21.53 | J16: 19.54 | L16: =IF(H16<J16,H16,J16) -> 19.54 | M16: =RANK($L16,$L$4:$L$72,1) -> 13
A17: a | B17: 13 | C17: 1 | D17: 49 | E17: 6 | F17: =[1]Soutěžící!H3 -> HZS Beroun | G17: =[1]Soutěžící!I5 -> KABÁT Tomáš | H17: 19.76 | J17: 19.73 | L17: =IF(H17<J17,H17,J17) -> 19.73 | M17: =RANK($L17,$L$4:$L$72,1) -> 14
A18: a | B18: 1 | C18: 3 | D18: 3 | E18: 3 | F18: =[1]Soutěžící!C19 -> HZS Kladno | G18: =[1]Soutěžící!D19 -> GAŠPER Vladimír | H18: 20.37 | J18: 19.82 | L18: =IF(H18<J18,H18,J18) -> 19.82 | M18: =RANK($L18,$L$4:$L$72,1) -> 15
A19: a | B19: 12 | C19: 1 | D19: 45 | E19: 6 | F19: =[1]Soutěžící!H3 -> HZS Beroun | G19: =[1]Soutěžící!I4 -> MAYER Pavel | H19: 19.98 | J19: 19.84 | L19: =IF(H19<J19,H19,J19) -> 19.84 | M19: =RANK($L19,$L$4:$L$72,1) -> 16
A20: a | B20: 14 | C20: 3 | D20: 55 | E20: 8 | F20: =[1]Soutěžící!H19 -> HZS Příbram | G20: =[1]Soutěžící!I22 -> STANÉK Zbyněk | H20: 20 | J20: 22.34 | L20: =IF(H20<J20,H20,J20) -> 20 | M20: =RANK($L20,$L$4:$L$72,1) -> 17
A21: a | B21: 18 | C21: 3 | D21: 71 | E21: 8 | F21: =[1]Soutěžící!H19 -> HZS Příbram | G21: =[1]Soutěžící!I26 -> PRŮŠA Michal | H21: 20.07 | J21: X | L21: =IF(H21<J21,H21,J21) -> 20.07 | M21: =RANK($L21,$L$4:$L$72,1) -> 18
A22: a | B22: 10 | C22: 4 | D22: 40 | E22: 5 | F22: =[1]Soutěžící!C35 -> HZS Kutná Hora | G22: =[1]Soutěžící!D42 -> ALBRECHT Luboš | H22: 20.1 | J22: 20.31 | L22: =IF(H22<J22,H22,J22) -> 20.1 | M22: =RANK($L22,$L$4:$L$72,1) -> 19
A23: a | B23: 3 | C23: 2 | D23: 10 | E23: 5 | F23: =[1]Soutěžící!C35 -> HZS Kutná Hora | G23: =[1]Soutěžící!D36 -> NEKVINDA Jakub | H23: 21.21 | J23: 20.12 | L23: =IF(H23<J23,H23,J23) -> 20.12 | M23: =RANK($L23,$L$4:$L$72,1) -> 20
A24: a | B24: 15 | C24: 2 | D24: 58 | E24: 7 | F24: =[1]Soutěžící!H11 -> HZS Benešov | G24: =[1]Soutěžící!I15 -> BERÁNEK Jan | H24: 20.5 | J24: N | L24: =IF(H24<J24,H24,J24) -> 20.5 | M24: =RANK($L24,$L$4:$L$72,1) -> 21
A25: a | B25: 15 | C25: 3 | D25: 59 | E25: 8 | F25: =[1]Soutěžící!H19 -> HZS Příbram | G25: =[1]Soutěžící!I23 -> NOVÝ Tomáš | H25: 21.78 | J25: 20.77 | L25: =IF(H25<J25,H25,J25) -> 20.77 | M25: =RANK($L25,$L$4:$L$72,1) -> 22
A26: a | B26: 2 | C26: 1 | D26: 5 | E26: 5 | F26: =[1]Soutěžící!C35 -> HZS Kutná Hora | G26: =[1]Soutěžící!D35 -> DOLEŽAL Jan | H26: 20.8 | J26: X | L26: =IF(H26<J26,H26,J26) -> 20.8 | M26: =RANK($L26,$L$4:$L$72,1) -> 23
A27: a | B27: 3 | C27: 4 | D27: 12 | E27: 2 | F27: =[1]Soutěžící!C11 -> HZS Nymburk | G27: =[1]Soutěžící!D13 -> SIXTA Petr | H27: 23.29 | J27: 20.81 | L27: =IF(H27<J27,H27,J27) -> 20.81 | M27: =RANK($L27,$L$4:$L$72,1) -> 24
A28: a | B28: 10 | C28: 3 | D28: 39 | E28: 4 | F28: =[1]Soutěžící!C27 -> HZS Mladá Boleslav | G28: =[1]Soutěžící!D34 -> VODSEĎÁLEK Tadeáš | H28: 22.01 | J28: 20.97 | L28: =IF(H28<J28,H28,J28) -> 20.97 | M28: =RANK($L28,$L$4:$L$72,1) -> 25
A29: a | B29: 11 | C29: 2 | D29: 42 | E29: 7 | F29: =[1]Soutěžící!H11 -> HZS Benešov | G29: =[1]Soutěžící!I11 -> KIRCHNER Petr | H29: 21.02 | J29: N | L29: =IF(H29<J29,H29,J29) -> 21.02 | M29: =RANK($L29,$L$4:$L$72,1) -> 26
A30: a | B30: 9 | C30: 3 | D30: 35 | E30: 5 | F30: =[1]Soutěžící!C35 -> HZS Kutná Hora | G30: =[1]Soutěžící!D41 -> ŘÍHA Jan | H30: 24.24 | J30: 21.06 | L30: =IF(H30<J30,H30,J30) -> 21.06 | M30: =RANK($L30,$L$4:$L$72,1) -> 27
A31: a | B31: 2 | C31: 3 | D31: 7 | E31: 2 | F31: =[1]Soutěžící!C11 -> HZS Nymburk | G31: =[1]Soutěžící!D12 -> TRNKA Miroslav | H31: 22.13 | J31: 21.13 | L31: =IF(H31<J31,H31,J31) -> 21.13 | M31: =RANK($L31,$L$4:$L$72,1) -> 28
A32: a | B32: 6 | C32: 3 | D32: 23 | E32: 3 | F32: =[1]Soutěžící!C19 -> HZS Kladno | G32: =[1]Soutěžící!D23 -> LEDVINKA Zdeněk | H32: 21.18 | J32: 21.62 | L32: =IF(H32<J32,H32,J32) -> 21.18 | M32: =RANK($L32,$L$4:$L$72,1) -> 29
A33: a | B33: 8 | C33: 3 | D33: 31 | E33: 1 | F33: =[1]Soutěžící!C3 -> HZS Mělník | G33: =[1]Soutěžící!D9 -> JEDLIČKA Jan | H33: 23.92 | J33: 21.72 | L33: =IF(H33<J33,H33,J33) -> 21.72 | M33: =RANK($L33,$L$4:$L$72,1) -> 30
A34: a | B34: 7 | C34: 3 | D34: 27 | E34: 2 | F34: =[1]Soutěžící!C11 -> HZS Nymburk | G34: =[1]Soutěžící!D16 -> KUBÁNEK Lukáš | H34: 22.5 | J34: 21.89 | L34: =IF(H34<J34,H34,J34) -> 21.89 | M34: =RANK($L34,$L$4:$L$72,1) -> 31
A35: a | B35: 12 | C35: 4 | D35: 48 | E35: 9 | F35: =[1]Soutěžící!H27 -> HZS Kolín | G35: =[1]Soutěžící!I28 -> FILIP Vladislav | H35: 21.94 | J35: N | L35: =IF(H35<J35,H35,J35) -> 21.94 | M35: =RANK($L35,$L$4:$L$72,1) -> 32
A36: a | B36: 16 | C36: 2 | D36: 62 | E36: 7 | F36: =[1]Soutěžící!H11 -> HZS Benešov | G36: =[1]Soutěžící!I16 -> SYSEL David | H36: 21.99 | J36: 29.16 | L36: =IF(H36<J36,H36,J36) -> 21.99 | M36: =RANK($L36,$L$4:$L$72,1) -> 33
A37: a | B37: 17 | C37: 4 | D37: 68 | E37: 9 | F37: =[1]Soutěžící!H27 -> HZS Kolín | G37: =[1]Soutěžící!I33 -> ČEŠPIVA Aleš | H37: 26.33 | J37: 22.06 | L37: =IF(H37<J37,H37,J37) -> 22.06 | M37: =RANK($L37,$L$4:$L$72,1) -> 34
A38: a | B38: 6 | C38: 1 | D38: 21 | E38: 1 | F38: =[1]Soutěžící!C3 -> HZS Mělník | G38: =[1]Soutěžící!D7 -> VOZÁB Tomáš | H38: 22.06 | J38: N | L38: =IF(H38<J38,H38,J38) -> 22.06 | M38: 35
A39: a | B39: 17 | C39: 1 | D39: 65 | E39: 6 | F39: =[1]Soutěžící!H3 -> HZS Beroun | G39: =[1]Soutěžící!I9 -> ENDRŠT Jan | H39: 22.15 | J39: 22.2 | L39: =IF(H39<J39,H39,J39) -> 22.15 | M39: =RANK($L39,$L$4:$L$72,1) -> 36
A40: a | B40: 6 | C40: 4 | D40: 24 | E40: 4 | F40: =[1]Soutěžící!C27 -> HZS Mladá Boleslav | G40: =[1]Soutěžící!D31 -> VANÍČEK Václav | H40: 24.97 | J40: 22.55 | L40: =IF(H40<J40,H40,J40) -> 22.55 | M40: =RANK($L40,$L$4:$L$72,1) -> 37
A41: a | B41: 13 | C41: 2 | D41: 50 | E41: 7 | F41: =[1]Soutěžící!H11 -> HZS Benešov | G41: =[1]Soutěžící!I13 -> FIALA Ivan | H41: 23.22 | J41: 22.68 | L41: =IF(H41<J41,H41,J41) -> 22.68 | M41: =RANK($L41,$L$4:$L$72,1) -> 38
A42: b | B42: 14 | C42: 4 | D42: 56 | E42: 9 | F42: =[1]Soutěžící!H27 -> HZS Kolín | G42: =[1]Soutěžící!I30 -> NĚMČOK Jan | H42: 23.04 | J42: 22.73 | L42: =IF(H42<J42,H42,J42) -> 22.73 | M42: =RANK($L42,$L$4:$L$72,1) -> 39
A43: b | B43: 16 | C43: 4 | D43: 64 | E43: 9 | F43: =[1]Soutěžící!H27 -> HZS Kolín | G43: =[1]Soutěžící!I32 -> ŠRÁMEK Radek | H43: 23.87 | J43: 22.73 | L43: =IF(H43<J43,H43,J43) -> 22.73 | M43: 40
A44: b | B44: 9 | C44: 1 | D44: 33 | E44: 3 | F44: =[1]Soutěžící!C19 -> HZS Kladno | G44: =[1]Soutěžící!D25 -> VONDRA Martin | H44: N | J44: 22.73 | L44: =IF(H44<J44,H44,J44) -> 22.73 | M44: 41
A45: b | B45: 4 | C45: 2 | D45: 14 | E45: 4 | F45: =[1]Soutěžící!C27 -> HZS Mladá Boleslav | G45: =[1]Soutěžící!D29 -> ČAPEK Josef | H45: N | J45: 22.82 | L45: =IF(H45<J45,H45,J45) -> 22.82 | M45: =RANK($L45,$L$4:$L$72,1) -> 42
A46: b | B46: 6 | C46: 2 | D46: 22 | E46: 2 | F46: =[1]Soutěžící!C11 -> HZS Nymburk | G46: =[1]Soutěžící!D15 -> VÍZNER Milan | H46: 22.82 | J46: N | L46: =IF(H46<J46,H46,J46) -> 22.82 | M46: 43
A47: b | B47: 2 | C47: 4 | D47: 8 | E47: 3 | F47: =[1]Soutěžící!C19 -> HZS Kladno | G47: =[1]Soutěžící!D20 -> Mařík Jakub | H47: 23.01 | J47: 22.91 | L47: =IF(H47<J47,H47,J47) -> 22.91 | M47: =RANK($L47,$L$4:$L$72,1) -> 44
A48: b | B48: 7 | C48: 4 | D48: 28 | E48: 3 | F48: =[1]Soutěžící!C19 -> HZS Kladno | G48: =[1]Soutěžící!D24 -> KUŠKA Petr | H48: 23.74 | J48: 22.91 | L48: =IF(H48<J48,H48,J48) -> 22.91 | M48: 45
A49: b | B49: 16 | C49: 1 | D49: 61 | E49: 6 | F49: =[1]Soutěžící!H3 -> HZS Beroun | G49: =[1]Soutěžící!I8 -> CÍSAŘ Petr | H49: N | J49: 22.91 | L49: =IF(H49<J49,H49,J49) -> 22.91 | M49: 46
A50: b | B50: 11 | C50: 3 | D50: 43 | E50: 8 | F50: =[1]Soutěžící!H19 -> HZS Příbram | G50: =[1]Soutěžící!I19 -> DUŠEK Miloš | H50: N | J50: 22.95 | L50: =IF(H50<J50,H50,J50) -> 22.95 | M50: =RANK($L50,$L$4:$L$72,1) -> 47
A51: b | B51: 16 | C51: 3 | D51: 63 | E51: 8 | F51: =[1]Soutěžící!H19 -> HZS Příbram | G51: =[1]Soutěžící!I24 -> LACHMAN Jan | H51: 24.87 | J51: 22.96 | L51: =IF(H51<J51,H51,J51) -> 22.96 | M51: =RANK($L51,$L$4:$L$72,1) -> 48
A52: b | B52: 3 | C52: 3 | D52: 11 | E52: 1 | F52: =[1]Soutěžící!C3 -> HZS Mělník | G52: =[1]Soutěžící!D5 -> POVOLNÝ Petr | H52: 23.03 | J52: 31.22 | L52: =IF(H52<J52,H52,J52) -> 23.03 | M52: =RANK($L52,$L$4:$L$72,1) -> 49
A53: b | B53: 8 | C53: 1 | D53: 29 | E53: 4 | F53: =[1]Soutěžící!C27 -> HZS Mladá Boleslav | G53: =[1]Soutěžící!D32 -> FUKSA Petr | H53: 23.07 | J53: N | L53: =IF(H53<J53,H53,J53) -> 23.07 | M53: =RANK($L53,$L$4:$L$72,1) -> 50
A54: b | B54: 1 | C54: 1 | D54: 1 | E54: 1 | F54: =[1]Soutěžící!C3 -> HZS Mělník | G54: =[1]Soutěžící!D3 -> STEINZ Miroslav | H54: 23.38 | J54: 34.28 | L54: =IF(H54<J54,H54,J54) -> 23.38 | M54: =RANK($L54,$L$4:$L$72,1) -> 51
A55: b | B55: 8 | C55: 4 | D55: 32 | E55: 2 | F55: =[1]Soutěžící!C11 -> HZS Nymburk | G55: =[1]Soutěžící!D17 -> VALENTA Martin | H55: 23.63 | J55: N | L55: =IF(H55<J55,H55,J55) -> 23.63 | M55: =RANK($L55,$L$4:$L$72,1) -> 52
A56: b | B56: 15 | C56: 4 | D56: 60 | E56: 9 | F56: =[1]Soutěžící!H27 -> HZS Kolín | G56: =[1]Soutěžící!I31 -> KADLEC Jan | H56: 23.65 | J56: X | L56: =IF(H56<J56,H56,J56) -> 23.65 | M56: =RANK($L56,$L$4:$L$72,1) -> 53
A57: b | B57: 18 | C57: 2 | D57: 70 | E57: 7 | F57: =[1]Soutěžící!H11 -> HZS Benešov | G57: =[1]Soutěžící!I18 -> MÍKA Hynek | H57: 23.79 | J57: 24.33 | L57: =IF(H57<J57,H57,J57) -> 23.79 | M57: =RANK($L57,$L$4:$L$72,1) -> 54
A58: b | B58: 11 | C58: 4 | D58: 44 | E58: 9 | F58: =[1]Soutěžící!H27 -> HZS Kolín | G58: =[1]Soutěžící!I27 -> ŘEBÍČEK Jaroslav | H58: 23.83 | J58: X | L58: =IF(H58<J58,H58,J58) -> 23.83 | M58: =RANK($L58,$L$4:$L$72,1) -> 55
A59: b | B59: 5 | C59: 3 | D59: 19 | E59: 4 | F59: =[1]Soutěžící!C27 -> HZS Mladá Boleslav | G59: =[1]Soutěžící!D30 -> ŠTRYNCL Petr | H59: 24.71 | J59: 23.93 | L59: =IF(H59<J59,H59,J59) -> 23.93 | M59: =RANK($L59,$L$4:$L$72,1) -> 56
A60: b | B60: 4 | C60: 1 | D60: 13 | E60: 3 | F60: =[1]Soutěžící!C19 -> HZS Kladno | G60: =[1]Soutěžící!D21 -> DVOŘÁK Ladislav | H60: 23.94 | J60: 24.23 | L60: =IF(H60<J60,H60,J60) -> 23.94 | M60: =RANK($L60,$L$4:$L$72,1) -> 57
A61: b | B61: 2 | C61: 2 | D61: 6 | E61: 1 | F61: =[1]Soutěžící!C3 -> HZS Mělník | G61: =[1]Soutěžící!D4 -> KRUMPHANZL Josef | H61: 35.23 | J61: 24.51 | L61: =IF(H61<J61,H61,J61) -> 24.51 | M61: =RANK($L61,$L$4:$L$72,1) -> 58
A62: b | B62: 10 | C62: 2 | D62: 38 | E62: 3 | F62: =[1]Soutěžící!C19 -> HZS Kladno | G62: =[1]Soutěžící!D26 -> STOKLASA Adam | H62: 26.82 | J62: 24.97 | L62: =IF(H62<J62,H62,J62) -> 24.97 | M62: =RANK($L62,$L$4:$L$72,1) -> 59
A63: b | B63: 5 | C63: 1 | D63: 17 | E63: 2 | F63: =[1]Soutěžící!C11 -> HZS Nymburk | G63: =[1]Soutěžící!D14 -> ŠIMÁČEK Michal | H63: 26.07 | J63: 25.28 | L63: =IF(H63<J63,H63,J63) -> 25.28 | M63: =RANK($L63,$L$4:$L$72,1) -> 60
A64: b | B64: 5 | C64: 2 | D64: 18 | E64: 3 | F64: =[1]Soutěžící!C19 -> HZS Kladno | G64: =[1]Soutěžící!D22 -> RICHTER Matěj | H64: 26.56 | J64: 25.33 | L64: =IF(H64<J64,H64,J64) -> 25.33 | M64: =RANK($L64,$L$4:$L$72,1) -> 61
A65: b | B65: 10 | C65: 1 | D65: 37 | E65: 2 | F65: =[1]Soutěžící!C11 -> HZS Nymburk | G65: =[1]Soutěžící!D18 -> SAJFRT Václav | H65: 25.36 | J65: 26 | L65: =IF(H65<J65,H65,J65) -> 25.36 | M65: =RANK($L65,$L$4:$L$72,1) -> 62
A66: b | B66: 9 | C66: 4 | D66: 36 | E66: 1 | F66: =[1]Soutěžící!C3 -> HZS Mělník | G66: =[1]Soutěžící!D10 -> NĚMEC Ondřej | H66: 25.46 | J66: N | L66: =IF(H66<J66,H66,J66) -> 25.46 | M66: =RANK($L66,$L$4:$L$72,1) -> 63
A67: b | B67: 18 | C67: 1 | D67: 69 | E67: 6 | F67: =[1]Soutěžící!H3 -> HZS Beroun | G67: =[1]Soutěžící!I10 -> SLÁDEK Tomáš | H67: N | J67: 25.6 | L67: =IF(H67<J67,H67,J67) -> 25.6 | M67: =RANK($L67,$L$4:$L$72,1) -> 64
A68: b | B68: 12 | C68: 3 | D68: 47 | E68: 8 | F68: =[1]Soutěžící!H19 -> HZS Příbram | G68: =[1]Soutěžící!I20 -> ŠÍDLO Jiří | H68: 25.68 | J68: 26.89 | L68: =IF(H68<J68,H68,J68) -> 25.68 | M68: =RANK($L68,$L$4:$L$72,1) -> 65
A69: b | B69: 7 | C69: 2 | D69: 26 | E69: 1 | F69: =[1]Soutěžící!C3 -> HZS Mělník | G69: =[1]Soutěžící!D8 -> LANDA Daniel | H69: 29.02 | J69: 25.82 | L69: =IF(H69<J69,H69,J69) -> 25.82 | M69: =RANK($L69,$L$4:$L$72,1) -> 66
A70: b | B70: 14 | C70: 2 | D70: 54 | E70: 7 | F70: =[1]Soutěžící!H11 -> HZS Benešov | G70: =[1]Soutěžící!I14 -> HRUŠKA Ondřej | H70: 26.39 | J70: 26.99 | L70: =IF(H70<J70,H70,J70) -> 26.39 | M70: =RANK($L70,$L$4:$L$72,1) -> 67
A71: b | B71: 4 | C71: 4 | D71: 16 | E71: 1 | F71: =[1]Soutěžící!C3 -> HZS Mělník | G71: =[1]Soutěžící!D6 -> PAPAJIK Michal | H71: 29.73 | J71: 27.24 | L71: =IF(H71<J71,H71,J71) -> 27.24 | M71: =RANK($L71,$L$4:$L$72,1) -> 68
A72: b | B72: 13 | C72: 4 | D72: 52 | E72: 9 | F72: =[1]Soutěžící!H27 -> HZS Kolín | G72: =[1]Soutěžící!I29 -> HEJDUK Zdeněk | H72: 28.63 | J72: 27.96 | L72: =IF(H72<J72,H72,J72) -> 27.96 | M72: =RANK($L72,$L$4:$L$72,1) -> 69
