Workbook

Sheet 100  jednotlivci
B1: Rozběh | C1: Dráha | D1: Startov. číslo | E1: čd | F1: Běh na 100 m s překážkami 14. června 2017 - Nymburk
D3: Start.číslo | E3: čd | F3: Družstvo | G3: Družstvo | H3: Čas I.pokus | J3: Čas II.pokus | L3: Platný čas | M3: Pořadí
A4: a | B4: 5 | C4: 4 | D4: 20 | E4: 5 | F4: =[1]Soutěžící!C35 -> HZS Kutná Hora | G4: =[1]Soutěžící!D38 -> VIKTORA Martin | H4: 18.58 | J4: 17.24 | L4: =IF(H4<J4,H4,J4) -> 17.24 | M4: =RANK($L4,$L$4:$L$72,1) -> 1
A5: a | B5: 3 | C5: 1 | D5: 9 | E5: 4 | F5: =[1]Soutěžící!C27 -> HZS Mladá Boleslav | G5: =[1]Soutěžící!D28 -> NOVOTNÝ Lukáš | H5: 18.04 | J5: N | L5: =IF(H5<J5,H5,J5) -> 18.04 | M5: =RANK($L5,$L$4:$L$72,1) -> 2
A6: a | B6: 1 | C6: 4 | D6: 4 | E6: 4 | F6: =[1]Soutěžící!C27 -> HZS Mladá Boleslav | G6: =[1]Soutěžící!D27 -> BÁRTA Radek | H6: 18.24 | J6: N | L6: =IF(H6<J6,H6,J6) -> 18.24 | M6: =RANK($L6,$L$4:$L$72,1) -> 3
A7: a | B7: 12 | C7: 2 | D7: 46 | E7: 7 | F7: =[1]Soutěžící!H11 -> HZS Benešov | G7: =[1]Soutěžící!I12 -> JEŽEK Miloš | H7: 18.25 | J7: 19.04 | L7: =IF(H7<J7,H7,J7) -> 18.25 | M7: =RANK($L7,$L$4:$L$72,1) -> 4
A8: a | B8: 7 | C8: 1 | D8: 25 | E8: 5 | F8: =[1]Soutěžící!C35 -> HZS Kutná Hora | G8: =[1]Soutěžící!D39 -> TŮMA Milan | H8: 18.5 | J8: 18.45 | L8: =IF(H8<J8,H8,J8) -> 18.45 | M8: =RANK($L8,$L$4:$L$72,1) -> 5
A9: a | B9: 17 | C9: 3 | D9: 67 | E9: 8 | F9: =[1]Soutěžící!H19 -> HZS Příbram | G9: =[1]Soutěžící!I25 -> MAŇAS Pavel | H9: 18.47 | J9: 18.74 | L9: =IF(H9<J9,H9,J9) -> 18.47 | M9: =RANK($L9,$L$4:$L$72,1) -> 6
A10: a | B10: 13 | C10: 3 | D10: 51 | E10: 8 | F10: =[1]Soutěžící!H19 -> HZS Příbram | G10: =[1]Soutěžící!I21 -> JANOUŠEK Matěj | H10: 21.82 | J10: 18.47 | L10: =IF(H10<J10,H10,J10) -> 18.47 | M10: 7
A11: a | B11: 4 | C11: 3 | D11: 15 | E11: 5 | F11: =[1]Soutěžící!C35 -> HZS Kutná Hora | G11: =[1]Soutěžící!D37 -> VLACH Josef | H11: 18.54 | J11: 18.58 | L11: =IF(H11<J11,H11,J11) -> 18.54 | M11: =RANK($L11,$L$4:$L$72,1) -> 8
A12: a | B12: 8 | C12: 2 | D12: 30 | E12: 5 | F12: =[1]Soutěžící!C35 -> HZS Kutná Hora | G12: =[1]Soutěžící!D40 -> ŘÍHA Václav | H12: 19.47 | J12: 18.98 | L12: =IF(H12<J12,H12,J12) -> 18.98 | M12: =RANK($L12,$L$4:$L$72,1) -> 9
A13: a | B13: 11 | C13: 1 | D13: 41 | E13: 6 | F13: =[1]Soutěžící!H3 -> HZS Beroun | G13: =[1]Soutěžící!I3 -> NOVOTNÝ Lukáš | H13: 19.31 | J13: 23.54 | L13: =IF(H13<J13,H13,J13) -> 19.31 | M13: =RANK($L13,$L$4:$L$72,1) -> 10
A14: a | B14: 15 | C14: 1 | D14: 57 | E14: 6 | F14: =[1]Soutěžící!H3 -> HZS Beroun | G14: =[1]Soutěžící!I7 -> ŠTĚPÁNEK Vojtěch | H14: 19.8 | J14: 19.42 | L14: =IF(H14<J14,H14,J14) -> 19.42 | M14: =RANK($L14,$L$4:$L$72,1) -> 11
A15: a | B15: 17 | C15: 2 | D15: 66 | E15: 7 | F15: =[1]Soutěžící!H11 -> HZS Benešov | G15: =[1]Soutěžící!I17 -> WÁCLAVÍK Jakub | H15: N | J15: 19.45 | L15: =IF(H15<J15,H15,J15) -> 19.45 | M15: =RANK($L15,$L$4:$L$72,1) -> 12
A16: a | B16: 14 | C16: 1 | D16: 53 | E16: 6 | F16: =[1]Soutěžící!H3 -> HZS Beroun | G16: =[1]Soutěžící!I6 -> KŮŘIL Martin | H16: 21.53 | J16: 19.54 | L16: =IF(H16<J16,H16,J16) -> 19.54 | M16: =RANK($L16,$L$4:$L$72,1) -> 13
A17: a | B17: 13 | C17: 1 | D17: 49 | E17: 6 | F17: =[1]Soutěžící!H3 -> HZS Beroun | G17: =[1]Soutěžící!I5 -> KABÁT Tomáš | H17: 19.76 | J17: 19.73 | L17: =IF(H17<J17,H17,J17) -> 19.73 | M17: =RANK($L17,$L$4:$L$72,1) -> 14
A18: a | B18: 1 | C18: 3 | D18: 3 | E18: 3 | F18: =[1]Soutěžící!C19 -> HZS Kladno | G18: =[1]Soutěžící!D19 -> GAŠPER Vladimír | H18: 20.37 | J18: 19.82 | L18: =IF(H18<J18,H18,J18) -> 19.82 | M18: =RANK($L18,$L$4:$L$72,1) -> 15
A19: a | B19: 12 | C19: 1 | D19: 45 | E19: 6 | F19: =[1]Soutěžící!H3 -> HZS Beroun | G19: =[1]Soutěžící!I4 -> MAYER Pavel | H19: 19.98 | J19: 19.84 | L19: =IF(H19<J19,H19,J19) -> 19.84 | M19: =RANK($L19,$L$4:$L$72,1) -> 16
A20: a | B20: 14 | C20: 3 | D20: 55 | E20: 8 | F20: =[1]Soutěžící!H19 -> HZS Příbram | G20: =[1]Soutěžící!I22 -> STANÉK Zbyněk | H20: 20 | J20: 22.34 | L20: =IF(H20<J20,H20,J20) -> 20 | M20: =RANK($L20,$L$4:$L$72,1) -> 17
A21: a | B21: 18 | C21: 3 | D21: 71 | E21: 8 | F21: =[1]Soutěžící!H19 -> HZS Příbram | G21: =[1]Soutěžící!I26 -> PRŮŠA Michal | H21: 20.07 | J21: X | L21: =IF(H21<J21,H21,J21) -> 20.07 | M21: =RANK($L21,$L$4:$L$72,1) -> 18
A22: a | B22: 10 | C22: 4 | D22: 40 | E22: 5 | F22: =[1]Soutěžící!C35 -> HZS Kutná Hora | G22: =[1]Soutěžící!D42 -> ALBRECHT Luboš | H22: 20.1 | J22: 20.31 | L22: =IF(H22<J22,H22,J22) -> 20.1 | M22: =RANK($L22,$L$4:$L$72,1) -> 19
A23: a | B23: 3 | C23: 2 | D23: 10 | E23: 5 | F23: =[1]Soutěžící!C35 -> HZS Kutná Hora | G23: =[1]Soutěžící!D36 -> NEKVINDA Jakub | H23: 21.21 | J23: 20.12 | L23: =IF(H23<J23,H23,J23) -> 20.12 | M23: =RANK($L23,$L$4:$L$72,1) -> 20
A24: a | B24: 15 | C24: 2 | D24: 58 | E24: 7 | F24: =[1]Soutěžící!H11 -> HZS Benešov | G24: =[1]Soutěžící!I15 -> BERÁNEK Jan | H24: 20.5 | J24: N | L24: =IF(H24<J24,H24,J24) -> 20.5 | M24: =RANK($L24,$L$4:$L$72,1) -> 21
A25: a | B25: 15 | C25: 3 | D25: 59 | E25: 8 | F25: =[1]Soutěžící!H19 -> HZS Příbram | G25: =[1]Soutěžící!I23 -> NOVÝ Tomáš | H25: 21.78 | J25: 20.77 | L25: =IF(H25<J25,H25,J25) -> 20.77 | M25: =RANK($L25,$L$4:$L$72,1) -> 22
A26: a | B26: 2 | C26: 1 | D26: 5 | E26: 5 | F26: =[1]Soutěžící!C35 -> HZS Kutná Hora | G26: =[1]Soutěžící!D35 -> DOLEŽAL Jan | H26: 20.8 | J26: X | L26: =IF(H26<J26,H26,J26) -> 20.8 | M26: =RANK($L26,$L$4:$L$72,1) -> 23
A27: a | B27: 3 | C27: 4 | D27: 12 | E27: 2 | F27: =[1]Soutěžící!C11 -> HZS Nymburk | G27: =[1]Soutěžící!D13 -> SIXTA Petr | H27: 23.29 | J27: 20.81 | L27: =IF(H27<J27,H27,J27) -> 20.81 | M27: =RANK($L27,$L$4:$L$72,1) -> 24
A28: a | B28: 10 | C28: 3 | D28: 39 | E28: 4 | F28: =[1]Soutěžící!C27 -> HZS Mladá Boleslav | G28: =[1]Soutěžící!D34 -> VODSEĎÁLEK Tadeáš | H28: 22.01 | J28: 20.97 | L28: =IF(H28<J28,H28,J28) -> 20.97 | M28: =RANK($L28,$L$4:$L$72,1) -> 25
A29: a | B29: 11 | C29: 2 | D29: 42 | E29: 7 | F29: =[1]Soutěžící!H11 -> HZS Benešov | G29: =[1]Soutěžící!I11 -> KIRCHNER Petr | H29: 21.02 | J29: N | L29: =IF(H29<J29,H29,J29) -> 21.02 | M29: =RANK($L29,$L$4:$L$72,1) -> 26
A30: a | B30: 9 | C30: 3 | D30: 35 | E30: 5 | F30: =[1]Soutěžící!C35 -> HZS Kutná Hora | G30: =[1]Soutěžící!D41 -> ŘÍHA Jan | H30: 24.24 | J30: 21.06 | L30: =IF(H30<J30,H30,J30) -> 21.06 | M30: =RANK($L30,$L$4:$L$72,1) -> 27
A31: a | B31: 2 | C31: 3 | D31: 7 | E31: 2 | F31: =[1]Soutěžící!C11 -> HZS Nymburk | G31: =[1]Soutěžící!D12 -> TRNKA Miroslav | H31: 22.13 | J31: 21.13 | L31: =IF(H31<J31,H31,J31) -> 21.13 | M31: =RANK($L31,$L$4:$L$72,1) -> 28
A32: a | B32: 6 | C32: 3 | D32: 23 | E32: 3 | F32: =[1]Soutěžící!C19 -> HZS Kladno | G32: =[1]Soutěžící!D23 -> LEDVINKA Zdeněk | H32: 21.18 | J32: 21.62 | L32: =IF(H32<J32,H32,J32) -> 21.18 | M32: =RANK($L32,$L$4:$L$72,1) -> 29
A33: a | B33: 8 | C33: 3 | D33: 31 | E33: 1 | F33: =[1]Soutěžící!C3 -> HZS Mělník | G33: =[1]Soutěžící!D9 -> JEDLIČKA Jan | H33: 23.92 | J33: 21.72 | L33: =IF(H33<J33,H33,J33) -> 21.72 | M33: =RANK($L33,$L$4:$L$72,1) -> 30
A34: a | B34: 7 | C34: 3 | D34: 27 | E34: 2 | F34: =[1]Soutěžící!C11 -> HZS Nymburk | G34: =[1]Soutěžící!D16 -> KUBÁNEK Lukáš | H34: 22.5 | J34: 21.89 | L34: =IF(H34<J34,H34,J34) -> 21.89 | M34: =RANK($L34,$L$4:$L$72,1) -> 31
A35: a | B35: 12 | C35: 4 | D35: 48 | E35: 9 | F35: =[1]Soutěžící!H27 -> HZS Kolín | G35: =[1]Soutěžící!I28 -> FILIP Vladislav | H35: 21.94 | J35: N | L35: =IF(H35<J35,H35,J35) -> 21.94 | M35: =RANK($L35,$L$4:$L$72,1) -> 32
A36: a | B36: 16 | C36: 2 | D36: 62 | E36: 7 | F36: =[1]Soutěžící!H11 -> HZS Benešov | G36: =[1]Soutěžící!I16 -> SYSEL David | H36: 21.99 | J36: 29.16 | L36: =IF(H36<J36,H36,J36) -> 21.99 | M36: =RANK($L36,$L$4:$L$72,1) -> 33
A37: a | B37: 17 | C37: 4 | D37: 68 | E37: 9 | F37: =[1]Soutěžící!H27 -> HZS Kolín | G37: =[1]Soutěžící!I33 -> ČEŠPIVA Aleš | H37: 26.33 | J37: 22.06 | L37: =IF(H37<J37,H37,J37) -> 22.06 | M37: =RANK($L37,$L$4:$L$72,1) -> 34
A38: a | B38: 6 | C38: 1 | D38: 21 | E38: 1 | F38: =[1]Soutěžící!C3 -> HZS Mělník | G38: =[1]Soutěžící!D7 -> VOZÁB Tomáš | H38: 22.06 | J38: N | L38: =IF(H38<J38,H38,J38) -> 22.06 | M38: 35
A39: a | B39: 17 | C39: 1 | D39: 65 | E39: 6 | F39: =[1]Soutěžící!H3 -> HZS Beroun | G39: =[1]Soutěžící!I9 -> ENDRŠT Jan | H39: 22.15 | J39: 22.2 | L39: =IF(H39<J39,H39,J39) -> 22.15 | M39: =RANK($L39,$L$4:$L$72,1) -> 36
A40: a | B40: 6 | C40: 4 | D40: 24 | E40: 4 | F40: =[1]Soutěžící!C27 -> HZS Mladá Boleslav | G40: =[1]Soutěžící!D31 -> VANÍČEK Václav | H40: 24.97 | J40: 22.55 | L40: =IF(H40<J40,H40,J40) -> 22.55 | M40: =RANK($L40,$L$4:$L$72,1) -> 37
A41: a | B41: 13 | C41: 2 | D41: 50 | E41: 7 | F41: =[1]Soutěžící!H11 -> HZS Benešov | G41: =[1]Soutěžící!I13 -> FIALA Ivan | H41: 23.22 | J41: 22.68 | L41: =IF(H41<J41,H41,J41) -> 22.68 | M41: =RANK($L41,$L$4:$L$72,1) -> 38
...
